Workbook

Sheet Explanations and FAQ
A1: End Game | B1: My objective in this spreadsheet is to compute the annual returns you would have earned on major financial asset classses, on an annual basis, inclusive of both cash payout during the year and the price appreciation.
A3: Explanations, by asset class
A4: Stocks (Large Cap) | B4: I use the S&P 500, which was created in 1957, and then back fill the data using other indices of large market cap companies that existed prior. Each year, I compute the annual return, by first computing the dividend yield by dividing the dividends paid and the price change in the index, by the level of the index at the start of the year. Thus, if the index starts at 1000, and increases to 1080, while delivering a dividend of 5, my annual return = (1080-1000+5)/1000 = 8.5%
A5: Stocks (Small Cap) | B5: I use the bottom decile of US stocks, as estimated and reported by Ken French on his amazing data page, for annual returns every year from 1928 to the most recent year.
A6: US T.Bond | B6: I use the 10-year US treasury bond, since it is the only longer maturity bond with an uninterrupted history going back in time. For the data, I use the yields on a constant-maturrity 10-year bond, which can be found on FRED (the Federal Reserve website). I convert the yield into a return, by repricing the bond, issued at par at the prior year's yield, with the new yield, while keeping the maturity constant at 10 years. Thus, if the yield goes from 2.5% to 3%, I first price a 2.5%, 10 year coupon bond with a 3% interest rate, and subtract this number from the par value of the bond which is $1000. That gives me the price change. Adding the 3% coupon for the current year gives me the total return.
A7: US T.Bill | B7: I use the 3-month US treasury bill, again choosing it over the 6-month because of longevity. While I used to report the end of the year number as the return on the T.Bill for the year, I have replaced that with the average T.Bill rate over the year, since that is a better representation.
A8: Aaa & Baa Corporate Bond | B8: I obtain the yield on a Moody's Aaa and Baa corporate bond yields from FRED and then compute the return on the bond, using the same approach that I use for the US T.Bond.
A9: Real Estate | B9: I use the home price data that Robert Shiller reports on his webpage to compute a real estate return on residential real estate. That series has now morphed into the Case-Shiller Index. Note that this return is just price appreciation, and will understate the returns on real estate by the cash flow return (from rental income) each year.
A10: Gold | B10: Year-end prices for gold, per oz,
A11: Inflation Rate | B11: I use the CPI for all urban consumers, reported on FRED.
A12: Real Returns | B12: For each of the data series. I computre a real return by removing the inflatin for the year from the nominal return, using (1+ Nominal Rate)/ (1+Inflation Rate) -1.
A13: Arithmetic Average Return | B13: A simple average of the annual returns over the specified period (10 yrs, 50 yrs etc.)
A14: Geometric Average Return | B14: A compounded average of the returns over the period. This is most simply computed by dividing the value you would have at the end of the period by the value at the beginning and then computing the compouded average. To compute the cumulated value on both stocks and bonds, I assume that dividends/coupons get reinvested back.
A15: Risk Premium | B15: The risk premium is the difference in the annualized return on stocks and the annualized return on T.Bonds and on T.Bills over the specified period.
A17: FAQ
A18: How precise are the annual numbers? | B18: Since the S&P and US treasuries are liquid and the underlying data is widely dispersed, the annual numbers are reliable.
A19: How good as the averages as predictors? | B19: The returns, especially on stocks and bonds, are noisy, with up years and down years. The averages that have been computed come with error, and I have computed standard errros in each of the numbers (especially the risk premiums). Note that even with the longest data series, there is substantial standard error and it becomes explosively large for shorter periods.
A20: Why do you keep the maturity of the 10-year bond unchanged, when you compute the return on the bond? | B20: Normally, when you buy a 10-year bond and hold it for a year, you will end up with a 9-year bond. While I could compute the return using a 9-year maturity, and the answer will be fairly close to what I report, I want to keep the 10-year rmaturity going for consistency in my risk premium computation. Put simply, think of the return on the 10-year bond as the one you would have if the coupon changed, but the maturity is reset to 10 year at the end of the year.

Sheet Returns by year
A1: Date updated: | B1: 44196
A2: Created by: | B2: Aswath Damodaran, adamodar@stern.nyu.edu
A3: What is this data? | B3: Historical returns: Stocks, Bonds & T.Bills with premiums | I3: In US Dollars
A4: Home Page: | B4: http://www.damodaran.com
A5: Data website: | B5: https://pages.stern.nyu.edu/~adamodar/New_Home_Page/data.html
A6: Companies in each industry: | B6: https://pages.stern.nyu.edu/~adamodar/pc/datasets/indname.xls
A7: Variable definitions: | B7: https://pages.stern.nyu.edu/~adamodar/New_Home_Page/datafile/variable.htm
A8: Customized Geometric risk premium estimator
A9: What is your riskfree rate? | D9: LT | G9: Estimates of risk premiums from 1928, over the last 50 years and over the last 10 years
A10: Enter your starting year | D10: 1975
A12: Value of stocks in starting year: | E12: =IF(D10=1928,100,VLOOKUP(D10-1,A21:O117,9)) -> 3023.5361
A13: Value of T.Bills in starting year: | E13: =IF(D10=1928,100,VLOOKUP(D10-1,A21:L117,11)) -> 294.97197
A14: Value of T.bonds in starting year: | E14: =IF(D10=1928,100,VLOOKUP(D10-1,A20:L117,12)) -> 379.98011
A15: Value of Real estate in starting year | E15: =IF(D10=1928,100,VLOOKUP(D10-1,A20:N117,14)) -> 424.71507
A16: Value of Gold in starting year | E16: =IF(D10=1928,100,VLOOKUP(D10-1,A20:O117,15)) -> 903.58527
A17: Estimate of risk premium based on your inputs: | E17: =IF(D9="ST",(I117/E12)^(1/(A117-D10+1))-(K117/E13)^(1/(A117-D10+1)),(I117/E12)^(1/(A117-D10+1))-(L117/E14)^(1/(A117-D10+1))) -> 0.062156759
B19: Annual Returns on Investments in | I19: Value of $100 invested at start of 1928 in | P19: Annual Risk Premium | U19: Annual Real Returns | AC19: Value of $100 invested at start of 1928 in real terms | AJ19: Real Risk Premium
A20: Year | B20: S&P 500 (includes dividends) | C20: US Small cap (bottom decile) | D20: 3-month T.Bill | E20: US T. Bond (10-year) | F20: Baa Corporate Bond | G20: Real Estate | H20: Gold* | I20: S&P 500 (includes dividends)3 | J20: US Small cap (bottom decile) Cum Value | K20: 3-month T.Bill4 | L20: US T. Bond5 | M20: Baa Corporate Bond2 | N20: Real Estate2 | O20: Gold2 | P20: Stocks - Bills | Q20: Stocks - Bonds | R20: Small Cap Premium (S&P 500 minus Bottom Decile) | S20: Stocks - Baa Corp Bond | T20: Historical ERP | U20: Inflation Rate | V20: S&P 500 (includes dividends)2 | W20: US Small cap (bottom decile)22 | X20: 3-month T. Bill (Real) | Y20: !0-year T.Bonds | Z20: Baa Corp Bonds | AA20: Real Estate3 | AB20: Gold | AC20: S&P 500 (includes dividends)3 | AD20: US Small cap (bottom decile)22 | AE20: 3-month T.Bill4 | AF20: US T. Bond5 | AG20: Baa Corporate Bond2 | AH20: Real Estate2 | AI20: Gold2 | AJ20: Stocks minus T. Bills | AK20: Stocks minus T.Bonds
A21: 1928 | B21: =('S&P 500 & Raw Data'!B4-'S&P 500 & Raw Data'!B3+'S&P 500 & Raw Data'!C4)/'S&P 500 & Raw Data'!B3 -> 0.43811155 | C21: ='Small Cap'!B2 -> 0.5991 | D21: 0.0308 | E21: ='S&P 500 & Raw Data'!F4 -> 0.0083547086 | F21: ='S&P 500 & Raw Data'!J4 -> 0.032195515 | G21: ='Home Prices'!B4/'Home Prices'!B3-1 -> 0.014910537 | H21: ='Gold Prices'!B3/'Gold Prices'!B2-1 -> 0.00096899225 | I21: =100*(1+B21) -> 143.81116 | J21: 159.91 | K21: =100*(1+D21) -> 103.08 | L21: =100*(1+E21) -> 100.83547 | M21: =100*(1+F21) -> 103.21955 | N21: =100*(1+G21) -> 101.49105 | O21: =100*(1+H21) -> 100.0969 | P21: =B21-D21 -> 0.40731155 | Q21: =B21-E21 -> 0.42975684 | R21: =Table1[[#This Row],[US Small cap (bottom decile)]]-Table1[[#This Row],[S&P 500 (includes dividends)]] -> 0.16098845 | S21: =B21-F21 -> 0.40591604 | U21: ='Inflation Rate'!C26 -> -0.0115607 | V21: =(1+B21)/(1+$U21)-1 -> 0.45493158 | W21: =(1+C21)/(1+$U21)-1 -> 0.61780293 | X21: =(1+D21)/(1+$U21)-1 -> 0.042856147 | Y21: =(1+E21)/(1+$U21)-1 -> 0.020148337 | Z21: =(1+F21)/(1+$U21)-1 -> 0.044267984 | AA21: =(1+G21)/(1+$U21)-1 -> 0.026780842 | AB21: =(1+H21)/(1+$U21)-1 -> 0.012676238 | AC21: =100*(1+V21) -> 145.49316 | AD21: =100*(1+W21) -> 161.78029 | AE21: =100*(1+X21) -> 104.28561 | AF21: =100*(1+Y21) -> 102.01483 | AG21: =100*(1+Z21) -> 104.4268 | AH21: =100*(1+AA21) -> 102.67808 | AI21: =100*(1+AB21) -> 101.26762 | AJ21: =Table1[[#This Row],[S&P 500 (includes dividends)2]]-Table1[[#This Row],[3-month T. Bill (Real)]] -> 0.41207543 | AK21: =Table1[[#This Row],[S&P 500 (includes dividends)2]]-Table1[[#This Row],[!0-year T.Bonds]] -> 0.43478324
A22: 1929 | B22: =('S&P 500 & Raw Data'!B5-'S&P 500 & Raw Data'!B4+'S&P 500 & Raw Data'!C5)/'S&P 500 & Raw Data'!B4 -> -0.082979466 | C22: ='Small Cap'!B3 -> -0.4661 | D22: 0.0316 | E22: ='S&P 500 & Raw Data'!F5 -> 0.042038042 | F22: ='S&P 500 & Raw Data'!J5 -> 0.030178562 | G22: ='Home Prices'!B5/'Home Prices'!B4-1 -> -0.020568071 | H22: ='Gold Prices'!B4/'Gold Prices'!B3-1 -> -0.0014520813 | I22: =I21*(1+B22) -> 131.87778 | J22: =J21*(1+C22) -> 85.375949 | K22: =K21*(1+D22) -> 106.33733 | L22: =L21*(1+E22) -> 105.0744 | M22: =M21*(1+F22) -> 106.33457 | N22: =N21*(1+G22) -> 99.403579 | O22: =O21*(1+H22) -> 99.95155 | P22: =B22-D22 -> -0.11457947 | Q22: =B22-E22 -> -0.12501751 | R22: =Table1[[#This Row],[US Small cap (bottom decile)]]-Table1[[#This Row],[S&P 500 (includes dividends)]] -> -0.38312053 | S22: =B22-F22 -> -0.11315803 | U22: ='Inflation Rate'!C27 -> 0.005848 | V22: =(1+B22)/(1+$U22)-1 -> -0.088311023 | W22: =(1+C22)/(1+$U22)-1 -> -0.46920409 | X22: =(1+D22)/(1+$U22)-1 -> 0.025602278 | Y22: =(1+E22)/(1+$U22)-1 -> 0.035979633 | Z22: =(1+F22)/(1+$U22)-1 -> 0.024189105 | AA22: =(1+G22)/(1+$U22)-1 -> -0.026262487 | AB22: =(1+H22)/(1+$U22)-1 -> -0.0072576386 | AC22: =AC21*(1+V22) -> 132.64451 | AD22: =AD21*(1+W22) -> 85.872317 | AE22: =AE21*(1+X22) -> 106.95556 | AF22: =AF21*(1+Y22) -> 105.68529 | AG22: =AG21*(1+Z22) -> 106.95279 | AH22: =AH21*(1+AA22) -> 99.981502 | AI22: =AI21*(1+AB22) -> 100.53266 | AJ22: =Table1[[#This Row],[S&P 500 (includes dividends)2]]-Table1[[#This Row],[3-month T. Bill (Real)]] -> -0.1139133 | AK22: =Table1[[#This Row],[S&P 500 (includes dividends)2]]-Table1[[#This Row],[!0-year T.Bonds]] -> -0.12429066
A23: 1930 | B23: =('S&P 500 & Raw Data'!B6-'S&P 500 & Raw Data'!B5+'S&P 500 & Raw Data'!C6)/'S&P 500 & Raw Data'!B5 -> -0.25123636 | C23: ='Small Cap'!B4 -> -0.5003 | D23: 0.0455 | E23: ='S&P 500 & Raw Data'!F6 -> 0.045409314 | F23: ='S&P 500 & Raw Data'!J6 -> 0.0053978095 | G23: ='Home Prices'!B6/'Home Prices'!B5-1 -> -0.043 | H23: ='Gold Prices'!B5/'Gold Prices'!B4-1 -> 0.00096946195 | I23: =I22*(1+B23) -> 98.745288 | J23: =J22*(1+C23) -> 42.662362 | K23: =K22*(1+D23) -> 111.17568 | L23: =L22*(1+E23) -> 109.84575 | M23: =M22*(1+F23) -> 106.90854 | N23: =N22*(1+G23) -> 95.129225 | O23: =O22*(1+H23) -> 100.04845 | P23: =B23-D23 -> -0.29673636 | Q23: =B23-E23 -> -0.29664568 | R23: =Table1[[#This Row],[US Small cap (bottom decile)]]-Table1[[#This Row],[S&P 500 (includes dividends)]] -> -0.24906364 | S23: =B23-F23 -> -0.25663417 | U23: ='Inflation Rate'!C28 -> -0.0639535 | V23: =(1+B23)/(1+$U23)-1 -> -0.20007859 | W23: =(1+C23)/(1+$U23)-1 -> -0.466159 | X23: =(1+D23)/(1+$U23)-1 -> 0.11693169 | Y23: =(1+E23)/(1+$U23)-1 -> 0.11683481 | Z23: =(1+F23)/(1+$U23)-1 -> 0.074089599 | AA23: =(1+G23)/(1+$U23)-1 -> 0.022385106 | AB23: =(1+H23)/(1+$U23)-1 -> 0.069358693 | AC23: =AC22*(1+V23) -> 106.10518 | AD23: =AD22*(1+W23) -> 45.842164 | AE23: =AE22*(1+X23) -> 119.46206 | AF23: =AF22*(1+Y23) -> 118.03301 | AG23: =AG22*(1+Z23) -> 114.87688 | AH23: =AH22*(1+AA23) -> 102.2196 | AI23: =AI22*(1+AB23) -> 107.50547 | AJ23: =Table1[[#This Row],[S&P 500 (includes dividends)2]]-Table1[[#This Row],[3-month T. Bill (Real)]] -> -0.31701028 | AK23: =Table1[[#This Row],[S&P 500 (includes dividends)2]]-Table1[[#This Row],[!0-year T.Bonds]] -> -0.3169134
A24: 1931 | B24: =('S&P 500 & Raw Data'!B7-'S&P 500 & Raw Data'!B6+'S&P 500 & Raw Data'!C7)/'S&P 500 & Raw Data'!B6 -> -0.43837549 | C24: ='Small Cap'!B5 -> -0.4466 | D24: 0.0231 | E24: ='S&P 500 & Raw Data'!F7 -> -0.02558856 | F24: ='S&P 500 & Raw Data'!J7 -> -0.15680775 | G24: ='Home Prices'!B7/'Home Prices'!B6-1 -> -0.081504702 | H24: ='Gold Prices'!B6/'Gold Prices'!B5-1 -> -0.17384988 | I24: =I23*(1+B24) -> 55.457774 | J24: =J23*(1+C24) -> 23.609351 | K24: =K23*(1+D24) -> 113.74383 | L24: =L23*(1+E24) -> 107.03496 | M24: =M23*(1+F24) -> 90.144455 | N24: =N23*(1+G24) -> 87.375746 | O24: =O23*(1+H24) -> 82.655039 | P24: =B24-D24 -> -0.46147549 | Q24: =B24-E24 -> -0.41278693 | R24: =Table1[[#This Row],[US Small cap (bottom decile)]]-Table1[[#This Row],[S&P 500 (includes dividends)]] -> -0.0082245111 | S24: =B24-F24 -> -0.28156774 | U24: ='Inflation Rate'!C29 -> -0.0931677 | V24: =(1+B24)/(1+$U24)-1 -> -0.38067434 | W24: =(1+C24)/(1+$U24)-1 -> -0.38974384 | X24: =(1+D24)/(1+$U24)-1 -> 0.12821301 | Y24: =(1+E24)/(1+$U24)-1 -> 0.074522203 | Z24: =(1+F24)/(1+$U24)-1 -> -0.070178412 | AA24: =(1+G24)/(1+$U24)-1 -> 0.012861251 | AB24: =(1+H24)/(1+$U24)-1 -> -0.088971444 | AC24: =AC23*(1+V24) -> 65.713662 | AD24: =AD23*(1+W24) -> 27.975463 | AE24: =AE23*(1+X24) -> 134.77865 | AF24: =AF23*(1+Y24) -> 126.82909 | AG24: =AG23*(1+Z24) -> 106.815 | AH24: =AH23*(1+AA24) -> 103.53427 | AI24: =AI23*(1+AB24) -> 97.940557 | AJ24: =Table1[[#This Row],[S&P 500 (includes dividends)2]]-Table1[[#This Row],[3-month T. Bill (Real)]] -> -0.50888735 | AK24: =Table1[[#This Row],[S&P 500 (includes dividends)2]]-Table1[[#This Row],[!0-year T.Bonds]] -> -0.45519654
A25: 1932 | B25: =('S&P 500 & Raw Data'!B8-'S&P 500 & Raw Data'!B7+'S&P 500 & Raw Data'!C8)/'S&P 500 & Raw Data'!B7 -> -0.086423645 | C25: ='Small Cap'!B6 -> 0.2049 | D25: 0.0107 | E25: ='S&P 500 & Raw Data'!F8 -> 0.08790307 | F25: ='S&P 500 & Raw Data'!J8 -> 0.23589602 | G25: ='Home Prices'!B8/'Home Prices'!B7-1 -> -0.10466439 | H25: ='Gold Prices'!B7/'Gold Prices'!B6-1 -> 0.21277843 | I25: =I24*(1+B25) -> 50.664911 | J25: =J24*(1+C25) -> 28.446907 | K25: =K24*(1+D25) -> 114.96089 | L25: =L24*(1+E25) -> 116.44366 | M25: =M24*(1+F25) -> 111.40917 | N25: =N24*(1+G25) -> 78.230616 | O25: =O24*(1+H25) -> 100.24225 | P25: =B25-D25 -> -0.097123645 | Q25: =B25-E25 -> -0.17432672 | R25: =Table1[[#This Row],[US Small cap (bottom decile)]]-Table1[[#This Row],[S&P 500 (includes dividends)]] -> 0.29132365 | S25: =B25-F25 -> -0.32231966 | U25: ='Inflation Rate'!C30 -> -0.1027397 | V25: =(1+B25)/(1+$U25)-1 -> 0.018184305 | W25: =(1+C25)/(1+$U25)-1 -> 0.34286561 | X25: =(1+D25)/(1+$U25)-1 -> 0.12642897 | Y25: =(1+E25)/(1+$U25)-1 -> 0.21247209 | Z25: =(1+F25)/(1+$U25)-1 -> 0.37741079 | AA25: =(1+G25)/(1+$U25)-1 -> -0.0021450758 | AB25: =(1+H25)/(1+$U25)-1 -> 0.35164615 | AC25: =AC24*(1+V25) -> 66.908619 | AD25: =AD24*(1+W25) -> 37.567287 | AE25: =AE24*(1+X25) -> 151.81858 | AF25: =AF24*(1+Y25) -> 153.77673 | AG25: =AG24*(1+Z25) -> 147.12814 | AH25: =AH24*(1+AA25) -> 103.31218 | AI25: =AI24*(1+AB25) -> 132.38098 | AJ25: =Table1[[#This Row],[S&P 500 (includes dividends)2]]-Table1[[#This Row],[3-month T. Bill (Real)]] -> -0.10824467 | AK25: =Table1[[#This Row],[S&P 500 (includes dividends)2]]-Table1[[#This Row],[!0-year T.Bonds]] -> -0.19428778
A26: 1933 | B26: =('S&P 500 & Raw Data'!B9-'S&P 500 & Raw Data'!B8+'S&P 500 & Raw Data'!C9)/'S&P 500 & Raw Data'!B8 -> 0.49982225 | C26: ='Small Cap'!B7 -> 1.4834 | D26: 0.0096 | E26: ='S&P 500 & Raw Data'!F9 -> 0.018552721 | F26: ='S&P 500 & Raw Data'!J9 -> 0.12966894 | G26: ='Home Prices'!B9/'Home Prices'!B8-1 -> -0.038119441 | H26: ='Gold Prices'!B8/'Gold Prices'!B7-1 -> 0.27259546 | I26: =I25*(1+B26) -> 75.988361 | J26: =J25*(1+C26) -> 70.645049 | K26: =K25*(1+D26) -> 116.06452 | L26: =L25*(1+E26) -> 118.60401 | M26: =M25*(1+F26) -> 125.85548 | N26: =N25*(1+G26) -> 75.248509 | O26: =O25*(1+H26) -> 127.56783 | P26: =B26-D26 -> 0.49022225 | Q26: =B26-E26 -> 0.48126953 | R26: =Table1[[#This Row],[US Small cap (bottom decile)]]-Table1[[#This Row],[S&P 500 (includes dividends)]] -> 0.98357775 | S26: =B26-F26 -> 0.37015332 | U26: ='Inflation Rate'!C31 -> 0.0076336 | V26: =(1+B26)/(1+$U26)-1 -> 0.48845995 | W26: =(1+C26)/(1+$U26)-1 -> 1.4645863 | X26: =(1+D26)/(1+$U26)-1 -> 0.001951503 | Y26: =(1+E26)/(1+$U26)-1 -> 0.0108364 | Z26: =(1+F26)/(1+$U26)-1 -> 0.12111083 | AA26: =(1+G26)/(1+$U26)-1 -> -0.045406426 | AB26: =(1+H26)/(1+$U26)-1 -> 0.26295457 | AC26: =AC25*(1+V26) -> 99.590799 | AD26: =AD25*(1+W26) -> 92.587823 | AE26: =AE25*(1+X26) -> 152.11485 | AF26: =AF25*(1+Y26) -> 155.44312 | AG26: =AG25*(1+Z26) -> 164.94695 | AH26: =AH25*(1+AA26) -> 98.621145 | AI26: =AI25*(1+AB26) -> 167.19116 | AJ26: =Table1[[#This Row],[S&P 500 (includes dividends)2]]-Table1[[#This Row],[3-month T. Bill (Real)]] -> 0.48650844 | AK26: =Table1[[#This Row],[S&P 500 (includes dividends)2]]-Table1[[#This Row],[!0-year T.Bonds]] -> 0.47762355
A27: 1934 | B27: =('S&P 500 & Raw Data'!B10-'S&P 500 & Raw Data'!B9+'S&P 500 & Raw Data'!C10)/'S&P 500 & Raw Data'!B9 -> -0.011885657 | C27: ='Small Cap'!B8 -> 0.2001 | D27: ='T. Bill rates'!C12 -> 0.0027833333 | E27: ='S&P 500 & Raw Data'!F10 -> 0.079634426 | F27: ='S&P 500 & Raw Data'!J10 -> 0.18816429 | G27: ='Home Prices'!B10/'Home Prices'!B9-1 -> 0.029062087 | H27: ='Gold Prices'!B9/'Gold Prices'!B8-1 -> 0.31750855 | I27: =I26*(1+B27) -> 75.085189 | J27: =J26*(1+C27) -> 84.781123 | K27: =K26*(1+D27) -> 116.38756 | L27: =L26*(1+E27) -> 128.04897 | M27: =M26*(1+F27) -> 149.53699 | N27: =N26*(1+G27) -> 77.435388 | O27: =O26*(1+H27) -> 168.07171 | P27: =B27-D27 -> -0.01466899 | Q27: =B27-E27 -> -0.091520083 | R27: =Table1[[#This Row],[US Small cap (bottom decile)]]-Table1[[#This Row],[S&P 500 (includes dividends)]] -> 0.21198566 | S27: =B27-F27 -> -0.20004995 | U27: ='Inflation Rate'!C32 -> 0.0151515 | V27: =(1+B27)/(1+$U27)-1 -> -0.026633618 | W27: =(1+C27)/(1+$U27)-1 -> 0.18218808 | X27: =(1+D27)/(1+$U27)-1 -> -0.012183567 | Y27: =(1+E27)/(1+$U27)-1 -> 0.063520495 | Z27: =(1+F27)/(1+$U27)-1 -> 0.17043051 | AA27: =(1+G27)/(1+$U27)-1 -> 0.013702967 | AB27: =(1+H27)/(1+$U27)-1 -> 0.29784426 | AC27: =AC26*(1+V27) -> 96.938336 | AD27: =AD26*(1+W27) -> 109.45622 | AE27: =AE26*(1+X27) -> 150.26155 | AF27: =AF26*(1+Y27) -> 165.31694 | AG27: =AG26*(1+Z27) -> 193.05894 | AH27: =AH26*(1+AA27) -> 99.972547 | AI27: =AI26*(1+AB27) -> 216.98809 | AJ27: =Table1[[#This Row],[S&P 500 (includes dividends)2]]-Table1[[#This Row],[3-month T. Bill (Real)]] -> -0.01445005 | AK27: =Table1[[#This Row],[S&P 500 (includes dividends)2]]-Table1[[#This Row],[!0-year T.Bonds]] -> -0.090154113
A28: 1935 | B28: =('S&P 500 & Raw Data'!B11-'S&P 500 & Raw Data'!B10+'S&P 500 & Raw Data'!C11)/'S&P 500 & Raw Data'!B10 -> 0.46740421 | C28: ='Small Cap'!B9 -> 0.5318 | D28: ='T. Bill rates'!C13 -> 0.001675 | E28: ='S&P 500 & Raw Data'!F11 -> 0.044720477 | F28: ='S&P 500 & Raw Data'!J11 -> 0.13307732 | G28: ='Home Prices'!B11/'Home Prices'!B10-1 -> 0.097658337 | H28: ='Gold Prices'!B10/'Gold Prices'!B9-1 -> 0.0043240127 | I28: =I27*(1+B28) -> 110.18032 | J28: =J27*(1+C28) -> 129.86772 | K28: =K27*(1+D28) -> 116.58251 | L28: =L27*(1+E28) -> 133.77538 | M28: =M27*(1+F28) -> 169.43697 | N28: =N27*(1+G28) -> 84.997599 | O28: =O27*(1+H28) -> 168.79845 | P28: =B28-D28 -> 0.46572921 | Q28: =B28-E28 -> 0.42268373 | R28: =Table1[[#This Row],[US Small cap (bottom decile)]]-Table1[[#This Row],[S&P 500 (includes dividends)]] -> 0.064395789 | S28: =B28-F28 -> 0.33432689 | U28: ='Inflation Rate'!C33 -> 0.0298507 | V28: =(1+B28)/(1+$U28)-1 -> 0.42487082 | W28: =(1+C28)/(1+$U28)-1 -> 0.48740007 | X28: =(1+D28)/(1+$U28)-1 -> -0.027359014 | Y28: =(1+E28)/(1+$U28)-1 -> 0.01443877 | Z28: =(1+F28)/(1+$U28)-1 -> 0.10023455 | AA28: =(1+G28)/(1+$U28)-1 -> 0.065842201 | AB28: =(1+H28)/(1+$U28)-1 -> -0.024786784 | AC28: =AC27*(1+V28) -> 138.12461 | AD28: =AD27*(1+W28) -> 162.80519 | AE28: =AE27*(1+X28) -> 146.15054 | AF28: =AF27*(1+Y28) -> 167.70392 | AG28: =AG27*(1+Z28) -> 212.41011 | AH28: =AH27*(1+AA28) -> 106.55496 | AI28: =AI27*(1+AB28) -> 211.60965 | AJ28: =Table1[[#This Row],[S&P 500 (includes dividends)2]]-Table1[[#This Row],[3-month T. Bill (Real)]] -> 0.45222983 | AK28: =Table1[[#This Row],[S&P 500 (includes dividends)2]]-Table1[[#This Row],[!0-year T.Bonds]] -> 0.41043205
A29: 1936 | B29: =('S&P 500 & Raw Data'!B12-'S&P 500 & Raw Data'!B11+'S&P 500 & Raw Data'!C12)/'S&P 500 & Raw Data'!B11 -> 0.3194341 | C29: ='Small Cap'!B10 -> 0.9282 | D29: ='T. Bill rates'!C14 -> 0.001725 | E29: ='S&P 500 & Raw Data'!F12 -> 0.050178754 | F29: ='S&P 500 & Raw Data'!J12 -> 0.11383816 | G29: ='Home Prices'!B12/'Home Prices'!B11-1 -> 0.032186015 | H29: ='Gold Prices'!B11/'Gold Prices'!B10-1 -> 0.00086107922 | I29: =I28*(1+B29) -> 145.37568 | J29: =J28*(1+C29) -> 250.41095 | K29: =K28*(1+D29) -> 116.78362 | L29: =L28*(1+E29) -> 140.48806 | M29: =M28*(1+F29) -> 188.72536 | N29: =N28*(1+G29) -> 87.733333 | O29: =O28*(1+H29) -> 168.9438 | P29: =B29-D29 -> 0.3177091 | Q29: =B29-E29 -> 0.26925535 | R29: =Table1[[#This Row],[US Small cap (bottom decile)]]-Table1[[#This Row],[S&P 500 (includes dividends)]] -> 0.6087659 | S29: =B29-F29 -> 0.20559594 | U29: ='Inflation Rate'!C34 -> 0.0144928 | V29: =(1+B29)/(1+$U29)-1 -> 0.30058498 | W29: =(1+C29)/(1+$U29)-1 -> 0.9006542 | X29: =(1+D29)/(1+$U29)-1 -> -0.012585402 | Y29: =(1+E29)/(1+$U29)-1 -> 0.035176153 | Z29: =(1+F29)/(1+$U29)-1 -> 0.097926135 | AA29: =(1+G29)/(1+$U29)-1 -> 0.017440454 | AB29: =(1+H29)/(1+$U29)-1 -> -0.013436981 | AC29: =AC28*(1+V29) -> 179.64279 | AD29: =AD28*(1+W29) -> 309.43637 | AE29: =AE28*(1+X29) -> 144.31118 | AF29: =AF28*(1+Y29) -> 173.60309 | AG29: =AG28*(1+Z29) -> 233.21061 | AH29: =AH28*(1+AA29) -> 108.41333 | AI29: =AI28*(1+AB29) -> 208.76625 | AJ29: =Table1[[#This Row],[S&P 500 (includes dividends)2]]-Table1[[#This Row],[3-month T. Bill (Real)]] -> 0.31317039 | AK29: =Table1[[#This Row],[S&P 500 (includes dividends)2]]-Table1[[#This Row],[!0-year T.Bonds]] -> 0.26540883
A30: 1937 | B30: =('S&P 500 & Raw Data'!B13-'S&P 500 & Raw Data'!B12+'S&P 500 & Raw Data'!C13)/'S&P 500 & Raw Data'!B12 -> -0.35336729 | C30: ='Small Cap'!B11 -> -0.5328 | D30: ='T. Bill rates'!C15 -> 0.0027583333 | E30: ='S&P 500 & Raw Data'!F13 -> 0.013791461 | F30: ='S&P 500 & Raw Data'!J13 -> -0.044161917 | G30: ='Home Prices'!B13/'Home Prices'!B12-1 -> 0.025633912 | H30: ='Gold Prices'!B12/'Gold Prices'!B11-1 -> -0.0022942357 | I30: =I29*(1+B30) -> 94.004668 | J30: =J29*(1+C30) -> 116.99199 | K30: =K29*(1+D30) -> 117.10575 | L30: =L29*(1+E30) -> 142.4256 | M30: =M29*(1+F30) -> 180.39089 | N30: =N29*(1+G30) -> 89.982281 | O30: =O29*(1+H30) -> 168.5562 | P30: =B30-D30 -> -0.35612562 | Q30: =B30-E30 -> -0.36715875 | R30: =Table1[[#This Row],[US Small cap (bottom decile)]]-Table1[[#This Row],[S&P 500 (includes dividends)]] -> -0.17943271 | S30: =B30-F30 -> -0.30920537 | U30: ='Inflation Rate'!C35 -> 0.0285714 | V30: =(1+B30)/(1+$U30)-1 -> -0.37132929 | W30: =(1+C30)/(1+$U30)-1 -> -0.54577777 | X30: =(1+D30)/(1+$U30)-1 -> -0.025096038 | Y30: =(1+E30)/(1+$U30)-1 -> -0.014369386 | Z30: =(1+F30)/(1+$U30)-1 -> -0.070712949 | AA30: =(1+G30)/(1+$U30)-1 -> -0.002855891 | AB30: =(1+H30)/(1+$U30)-1 -> -0.030008258 | AC30: =AC29*(1+V30) -> 112.93616 | AD30: =AD29*(1+W30) -> 140.55288 | AE30: =AE29*(1+X30) -> 140.68954 | AF30: =AF29*(1+Y30) -> 171.10852 | AG30: =AG29*(1+Z30) -> 216.7196 | AH30: =AH29*(1+AA30) -> 108.10371 | AI30: =AI29*(1+AB30) -> 202.50154 | AJ30: =Table1[[#This Row],[S&P 500 (includes dividends)2]]-Table1[[#This Row],[3-month T. Bill (Real)]] -> -0.34623325 | AK30: =Table1[[#This Row],[S&P 500 (includes dividends)2]]-Table1[[#This Row],[!0-year T.Bonds]] -> -0.3569599
A31: 1938 | B31: =('S&P 500 & Raw Data'!B14-'S&P 500 & Raw Data'!B13+'S&P 500 & Raw Data'!C14)/'S&P 500 & Raw Data'!B13 -> 0.29282654 | C31: ='Small Cap'!B12 -> 0.016 | D31: ='T. Bill rates'!C16 -> 0.00065 | E31: ='S&P 500 & Raw Data'!F14 -> 0.042132485 | F31: ='S&P 500 & Raw Data'!J14 -> 0.092358817 | G31: ='Home Prices'!B14/'Home Prices'!B13-1 -> -0.0087368136 | H31: ='Gold Prices'!B13/'Gold Prices'!B12-1 -> 0.0017246335 | I31: =I30*(1+B31) -> 121.53173 | J31: =J30*(1+C31) -> 118.86387 | K31: =K30*(1+D31) -> 117.18187 | L31: =L30*(1+E31) -> 148.42634 | M31: =M30*(1+F31) -> 197.05158 | N31: =N30*(1+G31) -> 89.196123 | O31: =O30*(1+H31) -> 168.8469 | P31: =B31-D31 -> 0.29217654 | Q31: =B31-E31 -> 0.25069405 | R31: =Table1[[#This Row],[US Small cap (bottom decile)]]-Table1[[#This Row],[S&P 500 (includes dividends)]] -> -0.27682654 | S31: =B31-F31 -> 0.20046772 | U31: ='Inflation Rate'!C36 -> -0.0277778 | V31: =(1+B31)/(1+$U31)-1 -> 0.32976447 | W31: =(1+C31)/(1+$U31)-1 -> 0.045028595 | X31: =(1+D31)/(1+$U31)-1 -> 0.029240024 | Y31: =(1+E31)/(1+$U31)-1 -> 0.071907724 | Z31: =(1+F31)/(1+$U31)-1 -> 0.12356909 | AA31: =(1+G31)/(1+$U31)-1 -> 0.019585015 | AB31: =(1+H31)/(1+$U31)-1 -> 0.030345361 | AC31: =AC30*(1+V31) -> 150.17849 | AD31: =AD30*(1+W31) -> 146.88178 | AE31: =AE30*(1+X31) -> 144.8033 | AF31: =AF30*(1+Y31) -> 183.41255 | AG31: =AG30*(1+Z31) -> 243.49945 | AH31: =AH30*(1+AA31) -> 110.22092 | AI31: =AI30*(1+AB31) -> 208.64652 | AJ31: =Table1[[#This Row],[S&P 500 (includes dividends)2]]-Table1[[#This Row],[3-month T. Bill (Real)]] -> 0.30052445 | AK31: =Table1[[#This Row],[S&P 500 (includes dividends)2]]-Table1[[#This Row],[!0-year T.Bonds]] -> 0.25785675
A32: 1939 | B32: =('S&P 500 & Raw Data'!B15-'S&P 500 & Raw Data'!B14+'S&P 500 & Raw Data'!C15)/'S&P 500 & Raw Data'!B14 -> -0.010975647 | C32: ='Small Cap'!B13 -> -0.0573 | D32: ='T. Bill rates'!C17 -> 0.00045833333 | E32: ='S&P 500 & Raw Data'!F15 -> 0.044122614 | F32: ='S&P 500 & Raw Data'!J15 -> 0.079831378 | G32: ='Home Prices'!B15/'Home Prices'!B14-1 -> -0.013016072 | H32: ='Gold Prices'!B14/'Gold Prices'!B13-1 -> -0.012338594 | I32: =I31*(1+B32) -> 120.19784 | J32: =J31*(1+C32) -> 112.05297 | K32: =K31*(1+D32) -> 117.23557 | L32: =L31*(1+E32) -> 154.9753 | M32: =M31*(1+F32) -> 212.78248 | N32: =N31*(1+G32) -> 88.03514 | O32: =O31*(1+H32) -> 166.76357 | P32: =B32-D32 -> -0.01143398 | Q32: =B32-E32 -> -0.055098261 | R32: =Table1[[#This Row],[US Small cap (bottom decile)]]-Table1[[#This Row],[S&P 500 (includes dividends)]] -> -0.046324353 | S32: =B32-F32 -> -0.090807025 | U32: ='Inflation Rate'!C37 -> 0 | V32: =(1+B32)/(1+$U32)-1 -> -0.010975647 | W32: =(1+C32)/(1+$U32)-1 -> -0.0573 | X32: =(1+D32)/(1+$U32)-1 -> 0.00045833333 | Y32: =(1+E32)/(1+$U32)-1 -> 0.044122614 | Z32: =(1+F32)/(1+$U32)-1 -> 0.079831378 | AA32: =(1+G32)/(1+$U32)-1 -> -0.013016072 | AB32: =(1+H32)/(1+$U32)-1 -> -0.012338594 | AC32: =AC31*(1+V32) -> 148.53019 | AD32: =AD31*(1+W32) -> 138.46545 | AE32: =AE31*(1+X32) -> 144.86967 | AF32: =AF31*(1+Y32) -> 191.50519 | AG32: =AG31*(1+Z32) -> 262.93835 | AH32: =AH31*(1+AA32) -> 108.78628 | AI32: =AI31*(1+AB32) -> 206.07212 | AJ32: =Table1[[#This Row],[S&P 500 (includes dividends)2]]-Table1[[#This Row],[3-month T. Bill (Real)]] -> -0.01143398 | AK32: =Table1[[#This Row],[S&P 500 (includes dividends)2]]-Table1[[#This Row],[!0-year T.Bonds]] -> -0.055098261
A33: 1940 | B33: =('S&P 500 & Raw Data'!B16-'S&P 500 & Raw Data'!B15+'S&P 500 & Raw Data'!C16)/'S&P 500 & Raw Data'!B15 -> -0.10672873 | C33: ='Small Cap'!B14 -> -0.3181 | D33: ='T. Bill rates'!C18 -> 0.00035833333 | E33: ='S&P 500 & Raw Data'!F16 -> 0.054024816 | F33: ='S&P 500 & Raw Data'!J16 -> 0.086481372 | G33: ='Home Prices'!B16/'Home Prices'!B15-1 -> 0.033066077 | H33: ='Gold Prices'!B15/'Gold Prices'!B14-1 -> -0.016560139 | I33: =I32*(1+B33) -> 107.36928 | J33: =J32*(1+C33) -> 76.408918 | K33: =K32*(1+D33) -> 117.27758 | L33: =L32*(1+E33) -> 163.34781 | M33: =M32*(1+F33) -> 231.1842 | N33: =N32*(1+G33) -> 90.946116 | O33: =O32*(1+H33) -> 164.00194 | P33: =B33-D33 -> -0.10708707 | Q33: =B33-E33 -> -0.16075355 | R33: =Table1[[#This Row],[US Small cap (bottom decile)]]-Table1[[#This Row],[S&P 500 (includes dividends)]] -> -0.21137127 | S33: =B33-F33 -> -0.1932101 | U33: ='Inflation Rate'!C38 -> 0.0071429 | V33: =(1+B33)/(1+$U33)-1 -> -0.11306403 | W33: =(1+C33)/(1+$U33)-1 -> -0.3229362 | X33: =(1+D33)/(1+$U33)-1 -> -0.0067364489 | Y33: =(1+E33)/(1+$U33)-1 -> 0.046549418 | Z33: =(1+F33)/(1+$U33)-1 -> 0.078775784 | AA33: =(1+G33)/(1+$U33)-1 -> 0.025739323 | AB33: =(1+H33)/(1+$U33)-1 -> -0.023534932 | AC33: =AC32*(1+V33) -> 131.73677 | AD33: =AD32*(1+W33) -> 93.749944 | AE33: =AE32*(1+X33) -> 143.89377 | AF33: =AF32*(1+Y33) -> 200.41965 | AG33: =AG32*(1+Z33) -> 283.65152 | AH33: =AH32*(1+AA33) -> 111.58636 | AI33: =AI32*(1+AB33) -> 201.22223 | AJ33: =Table1[[#This Row],[S&P 500 (includes dividends)2]]-Table1[[#This Row],[3-month T. Bill (Real)]] -> -0.10632758 | AK33: =Table1[[#This Row],[S&P 500 (includes dividends)2]]-Table1[[#This Row],[!0-year T.Bonds]] -> -0.15961345
A34: 1941 | B34: =('S&P 500 & Raw Data'!B17-'S&P 500 & Raw Data'!B16+'S&P 500 & Raw Data'!C17)/'S&P 500 & Raw Data'!B16 -> -0.12771456 | C34: ='Small Cap'!B15 -> -0.0554 | D34: ='T. Bill rates'!C19 -> 0.0012916667 | E34: ='S&P 500 & Raw Data'!F17 -> -0.020221976 | F34: ='S&P 500 & Raw Data'!J17 -> 0.050071729 | G34: ='Home Prices'!B17/'Home Prices'!B16-1 -> -0.083846277 | H34: ='Gold Prices'!B16/'Gold Prices'!B15-1 -> 0 | I34: =I33*(1+B34) -> 93.656657 | J34: =J33*(1+C34) -> 72.175864 | K34: =K33*(1+D34) -> 117.42907 | L34: =L33*(1+E34) -> 160.0446 | M34: =M33*(1+F34) -> 242.75999 | N34: =N33*(1+G34) -> 83.320623 | O34: =O33*(1+H34) -> 164.00194 | P34: =B34-D34 -> -0.12900622 | Q34: =B34-E34 -> -0.10749258 | R34: =Table1[[#This Row],[US Small cap (bottom decile)]]-Table1[[#This Row],[S&P 500 (includes dividends)]] -> 0.072314556 | S34: =B34-F34 -> -0.17778628 | U34: ='Inflation Rate'!C39 -> 0.0992908 | V34: =(1+B34)/(1+$U34)-1 -> -0.20650164 | W34: =(1+C34)/(1+$U34)-1 -> -0.14071873 | X34: =(1+D34)/(1+$U34)-1 -> -0.089147597 | Y34: =(1+E34)/(1+$U34)-1 -> -0.10871807 | Z34: =(1+F34)/(1+$U34)-1 -> -0.044773477 | AA34: =(1+G34)/(1+$U34)-1 -> -0.16659566 | AB34: =(1+H34)/(1+$U34)-1 -> -0.090322597 | AC34: =AC33*(1+V34) -> 104.53291 | AD34: =AD33*(1+W34) -> 80.557572 | AE34: =AE33*(1+X34) -> 131.06598 | AF34: =AF33*(1+Y34) -> 178.63041 | AG34: =AG33*(1+Z34) -> 270.95146 | AH34: =AH33*(1+AA34) -> 92.99656 | AI34: =AI33*(1+AB34) -> 183.04731 | AJ34: =Table1[[#This Row],[S&P 500 (includes dividends)2]]-Table1[[#This Row],[3-month T. Bill (Real)]] -> -0.11735405 | AK34: =Table1[[#This Row],[S&P 500 (includes dividends)2]]-Table1[[#This Row],[!0-year T.Bonds]] -> -0.097783571
A35: 1942 | B35: =('S&P 500 & Raw Data'!B18-'S&P 500 & Raw Data'!B17+'S&P 500 & Raw Data'!C18)/'S&P 500 & Raw Data'!B17 -> 0.19173763 | C35: ='Small Cap'!B16 -> 0.6179 | D35: ='T. Bill rates'!C20 -> 0.003425 | E35: ='S&P 500 & Raw Data'!F18 -> 0.022948682 | F35: ='S&P 500 & Raw Data'!J18 -> 0.05179901 | G35: ='Home Prices'!B18/'Home Prices'!B17-1 -> 0.033330412 | H35: ='Gold Prices'!B17/'Gold Prices'!B16-1 -> 0 | I35: =I34*(1+B35) -> 111.61416 | J35: =J34*(1+C35) -> 116.77333 | K35: =K34*(1+D35) -> 117.83126 | L35: =L34*(1+E35) -> 163.71741 | M35: =M34*(1+F35) -> 255.33472 | N35: =N34*(1+G35) -> 86.097734 | O35: =O34*(1+H35) -> 164.00194 | P35: =B35-D35 -> 0.18831263 | Q35: =B35-E35 -> 0.16878895 | R35: =Table1[[#This Row],[US Small cap (bottom decile)]]-Table1[[#This Row],[S&P 500 (includes dividends)]] -> 0.42616237 | S35: =B35-F35 -> 0.13993862 | U35: ='Inflation Rate'!C40 -> 0.0903226 | V35: =(1+B35)/(1+$U35)-1 -> 0.093013783 | W35: =(1+C35)/(1+$U35)-1 -> 0.48387275 | X35: =(1+D35)/(1+$U35)-1 -> -0.079698981 | Y35: =(1+E35)/(1+$U35)-1 -> -0.061792645 | Z35: =(1+F35)/(1+$U35)-1 -> -0.035332286 | AA35: =(1+G35)/(1+$U35)-1 -> -0.052270941 | AB35: =(1+H35)/(1+$U35)-1 -> -0.082840253 | AC35: =AC34*(1+V35) -> 114.25591 | AD35: =AD34*(1+W35) -> 119.53719 | AE35: =AE34*(1+X35) -> 120.62016 | AF35: =AF34*(1+Y35) -> 167.59236 | AG35: =AG34*(1+Z35) -> 261.37812 | AH35: =AH34*(1+AA35) -> 88.135543 | AI35: =AI34*(1+AB35) -> 167.88363 | AJ35: =Table1[[#This Row],[S&P 500 (includes dividends)2]]-Table1[[#This Row],[3-month T. Bill (Real)]] -> 0.17271276 | AK35: =Table1[[#This Row],[S&P 500 (includes dividends)2]]-Table1[[#This Row],[!0-year T.Bonds]] -> 0.15480643
A36: 1943 | B36: =('S&P 500 & Raw Data'!B19-'S&P 500 & Raw Data'!B18+'S&P 500 & Raw Data'!C19)/'S&P 500 & Raw Data'!B18 -> 0.2506131 | C36: ='Small Cap'!B17 -> 1.3797 | D36: ='T. Bill rates'!C21 -> 0.0038 | E36: ='S&P 500 & Raw Data'!F19 -> 0.0249 | F36: ='S&P 500 & Raw Data'!J19 -> 0.080446701 | G36: ='Home Prices'!B19/'Home Prices'!B18-1 -> 0.1144626 | H36: ='Gold Prices'!B18/'Gold Prices'!B17-1 -> 0 | I36: =I35*(1+B36) -> 139.58613 | J36: =J35*(1+C36) -> 277.88549 | K36: =K35*(1+D36) -> 118.27902 | L36: =L35*(1+E36) -> 167.79397 | M36: =M35*(1+F36) -> 275.87555 | N36: =N35*(1+G36) -> 95.952704 | O36: =O35*(1+H36) -> 164.00194 | P36: =B36-D36 -> 0.2468131 | Q36: =B36-E36 -> 0.2257131 | R36: =Table1[[#This Row],[US Small cap (bottom decile)]]-Table1[[#This Row],[S&P 500 (includes dividends)]] -> 1.1290869 | S36: =B36-F36 -> 0.1701664 | U36: ='Inflation Rate'!C41 -> 0.0295858 | V36: =(1+B36)/(1+$U36)-1 -> 0.21467594 | W36: =(1+C36)/(1+$U36)-1 -> 1.3113178 | X36: =(1+D36)/(1+$U36)-1 -> -0.025044829 | Y36: =(1+E36)/(1+$U36)-1 -> -0.0045511506 | Z36: =(1+F36)/(1+$U36)-1 -> 0.04939938 | AA36: =(1+G36)/(1+$U36)-1 -> 0.082437811 | AB36: =(1+H36)/(1+$U36)-1 -> -0.028735633 | AC36: =AC35*(1+V36) -> 138.7839 | AD36: =AD35*(1+W36) -> 276.28843 | AE36: =AE35*(1+X36) -> 117.59925 | AF36: =AF35*(1+Y36) -> 166.82962 | AG36: =AG35*(1+Z36) -> 274.29004 | AH36: =AH35*(1+AA36) -> 95.401244 | AI36: =AI35*(1+AB36) -> 163.05938 | AJ36: =Table1[[#This Row],[S&P 500 (includes dividends)2]]-Table1[[#This Row],[3-month T. Bill (Real)]] -> 0.23972077 | AK36: =Table1[[#This Row],[S&P 500 (includes dividends)2]]-Table1[[#This Row],[!0-year T.Bonds]] -> 0.21922709
A37: 1944 | B37: =('S&P 500 & Raw Data'!B20-'S&P 500 & Raw Data'!B19+'S&P 500 & Raw Data'!C20)/'S&P 500 & Raw Data'!B19 -> 0.19030677 | C37: ='Small Cap'!B18 -> 0.6973 | D37: ='T. Bill rates'!C22 -> 0.0038 | E37: ='S&P 500 & Raw Data'!F20 -> 0.025776112 | F37: ='S&P 500 & Raw Data'!J20 -> 0.065658636 | G37: ='Home Prices'!B20/'Home Prices'!B19-1 -> 0.16584227 | H37: ='Gold Prices'!B19/'Gold Prices'!B18-1 -> 0 | I37: =I36*(1+B37) -> 166.15032 | J37: =J36*(1+C37) -> 471.65505 | K37: =K36*(1+D37) -> 118.72848 | L37: =L36*(1+E37) -> 172.11905 | M37: =M36*(1+F37) -> 293.98917 | N37: =N36*(1+G37) -> 111.86572 | O37: =O36*(1+H37) -> 164.00194 | P37: =B37-D37 -> 0.18650677 | Q37: =B37-E37 -> 0.16453066 | R37: =Table1[[#This Row],[US Small cap (bottom decile)]]-Table1[[#This Row],[S&P 500 (includes dividends)]] -> 0.50699323 | S37: =B37-F37 -> 0.12464813 | U37: ='Inflation Rate'!C42 -> 0.0229885 | V37: =(1+B37)/(1+$U37)-1 -> 0.16355831 | W37: =(1+C37)/(1+$U37)-1 -> 0.65915844 | X37: =(1+D37)/(1+$U37)-1 -> -0.018757298 | Y37: =(1+E37)/(1+$U37)-1 -> 0.0027249686 | Z37: =(1+F37)/(1+$U37)-1 -> 0.041711257 | AA37: =(1+G37)/(1+$U37)-1 -> 0.13964358 | AB37: =(1+H37)/(1+$U37)-1 -> -0.022471905 | AC37: =AC36*(1+V37) -> 161.48316 | AD37: =AD36*(1+W37) -> 458.40627 | AE37: =AE36*(1+X37) -> 115.3934 | AF37: =AF36*(1+Y37) -> 167.28423 | AG37: =AG36*(1+Z37) -> 285.73102 | AH37: =AH36*(1+AA37) -> 108.72341 | AI37: =AI36*(1+AB37) -> 159.39513 | AJ37: =Table1[[#This Row],[S&P 500 (includes dividends)2]]-Table1[[#This Row],[3-month T. Bill (Real)]] -> 0.18231561 | AK37: =Table1[[#This Row],[S&P 500 (includes dividends)2]]-Table1[[#This Row],[!0-year T.Bonds]] -> 0.16083334
A38: 1945 | B38: =('S&P 500 & Raw Data'!B21-'S&P 500 & Raw Data'!B20+'S&P 500 & Raw Data'!C21)/'S&P 500 & Raw Data'!B20 -> 0.35821084 | C38: ='Small Cap'!B19 -> 0.9109 | D38: ='T. Bill rates'!C23 -> 0.0038 | E38: ='S&P 500 & Raw Data'!F21 -> 0.038044173 | F38: ='S&P 500 & Raw Data'!J21 -> 0.067998655 | G38: ='Home Prices'!B21/'Home Prices'!B20-1 -> 0.11777376 | H38: ='Gold Prices'!B20/'Gold Prices'!B19-1 -> 0.025406204 | I38: =I37*(1+B38) -> 225.66717 | J38: =J37*(1+C38) -> 901.28563 | K38: =K37*(1+D38) -> 119.17965 | L38: =L37*(1+E38) -> 178.66717 | M38: =M37*(1+F38) -> 313.98003 | N38: =N37*(1+G38) -> 125.04057 | O38: =O37*(1+H38) -> 168.1686 | P38: =B38-D38 -> 0.35441084 | Q38: =B38-E38 -> 0.32016667 | R38: =Table1[[#This Row],[US Small cap (bottom decile)]]-Table1[[#This Row],[S&P 500 (includes dividends)]] -> 0.55268916 | S38: =B38-F38 -> 0.29021219 | U38: ='Inflation Rate'!C43 -> 0.0224719 | V38: =(1+B38)/(1+$U38)-1 -> 0.32836007 | W38: =(1+C38)/(1+$U38)-1 -> 0.86890222 | X38: =(1+D38)/(1+$U38)-1 -> -0.018261529 | Y38: =(1+E38)/(1+$U38)-1 -> 0.015230026 | Z38: =(1+F38)/(1+$U38)-1 -> 0.044526167 | AA38: =(1+G38)/(1+$U38)-1 -> 0.093207319 | AB38: =(1+H38)/(1+$U38)-1 -> 0.0028698137 | AC38: =AC37*(1+V38) -> 214.50779 | AD38: =AD37*(1+W38) -> 856.7165 | AE38: =AE37*(1+X38) -> 113.28614 | AF38: =AF37*(1+Y38) -> 169.83197 | AG38: =AG37*(1+Z38) -> 298.45353 | AH38: =AH37*(1+AA38) -> 118.85723 | AI38: =AI37*(1+AB38) -> 159.85256 | AJ38: =Table1[[#This Row],[S&P 500 (includes dividends)2]]-Table1[[#This Row],[3-month T. Bill (Real)]] -> 0.3466216 | AK38: =Table1[[#This Row],[S&P 500 (includes dividends)2]]-Table1[[#This Row],[!0-year T.Bonds]] -> 0.31313004
... A52: 1959 | B52: =('S&P 500 & Raw Data'!B35-'S&P 500 & Raw Data'!B34+'S&P 500 & Raw Data'!C35)/'S&P 500 & Raw Data'!B34 -> 0.12056457 | C52: ='Small Cap'!B33 -> 0.1274 | D52: ='T. Bill rates'!C37 -> 0.033860159 | E52: ='S&P 500 & Raw Data'!F35 -> -0.026466313 | F52: ='S&P 500 & Raw Data'!J35 -> 0.015743431 | G52: ='Home Prices'!B35/'Home Prices'!B34-1 -> 0.0010952903 | H52: ='Gold Prices'!B34/'Gold Prices'!B33-1 -> 0 | I52: =I51*(1+B52) -> 1608.9516 | J52: =J51*(1+C52) -> 4822.1565 | K52: =K51*(1+D52) -> 149.84231 | L52: =L51*(1+E52) -> 214.55509 | M52: =M51*(1+F52) -> 440.94935 | N52: =N51*(1+G52) -> 259.31167 | O52: =O51*(1+H52) -> 170.05814 | P52: =B52-D52 -> 0.086704412 | Q52: =B52-E52 -> 0.14703088 | R52: =Table1[[#This Row],[US Small cap (bottom decile)]]-Table1[[#This Row],[S&P 500 (includes dividends)]] -> 0.0068354284 | S52: =B52-F52 -> 0.10482114 | U52: ='Inflation Rate'!C57 -> 0.017301 | V52: =(1+B52)/(1+$U52)-1 -> 0.10150739 | W52: =(1+C52)/(1+$U52)-1 -> 0.10822657 | X52: =(1+D52)/(1+$U52)-1 -> 0.016277542 | Y52: =(1+E52)/(1+$U52)-1 -> -0.043022972 | Z52: =(1+F52)/(1+$U52)-1 -> -0.0015310799 | AA52: =(1+G52)/(1+$U52)-1 -> -0.015930103 | AB52: =(1+H52)/(1+$U52)-1 -> -0.017006766 | AC52: =AC51*(1+V52) -> 946.76414 | AD52: =AD51*(1+W52) -> 2837.5277 | AE52: =AE51*(1+X52) -> 88.172525 | AF52: =AF51*(1+Y52) -> 126.25182 | AG52: =AG51*(1+Z52) -> 259.47022 | AH52: =AH51*(1+AA52) -> 152.58817 | AI52: =AI51*(1+AB52) -> 100.06823 | AJ52: =Table1[[#This Row],[S&P 500 (includes dividends)2]]-Table1[[#This Row],[3-month T. Bill (Real)]] -> 0.085229851 | AK52: =Table1[[#This Row],[S&P 500 (includes dividends)2]]-Table1[[#This Row],[!0-year T.Bonds]] -> 0.14453036
A53: 1960 | B53: =('S&P 500 & Raw Data'!B36-'S&P 500 & Raw Data'!B35+'S&P 500 & Raw Data'!C36)/'S&P 500 & Raw Data'!B35 -> 0.0033653531 | C53: ='Small Cap'!B34 -> -0.0349 | D53: ='T. Bill rates'!C38 -> 0.028729719 | E53: ='S&P 500 & Raw Data'!F36 -> 0.11639504 | F53: ='S&P 500 & Raw Data'!J36 -> 0.066631872 | G53: ='Home Prices'!B36/'Home Prices'!B35-1 -> 0.0076586433 | H53: ='Gold Prices'!B35/'Gold Prices'!B34-1 -> 0.0048433048 | I53: =I52*(1+B53) -> 1614.3663 | J53: =J52*(1+C53) -> 4653.8633 | K53: =K52*(1+D53) -> 154.14724 | L53: =L52*(1+E53) -> 239.52824 | M53: =M52*(1+F53) -> 470.33063 | N53: =N52*(1+G53) -> 261.29765 | O53: =O52*(1+H53) -> 170.88178 | P53: =B53-D53 -> -0.025364366 | Q53: =B53-E53 -> -0.11302968 | R53: =Table1[[#This Row],[US Small cap (bottom decile)]]-Table1[[#This Row],[S&P 500 (includes dividends)]] -> -0.038265353 | S53: =B53-F53 -> -0.063266518 | T53: =((I53/100)^(1/(A53-$A$21+1)))-((L53/100)^(1/(A53-$A$21+1))) -> 0.061119788 | U53: ='Inflation Rate'!C58 -> 0.0136054 | V53: =(1+B53)/(1+$U53)-1 -> -0.010102597 | W53: =(1+C53)/(1+$U53)-1 -> -0.047854323 | X53: =(1+D53)/(1+$U53)-1 -> 0.014921309 | Y53: =(1+E53)/(1+$U53)-1 -> 0.10140991 | Z53: =(1+F53)/(1+$U53)-1 -> 0.052314709 | AA53: =(1+G53)/(1+$U53)-1 -> -0.0058669347 | AB53: =(1+H53)/(1+$U53)-1 -> -0.0086444835 | AC53: =AC52*(1+V53) -> 937.19936 | AD53: =AD52*(1+W53) -> 2701.7398 | AE53: =AE52*(1+X53) -> 89.488175 | AF53: =AF52*(1+Y53) -> 139.055 | AG53: =AG52*(1+Z53) -> 273.04433 | AH53: =AH52*(1+AA53) -> 151.69295 | AI53: =AI52*(1+AB53) -> 99.203195 | AJ53: =Table1[[#This Row],[S&P 500 (includes dividends)2]]-Table1[[#This Row],[3-month T. Bill (Real)]] -> -0.025023905 | AK53: =Table1[[#This Row],[S&P 500 (includes dividends)2]]-Table1[[#This Row],[!0-year T.Bonds]] -> -0.11151251
A54: 1961 | B54: =('S&P 500 & Raw Data'!B37-'S&P 500 & Raw Data'!B36+'S&P 500 & Raw Data'!C37)/'S&P 500 & Raw Data'!B36 -> 0.26637713 | C54: ='Small Cap'!B35 -> 0.2983 | D54: ='T. Bill rates'!C39 -> 0.0235249 | E54: ='S&P 500 & Raw Data'!F37 -> 0.020609208 | F54: ='S&P 500 & Raw Data'!J37 -> 0.051 | G54: ='Home Prices'!B37/'Home Prices'!B36-1 -> 0.009771987 | H54: ='Gold Prices'!B36/'Gold Prices'!B35-1 -> -0.00056705415 | I54: =I53*(1+B54) -> 2044.3966 | J54: =J53*(1+C54) -> 6042.1107 | K54: =K53*(1+D54) -> 157.77354 | L54: =L53*(1+E54) -> 244.46473 | M54: =M53*(1+F54) -> 494.31749 | N54: =N53*(1+G54) -> 263.85104 | O54: =O53*(1+H54) -> 170.78488 | P54: =B54-D54 -> 0.24285223 | Q54: =B54-E54 -> 0.24576792 | R54: =Table1[[#This Row],[US Small cap (bottom decile)]]-Table1[[#This Row],[S&P 500 (includes dividends)]] -> 0.03192287 | S54: =B54-F54 -> 0.21537713 | T54: =((I54/100)^(1/(A54-$A$21+1)))-((L54/100)^(1/(A54-$A$21+1))) -> 0.066173592 | U54: ='Inflation Rate'!C59 -> 0.0067114 | V54: =(1+B54)/(1+$U54)-1 -> 0.25793463 | W54: =(1+C54)/(1+$U54)-1 -> 0.28964468 | X54: =(1+D54)/(1+$U54)-1 -> 0.01670141 | Y54: =(1+E54)/(1+$U54)-1 -> 0.013805156 | Z54: =(1+F54)/(1+$U54)-1 -> 0.043993343 | AA54: =(1+G54)/(1+$U54)-1 -> 0.0030401831 | AB54: =(1+H54)/(1+$U54)-1 -> -0.0072299312 | AC54: =AC53*(1+V54) -> 1178.9355 | AD54: =AD53*(1+W54) -> 3484.2843 | AE54: =AE53*(1+X54) -> 90.982753 | AF54: =AF53*(1+Y54) -> 140.97468 | AG54: =AG53*(1+Z54) -> 285.05646 | AH54: =AH53*(1+AA54) -> 152.15412 | AI54: =AI53*(1+AB54) -> 98.485963 | AJ54: =Table1[[#This Row],[S&P 500 (includes dividends)2]]-Table1[[#This Row],[3-month T. Bill (Real)]] -> 0.24123322 | AK54: =Table1[[#This Row],[S&P 500 (includes dividends)2]]-Table1[[#This Row],[!0-year T.Bonds]] -> 0.24412947
A55: 1962 | B55: =('S&P 500 & Raw Data'!B38-'S&P 500 & Raw Data'!B37+'S&P 500 & Raw Data'!C38)/'S&P 500 & Raw Data'!B37 -> -0.088114605 | C55: ='Small Cap'!B36 -> -0.0976 | D55: ='T. Bill rates'!C40 -> 0.027723695 | E55: ='S&P 500 & Raw Data'!F38 -> 0.056935441 | F55: ='S&P 500 & Raw Data'!J38 -> 0.06495328 | G55: ='Home Prices'!B38/'Home Prices'!B37-1 -> 0.0032258065 | H55: ='Gold Prices'!B37/'Gold Prices'!B36-1 -> -0.00056737589 | I55: =I54*(1+B55) -> 1864.2554 | J55: =J54*(1+C55) -> 5452.4007 | K55: =K54*(1+D55) -> 162.1476 | L55: =L54*(1+E55) -> 258.38343 | M55: =M54*(1+F55) -> 526.42504 | N55: =N54*(1+G55) -> 264.70218 | O55: =O54*(1+H55) -> 170.68798 | P55: =B55-D55 -> -0.1158383 | Q55: =B55-E55 -> -0.14505005 | R55: =Table1[[#This Row],[US Small cap (bottom decile)]]-Table1[[#This Row],[S&P 500 (includes dividends)]] -> -0.0094853948 | S55: =B55-F55 -> -0.15306789 | T55: =((I55/100)^(1/(A55-$A$21+1)))-((L55/100)^(1/(A55-$A$21+1))) -> 0.059683465 | U55: ='Inflation Rate'!C60 -> 0.0133333 | V55: =(1+B55)/(1+$U55)-1 -> -0.10011307 | W55: =(1+C55)/(1+$U55)-1 -> -0.10947365 | X55: =(1+D55)/(1+$U55)-1 -> 0.014201048 | Y55: =(1+E55)/(1+$U55)-1 -> 0.04302843 | Z55: =(1+F55)/(1+$U55)-1 -> 0.050940771 | AA55: =(1+G55)/(1+$U55)-1 -> -0.0099745005 | AB55: =(1+H55)/(1+$U55)-1 -> -0.013717773 | AC55: =AC54*(1+V55) -> 1060.9087 | AD55: =AD54*(1+W55) -> 3102.847 | AE55: =AE54*(1+X55) -> 92.274804 | AF55: =AF54*(1+Y55) -> 147.0406 | AG55: =AG54*(1+Z55) -> 299.57746 | AH55: =AH54*(1+AA55) -> 150.63646 | AI55: =AI54*(1+AB55) -> 97.134955 | AJ55: =Table1[[#This Row],[S&P 500 (includes dividends)2]]-Table1[[#This Row],[3-month T. Bill (Real)]] -> -0.11431412 | AK55: =Table1[[#This Row],[S&P 500 (includes dividends)2]]-Table1[[#This Row],[!0-year T.Bonds]] -> -0.1431415
...

Sheet S&P 500 & Raw Data
A2: Year | B2: S&P 500 | C2: Dividends | D2: Dividend Yield | E2: T.Bond rate | F2: Return on bond | G2: Aaa Bond Rate | H2: Return on Aaa | I2: Baa Bond Rate | J2: Return on Baa | K2: Returns on Real Estate
A3: 1927 | B3: 17.66 | C3: =D3*B3 -> 0.6181 | D3: 0.035 | E3: 0.0317 | G3: ='Moody''s Rates'!C20 -> 0.0446 | I3: ='Moody''s Rates'!K20 -> 0.0532
A4: 1928 | B4: 24.35 | C4: =D4*B4 -> 1.04705 | D4: 0.043 | E4: 0.0345 | F4: =((E3*(1-(1+E4)^(-10))/E4+1/(1+E4)^10)-1)+E3 -> 0.0083547086 | G4: ='Moody''s Rates'!C21 -> 0.0461 | H4: =((G3*(1-(1+G4)^(-10))/G4+1/(1+G4)^10)-1)+G3 -> 0.032794856 | I4: ='Moody''s Rates'!K21 -> 0.056 | J4: =((I3*(1-(1+I4)^(-10))/I4+1/(1+I4)^10)-1)+I3 -> 0.032195515 | K4: ='Home Prices (Raw Data)'!C48 -> 0.014910639
A5: 1929 | B5: 21.45 | C5: =D5*B5 -> 0.87945 | D5: 0.041 | E5: 0.0336 | F5: =((E4*(1-(1+E5)^(-10))/E5+1/(1+E5)^10)-1)+E4 -> 0.042038042 | G5: ='Moody''s Rates'!C22 -> 0.0467 | H5: =((G4*(1-(1+G5)^(-10))/G5+1/(1+G5)^10)-1)+G4 -> 0.041391804 | I5: ='Moody''s Rates'!K22 -> 0.0595 | J5: =((I4*(1-(1+I5)^(-10))/I5+1/(1+I5)^10)-1)+I4 -> 0.030178562 | K5: ='Home Prices (Raw Data)'!C49 -> -0.020568075
A6: 1930 | B6: 15.34 | C6: =D6*B6 -> 0.72098 | D6: 0.047 | E6: 0.0322 | F6: =((E5*(1-(1+E6)^(-10))/E6+1/(1+E6)^10)-1)+E5 -> 0.045409314 | G6: ='Moody''s Rates'!C23 -> 0.0452 | H6: =((G5*(1-(1+G6)^(-10))/G6+1/(1+G6)^10)-1)+G5 -> 0.058557414 | I6: ='Moody''s Rates'!K23 -> 0.0671 | J6: =((I5*(1-(1+I6)^(-10))/I6+1/(1+I6)^10)-1)+I5 -> 0.0053978095 | K6: ='Home Prices (Raw Data)'!C50 -> -0.042999993
A7: 1931 | B7: 8.12 | C7: =D7*B7 -> 0.49532 | D7: 0.061 | E7: 0.0393 | F7: =((E6*(1-(1+E7)^(-10))/E7+1/(1+E7)^10)-1)+E6 -> -0.02558856 | G7: ='Moody''s Rates'!C24 -> 0.0532 | H7: =((G6*(1-(1+G7)^(-10))/G7+1/(1+G7)^10)-1)+G6 -> -0.015625061 | I7: ='Moody''s Rates'!K24 -> 0.1042 | J7: =((I6*(1-(1+I7)^(-10))/I7+1/(1+I7)^10)-1)+I6 -> -0.15680775 | K7: ='Home Prices (Raw Data)'!C51 -> -0.081504822
A8: 1932 | B8: 6.92 | C8: =D8*B8 -> 0.49824 | D8: 0.072 | E8: 0.0335 | F8: =((E7*(1-(1+E8)^(-10))/E8+1/(1+E8)^10)-1)+E7 -> 0.08790307 | G8: ='Moody''s Rates'!C25 -> 0.0459 | H8: =((G7*(1-(1+G8)^(-10))/G8+1/(1+G8)^10)-1)+G7 -> 0.11070808 | I8: ='Moody''s Rates'!K25 -> 0.0842 | J8: =((I7*(1-(1+I8)^(-10))/I8+1/(1+I8)^10)-1)+I7 -> 0.23589602 | K8: ='Home Prices (Raw Data)'!C52 -> -0.10466428
A9: 1933 | B9: 9.97 | C9: =D9*B9 -> 0.40877 | D9: 0.041 | E9: 0.0353 | F9: =((E8*(1-(1+E9)^(-10))/E9+1/(1+E9)^10)-1)+E8 -> 0.018552721 | G9: ='Moody''s Rates'!C26 -> 0.045 | H9: =((G8*(1-(1+G9)^(-10))/G9+1/(1+G9)^10)-1)+G8 -> 0.053021446 | I9: ='Moody''s Rates'!K26 -> 0.0775 | J9: =((I8*(1-(1+I9)^(-10))/I9+1/(1+I9)^10)-1)+I8 -> 0.12966894 | K9: ='Home Prices (Raw Data)'!C53 -> -0.03811948
A10: 1934 | B10: 9.5 | C10: =D10*B10 -> 0.3515 | D10: 0.037 | E10: 0.0301 | F10: =((E9*(1-(1+E10)^(-10))/E10+1/(1+E10)^10)-1)+E9 -> 0.079634426 | G10: ='Moody''s Rates'!C27 -> 0.0381 | H10: =((G9*(1-(1+G10)^(-10))/G10+1/(1+G10)^10)-1)+G9 -> 0.1014983 | I10: ='Moody''s Rates'!K27 -> 0.0623 | J10: =((I9*(1-(1+I10)^(-10))/I10+1/(1+I10)^10)-1)+I9 -> 0.18816429 | K10: ='Home Prices (Raw Data)'!C54 -> 0.029062073
A11: 1935 | B11: 13.43 | C11: =D11*B11 -> 0.51034 | D11: 0.038 | E11: 0.0284 | F11: =((E10*(1-(1+E11)^(-10))/E11+1/(1+E11)^10)-1)+E10 -> 0.044720477 | G11: ='Moody''s Rates'!C28 -> 0.0344 | H11: =((G10*(1-(1+G11)^(-10))/G11+1/(1+G11)^10)-1)+G10 -> 0.068964709 | I11: ='Moody''s Rates'!K28 -> 0.053 | J11: =((I10*(1-(1+I11)^(-10))/I11+1/(1+I11)^10)-1)+I10 -> 0.13307732 | K11: ='Home Prices (Raw Data)'!C55 -> 0.097658281
A12: 1936 | B12: 17.18 | C12: 0.54 | D12: =C12/B12 -> 0.031431898 | E12: 0.0259 | F12: =((E11*(1-(1+E12)^(-10))/E12+1/(1+E12)^10)-1)+E11 -> 0.050178754 | G12: ='Moody''s Rates'!C29 -> 0.031 | H12: =((G11*(1-(1+G12)^(-10))/G12+1/(1+G12)^10)-1)+G11 -> 0.063255237 | I12: ='Moody''s Rates'!K29 -> 0.0453 | J12: =((I11*(1-(1+I12)^(-10))/I12+1/(1+I12)^10)-1)+I11 -> 0.11383816 | K12: ='Home Prices (Raw Data)'!C56 -> 0.032186067
A13: 1937 | B13: 10.55 | C13: =D13*B13 -> 0.55915 | D13: 0.053 | E13: 0.0273 | F13: =((E12*(1-(1+E13)^(-10))/E13+1/(1+E13)^10)-1)+E12 -> 0.013791461 | G13: ='Moody''s Rates'!C30 -> 0.0321 | H13: =((G12*(1-(1+G13)^(-10))/G13+1/(1+G13)^10)-1)+G12 -> 0.021716542 | I13: ='Moody''s Rates'!K30 -> 0.0573 | J13: =((I12*(1-(1+I13)^(-10))/I13+1/(1+I13)^10)-1)+I12 -> -0.044161917 | K13: ='Home Prices (Raw Data)'!C57 -> 0.025633982
A14: 1938 | B14: 13.14 | C14: =D14*B14 -> 0.49932 | D14: 0.038 | E14: 0.0256 | F14: =((E13*(1-(1+E14)^(-10))/E14+1/(1+E14)^10)-1)+E13 -> 0.042132485 | G14: ='Moody''s Rates'!C31 -> 0.0308 | H14: =((G13*(1-(1+G14)^(-10))/G14+1/(1+G14)^10)-1)+G13 -> 0.043144127 | I14: ='Moody''s Rates'!K31 -> 0.0527 | J14: =((I13*(1-(1+I14)^(-10))/I14+1/(1+I14)^10)-1)+I13 -> 0.092358817 | K14: ='Home Prices (Raw Data)'!C58 -> -0.0087369579
A15: 1939 | B15: 12.46 | C15: =D15*B15 -> 0.53578 | D15: 0.043 | E15: 0.0235 | F15: =((E14*(1-(1+E15)^(-10))/E15+1/(1+E15)^10)-1)+E14 -> 0.044122614 | G15: ='Moody''s Rates'!C32 -> 0.0294 | H15: =((G14*(1-(1+G15)^(-10))/G15+1/(1+G15)^10)-1)+G14 -> 0.042778935 | I15: ='Moody''s Rates'!K32 -> 0.0492 | J15: =((I14*(1-(1+I15)^(-10))/I15+1/(1+I15)^10)-1)+I14 -> 0.079831378 | K15: ='Home Prices (Raw Data)'!C59 -> -0.013016039
A16: 1940 | B16: 10.58 | C16: =D16*B16 -> 0.55016 | D16: 0.052 | E16: 0.0201 | F16: =((E15*(1-(1+E16)^(-10))/E16+1/(1+E16)^10)-1)+E15 -> 0.054024816 | G16: ='Moody''s Rates'!C33 -> 0.0271 | H16: =((G15*(1-(1+G16)^(-10))/G16+1/(1+G16)^10)-1)+G15 -> 0.049313057 | I16: ='Moody''s Rates'!K33 -> 0.0445 | J16: =((I15*(1-(1+I16)^(-10))/I16+1/(1+I16)^10)-1)+I15 -> 0.086481372 | K16: ='Home Prices (Raw Data)'!C60 -> 0.033066027
A17: 1941 | B17: 8.69 | C17: =D17*B17 -> 0.53878 | D17: 0.062 | E17: 0.0247 | F17: =((E16*(1-(1+E17)^(-10))/E17+1/(1+E17)^10)-1)+E16 -> -0.020221976 | G17: ='Moody''s Rates'!C34 -> 0.028 | H17: =((G16*(1-(1+G17)^(-10))/G17+1/(1+G17)^10)-1)+G16 -> 0.019343859 | I17: ='Moody''s Rates'!K34 -> 0.0438 | J17: =((I16*(1-(1+I17)^(-10))/I17+1/(1+I17)^10)-1)+I16 -> 0.050071729 | K17: ='Home Prices (Raw Data)'!C61 -> -0.08384617
A18: 1942 | B18: 9.77 | C18: =D18*B18 -> 0.5862 | D18: 0.06 | E18: 0.0249 | F18: =((E17*(1-(1+E18)^(-10))/E18+1/(1+E18)^10)-1)+E17 -> 0.022948682 | G18: ='Moody''s Rates'!C35 -> 0.0281 | H18: =((G17*(1-(1+G18)^(-10))/G18+1/(1+G18)^10)-1)+G17 -> 0.027138648 | I18: ='Moody''s Rates'!K35 -> 0.0428 | J18: =((I17*(1-(1+I18)^(-10))/I18+1/(1+I18)^10)-1)+I17 -> 0.05179901 | K18: ='Home Prices (Raw Data)'!C62 -> 0.033330352
A19: 1943 | B19: 11.67 | C19: =D19*B19 -> 0.54849 | D19: 0.047 | E19: 0.0249 | F19: =((E18*(1-(1+E19)^(-10))/E19+1/(1+E19)^10)-1)+E18 -> 0.0249 | G19: ='Moody''s Rates'!C36 -> 0.0274 | H19: =((G18*(1-(1+G19)^(-10))/G19+1/(1+G19)^10)-1)+G18 -> 0.03415116 | I19: ='Moody''s Rates'!K36 -> 0.0382 | J19: =((I18*(1-(1+I19)^(-10))/I19+1/(1+I19)^10)-1)+I18 -> 0.080446701 | K19: ='Home Prices (Raw Data)'!C63 -> 0.1144627
A20: 1944 | B20: 13.28 | C20: =D20*B20 -> 0.61088 | D20: 0.046 | E20: 0.0248 | F20: =((E19*(1-(1+E20)^(-10))/E20+1/(1+E20)^10)-1)+E19 -> 0.025776112 | G20: ='Moody''s Rates'!C37 -> 0.027 | H20: =((G19*(1-(1+G20)^(-10))/G20+1/(1+G20)^10)-1)+G19 -> 0.030864921 | I20: ='Moody''s Rates'!K37 -> 0.0349 | J20: =((I19*(1-(1+I20)^(-10))/I20+1/(1+I20)^10)-1)+I19 -> 0.065658636 | K20: ='Home Prices (Raw Data)'!C64 -> 0.16584229
A21: 1945 | B21: 17.36 | C21: =D21*B21 -> 0.67704 | D21: 0.039 | E21: 0.0233 | F21: =((E20*(1-(1+E21)^(-10))/E21+1/(1+E21)^10)-1)+E20 -> 0.038044173 | G21: ='Moody''s Rates'!C38 -> 0.0261 | H21: =((G20*(1-(1+G21)^(-10))/G21+1/(1+G21)^10)-1)+G20 -> 0.034832273 | I21: ='Moody''s Rates'!K38 -> 0.031 | J21: =((I20*(1-(1+I21)^(-10))/I21+1/(1+I21)^10)-1)+I20 -> 0.067998655 | K21: ='Home Prices (Raw Data)'!C65 -> 0.11777376
A22: 1946 | B22: 15.3 | C22: =D22*B22 -> 0.5967 | D22: 0.039 | E22: 0.0224 | F22: =((E21*(1-(1+E22)^(-10))/E22+1/(1+E22)^10)-1)+E21 -> 0.031283745 | G22: ='Moody''s Rates'!C39 -> 0.0261 | H22: =((G21*(1-(1+G22)^(-10))/G22+1/(1+G22)^10)-1)+G21 -> 0.0261 | I22: ='Moody''s Rates'!K39 -> 0.0317 | J22: =((I21*(1-(1+I22)^(-10))/I22+1/(1+I22)^10)-1)+I21 -> 0.02508033 | K22: ='Home Prices (Raw Data)'!C66 -> 0.24101672
A23: 1947 | B23: 15.3 | C23: =D23*B23 -> 0.7956 | D23: 0.052 | E23: 0.0239 | F23: =((E22*(1-(1+E23)^(-10))/E23+1/(1+E23)^10)-1)+E22 -> 0.0091969681 | G23: ='Moody''s Rates'!C40 -> 0.0286 | H23: =((G22*(1-(1+G23)^(-10))/G23+1/(1+G23)^10)-1)+G22 -> 0.0046213142 | I23: ='Moody''s Rates'!K40 -> 0.0352 | J23: =((I22*(1-(1+I23)^(-10))/I23+1/(1+I23)^10)-1)+I22 -> 0.0026212023 | K23: ='Home Prices (Raw Data)'!C67 -> 0.21263835
A24: 1948 | B24: 15.2 | C24: =D24*B24 -> 0.9728 | D24: 0.064 | E24: 0.0244 | F24: =((E23*(1-(1+E24)^(-10))/E24+1/(1+E24)^10)-1)+E23 -> 0.019510369 | G24: ='Moody''s Rates'!C41 -> 0.0279 | H24: =((G23*(1-(1+G24)^(-10))/G24+1/(1+G24)^10)-1)+G23 -> 0.034635649 | I24: ='Moody''s Rates'!K41 -> 0.0353 | J24: =((I23*(1-(1+I24)^(-10))/I24+1/(1+I24)^10)-1)+I23 -> 0.034369596 | K24: ='Home Prices (Raw Data)'!C68 -> 0.020585429
... A35: 1959 | B35: 59.89 | C35: =D35*B35 -> 1.97637 | D35: 0.033 | E35: 0.0469 | F35: =((E34*(1-(1+E35)^(-10))/E35+1/(1+E35)^10)-1)+E34 -> -0.026466313 | G35: ='Moody''s Rates'!C52 -> 0.0458 | H35: =((G34*(1-(1+G35)^(-10))/G35+1/(1+G35)^10)-1)+G34 -> 0.0013915704 | I35: ='Moody''s Rates'!K52 -> 0.0528 | J35: =((I34*(1-(1+I35)^(-10))/I35+1/(1+I35)^10)-1)+I34 -> 0.015743431 | K35: ='Home Prices (Raw Data)'!C79 -> 0.0010951056
A36: 1960 | B36: 58.11 | C36: 1.981551 | D36: =C36/B36 -> 0.0341 | E36: 0.0384 | F36: =((E35*(1-(1+E36)^(-10))/E36+1/(1+E36)^10)-1)+E35 -> 0.11639504 | G36: ='Moody''s Rates'!C53 -> 0.0435 | H36: =((G35*(1-(1+G36)^(-10))/G36+1/(1+G36)^10)-1)+G35 -> 0.064134222 | I36: ='Moody''s Rates'!K53 -> 0.051 | J36: =((I35*(1-(1+I36)^(-10))/I36+1/(1+I36)^10)-1)+I35 -> 0.066631872 | K36: ='Home Prices (Raw Data)'!C80 -> 0.0076586744
A37: 1961 | B37: 71.55 | C37: 2.039175 | D37: =C37/B37 -> 0.0285 | E37: 0.0406 | F37: =((E36*(1-(1+E37)^(-10))/E37+1/(1+E37)^10)-1)+E36 -> 0.020609208 | G37: ='Moody''s Rates'!C54 -> 0.0442 | H37: =((G36*(1-(1+G37)^(-10))/G37+1/(1+G37)^10)-1)+G36 -> 0.037939246 | I37: ='Moody''s Rates'!K54 -> 0.051 | J37: =((I36*(1-(1+I37)^(-10))/I37+1/(1+I37)^10)-1)+I36 -> 0.051 | K37: ='Home Prices (Raw Data)'!C81 -> 0.0097716517
A38: 1962 | B38: 63.1 | C38: 2.1454 | D38: =C38/B38 -> 0.034 | E38: 0.0386 | F38: =((E37*(1-(1+E38)^(-10))/E38+1/(1+E38)^10)-1)+E37 -> 0.056935441 | G38: ='Moody''s Rates'!C55 -> 0.0424 | H38: =((G37*(1-(1+G38)^(-10))/G38+1/(1+G38)^10)-1)+G37 -> 0.058626733 | I38: ='Moody''s Rates'!K55 -> 0.0492 | J38: =((I37*(1-(1+I38)^(-10))/I38+1/(1+I38)^10)-1)+I37 -> 0.06495328 | K38: ='Home Prices (Raw Data)'!C82 -> 0.0032259133
A39: 1963 | B39: 75.02 | C39: 2.348126 | D39: =C39/B39 -> 0.0313 | E39: 0.0413 | F39: =((E38*(1-(1+E39)^(-10))/E39+1/(1+E39)^10)-1)+E38 -> 0.016841621 | G39: ='Moody''s Rates'!C56 -> 0.0435 | H39: =((G38*(1-(1+G39)^(-10))/G39+1/(1+G39)^10)-1)+G38 -> 0.033631459 | I39: ='Moody''s Rates'!K56 -> 0.0485 | J39: =((I38*(1-(1+I39)^(-10))/I39+1/(1+I39)^10)-1)+I38 -> 0.054644806 | K39: ='Home Prices (Raw Data)'!C83 -> 0.021436503
A40: 1964 | B40: 84.75 | C40: 2.584875 | D40: =C40/B40 -> 0.0305 | E40: 0.0418 | F40: =((E39*(1-(1+E40)^(-10))/E40+1/(1+E40)^10)-1)+E39 -> 0.037280649 | G40: ='Moody''s Rates'!C57 -> 0.0444 | H40: =((G39*(1-(1+G40)^(-10))/G40+1/(1+G40)^10)-1)+G39 -> 0.036357498 | I40: ='Moody''s Rates'!K57 -> 0.0481 | J40: =((I39*(1-(1+I40)^(-10))/I40+1/(1+I40)^10)-1)+I39 -> 0.051617393 | K40: ='Home Prices (Raw Data)'!C84 -> 0.012591594
A41: 1965 | B41: 92.43 | C41: 2.828358 | D41: =C41/B41 -> 0.0306 | E41: 0.0462 | F41: =((E40*(1-(1+E41)^(-10))/E41+1/(1+E41)^10)-1)+E40 -> 0.0071885509 | G41: ='Moody''s Rates'!C58 -> 0.0468 | H41: =((G40*(1-(1+G41)^(-10))/G41+1/(1+G41)^10)-1)+G40 -> 0.025576434 | I41: ='Moody''s Rates'!K58 -> 0.0502 | J41: =((I40*(1-(1+I41)^(-10))/I41+1/(1+I41)^10)-1)+I40 -> 0.031900095 | K41: ='Home Prices (Raw Data)'!C85 -> 0.016580023
A42: 1966 | B42: 80.33 | C42: 2.883847 | D42: =C42/B42 -> 0.0359 | E42: 0.0484 | F42: =((E41*(1-(1+E42)^(-10))/E42+1/(1+E42)^10)-1)+E41 -> 0.029079409 | G42: ='Moody''s Rates'!C59 -> 0.0539 | H42: =((G41*(1-(1+G42)^(-10))/G42+1/(1+G42)^10)-1)+G41 -> -0.0070006458 | I42: ='Moody''s Rates'!K59 -> 0.0618 | J42: =((I41*(1-(1+I42)^(-10))/I42+1/(1+I42)^10)-1)+I41 -> -0.034453616 | K42: ='Home Prices (Raw Data)'!C86 -> 0.012232822
A43: 1967 | B43: 96.47 | C43: 2.980923 | D43: =C43/B43 -> 0.0309 | E43: 0.057 | F43: =((E42*(1-(1+E43)^(-10))/E43+1/(1+E43)^10)-1)+E42 -> -0.01580621 | G43: ='Moody''s Rates'!C60 -> 0.0619 | H43: =((G42*(1-(1+G43)^(-10))/G43+1/(1+G43)^10)-1)+G42 -> -0.0044542767 | I43: ='Moody''s Rates'!K60 -> 0.0693 | J43: =((I42*(1-(1+I43)^(-10))/I43+1/(1+I43)^10)-1)+I42 -> 0.0089522661 | K43: ='Home Prices (Raw Data)'!C87 -> 0.023161882
A44: 1968 | B44: 103.86 | C44: 3.043098 | D44: =C44/B44 -> 0.0293 | E44: 0.0603 | F44: =((E43*(1-(1+E44)^(-10))/E44+1/(1+E44)^10)-1)+E43 -> 0.032746197 | G44: ='Moody''s Rates'!C61 -> 0.0645 | H44: =((G43*(1-(1+G44)^(-10))/G44+1/(1+G44)^10)-1)+G43 -> 0.043165229 | I44: ='Moody''s Rates'!K61 -> 0.0723 | J44: =((I43*(1-(1+I44)^(-10))/I44+1/(1+I44)^10)-1)+I43 -> 0.048451462 | K44: ='Home Prices (Raw Data)'!C88 -> 0.041338762
A45: 1969 | B45: 92.06 | C45: 3.240512 | D45: =C45/B45 -> 0.0352 | E45: 0.0765 | F45: =((E44*(1-(1+E45)^(-10))/E45+1/(1+E45)^10)-1)+E44 -> -0.050140493 | G45: ='Moody''s Rates'!C62 -> 0.0772 | H45: =((G44*(1-(1+G45)^(-10))/G45+1/(1+G45)^10)-1)+G44 -> -0.021804851 | I45: ='Moody''s Rates'!K62 -> 0.0865 | J45: =((I44*(1-(1+I45)^(-10))/I45+1/(1+I45)^10)-1)+I44 -> -0.020251643 | K45: ='Home Prices (Raw Data)'!C89 -> 0.069943499
A46: 1970 | B46: 92.15 | C46: 3.18839 | D46: =C46/B46 -> 0.0346 | E46: 0.0639 | F46: =((E45*(1-(1+E46)^(-10))/E46+1/(1+E46)^10)-1)+E45 -> 0.16754737 | G46: ='Moody''s Rates'!C63 -> 0.0764 | H46: =((G45*(1-(1+G46)^(-10))/G46+1/(1+G46)^10)-1)+G45 -> 0.082656334 | I46: ='Moody''s Rates'!K63 -> 0.0912 | J46: =((I45*(1-(1+I46)^(-10))/I46+1/(1+I46)^10)-1)+I45 -> 0.056495677 | K46: ='Home Prices (Raw Data)'!C90 -> 0.082154964
A47: 1971 | B47: 102.09 | C47: 3.16479 | D47: =C47/B47 -> 0.031 | E47: 0.0593 | F47: =((E46*(1-(1+E47)^(-10))/E47+1/(1+E47)^10)-1)+E46 -> 0.097868966 | G47: ='Moody''s Rates'!C64 -> 0.0725 | H47: =((G46*(1-(1+G47)^(-10))/G47+1/(1+G47)^10)-1)+G46 -> 0.1034782 | I47: ='Moody''s Rates'!K64 -> 0.0838 | J47: =((I46*(1-(1+I47)^(-10))/I47+1/(1+I47)^10)-1)+I46 -> 0.14001466 | K47: ='Home Prices (Raw Data)'!C91 -> 0.042449238
... A92: 2016 | B92: 2238.83 | C92: 45.7 | D92: =C92/B92 -> 0.020412448 | E92: 0.0245 | F92: =((E91*(1-(1+E92)^(-10))/E92+1/(1+E92)^10)-1)+E91 -> 0.0069055047 | G92: ='Moody''s Rates'!C109 -> 0.0398 | H92: =((G91*(1-(1+G92)^(-10))/G92+1/(1+G92)^10)-1)+G91 -> 0.045271386 | I92: ='Moody''s Rates'!K109 -> 0.0473 | J92: =((I91*(1-(1+I92)^(-10))/I92+1/(1+I92)^10)-1)+I91 -> 0.11524474 | K92: ='Home Prices (Raw Data)'!C136 -> 0.053044536
