Workbook

Sheet Equities
M1: United States | N1: Price | P1: Day | Q1: Weekly | R1: Monthly | S1: Yearly | T1: Date
E2: Levels | H2: % Change | N2: Dow Jones | O2: 25383 | P2: 17.53 | Q2: -0.0007 | R2: 3.75% | S2: 4.26% | T2: 0.85% | U2: May/29
C3: Index | D3: Country/Region | E3: 43875 | F3: 43910 | G3: 43983 | H3: 4/24-5/1 | I3: 4/1-5/1 | J3: 2/14-3/20 | K3: 3/20-6/1 | L3: 2/14 - 6/1 | N3: S&P 500 | O3: 3044 | P3: 14.58 | Q3: 0.0048 | R3: 3.01% | S3: 4.53% | T3: 9.16% | U3: May/29
B4: Americas | C4: S&P 500 | D4: US | E4: 3214 | F4: 2305 | G4: =VLOOKUP(C4,$N$2:$R$130,2,FALSE) -> 3044 | H4: =VLOOKUP(C4,$N$2:$R$130,4,FALSE) -> 0.0048 | I4: =VLOOKUP(C4,$N$2:$R$130,5,FALSE) -> 3.01% | J4: =F4/E4-1 -> -0.28282514 | K4: =G4/F4-1 -> 0.32060738 | L4: =G4/E4-1 -> -0.052893591 | N4: NASDAQ 100 | O4: 9556 | P4: 138.81 | Q4: 0.0147 | R4: 1.50% | S4: 6.17% | T4: 31.88% | U4: May/29
C5: NASDAQ 100 | D5: US | E5: 9624 | F5: 6994 | G5: =VLOOKUP(C5,$N$2:$R$130,2,FALSE) -> 9556 | H5: =VLOOKUP(C5,$N$2:$R$130,4,FALSE) -> 0.0147 | I5: =VLOOKUP(C5,$N$2:$R$130,5,FALSE) -> 1.50% | J5: =F5/E5-1 -> -0.27327515 | K5: =G5/F5-1 -> 0.36631398 | L5: =G5/E5-1 -> -0.0070656692 | N5: S&P VIX | O5: 27.51 | P5: 1.08 | Q5: -0.0108 | R5: -0.65% | S5: -6.64% | T5: 10.21% | U5: May/29
C6: TSX | D6: Canada | E6: 17848 | F6: 11852 | G6: =VLOOKUP(C6,$N$2:$R$130,2,FALSE) -> 15193 | H6: =VLOOKUP(C6,$N$2:$R$130,4,FALSE) -> -0.0046 | I6: =VLOOKUP(C6,$N$2:$R$130,5,FALSE) -> 1.87% | J6: =F6/E6-1 -> -0.33594801 | K6: =G6/F6-1 -> 0.28189335 | L6: =G6/E6-1 -> -0.14875616
C7: IPC Mexico | D7: Mexico | E7: 45000 | F7: 34270 | G7: =VLOOKUP(C7,$N$2:$R$130,2,FALSE) -> 36123 | H7: =VLOOKUP(C7,$N$2:$R$130,4,FALSE) -> -0.0106 | I7: =VLOOKUP(C7,$N$2:$R$130,5,FALSE) -> 0.95% | J7: =F7/E7-1 -> -0.23844444 | K7: =G7/F7-1 -> 0.054070616 | L7: =G7/E7-1 -> -0.19726667 | N7: Europe | O7: Price | Q7: Day | R7: Weekly | S7: Monthly | T7: Yearly | U7: Date
C8: iBovespa | D8: Brazil | E8: 114381 | F8: 67069 | G8: =VLOOKUP(C8,$N$2:$R$130,2,FALSE) -> 87403 | H8: =VLOOKUP(C8,$N$2:$R$130,4,FALSE) -> 0.0052 | I8: =VLOOKUP(C8,$N$2:$R$130,5,FALSE) -> 6.36% | J8: =F8/E8-1 -> -0.41363513 | K8: =G8/F8-1 -> 0.30318031 | L8: =G8/E8-1 -> -0.23586085 | N8: FTSE 100 | O8: 6077 | P8: 142.19 | Q8: -0.0229 | R8: 1.39% | S8: 2.97% | T8: -15.82% | U8: May/29
B9: Europe | C9: FTSE 100 | D9: UK | E9: 7409 | F9: 5191 | G9: =VLOOKUP(C9,$N$2:$R$130,2,FALSE) -> 6077 | H9: =VLOOKUP(C9,$N$2:$R$130,4,FALSE) -> -0.0229 | I9: =VLOOKUP(C9,$N$2:$R$130,5,FALSE) -> 1.39% | J9: =F9/E9-1 -> -0.29936564 | K9: =G9/F9-1 -> 0.17068002 | L9: =G9/E9-1 -> -0.17978135 | N9: DAX | O9: 11587 | P9: 194.28 | Q9: -0.0165 | R9: 4.63% | S9: 6.68% | T9: -2.65% | U9: May/29
C10: DAX | D10: Germany | E10: 13744 | F10: 8929 | G10: =VLOOKUP(C10,$N$2:$R$130,2,FALSE) -> 11587 | H10: =VLOOKUP(C10,$N$2:$R$130,4,FALSE) -> -0.0165 | I10: =VLOOKUP(C10,$N$2:$R$130,5,FALSE) -> 4.63% | J10: =F10/E10-1 -> -0.35033469 | K10: =G10/F10-1 -> 0.29768171 | L10: =G10/E10-1 -> -0.15694121 | N10: CAC 40 | O10: 4701 | P10: 70.54 | Q10: -0.0148 | R10: 5.77% | S10: 2.81% | T10: -10.44% | U10: May/29
C11: CAC 40 | D11: France | E11: 6069 | F11: 4131 | G11: =VLOOKUP(C11,$N$2:$R$130,2,FALSE) -> 4701 | H11: =VLOOKUP(C11,$N$2:$R$130,4,FALSE) -> -0.0148 | I11: =VLOOKUP(C11,$N$2:$R$130,5,FALSE) -> 5.77% | J11: =F11/E11-1 -> -0.31932773 | K11: =G11/F11-1 -> 0.13798112 | L11: =G11/E11-1 -> -0.22540781 | N11: FTSE MIB | O11: 18198 | P11: 153.60 | Q11: -0.0084 | R11: 5.09% | S11: 2.87% | T11: -8.77% | U11: May/29
C12: S&P Europe 350 | D12: Europe | E12: 1731 | F12: 1181 | G12: =VLOOKUP(C12,$N$2:$R$130,2,FALSE) -> 1397.62 | H12: =VLOOKUP(C12,$N$2:$R$130,4,FALSE) -> -0.0161 | I12: =VLOOKUP(C12,$N$2:$R$130,5,FALSE) -> 2.81% | J12: =F12/E12-1 -> -0.31773541 | K12: =G12/F12-1 -> 0.18342083 | L12: =G12/E12-1 -> -0.19259388 | N12: IBEX 35 | O12: 7,110 | P12: 116.38 | Q12: -0.0161 | R12: 6.19% | S12: 2.72% | T12: -22.36% | U12: May/29
B13: Asia | C13: Nikkei 225 | D13: Japan | E13: 23688 | F13: 16553 | G13: =VLOOKUP(C13,$N$2:$R$130,2,FALSE) -> 21878 | H13: =VLOOKUP(C13,$N$2:$R$130,4,FALSE) -> -0.0018 | I13: =VLOOKUP(C13,$N$2:$R$130,5,FALSE) -> 7.31% | J13: =F13/E13-1 -> -0.30120736 | K13: =G13/F13-1 -> 0.32169395 | L13: =G13/E13-1 -> -0.076409997 | N13: MOEX | O13: 2,735 | P13: 45.15 | Q13: -0.0162 | R13: 0.94% | S13: 3.18% | T13: 2.83% | U13: May/29
C14: Shanghai 50 | D14: China | E14: 2895 | F14: 2628 | G14: =VLOOKUP(C14,$N$2:$R$130,2,FALSE) -> 2807 | H14: =VLOOKUP(C14,$N$2:$R$130,4,FALSE) -> -0.0011 | I14: =VLOOKUP(C14,$N$2:$R$130,5,FALSE) -> 1.11% | J14: =F14/E14-1 -> -0.092227979 | K14: =G14/F14-1 -> 0.068112633 | L14: =G14/E14-1 -> -0.030397237 | N14: AEX | O14: 532 | P14: 6.34 | Q14: -0.0118 | R14: 1.37% | S14: 3.62% | T14: -2.47% | U14: May/29
C15: Hang Seng | D15: Hong Kong | E15: 27816 | F15: 22805 | G15: =VLOOKUP(C15,$N$2:$R$130,2,FALSE) -> 22961 | H15: =VLOOKUP(C15,$N$2:$R$130,4,FALSE) -> -0.0074 | I15: =VLOOKUP(C15,$N$2:$R$130,5,FALSE) -> 0.14% | J15: =F15/E15-1 -> -0.18014812 | K15: =G15/F15-1 -> 0.0068406051 | L15: =G15/E15-1 -> -0.17453983 | N15: BIST 100 | O15: 105,520 | P15: 160.71 | Q15: 0.0015 | R15: 2.42% | S15: 4.36% | T15: 17.23% | U15: May/29
C16: Sensex | D16: India | E16: 41258 | F16: 29916 | G16: =VLOOKUP(C16,$N$2:$R$130,2,FALSE) -> 32424 | H16: =VLOOKUP(C16,$N$2:$R$130,4,FALSE) -> 0.0069 | I16: =VLOOKUP(C16,$N$2:$R$130,5,FALSE) -> 5.71% | J16: =F16/E16-1 -> -0.27490426 | K16: =G16/F16-1 -> 0.083834737 | L16: =G16/E16-1 -> -0.21411605 | N16: SMI | O16: 9,831 | P16: 94.54 | Q16: -0.0095 | R16: 1.47% | S16: 2.10% | T16: 3.23% | U16: May/29
B17: Australia & NZ | C17: ASX 200 | D17: Australia | E17: 7133 | F17: 4825 | G17: =VLOOKUP(C17,$N$2:$R$130,2,FALSE) -> 5756 | H17: =VLOOKUP(C17,$N$2:$R$130,4,FALSE) -> -0.0163 | I17: =VLOOKUP(C17,$N$2:$R$130,5,FALSE) -> 4.71% | J17: =F17/E17-1 -> -0.32356652 | K17: =G17/F17-1 -> 0.19295337 | L17: =G17/E17-1 -> -0.1930464 | N17: OMXS 30 | O17: 1,630 | P17: 27.82 | Q17: -0.0168 | R17: 4.77% | S17: 3.29% | T17: 7.90% | U17: May/29
C18: NZX 50 | D18: New Zealand | E18: 11835 | F18: 9202 | G18: =VLOOKUP(C18,$N$2:$R$130,2,FALSE) -> 10882 | H18: =VLOOKUP(C18,$N$2:$R$130,4,FALSE) -> 0.0024 | I18: =VLOOKUP(C18,$N$2:$R$130,5,FALSE) -> 2.06% | J18: =F18/E18-1 -> -0.22247571 | K18: =G18/F18-1 -> 0.18256901 | L18: =G18/E18-1 -> -0.08052387 | N18: WIG | O18: 48,128 | P18: 16.70 | Q18: -0.0003 | R18: 4.82% | S18: 4.36% | T18: -16.40% | U18: May/29
B19: Africa | C19: FTSE/JSE TOP 40 | D19: South Africa | E19: 52050 | F19: 36302 | G19: =VLOOKUP(C19,$N$2:$R$130,2,FALSE) -> 46545 | H19: =VLOOKUP(C19,$N$2:$R$130,4,FALSE) -> -0.0189 | I19: =VLOOKUP(C19,$N$2:$R$130,5,FALSE) -> 0.24% | J19: =F19/E19-1 -> -0.30255524 | K19: =G19/F19-1 -> 0.28216076 | L19: =G19/E19-1 -> -0.10576369 | N19: Euronext BEL 20 | O19: 3,203 | P19: 78.95 | Q19: -0.0241 | R19: 8.11% | S19: 3.35% | T19: -7.31% | U19: May/29
C20: NSE-All Share | D20: Nigeria | E20: 27756 | F20: 22198 | G20: =VLOOKUP(C20,$N$2:$R$130,2,FALSE) -> 25268 | H20: =VLOOKUP(C20,$N$2:$R$130,4,FALSE) -> 0.004 | I20: =VLOOKUP(C20,$N$2:$R$130,5,FALSE) -> 0.25% | J20: =F20/E20-1 -> -0.20024499 | K20: =G20/F20-1 -> 0.13830075 | L20: =G20/E20-1 -> -0.089638276 | N20: Oslo Bors All-Share | O20: 872 | P20: 13.66 | Q20: -0.0154 | R20: 1.92% | S20: 2.79% | T20: -8.63% | U20: May/29
N21: ATX | O21: 2,232 | P21: 36.83 | Q21: -0.0162 | R21: 4.93% | S21: 0.23% | T21: -23.57% | U21: May/29
N22: OMX Copenhagen | O22: 1,234 | P22: 0.47 | Q22: 0.0004 | R22: -0.39% | S22: 5.72% | T22: 25.73% | U22: May/29
N23: OMX Helsinki 25 | O23: 3,958 | P23: 40.20 | Q23: -0.0101 | R23: 5.47% | S23: 5.85% | T23: 4.19% | U23: May/29
N24: OMX Helsinki | O24: 9,254 | P24: 92.41 | Q24: -0.0099 | R24: 5.30% | S24: 6.91% | T24: 2.72% | U24: May/29
N25: ISEQ | O25: 5,889 | P25: 45.09 | Q25: -0.0076 | R25: 4.17% | S25: 5.10% | T25: -3.93% | U25: May/29
N26: Athens General | O26: 653 | P26: 12.46 | Q26: -0.0187 | R26: 7.12% | S26: 3.87% | T26: -20.25% | U26: May/29
N27: PSI Geral | O27: 3,133 | P27: 13.82 | Q27: -0.0044 | R27: 1.60% | S27: 5.77% | T27: 1.10% | U27: May/29
N28: PSI 20 | O28: 4,331 | P28: 49.97 | Q28: -0.0114 | R28: 2.11% | S28: 1.09% | T28: -14.49% | U28: May/29
N29: PX | O29: 896 | P29: 6.10 | Q29: -0.0068 | R29: 2.11% | S29: 2.56% | T29: -14.19% | U29: May/29
N30: BET | O30: 8,701 | P30: 67.51 | Q30: -0.0077 | R30: 1.27% | S30: 9.06% | T30: 3.55% | U30: May/29
N31: BUX | O31: 35,876 | P31: 464.76 | Q31: -0.0128 | R31: 2.35% | S31: 1.98% | T31: -12.66% | U31: May/29
N32: PFTS | O32: 500 | P32: 0.00 | Q32: 0 | R32: 0.00% | S32: -0.05% | T32: -11.96% | U32: May/29
... N42: OMX Tallinn | O42: 1,191 | P42: 21.44 | Q42: 0.0183 | R42: 3.04% | S42: 5.74% | T42: -3.91% | U42: May/29
N43: S&P Europe 350 | O43: 1397.62 | P43: 22.94 | Q43: -0.0161 | R43: 2.81% | S43: 2.45% | T43: -7.15% | U43: May/29
N44: S&P Global 1200 | O44: 2,377.53 | P44: 2.01 | Q44: -0.0008 | R44: 3.36% | S44: 3.29% | T44: 3.42% | U44: May/29
N45: SASX-10 | O45: 718 | P45: 0.12 | Q45: 0.0002 | R45: -0.32% | S45: 2.48% | T45: -5.81% | U45: May/29
N46: MSE | O46: 3,983 | P46: 7.34 | Q46: 0.0018 | R46: 1.09% | S46: -1.11% | T46: -17.74% | U46: May/29
N47: CSE General | O47: 48 | P47: 0.35 | Q47: 0.0074 | R47: 1.33% | S47: -3.29% | T47: -31.89% | U47: May/29
N48: ICEX | O48: 1,462 | P48: 5.05 | Q48: -0.0034 | R48: 1.29% | S48: 7.68% | T48: -1.12% | U48: May/29
N49: Euronext 100 | O49: 930 | P49: 12.77 | Q49: -0.0135 | R49: 4.42% | S49: 3.38% | T49: -9.75% | U49: May/29
...

Sheet Treasuries
C2: Yields on US Treasuries
B3: Maturity | C3: 43875 | D3: 43910 | E3: 43924 | F3: 43952 | G3: 43983
B4: 3 month | C4: =HLOOKUP(B4,'Raw Data for Treasuries'!$B$1:$M$45,2,FALSE)/100 -> 0.0158 | D4: =HLOOKUP(B4,'Raw Data for Treasuries'!$B$1:$M$76,26,FALSE)/100 -> 0.0005 | E4: =HLOOKUP(B4,'Raw Data for Treasuries'!$B$1:$M$45,36,FALSE)/100 -> 0.001 | F4: =HLOOKUP(B4,'Raw Data for Treasuries'!$B$1:$M$76,55,FALSE)/100 -> 0.0012 | G4: =HLOOKUP(B4,'Raw Data for Treasuries'!$B$1:$M$76,76,FALSE)/100 -> 0.0014
B5: 2 year | C5: =HLOOKUP(B5,'Raw Data for Treasuries'!$B$1:$M$45,2,FALSE)/100 -> 0.0142 | D5: =HLOOKUP(B5,'Raw Data for Treasuries'!$B$1:$M$76,26,FALSE)/100 -> 0.0037 | E5: =HLOOKUP(B5,'Raw Data for Treasuries'!$B$1:$M$45,36,FALSE)/100 -> 0.0023 | F5: =HLOOKUP(B5,'Raw Data for Treasuries'!$B$1:$M$76,55,FALSE)/100 -> 0.002 | G5: =HLOOKUP(B5,'Raw Data for Treasuries'!$B$1:$M$76,76,FALSE)/100 -> 0.0014
B6: 5 year | C6: =HLOOKUP(B6,'Raw Data for Treasuries'!$B$1:$M$45,2,FALSE)/100 -> 0.0142 | D6: =HLOOKUP(B6,'Raw Data for Treasuries'!$B$1:$M$76,26,FALSE)/100 -> 0.0052 | E6: =HLOOKUP(B6,'Raw Data for Treasuries'!$B$1:$M$45,36,FALSE)/100 -> 0.0039 | F6: =HLOOKUP(B6,'Raw Data for Treasuries'!$B$1:$M$76,55,FALSE)/100 -> 0.0036 | G6: =HLOOKUP(B6,'Raw Data for Treasuries'!$B$1:$M$76,76,FALSE)/100 -> 0.0031
B7: 10 year | C7: =HLOOKUP(B7,'Raw Data for Treasuries'!$B$1:$M$45,2,FALSE)/100 -> 0.0159 | D7: =HLOOKUP(B7,'Raw Data for Treasuries'!$B$1:$M$76,26,FALSE)/100 -> 0.0092 | E7: =HLOOKUP(B7,'Raw Data for Treasuries'!$B$1:$M$45,36,FALSE)/100 -> 0.0062 | F7: =HLOOKUP(B7,'Raw Data for Treasuries'!$B$1:$M$76,55,FALSE)/100 -> 0.0064 | G7: =HLOOKUP(B7,'Raw Data for Treasuries'!$B$1:$M$76,76,FALSE)/100 -> 0.0066
B8: 20 year | C8: =HLOOKUP(B8,'Raw Data for Treasuries'!$B$1:$M$45,2,FALSE)/100 -> 0.0189 | D8: =HLOOKUP(B8,'Raw Data for Treasuries'!$B$1:$M$76,26,FALSE)/100 -> 0.0135 | E8: =HLOOKUP(B8,'Raw Data for Treasuries'!$B$1:$M$45,36,FALSE)/100 -> 0.0105 | F8: =HLOOKUP(B8,'Raw Data for Treasuries'!$B$1:$M$76,55,FALSE)/100 -> 0.0104 | G8: =HLOOKUP(B8,'Raw Data for Treasuries'!$B$1:$M$76,76,FALSE)/100 -> 0.0122
B9: 30 year | C9: =HLOOKUP(B9,'Raw Data for Treasuries'!$B$1:$M$45,2,FALSE)/100 -> 0.0204 | D9: =HLOOKUP(B9,'Raw Data for Treasuries'!$B$1:$M$76,26,FALSE)/100 -> 0.0155 | E9: =HLOOKUP(B9,'Raw Data for Treasuries'!$B$1:$M$45,36,FALSE)/100 -> 0.0124 | F9: =HLOOKUP(B9,'Raw Data for Treasuries'!$B$1:$M$76,55,FALSE)/100 -> 0.0127 | G9: =HLOOKUP(B9,'Raw Data for Treasuries'!$B$1:$M$76,76,FALSE)/100 -> 0.0146
C10: Yield curve slope
B11: 2 yr - 3 month | C11: =C5-C4 -> -0.0016 | D11: =D5-D4 -> 0.0032 | E11: =E5-E4 -> 0.0013 | F11: =F5-F4 -> 0.0008 | G11: =G5-G4 -> 0
B12: 10 yr - 2 yr | C12: =C7-C5 -> 0.0017 | D12: =D7-D5 -> 0.0055 | E12: =E7-E5 -> 0.0039 | F12: =F7-F5 -> 0.0044 | G12: =G7-G5 -> 0.0052
B13: 30 yr - 10 yr | C13: =C9-C7 -> 0.0045 | D13: =D9-D7 -> 0.0063 | E13: =E9-E7 -> 0.0062 | F13: =F9-F7 -> 0.0063 | G13: =G9-G7 -> 0.008

Sheet Corporates
A1: Source: FRED
C2: Yields and Spreads on Corporates | K2: Change from 2/14 - 6/1
C3: Spread over 10-yr Treasury | G3: Yield on Treasury | K3: Spread | L3: Yield
B4: S&P Bond Rating | C4: 43875 | D4: 43924 | E4: 43952 | F4: 43983 | G4: 43875 | H4: 43924 | I4: 43952 | J4: 43983
B5: AAA | C5: =G5-Treasuries!$C$7 -> 0.0069 | D5: =H5-Treasuries!$E$7 -> 0.015 | E5: =I5-Treasuries!$G$7 -> 0.0119 | F5: =J5-Treasuries!$G$7 -> 0.0089 | G5: 0.0228 | H5: 0.0212 | I5: 0.0185 | J5: 0.0155 | K5: =F5-C5 -> 0.002 | L5: =J5-G5 -> -0.0073
B6: AA | C6: =G6-Treasuries!$C$7 -> 0.0072 | D6: =H6-Treasuries!$E$7 -> 0.0177 | E6: =I6-Treasuries!$G$7 -> 0.0124 | F6: =J6-Treasuries!$G$7 -> 0.0099 | G6: 0.0231 | H6: 0.0239 | I6: 0.019 | J6: 0.0165 | K6: =F6-C6 -> 0.0027 | L6: =J6-G6 -> -0.0066
B7: A | C7: =G7-Treasuries!$C$7 -> 0.008 | D7: =H7-Treasuries!$E$7 -> 0.0229 | E7: =I7-Treasuries!$G$7 -> 0.0162 | F7: =J7-Treasuries!$G$7 -> 0.0136 | G7: 0.0239 | H7: 0.0291 | I7: 0.0228 | J7: 0.0202 | K7: =F7-C7 -> 0.0056 | L7: =J7-G7 -> -0.0037
B8: BBB | C8: =G8-Treasuries!$C$7 -> 0.0133 | D8: =H8-Treasuries!$E$7 -> 0.0397 | E8: =I8-Treasuries!$G$7 -> 0.0278 | F8: =J8-Treasuries!$G$7 -> 0.0238 | G8: 0.0292 | H8: 0.0459 | I8: 0.0344 | J8: 0.0304 | K8: =F8-C8 -> 0.0105 | L8: =J8-G8 -> 0.0012
B9: BB | C9: =G9-Treasuries!$C$7 -> 0.0193 | D9: =H9-Treasuries!$E$7 -> 0.0676 | E9: =I9-Treasuries!$G$7 -> 0.0528 | F9: =J9-Treasuries!$G$7 -> 0.0444 | G9: 0.0352 | H9: 0.0738 | I9: 0.0594 | J9: 0.051 | K9: =F9-C9 -> 0.0251 | L9: =J9-G9 -> 0.0158
B10: B | C10: =G10-Treasuries!$C$7 -> 0.034 | D10: =H10-Treasuries!$E$7 -> 0.1014 | E10: =I10-Treasuries!$G$7 -> 0.0778 | F10: =J10-Treasuries!$G$7 -> 0.0629 | G10: 0.0499 | H10: 0.1076 | I10: 0.0844 | J10: 0.0695 | K10: =F10-C10 -> 0.0289 | L10: =J10-G10 -> 0.0196
B11: CCC or lower | C11: =G11-Treasuries!$C$7 -> 0.0965 | D11: =H11-Treasuries!$E$7 -> 0.188 | E11: =I11-Treasuries!$G$7 -> 0.1756 | F11: =J11-Treasuries!$G$7 -> 0.1475 | G11: 0.1124 | H11: 0.1942 | I11: 0.1822 | J11: 0.1541 | K11: =F11-C11 -> 0.051 | L11: =J11-G11 -> 0.0417

Sheet Commodities
A1: DATE | B1: Brent Oil | C1: WT Oil | D1: Copper
A2: 43875 | B2: 57.32 | C2: 52.05 | D2: 5736.15 | J2: % Change in Price
A3: 43879 | B3: 57.75 | C3: 52.05 | D3: 5727.35 | G3: 43875 | H3: 43924 | I3: 43983 | J3: 4/3-6/1 | K3: 2/14- 6/1
A4: 43880 | B4: 59.12 | C4: 53.29 | D4: 5755 | F4: Brent Crude | G4: =B2 -> 57.32 | H4: =B36 -> 34.11 | I4: =B73 -> 35.33 | J4: =I4/H4-1 -> 0.035766637 | K4: =I4/G4-1 -> -0.38363573
A5: 43881 | B5: 59.31 | C5: 53.78 | D5: 5729 | F5: WT Crude | G5: =C2 -> 52.05 | H5: =C36 -> 28.34 | I5: =C73 -> 35.49 | J5: =I5/H5-1 -> 0.25229358 | K5: =I5/G5-1 -> -0.31815562
A6: 43882 | B6: 58.5 | C6: 53.38 | D6: 5701.5 | F6: Copper | G6: =D2 -> 5736.15 | H6: =D36 -> 4863.5 | I6: =D73 -> 5332.25 | J6: =I6/H6-1 -> 0.096381207 | K6: =I6/G6-1 -> -0.070413082
A7: 43885 | B7: 56.3 | C7: 51.43 | D7: 5657.35
A8: 43886 | B8: 54.95 | C8: 49.9 | D8: 5662.75
A9: 43887 | B9: 53.43 | C9: 48.73 | D9: 5613.75
A10: 43888 | B10: 52.18 | C10: 47.09 | D10: 5617.9
A11: 43889 | B11: 50.52 | C11: 44.76 | D11: 5572
A12: 43892 | B12: 51.9 | C12: 46.75 | D12: 5639.5
A13: 43893 | B13: 51.86 | C13: 47.18 | D13: 5667.5
A14: 43894 | B14: 51.13 | C14: 46.78 | D14: 5694.35
A15: 43895 | B15: 49.99 | C15: 45.9 | D15: 5667.25
A16: 43896 | B16: 45.27 | C16: 41.28 | D16: 5623.5
A17: 43899 | B17: 34.36 | C17: 31.13 | D17: 5482.85
A18: 43900 | B18: 37.22 | C18: 34.36 | D18: 5521.95
... A40: 43930 | B40: 31.48 | C40: 22.76 | D40: 4963.5
A41: 43934 | B41: 31.74 | C41: 22.41 | D41: =D40 -> 4963.5
A42: 43935 | B42: 29.6 | C42: 20.11 | D42: 5119
A43: 43936 | B43: 27.69 | C43: 19.87 | D43: 5039.3
A44: 43937 | B44: 27.82 | C44: 19.87 | D44: 5098.5
A45: 43938 | B45: 28.08 | C45: 18.27 | D45: 5175.5
A46: 43941 | B46: 25.57 | C46: -37.63 | D46: 5169.5
A47: 43942 | B47: 19.33 | C47: 10.01 | D47: 4994.5
A48: 43943 | B48: 20.37 | C48: 13.78 | D48: 5033.85
A49: 43944 | B49: 21.33 | C49: 16.5 | D49: 5120.35
A50: 43945 | B50: 21.44 | C50: 16.94 | D50: 5118.15
A51: 43948 | B51: 19.99 | C51: 12.78 | D51: 5165.5
A52: 43949 | B52: 20.46 | C52: 12.34 | D52: 5169.3
A53: 43950 | B53: 22.54 | C53: 15.06 | D53: 5183.85
... A73: 43980 | B73: 35.33 | C73: 35.49 | D73: 5332.25

Sheet Gold & Cryptos
A1: Date | B1: Bitcoin | C1: Ehtereum | D1: Gold
A2: 43875 | B2: 10361.69 | C2: 285.5415 | D2: 1583.8 | J2: % Change in Price
A3: 43878 | B3: 9707.54 | C3: 267.48 | D3: 1581.05 | G3: 43875 | H3: 43924 | I3: 43983 | J3: 4/3-6/1 | K3: 2/14-6/1
A4: 43879 | B4: 10181.9 | C4: 282.3411 | D4: 1601.6 | F4: Bitcoin | G4: =B2 -> 10361.69 | H4: 6773.51 | I4: =B86 -> 9591.4 | J4: =I4/H4-1 -> 0.41601622 | K4: =I4/G4-1 -> -0.07434019
A5: 43880 | B5: 9613.63 | C5: 259.0723 | D5: 1611.35 | F5: Ehtereum | G5: =C2 -> 285.5415 | H5: 141.4925 | I5: =C86 -> 222.04 | J5: =I5/H5-1 -> 0.56927046 | K5: =I5/G5-1 -> -0.22238974
A6: 43881 | B6: 9617.08 | C6: 257.5026 | D6: 1619.75 | F6: Gold | G6: =D2 -> 1583.8 | H6: 1618.45 | I6: =D86 -> 1730.35 | J6: =I6/H6-1 -> 0.069140227 | K6: =I6/G6-1 -> 0.092530623
A7: 43882 | B7: 9703.38 | C7: 265.455 | D7: 1643.45
A8: 43884 | B8: 9990.74 | C8: 275.4976 | D8: 1643.45
A9: 43885 | B9: 9670.61 | C9: 265.9373 | D9: 1659.35
A10: 43886 | B10: 9324.74 | C10: 246.9112 | D10: 1634.95
A11: 43887 | B11: 8796.47 | C11: 224.2994 | D11: 1640.9
A12: 43888 | B12: 8814.28 | C12: 226.9572 | D12: 1645.3
A13: 43889 | B13: 8711.57 | C13: 226.8973 | D13: 1585.85
A14: 43892 | B14: 8920.01 | C14: 231.7038 | D14: 1589.8
A15: 43893 | B15: 8767.31 | C15: 223.8417 | D15: 1640.95
A16: 43894 | B16: 8769 | C16: 224.1953 | D16: 1636.85
A17: 43895 | B17: 9076.55 | C17: 228.5833 | D17: 1672.28
A18: 43896 | B18: 9154.8 | C18: 244.6288 | D18: 1673.75
... A86: 43977 | B86: 9591.4 | C86: 222.04 | D86: 1730.35

Sheet Raw Data for Corporates
A1: Term | B1: USD - All Corporates - IG - All In Yield - Semi-Annual Compounding - 03/21/2020 | C1: USD - All Corporates - IG - All In Yield - Semi-Annual Compounding - 02/14/2020 | D1: USD - All Corporates - IG - All In Yield - Semi-Annual Compounding - 03/13/2020
A2: 1M | B2: 0.81 | C2: 1.84 | D2: 0.68
A3: 3M | B3: 0.84 | C3: 1.87 | D3: 0.71
A4: 6M | B4: 0.88 | C4: 1.91 | D4: 0.76
A5: 9M | B5: 0.92 | C5: 1.95 | D5: 0.81
A6: 1Y | B6: 0.96 | C6: 1.98 | D6: 0.85
A7: 2Y | B7: 1.09 | C7: 2.06 | D7: 1.04
A8: 3Y | B8: 1.21 | C8: 2.1 | D8: 1.25
A9: 4Y | B9: 1.38 | C9: 2.21 | D9: 1.48
A10: 5Y | B10: 1.55 | C10: 2.33 | D10: 1.68
A11: 6Y | B11: 1.74 | C11: 2.46 | D11: 1.88
A12: 7Y | B12: 1.92 | C12: 2.6 | D12: 2.04
A13: 8Y | B13: 2.08 | C13: 2.72 | D13: 2.18
... A35: 30Y | B35: 2.91 | C35: 3.74 | D35: 3

Sheet Raw data for gold & bitcoin
A1: Source Data website: | C1: https://markets.businessinsider.com/commodities/gold-price
A2: Date | B2: Close | C2: Open | D2: Day High | E2: Day Low | H2: Date | I2: Close | J2: Open | K2: Day High | L2: Day Low | N2: DATE | O2: CLOSING PRICE | P2: OPEN | Q2: DAILY HIGH | R2: DAILY LOW
A3: 43875 | B3: 10361.69 | C3: 10234.61 | D3: 10383.94 | E3: 10109.969 | H3: 43875 | I3: 285.5415 | J3: 268.6021 | K3: 286.1672 | L3: 261.034 | N3: 43875 | O3: 1583.8 | P3: 1576.2 | Q3: 1585.05 | R3: 1573.2
A4: 43878 | B4: 9707.54 | C4: 9929.8096 | D4: 9963.3604 | E4: 9485.3604 | H4: 43878 | I4: 267.48 | J4: 259.9103 | K4: 268.1819 | L4: 242.9268 | N4: 43878 | O4: 1581.05 | P4: 1581.4 | Q4: 1583.8 | R4: 1578.95
A5: 43879 | B5: 10181.9 | C5: 9720.6397 | D5: 10252.41 | E5: 9640.9502 | H5: 43879 | I5: 282.3411 | J5: 267.8024 | K5: 285.5364 | L5: 260.2269 | N5: 43879 | O5: 1601.6 | P5: 1583.9 | Q5: 1605.1 | R5: 1583.7
A6: 43880 | B6: 9613.63 | C6: 10188.8 | D6: 10287.48 | E6: 9442.4297 | H6: 43880 | I6: 259.0723 | J6: 282.3969 | K6: 284.9332 | L6: 254.0219 | N6: 43880 | O6: 1611.35 | P6: 1601.2 | Q6: 1612.9 | R6: 1599.6
A7: 43881 | B7: 9617.08 | C7: 9598.6201 | D7: 9686.1299 | E7: 9464.0098 | H7: 43881 | I7: 257.5026 | J7: 258.7447 | K7: 263.8106 | L7: 247.3612 | N7: 43881 | O7: 1619.75 | P7: 1611.83 | Q7: 1623.45 | R7: 1604.1
A8: 43882 | B8: 9703.38 | C8: 9616.6504 | D8: 9773.6201 | E8: 9592.2998 | H8: 43882 | I8: 265.455 | J8: 257.4468 | K8: 268.0484 | L8: 254.8214 | N8: 43882 | O8: 1643.45 | P8: 1619.9 | Q8: 1649.1 | R8: 1619.1
A9: 43884 | B9: 9990.74 | C9: 9678.5596 | D9: 9996.4805 | E9: 9670.7402 | H9: 43884 | I9: 275.4976 | J9: 261.8223 | K9: 275.6107 | L9: 261.6084 | N9: 43884 | O9: 1643.45 | P9: 1643.45 | Q9: 1643.45 | R9: 1643.45
A10: 43885 | B10: 9670.61 | C10: 9977.8897 | D10: 10021.68 | E10: 9500.0498 | H10: 43885 | I10: 265.9373 | J10: 275.2717 | K10: 277.3833 | L10: 257.3631 | N10: 43885 | O10: 1659.35 | P10: 1664.4 | Q10: 1688.7 | R10: 1651.35
A11: 43886 | B11: 9324.74 | C11: 9668.8897 | D11: 9675.3604 | E11: 9273.9697 | H11: 43886 | I11: 246.9112 | J11: 265.787 | K11: 266.0897 | L11: 246.0199 | N11: 43886 | O11: 1634.95 | P11: 1658.3 | Q11: 1658.55 | R11: 1629.1
A12: 43887 | B12: 8796.47 | C12: 9334.1397 | D12: 9375.75 | E12: 8664.2402 | H12: 43887 | I12: 224.2994 | J12: 246.7594 | K12: 249.9199 | L12: 217.4507 | N12: 43887 | O12: 1640.9 | P12: 1638.6 | Q12: 1654.9 | R12: 1626.15
A13: 43888 | B13: 8814.28 | C13: 8783.8398 | D13: 8978.54 | E13: 8541.4404 | H13: 43888 | I13: 226.9572 | J13: 222.9959 | K13: 238.1522 | L13: 210.3192 | N13: 43888 | O13: 1645.3 | P13: 1641.45 | Q13: 1660.35 | R13: 1635.75
A14: 43889 | B14: 8711.57 | C14: 8806.7197 | D14: 8904.75 | E14: 8461.7305 | H14: 43889 | I14: 226.8973 | J14: 227.6724 | K14: 234.2937 | L14: 214.6153 | N14: 43889 | O14: 1585.85 | P14: 1641.85 | Q14: 1649.35 | R14: 1565.35
... A19: 43896 | B19: 9154.8 | C19: 9071.0498 | D19: 9179.7402 | E19: 9015.7002 | H19: 43896 | I19: 244.6288 | J19: 228.3024 | K19: 244.9138 | L19: 227.844 | N19: 43896 | O19: 1673.75 | P19: 1672.38 | Q19: 1691.5 | R19: 1647.95
A20: 43898 | B20: 8051.15 | C20: 8890.3398 | D20: 8910.04 | E20: 8040.7202 | H20: 43898 | I20: 198.146 | J20: 235.7479 | K20: 237.6891 | L20: 197.5004 | N20: 43898 | O20: 1697.4 | Q20: 1697.4 | R20: 1697.4
A21: 43899 | B21: 7947.43 | C21: 8122.3999 | D21: 8174.1802 | E21: 7663.75 | H21: 43899 | I21: 202.9655 | J21: 203.7487 | K21: 208.4148 | L21: 190.7024 | N21: 43899 | O21: 1673.6 | P21: 1692.8 | Q21: 1702.95 | R21: 1658.8
A22: 43900 | B22: 7899.41 | C22: 7959.02 | D22: 8166.2202 | E22: 7783.2798 | H22: 43900 | I22: 200.3971 | J22: 203.7551 | K22: 206.1744 | L22: 196.6973 | N22: 43900 | O22: 1653.8 | P22: 1669.45 | Q22: 1671.1 | R22: 1643.3
A23: 43901 | B23: 7950.27 | C23: 7885.1699 | D23: 7995.1802 | E23: 7624.02 | H23: 43901 | I23: 194.6911 | J23: 200.4616 | K23: 202.9761 | L23: 182.1509 | N23: 43901 | O23: 1638.35 | P23: 1652.9 | Q23: 1670.85 | R23: 1633.85
A24: 43902 | B24: 4807.23 | C24: 7971 | D24: 7975.8701 | E24: 4708.6899 | H24: 43902 | I24: 107.2087 | J24: 194.9737 | K24: 195.4858 | L24: 105.5562 | N24: 43902 | O24: 1574.8 | P24: 1639.75 | Q24: 1649.75 | R24: 1561.8
A25: 43903 | B25: 5595.03 | C25: 4989.8901 | D25: 5951.79 | E25: 3956.5801 | H25: 43903 | I25: 133.8354 | J25: 112.6141 | K25: 141.3395 | L25: 90.3164 | N25: 43903 | O25: 1529.3 | P25: 1576.8 | Q25: 1597.35 | R25: 1504.9
A26: 43906 | B26: 5036.84 | C26: 5315.5 | D26: 5376.3999 | E26: 4513.4502 | H26: 43906 | I26: 111.0264 | J26: 122.8312 | K26: 124.1 | L26: 101.7936 | N26: 43906 | O26: 1507.5 | P26: 1558.9 | Q26: 1560.75 | R26: 1451.75
A27: 43907 | B27: 5387.64 | C27: 5045.7002 | D27: 5560.0801 | E27: 4955.5601 | H27: 43907 | I27: 116.2123 | J27: 111.5315 | K27: 120.1821 | L27: 109.7818 | N27: 43907 | O27: 1537.15 | P27: 1511.95 | Q27: 1552.55 | R27: 1466
A28: 43908 | B28: 5402.93 | C28: 5399.3701 | D28: 5454.7998 | E28: 5067.3599 | H28: 43908 | I28: 118.1967 | J28: 116.5895 | K28: 118.3523 | L28: 110.6227 | N28: 43908 | O28: 1484.25 | P28: 1538.7 | Q28: 1543.45 | R28: 1473.3
A29: 43909 | B29: 6201.83 | C29: 5461.73 | D29: 6427.4199 | E29: 5286.1201 | H29: 43909 | I29: 136.9621 | J29: 119.4397 | K29: 142.5763 | L29: 115.9285 | N29: 43909 | O29: 1467.4 | P29: 1485.25 | Q29: 1495.65 | R29: 1463
A30: 43910 | B30: 6251.49 | C30: 6242.25 | D30: 6927.48 | E30: 5782.9102 | H30: 43910 | I30: 133.7792 | J30: 137.6188 | K30: 152.5808 | L30: 116.8819 | N30: 43910 | O30: 1498.6 | P30: 1468.2 | Q30: 1516.05 | R30: 1466.05
A31: 43912 | B31: 5840.3 | C31: 6189.9399 | D31: 6429.7002 | E31: 5777.21 | H31: 43912 | I31: 122.5006 | J31: 132.1428 | K31: 137.1366 | L31: 121.5084 | N31: 43912 | O31: 1490.85 | P31: 1504 | Q31: 1508.25 | R31: 1485.55
A32: 43913 | B32: 6485.36 | C32: 5806.23 | D32: 6570.1201 | E32: 5742.6201 | H32: 43913 | I32: 136.1207 | J32: 121.822 | K32: 137.4538 | L32: 120.9014 | N32: 43913 | O32: 1566.05 | P32: 1491 | Q32: 1566.3 | R32: 1485.3
... A87: 43980 | B87: 9591.4 | C87: 9524.64 | D87: 9607.81 | E87: 9127.92 | H87: 43980 | I87: 222.04 | J87: 222.12 | K87: 224.41 | L87: 204.78 | N87: 43980 | O87: 1730.35 | P87: 1719.07 | Q87: 1736.79 | R87: 1712.65
A92: Date | B92: CLOSING PRICE | C92: OPEN | D92: DAILY HIGH | E92: DAILY LOW | G92: Date | H92: CLOSING PRICE | I92: OPEN | J92: DAILY HIGH | K92: DAILY LOW
A93: 43951 | B93: 8769.49 | C93: 8619.25 | D93: 9456.67 | E93: 8429.63 | G93: 43951 | H93: 215.27 | I93: 206.21 | J93: 227.15 | K93: 203.09
A94: 43952 | B94: 8663.39 | C94: 8842.85 | D94: 9070.12 | E94: 8633.95 | G94: 43952 | H94: 207.17 | I94: 212.07 | J94: 217.16 | K94: 206.28
A95: 43953 | B95: 8817.18 | C95: 9005.74 | D95: 9028.84 | E95: 8802.28 | G95: 43953 | H95: 211.52 | I95: 214.46 | J95: 215.44 | K95: 210.79 | N95: DATE | O95: CLOSING PRICE | P95: OPEN | Q95: DAILY HIGH | R95: DAILY LOW
A96: 43954 | B96: 9007.65 | C96: 8905.57 | D96: 9202.28 | E96: 8770.73 | G96: 43954 | H96: 214.26 | I96: 209.76 | J96: 219.13 | K96: 205.87 | N96: 43951 | O96: 1686.8 | P96: 1711.58 | Q96: 1720.4 | R96: 1681.37
A97: 43955 | B97: 8927.19 | C97: 8887.46 | D97: 8966.91 | E97: 8550.6 | G97: 43955 | H97: 209.88 | I97: 206.57 | J97: 210.67 | K97: 195.55 | N97: 43952 | O97: 1700.4 | P97: 1686.78 | Q97: 1705.15 | R97: 1670.53
A98: 43956 | B98: 8907.05 | C98: 9029.96 | D98: 9110.15 | E98: 8821.05 | G98: 43956 | H98: 207.09 | I98: 205.31 | J98: 211.58 | K98: 202.42 | N98: 43955 | O98: 1701.4 | P98: 1698.95 | Q98: 1712.14 | R98: 1692.7
A99: 43957 | B99: 9029.21 | C99: 9150.38 | D99: 9395.51 | E99: 8934.54 | G99: 43957 | H99: 205.59 | I99: 198.9 | J99: 210.82 | K99: 198.81 | N99: 43956 | O99: 1707.03 | P99: 1701.7 | Q99: 1711.61 | R99: 1691.92
A100: 43958 | B100: 9073.53 | C100: 9992.31 | D100: 10048.56 | E100: 9073.53 | G100: 43958 | H100: 197.45 | I100: 212.15 | J100: 214.45 | K100: 197.45 | N100: 43957 | O100: 1685.5 | P100: 1705.55 | Q100: 1708.6 | R100: 1683.08
A101: 43959 | B101: 9981.01 | C101: 9844.08 | D101: 10032.83 | E101: 9741.6 | G101: 43959 | H101: 212.91 | I101: 211.99 | J101: 216.41 | K101: 207.58 | N101: 43958 | O101: 1717.93 | P101: 1687.7 | Q101: 1721.57 | R101: 1684.4
A102: 43960 | B102: 9795.87 | C102: 9575.23 | D102: 9926.52 | E102: 9564.07 | G102: 43960 | H102: 210.71 | I102: 210.58 | J102: 214.92 | K102: 209.39 | N102: 43959 | O102: 1702.65 | P102: 1716.05 | Q102: 1722.56 | R102: 1701.61
...

Sheet Raw Data for Oil
B1: Brent Crude | P1: West Texas Crude
A2: DATE | B2: Oil | C2: OPEN | D2: DAILY HIGH | E2: DAILY LOW | H2: DATE | I2: CLOSING PRICE | J2: OPEN | K2: DAILY HIGH | L2: DAILY LOW | O2: DATE | P2: CLOSING PRICE | Q2: OPEN | R2: DAILY HIGH | S2: DAILY LOW
A3: 43875 | B3: 57.32 | C3: 56.41 | D3: 57.53 | E3: 56.15 | H3: 43875 | I3: 5736.15 | K3: 5736.25 | L3: 5735 | O3: 43875 | P3: 52.05 | Q3: 51.51 | R3: 52.34 | S3: 51.32
A4: 43879 | B4: 57.75 | C4: 57.35 | D4: 57.83 | E4: 56.3 | H4: 43879 | I4: 5727.35 | K4: 5728.25 | L4: 5726.5 | O4: 43879 | P4: 52.05 | S4: 50.88
A5: 43880 | B5: 59.12 | C5: 57.6 | D5: 59.4 | E5: 57.51 | H5: 43880 | I5: 5755 | K5: 5755 | L5: 5745 | O5: 43880 | P5: 53.29 | Q5: 52.12 | R5: 53.66 | S5: 51.93
A6: 43881 | B6: 59.31 | C6: 59.31 | D6: 60 | E6: 58.9 | H6: 43881 | I6: 5729 | K6: 5730 | L6: 5728 | O6: 43881 | P6: 53.78 | Q6: 53.5 | R6: 54.5 | S6: 53.22
A7: 43882 | B7: 58.5 | C7: 59 | D7: 59.25 | E7: 57.73 | H7: 43882 | I7: 5701.5 | K7: 5702 | L7: 5701.35 | O7: 43882 | P7: 53.38 | S7: 52.55
A8: 43885 | B8: 56.3 | C8: 57.85 | D8: 57.86 | E8: 55.13 | H8: 43885 | I8: 5657.35 | K8: 5857.85 | L8: 5655 | O8: 43885 | P8: 51.43 | Q8: 52.6 | R8: 52.64 | S8: 50.45
A9: 43886 | B9: 54.95 | C9: 56.46 | D9: 56.98 | E9: 54.62 | H9: 43886 | I9: 5662.75 | K9: 5663.75 | L9: 5662.5 | O9: 43886 | P9: 49.9 | Q9: 51.37 | R9: 52.02 | S9: 49.69
A10: 43887 | B10: 53.43 | C10: 55.13 | D10: 55.45 | E10: 53.03 | H10: 43887 | I10: 5613.75 | K10: 5614 | L10: 5613.25 | O10: 43887 | P10: 48.73 | Q10: 50.08 | R10: 50.44 | S10: 48.3
A11: 43888 | B11: 52.18 | C11: 53.18 | D11: 53.25 | E11: 50.97 | H11: 43888 | I11: 5617.9 | K11: 5618 | L11: 5617 | O11: 43888 | P11: 47.09 | Q11: 48.63 | R11: 48.78 | S11: 45.88
A12: 43889 | B12: 50.52 | C12: 51.42 | D12: 51.52 | E12: 50.05 | H12: 43889 | I12: 5572 | K12: 5573 | L12: 5571.75 | O12: 43889 | P12: 44.76 | Q12: 46.49 | R12: 47.03 | S12: 43.85
A13: 43892 | B13: 51.9 | C13: 48.95 | D13: 53.2 | E13: 48.4 | H13: 43892 | I13: 5639.5 | K13: 5640 | L13: 5639 | O13: 43892 | P13: 46.75 | Q13: 43.7 | R13: 47.56 | S13: 43.32
A14: 43893 | B14: 51.86 | C14: 53.47 | D14: 53.9 | E14: 51.22 | H14: 43893 | I14: 5667.5 | K14: 5670 | L14: 5667.35 | O14: 43893 | P14: 47.18 | Q14: 47.72 | R14: 48.66 | S14: 46.47
A15: 43894 | B15: 51.13 | C15: 52.11 | D15: 53.03 | E15: 51.04 | H15: 43894 | I15: 5694.35 | K15: 5694.5 | L15: 5694.1 | O15: 43894 | P15: 46.78 | Q15: 46.94 | R15: 48.41 | S15: 46.65
A16: 43895 | B16: 49.99 | C16: 51.66 | D16: 52.04 | E16: 49.7 | H16: 43895 | I16: 5667.25 | K16: 5667.5 | L16: 5667 | O16: 43895 | P16: 45.9 | Q16: 47.13 | R16: 47.57 | S16: 45.65
A17: 43896 | B17: 45.27 | C17: 50.25 | D17: 50.45 | E17: 45.18 | H17: 43896 | I17: 5623.5 | K17: 5667.5 | L17: 5623.35 | O17: 43896 | P17: 41.28 | Q17: 46.09 | R17: 46.38 | S17: 41.05
A18: 43899 | B18: 34.36 | C18: 38.28 | D18: 38.34 | E18: 31.02 | H18: 43899 | I18: 5482.85 | K18: 5482.85 | L18: 5479.85 | O18: 43899 | P18: 31.13 | Q18: 32.87 | R18: 34.88 | S18: 27.34
A19: 43900 | B19: 37.22 | C19: 35.84 | D19: 38.22 | E19: 35 | H19: 43900 | I19: 5521.95 | K19: 5598 | L19: 5521.95 | O19: 43900 | P19: 34.36 | Q19: 30.37 | R19: 35.02 | S19: 30.2
... A41: 43930 | B41: 31.48 | C41: 33.82 | D41: 36.4 | E41: 31.18 | H41: 43930 | I41: 4963.5 | K41: 4963.75 | L41: 4963.25 | O41: 43930 | P41: 22.76 | Q41: 26.28 | R41: 28.36 | S41: 22.57
A42: 43934 | B42: 31.74 | C42: 33.99 | D42: 33.99 | E42: 30.63 | H42: 43934 | I42: =I41 -> 4963.5 | O42: 43934 | P42: 22.41 | Q42: 24.6 | R42: 24.74 | S42: 22.03
A43: 43935 | B43: 29.6 | C43: 32.25 | D43: 32.32 | E43: 29.38 | H43: 43935 | I43: 5119 | K43: 5119.25 | L43: 5118.75 | O43: 43935 | P43: 20.11 | Q43: 22.36 | R43: 23.08 | S43: 19.95
A44: 43936 | B44: 27.69 | C44: 30.26 | D44: 30.33 | E44: 27.16 | H44: 43936 | I44: 5039.3 | K44: 5054.75 | L44: 5039.3 | O44: 43936 | P44: 19.87 | Q44: 20.72 | R44: 20.89 | S44: 19.2
A45: 43937 | B45: 27.82 | C45: 28.05 | D45: 29 | E45: 27.2 | H45: 43937 | I45: 5098.5 | K45: 5098.7 | L45: 5098.25 | O45: 43937 | P45: 19.87 | Q45: 20.15 | R45: 20.53 | S45: 19.42
A46: 43938 | B46: 28.08 | C46: 28.66 | D46: 28.93 | E46: 27.58 | H46: 43938 | I46: 5175.5 | K46: 5175.7 | L46: 5175.3 | O46: 43938 | P46: 18.27 | Q46: 20 | R46: 20.22 | S46: 17.31
A47: 43941 | B47: 25.57 | C47: 28.05 | D47: 28.25 | E47: 25.37 | H47: 43941 | I47: 5169.5 | K47: 5203.75 | L47: 5169.25 | O47: 43941 | P47: -37.63 | Q47: 17.73 | R47: 17.85 | S47: -40.32
A48: 43942 | B48: 19.33 | C48: 26.33 | D48: 26.5 | E48: 17.51 | H48: 43942 | I48: 4994.5 | K48: 4994.75 | L48: 4994.25 | O48: 43942 | P48: 10.01 | Q48: -14 | R48: 13.86 | S48: -16.74
A49: 43943 | B49: 20.37 | C49: 20.23 | D49: 22.45 | E49: 15.98 | H49: 43943 | I49: 5033.85 | K49: 5034.2 | L49: 5033.75 | O49: 43943 | P49: 13.78 | R49: 16.18 | S49: 10.26
A50: 43944 | B50: 21.33 | C50: 20.89 | D50: 23.22 | E50: 20.07 | H50: 43944 | I50: 5120.35 | K50: 5120.7 | L50: 5120.25 | O50: 43944 | P50: 16.5 | Q50: 14.2 | R50: 18.26 | S50: 13.35
A51: 43945 | B51: 21.44 | C51: 21.93 | D51: 22.7 | E51: 20.5 | H51: 43945 | I51: 5118.15 | K51: 5118.25 | L51: 5117.75 | O51: 43945 | P51: 16.94 | Q51: 16.78 | R51: 17.97 | S51: 15.64
A52: 43948 | B52: 19.99 | C52: 21.55 | D52: 21.91 | E52: 19.11 | H52: 43948 | I52: 5165.5 | K52: 5165.75 | L52: 5165.25 | O52: 43948 | P52: 12.78 | Q52: 16.84 | R52: 16.98 | S52: 11.88
A53: 43949 | B53: 20.46 | C53: 19.9 | D53: 21.29 | E53: 18.73 | H53: 43949 | I53: 5169.3 | K53: 5169.75 | L53: 5169.3 | O53: 43949 | P53: 12.34 | Q53: 12.96 | R53: 13.69 | S53: 10.07
A54: 43950 | B54: 22.54 | C54: 20.66 | D54: 23.88 | E54: 20.53 | H54: 43950 | I54: 5183.85 | K54: 5184.2 | L54: 5183.75 | O54: 43950 | P54: 15.06 | Q54: 13.35 | R54: 16.78 | S54: 12.67
A55: 43951 | B55: 25.27 | C55: 22.87 | D55: 25.76 | E55: 22.87 | H55: 43951 | I55: 5230.8 | K55: 5231.5 | L55: 5230.75 | O55: 43951 | P55: 18.84 | Q55: 15.64 | R55: 19.44 | S55: 15.45
A56: 43952 | B56: 26.44 | C56: 26.95 | D56: 27.88 | E56: 25.76 | H56: 43952 | I56: 5061 | O56: 43952 | P56: 19.78 | Q56: 19.04 | R56: 20.48 | S56: 18.07
A57: 43956 | B57: 30.97 | C57: 28.1 | D57: 32.06 | E57: 27.77 | H57: 43956 | I57: 5111.35 | O57: 43956 | P57: 24.56 | Q57: 21.24 | R57: 25.49 | S57: 21.13
A58: 43957 | B58: 29.72 | C58: 32.27 | D58: 32.27 | E58: 28.66 | H58: 43957 | I58: 5199.5 | O58: 43957 | P58: 23.99 | Q58: 25.52 | R58: 26.08 | S58: 22.58
A59: 43958 | B59: 29.46 | C59: 29.64 | D59: 31.84 | E59: 29.08 | H59: 43958 | I59: 5227.3 | O59: 43958 | P59: 23.55 | Q59: 24.09 | R59: 26.74 | S59: 22.94
A60: 43959 | B60: 30.97 | C60: 29.6 | D60: 31.14 | E60: 29.43 | H60: 43959 | I60: 5228.55 | O60: 43959 | P60: 24.74 | Q60: 23.35 | R60: 24.99 | S60: 23.26
A61: 43962 | B61: 29.63 | C61: 30.7 | D61: 31.47 | E61: 29.35 | H61: 43962 | I61: 5231 | O61: 43962 | P61: 24.14 | Q61: 24.49 | R61: 25.58 | S61: 23.67
...

Sheet Raw Data for Treasuries
A1: Date | B1: 1 Mo | C1: 2 Mo | D1: 3 month | E1: 6 Mo | F1: 1 Yr | G1: 2 year | H1: 3 Yr | I1: 5 year | J1: 7 Yr | K1: 10 year | L1: 20 year | M1: 30 year
A2: 43875 | B2: 1.6 | C2: 1.6 | D2: 1.58 | E2: 1.56 | F2: 1.49 | G2: 1.42 | H2: 1.4 | I2: 1.42 | J2: 1.51 | K2: 1.59 | L2: 1.89 | M2: 2.04
A3: 43879 | B3: 1.61 | C3: 1.6 | D3: 1.58 | E3: 1.56 | F3: 1.47 | G3: 1.41 | H3: 1.37 | I3: 1.39 | J3: 1.48 | K3: 1.55 | L3: 1.85 | M3: 2
A4: 43880 | B4: 1.61 | C4: 1.61 | D4: 1.58 | E4: 1.56 | F4: 1.47 | G4: 1.42 | H4: 1.39 | I4: 1.41 | J4: 1.5 | K4: 1.56 | L4: 1.86 | M4: 2.01
A5: 43881 | B5: 1.61 | C5: 1.6 | D5: 1.58 | E5: 1.55 | F5: 1.46 | G5: 1.39 | H5: 1.35 | I5: 1.37 | J5: 1.45 | K5: 1.52 | L5: 1.81 | M5: 1.97
A6: 43882 | B6: 1.6 | C6: 1.6 | D6: 1.56 | E6: 1.53 | F6: 1.43 | G6: 1.34 | H6: 1.3 | I6: 1.3 | J6: 1.39 | K6: 1.46 | L6: 1.75 | M6: 1.9
A7: 43885 | B7: 1.6 | C7: 1.59 | D7: 1.53 | E7: 1.49 | F7: 1.35 | G7: 1.26 | H7: 1.21 | I7: 1.21 | J7: 1.3 | K7: 1.38 | L7: 1.68 | M7: 1.84
A8: 43886 | B8: 1.59 | C8: 1.58 | D8: 1.53 | E8: 1.47 | F8: 1.3 | G8: 1.2 | H8: 1.16 | I8: 1.16 | J8: 1.25 | K8: 1.33 | L8: 1.63 | M8: 1.8
A9: 43887 | B9: 1.59 | C9: 1.56 | D9: 1.53 | E9: 1.42 | F9: 1.26 | G9: 1.16 | H9: 1.14 | I9: 1.14 | J9: 1.25 | K9: 1.33 | L9: 1.64 | M9: 1.81
A10: 43888 | B10: 1.56 | C10: 1.53 | D10: 1.45 | E10: 1.33 | F10: 1.18 | G10: 1.11 | H10: 1.08 | I10: 1.11 | J10: 1.22 | K10: 1.3 | L10: 1.61 | M10: 1.79
A11: 43889 | B11: 1.45 | C11: 1.37 | D11: 1.27 | E11: 1.11 | F11: 0.97 | G11: 0.86 | H11: 0.85 | I11: 0.89 | J11: 1.03 | K11: 1.13 | L11: 1.46 | M11: 1.65
A12: 43892 | B12: 1.41 | C12: 1.27 | D12: 1.13 | E12: 0.95 | F12: 0.89 | G12: 0.84 | H12: 0.85 | I12: 0.88 | J12: 1.01 | K12: 1.1 | L12: 1.46 | M12: 1.66
A13: 43893 | B13: 1.11 | C13: 1.05 | D13: 0.95 | E13: 0.83 | F13: 0.73 | G13: 0.71 | H13: 0.72 | I13: 0.77 | J13: 0.91 | K13: 1.02 | L13: 1.44 | M13: 1.64
... A76: 43983 | B76: 0.12 | C76: 0.14 | D76: 0.14 | E76: 0.18 | F76: 0.17 | G76: 0.14 | H76: 0.2 | I76: 0.31 | J76: 0.5 | K76: 0.66 | L76: 1.22 | M76: 1.46

Sheet Raw Data for Equities
A1: United States | B1: Price | D1: Weekly | E1: Monthly | F1: Yearly | G1: Date | I1: United States | J1: United States | K1: United States | L1: United States | M1: Price | O1: Day | P1: Weekly | Q1: Monthly | R1: Yearly | S1: Date
B2: Dow Jones | C2: 21,053 | D2: -2.70% | E2: -22.29% | F2: -20.21% | G2: -20.21% | M2: Dow Jones | N2: 24,242 | O2: 704.81 | P2: 0.0299 | Q2: 3.64% | R2: 21.83% | S2: -8.56% | T2: Apr/17
B3: S&P 500 | C3: 2,489 | D3: -2.08% | E3: -20.49% | F3: -13.57% | G3: -13.57% | M3: S&P 500 | N3: 2,875 | O3: 75.01 | P3: 0.0268 | Q3: 4.09% | R3: 19.87% | S3: -1.15% | T3: Apr/17
B4: NASDAQ 100 | C4: 7,528 | D4: -0.79% | E4: -15.88% | F4: -0.17% | G4: -0.17% | M4: NASDAQ 100 | N4: 8,832 | O4: 74.58 | P4: 0.0085 | Q4: 6.00% | R4: 23.10% | S4: 14.51% | T4: Apr/17
B5: S&P VIX | C5: 46.80 | D5: -18.74% | E5: 14.81% | F5: 33.22% | G5: 33.22% | M5: S&P VIX | N5: 38.15 | O5: 1.96 | P5: -0.0196 | Q5: -3.02% | R5: -38.30% | S5: 25.73% | T5: Apr/17
B7: Europe | C7: Price | D7: Weekly | E7: Monthly | F7: Yearly | G7: Yearly | M7: Europe | N7: Price | P7: Day | Q7: Weekly | R7: Monthly | S7: Yearly | T7: Date
B8: FTSE 100 | C8: 5,416 | D8: -1.72% | E8: -20.54% | F8: -26.84% | G8: -26.84% | M8: FTSE 100 | N8: 5,787 | O8: 158.53 | P8: 0.0282 | Q8: -0.08% | R8: 13.90% | S8: -23.08% | T8: Apr/17
B9: DAX | C9: 9,526 | D9: -1.11% | E9: -21.45% | F9: -20.54% | G9: -20.54% | M9: DAX | N9: 10,626 | O9: 324.24 | P9: 0.0315 | Q9: -0.66% | R9: 25.87% | S9: -13.16% | T9: Apr/17
B10: CAC 40 | C10: 4,147 | D10: -4.69% | E10: -23.98% | F10: -24.09% | G10: -24.09% | M10: CAC 40 | N10: 4,499 | O10: 148.85 | P10: 0.0342 | Q10: -0.66% | R10: 20.27% | S10: -19.54% | T10: Apr/17
B11: FTSE MIB | C11: 16,384 | D11: -2.61% | E11: -25.34% | F11: -24.52% | G11: -24.52% | M11: FTSE MIB | N11: 17,055 | O11: 287.33 | P11: 0.0171 | Q11: -2.86% | R11: 12.80% | S11: -22.11% | T11: Apr/17
B12: IBEX 35 | C12: 6,567 | D12: -3.12% | E12: -26.13% | F12: -31.12% | G12: -31.12% | M12: IBEX 35 | N12: 6,871 | O12: 107.10 | P12: 0.0158 | Q12: -3.15% | R12: 9.64% | S12: -27.89% | T12: Apr/17
B13: MOEX | C13: 2,572 | D13: 7.13% | E13: -9.04% | F13: 1.45% | G13: 1.45% | M13: MOEX | N13: 2,535 | O13: 19.92 | P13: 0.0079 | Q13: -5.34% | R13: 19.99% | S13: -1.93% | T13: Apr/17
B14: AEX | C14: 471 | D14: 0.83% | E14: -15.33% | F14: -16.12% | G14: -16.12% | M14: AEX | N14: 507 | O14: 10.60 | P14: 0.0214 | Q14: 0.02% | R14: 25.87% | S14: -11.21% | T14: Apr/17
B15: BIST 100 | C15: 89,473 | D15: 1.53% | E15: -19.24% | F15: -9.01% | G15: -9.01% | M15: BIST 100 | N15: 98,180 | O15: 1,930.73 | P15: 0.0201 | Q15: 1.77% | R15: 14.73% | S15: 2.32% | T15: Apr/17
B16: SMI | C16: 9,242 | D16: 2.74% | E16: -9.84% | F16: -3.36% | G16: -3.36% | M16: SMI | N16: 9,613 | O16: 172.92 | P16: 0.0183 | Q16: 0.78% | R16: 15.28% | S16: -0.23% | T16: Apr/17
B17: OMXS 30 | C17: 1,405 | D17: -1.04% | E17: -17.58% | F17: -13.10% | G17: -13.10% | M17: OMXS 30 | N17: 1,535 | O17: 50.76 | P17: 0.0342 | Q17: -0.08% | R17: 14.76% | S17: -8.23% | T17: Apr/17
B18: WIG | C18: 41,532 | D18: 1.58% | E18: -19.49% | F18: -32.50% | G18: -32.50% | M18: WIG | N18: 45,353 | O18: 708.11 | P18: 0.0159 | Q18: -1.60% | R18: 15.36% | S18: -25.58% | T18: Apr/17
B19: Euronext BEL 20 | C19: 2,857 | D19: -0.20% | E19: -20.59% | F19: -24.46% | G19: -24.46% | M19: Euronext BEL 20 | N19: 3,015 | O19: 90.25 | P19: 0.0309 | Q19: -1.38% | R19: 17.05% | S19: -20.79% | T19: Apr/17
... B52: MONEX INDEX | C52: 309.06 | D52: -0.59% | E52: -19.99% | F52: -20.32% | G52: -20.32% | M52: MONEX INDEX | N52: 10,036.60 | O52: 53.17 | P52: 0.0053 | Q52: -0.40% | R52: -7.92% | S52: -6.20% | T52: Apr/16
B54: America | C54: Price | D54: Weekly | E54: Monthly | F54: Yearly | G54: Yearly | M54: America | N54: Price | P54: Day | Q54: Weekly | R54: Monthly | S54: Yearly | T54: Date
B55: Dow Jones | C55: 21,053 | D55: -2.70% | E55: -22.29% | F55: -20.21% | G55: -20.21% | M55: Dow Jones | N55: 24,242 | O55: 704.81 | P55: 0.0299 | Q55: 3.64% | R55: 21.83% | S55: -8.56% | T55: Apr/17
B56: S&P 500 | C56: 2,489 | D56: -2.08% | E56: -20.49% | F56: -13.57% | G56: -13.57% | M56: S&P 500 | N56: 2,875 | O56: 75.01 | P56: 0.0268 | Q56: 4.09% | R56: 19.87% | S56: -1.15% | T56: Apr/17
B57: NASDAQ 100 | C57: 7,528 | D57: -0.79% | E57: -15.88% | F57: -0.17% | G57: -0.17% | M57: NASDAQ 100 | N57: 8,832 | O57: 74.58 | P57: 0.0085 | Q57: 6.00% | R57: 23.10% | S57: 14.51% | T57: Apr/17
B58: NASDAQ | C58: 7,373 | D58: -1.72% | E58: -18.24% | F58: -6.57% | G58: -6.57% | M58: NASDAQ | N58: 8,650 | O58: 117.78 | P58: 0.0138 | Q58: 5.59% | R58: 23.75% | S58: 7.92% | T58: Apr/17
B59: S&P MidCap 400 | C59: 1338 | D59: -5.97% | E59: -29.57% | F59: -30.85% | G59: -30.85% | M59: S&P MidCap 400 | N59: 1,561 | O59: 55.79 | P59: 0.0371 | Q59: 1.56% | R59: 24.10% | S59: -19.77% | T59: Apr/17
B60: Russell 2000 | C60: 1,052 | D60: -7.06% | E60: -31.29% | F60: -32.88% | G60: -32.88% | M60: Russell 2000 | N60: 1,229 | O60: 51.01 | P60: 0.0433 | Q60: 1.41% | R60: 24.01% | S60: -21.21% | T60: Apr/17
B61: S&P VIX | C61: 46.80 | D61: -18.74% | E61: 14.81% | F61: 33.22% | G61: 33.22% | M61: S&P VIX | N61: 38.15 | O61: 1.96 | P61: -0.0196 | Q61: -3.02% | R61: -38.30% | S61: 25.73% | T61: Apr/17
B62: Ecuador General Index | C62: 1,395 | D62: -0.47% | E62: 0.17% | F62: 3.64% | G62: 3.64% | M62: Ecuador General Index | N62: 1,390 | O62: 0.00 | P62: 0 | Q62: 0.20% | R62: -0.94% | S62: 1.76% | T62: Apr/17
B63: TSX | C63: 12,938 | D63: 1.97% | E63: -22.89% | F63: -20.68% | G63: -20.68% | M63: TSX | N63: 14,360 | O63: 460.56 | P63: 0.0331 | Q63: 2.02% | R63: 22.51% | S63: -13.38% | T63: Apr/17
B64: iBovespa | C64: 69,538 | D64: -5.30% | E64: -35.15% | F64: -27.80% | G64: -27.80% | M64: iBovespa | N64: 78,990 | O64: 1,178.44 | P64: 0.0151 | Q64: 0.20% | R64: 18.08% | S64: -16.49% | T64: Apr/17
B65: IPC Mexico | C65: 33,171 | D65: -1.86% | E65: -23.58% | F65: -24.50% | G65: -24.50% | M65: IPC Mexico | N65: 34,743 | O65: 983.35 | P65: 0.0291 | Q65: 0.37% | R65: -2.22% | S65: -23.44% | T65: Apr/17
B66: S&P/BVL Peru General Index TR (PEN) | C66: 13,539 | D66: -6.52% | E66: -26.80% | F66: -36.40% | G66: -36.40% | M66: S&P/BVL Peru General Index TR (PEN) | N66: 14,494 | O66: 47.22 | P66: 0.0033 | Q66: 0.79% | R66: -0.21% | S66: -30.56% | T66: Apr/17
B67: Merval | C67: 26,505 | D67: 10.17% | E67: -28.83% | F67: -17.54% | G67: -17.54% | M67: Merval | N67: 29,883 | O67: 194.45 | P67: -0.0065 | Q67: 3.47% | R67: 35.30% | S67: -2.93% | T67: Apr/17
B68: IBC | C68: 133,086 | D68: 50.14% | E68: 27.71% | F68: 1,447.95% | G68: 1,447.95% | M68: IBC | N68: 230,743 | O68: 11,151.28 | P68: -0.0461 | Q68: 1.38% | R68: 127.89% | S68: 1,852.66% | T68: Apr/17
B69: COLCAP | C69: 1,128 | D69: -1.74% | E69: -27.00% | F69: -29.09% | G69: -29.09% | M69: COLCAP | N69: 1,192 | O69: 10.46 | P69: -0.0087 | Q69: -0.16% | R69: 33.34% | S69: -25.08% | T69: Apr/17
B70: IGPA | C70: 18,298 | D70: 12.78% | E70: -16.09% | F70: -31.58% | G70: -31.58% | M70: IGPA | N70: 19,160 | O70: 102.07 | P70: 0.0054 | Q70: -0.69% | R70: 30.47% | S70: -27.80% | T70: Apr/17
B71: BVPSI | C71: 425 | D71: -1.69% | E71: -6.99% | F71: -2.95% | G71: -2.95% | M71: BVPSI | N71: 413 | O71: 4.63 | P71: -0.0111 | Q71: -2.16% | R71: -4.56% | S71: -5.69% | T71: Apr/17
... B73: JSE | C73: 380,788 | D73: 10.49% | E73: -17.02% | F73: -1.86% | G73: -1.86% | M73: JSE | N73: 383,261 | O73: 2,335.78 | P73: -0.0061 | Q73: -4.27% | R73: 4.28% | S73: -1.93% | T73: Apr/17
B75: Asia | C75: Price | D75: Weekly | E75: Monthly | F75: Yearly | G75: Yearly | M75: Asia | N75: Price | P75: Day | Q75: Weekly | R75: Monthly | S75: Yearly | T75: Date
B76: NIKKEI 225 | C76: 17,820 | D76: -8.09% | E76: -15.54% | F76: -17.97% | G76: -17.97% | M76: NIKKEI 225 | N76: 19,897 | O76: 607.06 | P76: 0.0315 | Q76: 2.05% | R76: 18.96% | S76: -10.37% | T76: Apr/17
...
