Workbook

Sheet Pivot 1
A1: decile(Net Debt/EBITDA) | B1: count | C1: sum(Market Capitalization [My Setting] [01/01/2022] ($USDmm, Historical rate)) | D1: sum(Market Capitalization [My Setting] [Latest] ($USDmm, Historical rate))
A2: Bottom decile | B2: 2833 | C2: 3447044.3 | D2: 2715534.3
A3: 2nd decile | B3: 2834 | C3: 4784743.8 | D3: 3858507
A4: 3rd decile | B4: 2834 | C4: 8495716.8 | D4: 7342615.8
A5: 4th decile | B5: 2834 | C5: 16583953 | D5: 13968473
A6: 5th decile | B6: 2834 | C6: 17318591 | D6: 15916605
A7: 6th decile | B7: 2834 | C7: 16173697 | D7: 14987310
A8: 7th decile | B8: 2834 | C8: 13621838 | D8: 12293529
A9: 8th decile | B9: 2834 | C9: 12089335 | D9: 11184129
A10: 9th decile | B10: 2834 | C10: 8453162.9 | D10: 7815569.1
A11: Top decile | B11: 2834 | C11: 3716898.4 | D11: 3429689.1
A12: Missing | B12: 18037 | C12: 18410398 | D12: 16105805
A13: Global | B13: 46376 | C13: 1.2309538e+08 | D13: 1.0961777e+08

Sheet Sheet1
A1: PBV Decile as of 1/1/22 | B1: # Firms | C1: Mkt Cap on 1/1/22 | D1: Mkt Cap on 3/16/22 | E1: % Change in Market Cap
A2: ='Pivot 1'!A2 -> Bottom decile | B2: ='Pivot 1'!B2 -> 2833 | C2: ='Pivot 1'!C2 -> 3447044.3 | D2: ='Pivot 1'!D2 -> 2715534.3 | E2: =D2/C2-1 -> -0.2122137
A3: ='Pivot 1'!A3 -> 2nd decile | B3: ='Pivot 1'!B3 -> 2834 | C3: ='Pivot 1'!C3 -> 4784743.8 | D3: ='Pivot 1'!D3 -> 3858507 | E3: =D3/C3-1 -> -0.19358129
A4: ='Pivot 1'!A4 -> 3rd decile | B4: ='Pivot 1'!B4 -> 2834 | C4: ='Pivot 1'!C4 -> 8495716.8 | D4: ='Pivot 1'!D4 -> 7342615.8 | E4: =D4/C4-1 -> -0.13572733
A5: ='Pivot 1'!A5 -> 4th decile | B5: ='Pivot 1'!B5 -> 2834 | C5: ='Pivot 1'!C5 -> 16583953 | D5: ='Pivot 1'!D5 -> 13968473 | E5: =D5/C5-1 -> -0.1577115
A6: ='Pivot 1'!A6 -> 5th decile | B6: ='Pivot 1'!B6 -> 2834 | C6: ='Pivot 1'!C6 -> 17318591 | D6: ='Pivot 1'!D6 -> 15916605 | E6: =D6/C6-1 -> -0.080952668
A7: ='Pivot 1'!A7 -> 6th decile | B7: ='Pivot 1'!B7 -> 2834 | C7: ='Pivot 1'!C7 -> 16173697 | D7: ='Pivot 1'!D7 -> 14987310 | E7: =D7/C7-1 -> -0.073352902
A8: ='Pivot 1'!A8 -> 7th decile | B8: ='Pivot 1'!B8 -> 2834 | C8: ='Pivot 1'!C8 -> 13621838 | D8: ='Pivot 1'!D8 -> 12293529 | E8: =D8/C8-1 -> -0.097513221
A9: ='Pivot 1'!A9 -> 8th decile | B9: ='Pivot 1'!B9 -> 2834 | C9: ='Pivot 1'!C9 -> 12089335 | D9: ='Pivot 1'!D9 -> 11184129 | E9: =D9/C9-1 -> -0.074876368
A10: ='Pivot 1'!A10 -> 9th decile | B10: ='Pivot 1'!B10 -> 2834 | C10: ='Pivot 1'!C10 -> 8453162.9 | D10: ='Pivot 1'!D10 -> 7815569.1 | E10: =D10/C10-1 -> -0.075426662
A11: ='Pivot 1'!A11 -> Top decile | B11: ='Pivot 1'!B11 -> 2834 | C11: ='Pivot 1'!C11 -> 3716898.4 | D11: ='Pivot 1'!D11 -> 3429689.1 | E11: =D11/C11-1 -> -0.07727123
A12: ='Pivot 1'!A12 -> Missing | B12: ='Pivot 1'!B12 -> 18037 | C12: ='Pivot 1'!C12 -> 18410398 | D12: ='Pivot 1'!D12 -> 16105805 | E12: =D12/C12-1 -> -0.12517887
A13: ='Pivot 1'!A13 -> Global | B13: ='Pivot 1'!B13 -> 46376 | C13: ='Pivot 1'!C13 -> 1.2309538e+08 | D13: ='Pivot 1'!D13 -> 1.0961777e+08 | E13: =D13/C13-1 -> -0.10948918
