Workbook

Sheet Inputs
A1: Input cell | B1: Computed Value
A2: Operating Information | E2: Notes/Comments | F2: Tech/Dev Cost Growth
A3: All dollar values in millions | B3: Most Recent | C3: Prior year | F3: A1. Grow at same rate as total users | G3: =(Valuation!L21/Valuation!B21)^(1/10)-1 -> 0.08
A4: Number of Subscribers | B4: 238.39 | C4: 220.67 | E4: Number of users , with growth over last year | F4: A2. Grow at inflation rate | G4: =B32 -> 0.03
A5: Annual Subscription Revenue/ Subscriber | B5: =32126.4/B4 -> 134.76404 | C5: =31616/C4 -> 143.27276 | E5: Subscription Revenues/ # Users | F5: A3. Grow at risk free rate | G5: =B31 -> 0.04
A6: Customer Servicing Cost as % of revenues | B6: 0.16 | E6: Content cost as % of subscription revenues (starting year) | F6: A4. Direct Input | G6: 0.05
A7: Effective tax rate (current) | B7: 0.2 | C7: 0.2 | E7: Effective tax rate in most recent year | F7: Content Cost Growth
A8: Effective tax rate (steady state) | B8: 0.25 | E8: Effective tax rate in steady state | F8: A1. Grow at same rate as total users | G8: =(Valuation!L21/Valuation!B21)^(1/10)-1 -> 0.08
A9: Allocated Costs | F9: A2. Grow at inflation rate | G9: =B32 -> 0.03
A10: Technology & Development Cost | B10: 2711 | E10: Technology and Development Cost | F10: A3. Grow at risk free rate | G10: =B31 -> 0.04
A11: General & Administrative Costs | B11: 1572.9 | F11: A4. Direct Input | G11: 0.05
A12: Content Costs | B12: 14026 | E12: Content costs in income statement
A13: Percentage of Content Costs directly attributed to subscribers | B13: 0.2
A14: Existing User Data | F14: Cost of Capital (in euros)
A15: Lifetime of a Netflix Subscriber (in years) | B15: 15 | E15: Typical subscriber life with company | F15: B1. Lowest decile of Global companies (7%) | G15: 0.07
A16: Annual Renewal Probability | B16: 0.9 | E16: Annual Renewal probability (assumed to be constant over time) | F16: b2. 25th percentile of Global companies (8.25%) | G16: 0.0825
A17: Growth rate in Subscription Charge | B17: 0.05 | E17: Growth Rate in Subscription Charge/Subscriber | F17: B3. Median of Global companies (9.50%) | G17: 0.095
A18: Growth rate in Service Cost/Subscriber | B18: 0.03 | E18: Growth rate in Content Cost/Subscriber | F18: B4. 75th percentile of Global companies (11.00%)) | G18: 0.11
A19: New User Information | F19: B5. Ninth decile of Global companies (12.5%) | G19: 0.125
A20: Total cost of acquiring new users in most recent year | B20: =2531 -> 2531 | E20: Selling and Marketing Cost + Capitalized Content Costs | F20: B6. Direct input | G20: 0.1
A21: Growth rate in # Members (Years 1-5) | B21: 0.08 | E21: Growth Rate in # Subscribers - Years 1-5
A22: Growth rate in # Members (Years 6-10) | B22: 0.08 | E22: Growth Rate in # Subscribers - Years 6-10
A23: Growth rate in # Members after year 10 | B23: 0.04 | E23: Growth Rate in # Subscribers after year 10
A24: G&A Data
A25: Growth rate approach for technology & development costs | B25: A3. Grow at risk free rate | E25: Growth Rate option for total other costs
A26: Growth rate in tech development costs for next 10 years | B26: =VLOOKUP(B25,F3:G6,2) -> 0.04 | E26: DO NOT INPUT
A27: Growth rate approach for non-subscriber related content | B27: A2. Grow at inflation rate
A28: Growth rate in content costs for next 10 years | B28: 0.03 | E28: Total Revenues from Advertising (most recent year)
A29: Growth rate in G&A costs for next 10 years | B29: 0.03 | E29: Growth rate in advertising revenues - Years 1-5
A30: Macroeconomic Data | E30: Growth rate in advertising revenues - Years 6-10
A31: Risk free Rate | B31: 0.04
A32: Inflation Rate | B32: 0.03 | E32: Risk free Rate
A33: Cost of capital for existing users (input choice) | B33: B3. Median of Global companies (9.50%) | E33: Inflation Rate
A34: Cost of capital (existing users) | B34: =VLOOKUP(B33,F15:G20,2) -> 0.095 | E34: Cost of capital option (for existing subscribers)
A35: Cost of capital for new users (input choice) | B35: B4. 75th percentile of Global companies (11.00%)) | E35: DO NOT INPUT
A36: Cost of capital (new users) | B36: =VLOOKUP(B35,F15:G20,2) -> 0.11 | C36: Do not input | E36: Cost of capital option (for new subscribers
A37: Other Company Data | E37: DO NOT INPUT
A38: Cash & Marketable Securities | B38: 8577
A39: Cross Holdings in Other Companies | B39: 0 | E39: Cash and Marketable Securities
A40: Debt Outstanding | B40: 16998 | E40: Minority Cross Holdings
...

Sheet Valuation
A1: Value of Existing Subscribers
B2: Base Year | C2: 1 | D2: 2 | E2: 3 | F2: 4 | G2: 5 | H2: 6 | I2: 7 | J2: 8 | K2: 9 | L2: 10 | M2: =L2+1 -> 11 | N2: =M2+1 -> 12 | O2: =N2+1 -> 13 | P2: =O2+1 -> 14 | Q2: =P2+1 -> 15 | R2: =Q2+1 -> 16 | S2: =R2+1 -> 17 | T2: =S2+1 -> 18 | ... V2: =U2+1 -> 20
A3: Life Indicator | C3: =IF(C2>Inputs!$B$15,0,1) -> 1 | D3: =IF(D2>Inputs!$B$15,0,1) -> 1 | E3: =IF(E2>Inputs!$B$15,0,1) -> 1 | F3: =IF(F2>Inputs!$B$15,0,1) -> 1 | G3: =IF(G2>Inputs!$B$15,0,1) -> 1 | H3: =IF(H2>Inputs!$B$15,0,1) -> 1 | I3: =IF(I2>Inputs!$B$15,0,1) -> 1 | J3: =IF(J2>Inputs!$B$15,0,1) -> 1 | ... V3: =IF(V2>Inputs!$B$15,0,1) -> 0
A4: Membership Survival | B4: =1 -> 1 | C4: =B4*Inputs!$B$16 -> 0.9 | D4: =C4*Inputs!$B$16 -> 0.81 | E4: =D4*Inputs!$B$16 -> 0.729 | F4: =E4*Inputs!$B$16 -> 0.6561 | G4: =F4*Inputs!$B$16 -> 0.59049 | H4: =G4*Inputs!$B$16 -> 0.531441 | I4: =H4*Inputs!$B$16 -> 0.4782969 | J4: =I4*Inputs!$B$16 -> 0.43046721 | ... V4: =U4*Inputs!$B$16 -> 0.12157665
A5: Revenue/Subscriber | B5: =Inputs!B5 -> 134.76404 | C5: =B5*(1+Inputs!$B$17) -> 141.50224 | D5: =C5*(1+Inputs!$B$17) -> 148.57736 | E5: =D5*(1+Inputs!$B$17) -> 156.00622 | F5: =E5*(1+Inputs!$B$17) -> 163.80654 | G5: =F5*(1+Inputs!$B$17) -> 171.99686 | H5: =G5*(1+Inputs!$B$17) -> 180.59671 | I5: =H5*(1+Inputs!$B$17) -> 189.62654 | J5: =I5*(1+Inputs!$B$17) -> 199.10787 | ... V5: =U5*(1+Inputs!$B$17) -> 357.56912
A6: Cost/ Subscriber | B6: =Inputs!B6*B5+(Inputs!B13*Inputs!B12)/Inputs!B4 -> 33.329519 | C6: =B6*(1+Inputs!$B$18) -> 34.329404 | D6: =C6*(1+Inputs!$B$18) -> 35.359287 | E6: =D6*(1+Inputs!$B$18) -> 36.420065 | F6: =E6*(1+Inputs!$B$18) -> 37.512667 | G6: =F6*(1+Inputs!$B$18) -> 38.638047 | H6: =G6*(1+Inputs!$B$32) -> 39.797189 | I6: =H6*(1+Inputs!$B$32) -> 40.991104 | J6: =I6*(1+Inputs!$B$32) -> 42.220837 | K6: =J6*(1+Inputs!$B$32) -> 43.487462 | L6: =K6*(1+Inputs!$B$32) -> 44.792086 | M6: =L6*(1+Inputs!$B$32) -> 46.135849 | N6: =M6*(1+Inputs!$B$32) -> 47.519924 | O6: =N6*(1+Inputs!$B$32) -> 48.945522 | ... V6: =U6*(1+Inputs!$B$32) -> 60.196818
A7: Operating Profit/Loss per Subscriber | B7: =B5-B6 -> 101.43452 | C7: =C5-C6 -> 107.17284 | D7: =D5-D6 -> 113.21807 | E7: =E5-E6 -> 119.58616 | F7: =F5-F6 -> 126.29387 | G7: =G5-G6 -> 133.35882 | H7: =H5-H6 -> 140.79952 | I7: =I5-I6 -> 148.63544 | ... V7: =V5-V6 -> 297.37231
A8: Tax rate | B8: =Inputs!B7 -> 0.2 | C8: =B8+($L$8-$B$8)/10 -> 0.205 | D8: =C8+($L$8-$B$8)/10 -> 0.21 | E8: =D8+($L$8-$B$8)/10 -> 0.215 | F8: =E8+($L$8-$B$8)/10 -> 0.22 | G8: =F8+($L$8-$B$8)/10 -> 0.225 | H8: =G8+($L$8-$B$8)/10 -> 0.23 | I8: =H8+($L$8-$B$8)/10 -> 0.235 | J8: =I8+($L$8-$B$8)/10 -> 0.24 | K8: =J8+($L$8-$B$8)/10 -> 0.245 | L8: =Inputs!B8 -> 0.25 | M8: =L8 -> 0.25 | N8: =M8 -> 0.25 | O8: =N8 -> 0.25 | P8: =O8 -> 0.25 | Q8: =P8 -> 0.25 | R8: =Q8 -> 0.25 | S8: =R8 -> 0.25 | T8: =S8 -> 0.25 | ... V8: =U8 -> 0.25
A9: After-tax Operating Income | B9: =B7*(1-B8) -> 81.147619 | C9: =C3*C4*C7*(1-C8) -> 76.682167 | D9: =D3*D4*D7*(1-D8) -> 72.448243 | E9: =E3*E4*E7*(1-E8) -> 68.434973 | F9: =F3*F4*F7*(1-F8) -> 64.631897 | G9: =G3*G4*G7*(1-G8) -> 61.028961 | H9: =H3*H4*H7*(1-H8) -> 57.61651 | I9: =I3*I4*I7*(1-I8) -> 54.385279 | J9: =J3*J4*J7*(1-J8) -> 51.326389 | ... V9: =V3*V4*V7*(1-V8) -> 0
A10: Present Value (at Cost of Capital) | C10: =C9/(1+Inputs!$B$34)^Valuation!C2 -> 70.029376 | D10: =D9/(1+Inputs!$B$34)^Valuation!D2 -> 60.422629 | E10: =E9/(1+Inputs!$B$34)^Valuation!E2 -> 52.123761 | F10: =F9/(1+Inputs!$B$34)^Valuation!F2 -> 44.956286 | G10: =G9/(1+Inputs!$B$34)^Valuation!G2 -> 38.767285 | H10: =H9/(1+Inputs!$B$34)^Valuation!H2 -> 33.424293 | I10: =I9/(1+Inputs!$B$34)^Valuation!I2 -> 28.812605 | J10: =J9/(1+Inputs!$B$34)^Valuation!J2 -> 24.832918 | ... V10: =V9/(1+Inputs!$B$34)^Valuation!V2 -> 0
A11: Life of subscriber = | B11: =Inputs!B15 -> 15
A12: Value per Subscriber = | B12: =SUM(C10:V10) -> 454.53678
A13: Number of Subscribers = | B13: =Inputs!B4 -> 238.39
A14: Value of Existing Subscribers = | B14: =B13*B12 -> 108357.02
A16: Value of New Subscribers
A17: Cost of Acquiring a New Subscriber | B17: =(Inputs!B20+Inputs!B12*Inputs!B13)/(Inputs!B4-Inputs!C4*Inputs!B16) -> 134.11918
A18: Value per new user (in today's $) = | B18: =B12-B17 -> 320.4176
B20: Base Year | C20: 1 | D20: 2 | E20: 3 | F20: 4 | G20: 5 | H20: 6 | I20: 7 | J20: 8 | K20: 9 | L20: 10 | M20: Steady State
A21: Total Subscribers | B21: =Inputs!B4 -> 238.39 | C21: =B21*Inputs!$B$16+C22 -> 257.4612 | D21: =C21*Inputs!$B$16+D22 -> 278.0581 | E21: =D21*Inputs!$B$16+E22 -> 300.30274 | F21: =E21*Inputs!$B$16+F22 -> 324.32696 | G21: =F21*Inputs!$B$16+G22 -> 350.27312 | H21: =G21*Inputs!$B$16+H22 -> 378.29497 | I21: =H21*Inputs!$B$16+I22 -> 408.55857 | J21: =I21*Inputs!$B$16+J22 -> 441.24325 | ... L21: =K21*Inputs!$B$16+L22 -> 514.66613
A22: New Subscribers | B22: 0 | C22: =(B21)*(1+Inputs!$B$21)-(B21)+B21*(1-Inputs!$B$16) -> 42.9102 | D22: =(C21)*(1+Inputs!$B$21)-(C21)+C21*(1-Inputs!$B$16) -> 46.343016 | E22: =(D21)*(1+Inputs!$B$21)-(D21)+D21*(1-Inputs!$B$16) -> 50.050457 | F22: =(E21)*(1+Inputs!$B$21)-(E21)+E21*(1-Inputs!$B$16) -> 54.054494 | G22: =(F21)*(1+Inputs!$B$21)-(F21)+F21*(1-Inputs!$B$16) -> 58.378853 | H22: =(G21)*(1+Inputs!$B$22)-(G21)+G21*(1-Inputs!$B$16) -> 63.049162 | I22: =(H21)*(1+Inputs!$B$22)-(H21)+H21*(1-Inputs!$B$16) -> 68.093095 | J22: =(I21)*(1+Inputs!$B$22)-(I21)+I21*(1-Inputs!$B$16) -> 73.540542 | K22: =(J21)*(1+Inputs!$B$22)-(J21)+J21*(1-Inputs!$B$16) -> 79.423786 | L22: =(K21)*(1+Inputs!$B$22)-(K21)+K21*(1-Inputs!$B$16) -> 85.777688 | M22: =(K21)-(K21)+K21*(1-Inputs!$B$16) -> 47.654271
A23: Value per Subscriber | B23: =B18 -> 320.4176 | C23: =B23*(1+Inputs!$B$32) -> 330.03012 | D23: =C23*(1+Inputs!$B$32) -> 339.93103 | E23: =D23*(1+Inputs!$B$32) -> 350.12896 | F23: =E23*(1+Inputs!$B$32) -> 360.63283 | G23: =F23*(1+Inputs!$B$32) -> 371.45181 | H23: =G23*(1+Inputs!$B$32) -> 382.59537 | I23: =H23*(1+Inputs!$B$32) -> 394.07323 | J23: =I23*(1+Inputs!$B$32) -> 405.89542 | ... L23: =K23*(1+Inputs!$B$32) -> 430.61446
A24: Value added by new Subscribers | C24: =C22*C23 -> 14161.659 | D24: =D22*D23 -> 15753.429 | E24: =E22*E23 -> 17524.115 | F24: =F22*F23 -> 19493.825 | G24: =G22*G23 -> 21684.931 | H24: =H22*H23 -> 24122.317 | I24: =I22*I23 -> 26833.666 | J24: =J22*J23 -> 29849.77 | ... L24: =L22*L23 -> 36937.113
A25: Terminal Value (New Subscribers) | L25: =(M22*Valuation!L23*(1+Inputs!B32))/(Inputs!B36-Inputs!B32) -> 264202.96
A26: Present Value | C26: =C24/(1+Inputs!$B$36)^Valuation!C20 -> 12758.251 | D26: =D24/(1+Inputs!$B$36)^Valuation!D20 -> 12785.836 | E26: =E24/(1+Inputs!$B$36)^Valuation!E20 -> 12813.481 | F26: =F24/(1+Inputs!$B$36)^Valuation!F20 -> 12841.186 | G26: =G24/(1+Inputs!$B$36)^Valuation!G20 -> 12868.951 | H26: =H24/(1+Inputs!$B$36)^Valuation!H20 -> 12896.776 | I26: =I24/(1+Inputs!$B$36)^Valuation!I20 -> 12924.661 | J26: =J24/(1+Inputs!$B$36)^Valuation!J20 -> 12952.606 | K26: =K24/(1+Inputs!$B$36)^Valuation!K20 -> 12980.612 | L26: =(L25+L24)/(1+Inputs!B36)^Valuation!L20 -> 106056.86
A27: Value Added by New Users | B27: =SUM(C26:L26) -> 221879.22
A29: Value Drag of Corporate Expenses (Cost)
B30: =B20 -> Base Year | C30: =C20 -> 1 | D30: =D20 -> 2 | E30: =E20 -> 3 | F30: =F20 -> 4 | G30: =G20 -> 5 | H30: =H20 -> 6 | I30: =I20 -> 7 | ... L30: =L20 -> 10
A31: Technology & Development | B31: =Inputs!B10 -> 2711 | C31: =B31*(1+Inputs!$B$26) -> 2819.44 | D31: =C31*(1+Inputs!$B$26) -> 2932.2176 | E31: =D31*(1+Inputs!$B$26) -> 3049.5063 | F31: =E31*(1+Inputs!$B$26) -> 3171.4866 | G31: =F31*(1+Inputs!$B$26) -> 3298.346 | H31: =G31*(1+Inputs!$B$26) -> 3430.2799 | I31: =H31*(1+Inputs!$B$26) -> 3567.4911 | J31: =I31*(1+Inputs!$B$26) -> 3710.1907 | ... L31: =K31*(1+Inputs!$B$26) -> 4012.9423
A32: Content Costs | B32: =Inputs!B12*(1-Inputs!B13) -> 11220.8 | C32: =B32*(1+Inputs!$B$28) -> 11557.424 | D32: =C32*(1+Inputs!$B$28) -> 11904.147 | E32: =D32*(1+Inputs!$B$28) -> 12261.271 | F32: =E32*(1+Inputs!$B$28) -> 12629.109 | G32: =F32*(1+Inputs!$B$28) -> 13007.983 | H32: =G32*(1+Inputs!$B$28) -> 13398.222 | I32: =H32*(1+Inputs!$B$28) -> 13800.169 | J32: =I32*(1+Inputs!$B$28) -> 14214.174 | ... L32: =K32*(1+Inputs!$B$28) -> 15079.817
A33: G&A Costs | B33: =Inputs!B11 -> 1572.9 | C33: =B33*(1+Inputs!$B$29) -> 1620.087 | D33: =C33*(1+Inputs!$B$29) -> 1668.6896 | E33: =D33*(1+Inputs!$B$29) -> 1718.7503 | F33: =E33*(1+Inputs!$B$29) -> 1770.3128 | G33: =F33*(1+Inputs!$B$29) -> 1823.4222 | H33: =G33*(1+Inputs!$B$29) -> 1878.1249 | I33: =H33*(1+Inputs!$B$29) -> 1934.4686 | J33: =I33*(1+Inputs!$B$29) -> 1992.5027 | ... L33: =K33*(1+Inputs!$B$29) -> 2113.8461
A34: After-tax Corporate Expenses | C34: =(C31+C32+C33)*(1-C8) -> 12717.576 | D34: =(D31+D32+D33)*(1-D8) -> 13038.993 | E34: =(E31+E32+E33)*(1-E8) -> 13368.179 | F34: =(F31+F32+F33)*(1-F8) -> 13705.309 | G34: =(G31+G32+G33)*(1-G8) -> 14050.557 | H34: =(H31+H32+H33)*(1-H8) -> 14404.103 | I34: =(I31+I32+I33)*(1-I8) -> 14766.128 | J34: =(J31+J32+J33)*(1-J8) -> 15136.819 | ... L34: =(L31+L32+L33)*(1-L8) -> 15904.954
A35: Terminal Value (Corporate Exp) | L35: =L34*(1+Inputs!B31)/(Inputs!B34-Inputs!B31) -> 300748.22
A36: PV of Corporate Expenses | C36: =C34/(1+Inputs!$B$34)^Valuation!C20 -> 11614.225 | D36: =D34/(1+Inputs!$B$34)^Valuation!D20 -> 10874.663 | E36: =E34/(1+Inputs!$B$34)^Valuation!E20 -> 10181.925 | F36: =F34/(1+Inputs!$B$34)^Valuation!F20 -> 9533.0604 | G36: =G34/(1+Inputs!$B$34)^Valuation!G20 -> 8925.3024 | H36: =H34/(1+Inputs!$B$34)^Valuation!H20 -> 8356.0589 | I36: =I34/(1+Inputs!$B$34)^Valuation!I20 -> 7822.9004 | J36: =J34/(1+Inputs!$B$34)^Valuation!J20 -> 7323.5502 | K36: =K34/(1+Inputs!$B$34)^Valuation!K20 -> 6855.8748 | L36: =(L34+L35)/(1+Inputs!$B$34)^Valuation!L20 -> 127774.05
A37: Value Drag of Corporate Expenses | B37: =SUM(C36:L36) -> 209261.61
A39: Valuing Netflix
A40: Value of Existing Subscribers | B40: =B21*B12 -> 108357.02
A41: Value of New Subscribers | B41: =SUM(C26:L26) -> 221879.22
A42: - PV of Corporate Expenses | B42: =SUM(C36:L36) -> 209261.61
A43: Value of Operating Assets | B43: =SUM(B40:B41)-B42 -> 120974.63
A44: + Cash & Cross Holdings | B44: =Inputs!B38+Inputs!B39 -> 8577
...

Sheet Input choices
A1: Yes or No | B1: Cost of capital
A2: Yes | B2: Lowest decile of US companies (7%)
A3: No | B3: 25th percentile of US companies (8.25%)
B4: Median of US companies (9.5%)
B5: 75th percentile of US companies (11%)
B6: Ninth decile of US companies (12.5%)
B7: Direct input
