Workbook

Sheet Pivot 1
C1: Standard Deviation in Stock Returns | G1: HiLo Risk Measure | K1: Correlation with Market | O1: Beta | S1: Coefficient of Variation: Operating Income | W1: Coefficient of Variation: Net Income
A2: PE Decile | B2: # Firms | C2: Average | D2: Q1 | E2: Median | F2: Q3 | G2: Average | H2: Q1 | I2: Median | J2: Q3 | K2: Average | L2: Q1 | M2: Median | N2: Q3 | O2: Average | P2: Q1 | Q2: Median | R2: Q3 | S2: Average | T2: Q1 | U2: Median | V2: Q3 | W2: Average | X2: Q1 | Y2: Median | Z2: Q3
A3: Bottom decile | B3: 2747 | C3: 0.3980412 | D3: 0.25264533 | E3: 0.346679 | F3: 0.4776704 | G3: 0.36461675 | H3: 0.22501336 | I3: 0.32630289 | J3: 0.46475017 | K3: 0.21196316 | L3: 0.09486833 | M3: 0.18165902 | N3: 0.30166206 | O3: 1.1313403 | P3: 0.44116129 | Q3: 0.99232558 | R3: 1.6281111 | S3: 0.88912324 | T3: 0.50931589 | U3: 0.84377179 | V3: 1.2156596 | W3: 0.95892061 | X3: 0.57542467 | Y3: 0.92243368 | Z3: 1.2729323
A4: 2nd decile | B4: 2747 | C4: 0.32693728 | D4: 0.22388926 | E4: 0.29051301 | F4: 0.39481144 | G4: 0.29796687 | H4: 0.18863457 | I4: 0.2755411 | J4: 0.38009912 | K4: 0.24872148 | L4: 0.1183216 | M4: 0.23021729 | N4: 0.35637059 | O4: 1.0365161 | P4: 0.48321111 | Q4: 0.91894186 | R4: 1.4470233 | S4: 0.71709603 | T4: 0.39093414 | U4: 0.64033125 | V4: 0.98919222 | W4: 0.830781 | X4: 0.46717102 | Y4: 0.74726475 | Z4: 1.1336577
A5: 3rd decile | B5: 2747 | C5: 0.31041482 | D5: 0.2112677 | E5: 0.28056229 | F5: 0.36760958 | G5: 0.28300375 | H5: 0.17751479 | I5: 0.2579001 | J5: 0.36189748 | K5: 0.25521475 | L5: 0.13038405 | M5: 0.232379 | N5: 0.36193922 | O5: 1.0002347 | P5: 0.50588372 | Q5: 0.9286551 | R5: 1.3905 | S5: 0.67096328 | T5: 0.35592351 | U5: 0.57388998 | V5: 0.90765928 | W5: 0.75456293 | X5: 0.4129573 | Y5: 0.65504146 | Z5: 1.0491959
A6: 4th decile | B6: 2747 | C6: 0.29539638 | D6: 0.20255319 | E6: 0.26779015 | F6: 0.35082419 | G6: 0.27456358 | H6: 0.17018284 | I6: 0.2472579 | J6: 0.3527897 | K6: 0.2592429 | L6: 0.13038405 | M6: 0.23874673 | N6: 0.3660601 | O6: 0.95113412 | P6: 0.46416279 | Q6: 0.90696808 | R6: 1.3508163 | S6: 0.62903128 | T6: 0.32752126 | U6: 0.51772813 | V6: 0.84472261 | W6: 0.72688447 | X6: 0.36985628 | Y6: 0.60188383 | Z6: 1.0271629
A7: 5th decile | B7: 2747 | C7: 0.29357658 | D7: 0.20435264 | E7: 0.26643988 | F7: 0.35180803 | G7: 0.2683804 | H7: 0.16839917 | I7: 0.24346857 | J7: 0.34126258 | K7: 0.25727283 | L7: 0.12649111 | M7: 0.23452079 | N7: 0.36469165 | O7: 0.96350555 | P7: 0.46665116 | Q7: 0.87595349 | R7: 1.3227742 | S7: 0.61765209 | T7: 0.30682619 | U7: 0.4983287 | V7: 0.84863781 | W7: 0.70460369 | X7: 0.36423422 | Y7: 0.58404898 | Z7: 0.98402432
A8: 6th decile | B8: 2748 | C8: 0.30114799 | D8: 0.20958645 | E8: 0.27340685 | F8: 0.35955973 | G8: 0.27423735 | H8: 0.17151285 | I8: 0.25031555 | J8: 0.34798016 | K8: 0.25093915 | L8: 0.13038405 | M8: 0.23021729 | N8: 0.35213634 | O8: 0.95489957 | P8: 0.44186047 | Q8: 0.88462791 | R8: 1.3595349 | S8: 0.60995023 | T8: 0.30659155 | U8: 0.49687676 | V8: 0.8473749 | W8: 0.70900922 | X8: 0.34027736 | Y8: 0.5749085 | Z8: 0.98920716
A9: 7th decile | B9: 2747 | C9: 0.30820243 | D9: 0.21234096 | E9: 0.2797798 | F9: 0.3631737 | G9: 0.27602231 | H9: 0.17514595 | I9: 0.25348189 | J9: 0.35535308 | K9: 0.24882943 | L9: 0.13416408 | M9: 0.2258318 | N9: 0.33615473 | O9: 0.99558566 | P9: 0.50567442 | Q9: 0.94548837 | R9: 1.3976744 | S9: 0.60648996 | T9: 0.3046278 | U9: 0.4888255 | V9: 0.85362859 | W9: 0.71793216 | X9: 0.35004931 | Y9: 0.58238745 | Z9: 1.0097485
A10: 8th decile | B10: 2747 | C10: 0.32582077 | D10: 0.22172677 | E10: 0.29357929 | F10: 0.39721044 | G10: 0.29739656 | H10: 0.1911132 | I10: 0.2780795 | J10: 0.37964303 | K10: 0.24050931 | L10: 0.13038405 | M10: 0.21908902 | N10: 0.32557641 | O10: 1.0459381 | P10: 0.50483721 | Q10: 0.97769767 | R10: 1.4787674 | S10: 0.67560216 | T10: 0.32948301 | U10: 0.57161326 | V10: 0.96027728 | W10: 0.77645328 | X10: 0.38121536 | Y10: 0.64048973 | Z10: 1.1103156
A11: 9th decile | B11: 2747 | C11: 0.35892102 | D11: 0.23861754 | E11: 0.32034183 | F11: 0.4262502 | G11: 0.31480791 | H11: 0.20683453 | I11: 0.29752066 | J11: 0.39516129 | K11: 0.22285969 | L11: 0.1183216 | M11: 0.2 | N11: 0.3 | O11: 1.0891671 | P11: 0.54462245 | Q11: 1.0327442 | R11: 1.527907 | S11: 0.72945177 | T11: 0.38810747 | U11: 0.63117908 | V11: 1.0204471 | W11: 0.85828825 | X11: 0.44679499 | Y11: 0.75904921 | Z11: 1.2078617
A12: Top decile | B12: 2748 | C12: 0.38164857 | D12: 0.24873244 | E12: 0.33951226 | F12: 0.46647735 | G12: 0.34721992 | H12: 0.22608696 | I12: 0.32668292 | J12: 0.4368932 | K12: 0.20517291 | L12: 0.1 | M12: 0.18439089 | N12: 0.27748874 | O12: 1.0430862 | P12: 0.4608871 | Q12: 0.99827907 | R12: 1.4982093 | S12: 0.88759916 | T12: 0.51655577 | U12: 0.87179325 | V12: 1.2063495 | W12: 1.0405915 | X12: 0.61151405 | Y12: 1.0404671 | Z12: 1.3693215
A13: Earnings Negative | B13: 16376 | C13: 0.58120836 | D13: 0.35321642 | E13: 0.50469951 | F13: 0.7397459 | G13: 0.51512294 | H13: 0.33333333 | I13: 0.48493105 | J13: 0.68789204 | K13: 0.15456004 | L13: 0.070710678 | M13: 0.13038405 | N13: 0.21213203 | O13: 1.2355458 | P13: 0.46046667 | Q13: 1.0573953 | R13: 1.7491778 | S13: 1.0910463 | T13: 0.70290236 | U13: 1.0361904 | V13: 1.2940494 | W13: 1.2120892 | X13: 0.78361442 | Y13: 1.1240809 | Z13: 1.435404

Sheet Sheet1
C2: Price Based | F2: Earnings Based
B3: PE Decile | C3: HiLo Risk | D3: Std Deviation | E3: Correlation | F3: CV: Operating Income | G3: CV: Net Income
B4: Lowest PE | C4: ='Pivot 1'!I3 -> 0.32630289 | D4: ='Pivot 1'!E3 -> 0.346679 | E4: ='Pivot 1'!M3 -> 0.18165902 | F4: ='Pivot 1'!V3 -> 1.2156596 | G4: ='Pivot 1'!Y3 -> 0.92243368
B5: ='[1]Pivot 1'!A3 -> 2nd decile | C5: ='Pivot 1'!I4 -> 0.2755411 | D5: ='Pivot 1'!E4 -> 0.29051301 | E5: ='Pivot 1'!M4 -> 0.23021729 | F5: ='Pivot 1'!V4 -> 0.98919222 | G5: ='Pivot 1'!Y4 -> 0.74726475
B6: ='[1]Pivot 1'!A4 -> 3rd decile | C6: ='Pivot 1'!I5 -> 0.2579001 | D6: ='Pivot 1'!E5 -> 0.28056229 | E6: ='Pivot 1'!M5 -> 0.232379 | F6: ='Pivot 1'!V5 -> 0.90765928 | G6: ='Pivot 1'!Y5 -> 0.65504146
B7: ='[1]Pivot 1'!A5 -> 4th decile | C7: ='Pivot 1'!I6 -> 0.2472579 | D7: ='Pivot 1'!E6 -> 0.26779015 | E7: ='Pivot 1'!M6 -> 0.23874673 | F7: ='Pivot 1'!V6 -> 0.84472261 | G7: ='Pivot 1'!Y6 -> 0.60188383
B8: ='[1]Pivot 1'!A6 -> 5th decile | C8: ='Pivot 1'!I7 -> 0.24346857 | D8: ='Pivot 1'!E7 -> 0.26643988 | E8: ='Pivot 1'!M7 -> 0.23452079 | F8: ='Pivot 1'!V7 -> 0.84863781 | G8: ='Pivot 1'!Y7 -> 0.58404898
B9: ='[1]Pivot 1'!A7 -> 6th decile | C9: ='Pivot 1'!I8 -> 0.25031555 | D9: ='Pivot 1'!E8 -> 0.27340685 | E9: ='Pivot 1'!M8 -> 0.23021729 | F9: ='Pivot 1'!V8 -> 0.8473749 | G9: ='Pivot 1'!Y8 -> 0.5749085
B10: ='[1]Pivot 1'!A8 -> 7th decile | C10: ='Pivot 1'!I9 -> 0.25348189 | D10: ='Pivot 1'!E9 -> 0.2797798 | E10: ='Pivot 1'!M9 -> 0.2258318 | F10: ='Pivot 1'!V9 -> 0.85362859 | G10: ='Pivot 1'!Y9 -> 0.58238745
B11: ='[1]Pivot 1'!A9 -> 8th decile | C11: ='Pivot 1'!I10 -> 0.2780795 | D11: ='Pivot 1'!E10 -> 0.29357929 | E11: ='Pivot 1'!M10 -> 0.21908902 | F11: ='Pivot 1'!V10 -> 0.96027728 | G11: ='Pivot 1'!Y10 -> 0.64048973
B12: ='[1]Pivot 1'!A10 -> 9th decile | C12: ='Pivot 1'!I11 -> 0.29752066 | D12: ='Pivot 1'!E11 -> 0.32034183 | E12: ='Pivot 1'!M11 -> 0.2 | F12: ='Pivot 1'!V11 -> 1.0204471 | G12: ='Pivot 1'!Y11 -> 0.75904921
B13: Highest PE | C13: ='Pivot 1'!I12 -> 0.32668292 | D13: ='Pivot 1'!E12 -> 0.33951226 | E13: ='Pivot 1'!M12 -> 0.18439089 | F13: ='Pivot 1'!V12 -> 1.2063495 | G13: ='Pivot 1'!Y12 -> 1.0404671
B14: Money Losing Companies | C14: ='Pivot 1'!I13 -> 0.48493105 | D14: ='Pivot 1'!E13 -> 0.50469951 | E14: ='Pivot 1'!M13 -> 0.13038405 | F14: ='Pivot 1'!V13 -> 1.2940494 | G14: ='Pivot 1'!Y13 -> 1.1240809
