Workbook

Sheet Regression
A1: Linear Regression
A2: Dependent variable | C2: Earnings Yield
A3: Independent variables | C3: T.Bond Rate, Bond-Bill
A4: N | C4: 65
A7: Regression Statistics
A8: R | C8: 0.68863847 | D8: R-Squared | F8: 0.47422294 | G8: Adjusted R-Squared | I8: 0.45726239
A9: MSE | C9: 0.00030403207 | D9: S | F9: 0.017436515 | G9: MAPE | I9: 19.563457
A10: Durbin-Watson (DW) | C10: 0.68964605 | D10: Log likelihood | F10: 172.50198
A11: Akaike inf. criterion (AIC) | C11: -5.2154455 | D11: AICc | F11: -5.2124678
A12: Schwarz criterion (BIC) | C12: -5.1150892 | D12: Hannan-Quinn criterion (HQC) | F12: -5.1758485
A13: PRESS | C13: 0.020840465 | D13: PRESS RMSE | F13: 0.017905936 | G13: Predicted R-Squared | I13: 0.41870317
A15: Earnings Yield = 0.0341 + 0.5618 * T.Bond Rate - 0.0828 * Bond-Bill
A19: ANOVA
B20: d.f. | C20: SS | D20: MS | E20: F | F20: p-value
A21: Regression | B21: 2 | C21: 0.017001687 | D21: 0.0085008435 | E21: 27.960351 | F21: 2.2123334e-09
A22: Residual | B22: 62 | C22: 0.018849988 | D22: 0.00030403207
A23: Total | B23: 64 | C23: 0.035851675
B25: Coefficients | C25: Std Err | D25: LCL | E25: UCL | F25: t Stat | G25: p-value | H25: H0 (5%) | I25: VIF | J25: TOL | K25: Beta
A26: Intercept | B26: 0.034056753 | C26: 0.0052656612 | D26: 0.023530847 | E26: 0.04458266 | F26: 6.467707 | G26: 1.7775914e-08 | H26: Rejected
A27: T.Bond Rate | B27: 0.56182296 | C27: 0.075365333 | D27: 0.4111698 | E27: 0.71247611 | F27: 7.4546603 | G27: 3.5007985e-10 | H27: Rejected | I27: 1.0003055 | J27: 0.99969464 | K27: 0.68659265
A28: Bond-Bill | B28: -0.082845607 | C28: 0.1800258 | D28: -0.44271206 | E28: 0.27702084 | F28: -0.4601874 | G28: 0.6469916 | H28: Accepted | I28: 1.0003055 | J28: 0.99969464 | K28: -0.042384398
A29: T (5%) | B29: 1.9989715
A30: LCL - Lower limit of the 95% confidence interval
A31: UCL - Upper limit of the 95% confidence interval
A34: Collinearity diagnostics
D35: Proportion of Variation
A36: # | B36: Eigenvalue | C36: Condition Index | D36: Intercept | E36: T.Bond Rate | F36: Bond-Bill
A37: 1 | B37: 2.4826121 | C37: 1 | D37: 0.025034687 | E37: 0.028559981 | F37: 0.058178833
A38: 2 | B38: 0.41727894 | C38: 2.4391651 | D38: 0.028187138 | E38: 0.11503179 | F38: 0.84468359
A39: 3 | B39: 0.10010891 | C39: 4.9798708 | D39: 0.94677818 | E39: 0.85640823 | F39: 0.097137579
K40: =16.09 + 51.92* (0.15) + 7.53* (0.2) + 9.3* (0.9) -> 33.754
A42: Residuals
A43: Observation | B43: Earnings Yield | C43: Predicted Y | D43: Residual | E43: Standardized | F43: Studentized | G43: Deleted t | H43: Leverage | I43: Cook's D | J43: DFIT | K43: PRESS
A44: 1 | B44: 0.0534 | C44: 0.049480221 | D44: 0.0039197786 | E44: 0.22480286 | F44: 0.2299316 | G44: 0.22816708 | H44: 0.044113469 | I44: 0.00081328159 | J44: 0.049015723 | K44: 0.0041006735
A45: 2 | B45: 0.0471 | C45: 0.047077333 | D45: 2.2667425e-05 | E45: 0.0012999974 | F45: 0.0013311447 | G45: 0.001320366 | H45: 0.046250178 | I45: 2.864232e-08 | J45: 0.00029075942 | K45: 2.3766636e-05
A46: 3 | B46: 0.0581 | C46: 0.054759066 | D46: 0.0033409335 | E46: 0.19160557 | F46: 0.19370412 | G46: 0.19219381 | H46: 0.021550243 | I46: 0.00027546734 | J46: 0.028523066 | K46: 0.0034145172
A47: 4 | B47: 0.0551 | C47: 0.056471199 | D47: -0.0013711987 | E47: -0.07863949 | F47: -0.079438519 | G47: -0.078799291 | H47: 0.020015726 | I47: 4.2962868e-05 | J47: -0.011261557 | K47: -0.0013992048
A48: 5 | B48: 0.0562 | C48: 0.057154434 | D48: -0.00095443438 | E48: -0.054737679 | F48: -0.055356843 | G48: -0.054909959 | H48: 0.022244811 | I48: 2.3239135e-05 | J48: -0.0082822895 | K48: -0.00097614862
A49: 6 | B49: 0.0573 | C49: 0.059585033 | D49: -0.0022850326 | E49: -0.1310487 | F49: -0.1323563 | G49: -0.13130313 | H49: 0.01966131 | I49: 0.00011711279 | J49: -0.018594873 | K49: -0.0023308604
A50: 7 | B50: 0.0674 | C50: 0.060224753 | D50: 0.0071752466 | E50: 0.41150691 | F50: 0.41905246 | G50: 0.41624916 | H50: 0.035688214 | I50: 0.0021663213 | J50: 0.080076861 | K50: 0.0074407953
...

Sheet Correlation23
B1: Earnings Yield | C1: T.Bond Rate | D1: Bond-Bill
A2: Earnings Yield | B2: 1
A3: T.Bond Rate | B3: 0.68528479 | C3: 1
A4: Bond-Bill | B4: -0.10855058 | C4: -0.048368425 | D4: 1

Sheet Correlation24
B1: Earnings Yield | C1: T.Bond Rate | D1: Bond-Bill
A2: Earnings Yield | B2: 1
A3: T.Bond Rate | B3: 0.68760741 | C3: 1
A4: Bond-Bill | B4: -0.076615197 | C4: -0.025590552 | D4: 1

Sheet Regression24
A1: SUMMARY OUTPUT
A3: Regression Statistics
A4: Multiple R | B4: 0.69013728
A5: R Square | B5: 0.47628947
A6: Adjusted R Square | B6: 0.45911863
A7: Standard Error | B7: 0.01740699
A8: Observations | B8: 64
A10: ANOVA
B11: df | C11: SS | D11: MS | E11: F | F11: Significance F
A12: Regression | B12: 2 | C12: 0.01680958 | D12: 0.0084047901 | E12: 27.738279 | F12: 2.7057327e-09
A13: Residual | B13: 61 | C13: 0.018483202 | D13: 0.0003030033
A14: Total | B14: 63 | C14: 0.035292782
B16: Coefficients | C16: Standard Error | D16: t Stat | E16: P-value | F16: Lower 95% | G16: Upper 95% | H16: Lower 95.0% | I16: Upper 95.0%
A17: Intercept | B17: 0.034989418 | C17: 0.005324656 | D17: 6.5712072 | E17: 1.2575456e-08 | F17: 0.02434211 | G17: 0.045636726 | H17: 0.02434211 | I17: 0.045636726
A18: T.Bond Rate | B18: 0.55763752 | C18: 0.075333827 | D18: 7.4022195 | E18: 4.7083506e-10 | F18: 0.40699823 | G18: 0.70827682 | H18: 0.40699823 | I18: 0.70827682
A19: Bond-Bill | B19: -0.11612245 | C19: 0.1822482 | D19: -0.63716652 | E19: 0.52640061 | F19: -0.48055026 | G19: 0.24830535 | H19: -0.48055026 | I19: 0.24830535
B33: =19.34* (0.9) +10.37* (0.2)+ 68.7* (0.15) -> 29.785

Sheet Raw Data
A1: Year | B1: PE for S&P 500 | C1: Normalized PE for S&P 500 | D1: CAPE for S&P 500 | E1: Shiller PE (CAPE) | F1: T.Bond PE | G1: Ratio of Shiller PE to T.Bond PE | H1: Price to Dividend | I1: Price to Cash Return | J1: Year | K1: Earnings Yield | L1: T.Bond Rate | M1: Bond-Bill | N1: Earnings Yie3ld minus T.Bond rate | O1: Dividend Yield | P1: S&P 500 | Q1: Earnings | R1: Dividends | S1: Dividends + Buybacks | T1: Normalized Earnings | U1: Inflation rate | V1: Inflation factor | W1: Inflation adjusted earnings | X1: Inflation adjusted Normalized Earnings
A2: 1960 | B2: =1/K2 -> 18.726592 | E2: 17.56 | F2: =1/L2 -> 36.231884 | G2: =E2/F2 -> 0.484656 | H2: =P2/R2 -> 29.325513 | J2: 1960 | K2: =Q2/P2 -> 0.0534 | L2: 0.0276 | M2: 0.001 | N2: =K2-L2 -> 0.0258 | O2: 0.0341 | P2: 58.11 | Q2: 3.103074 | R2: 1.981551 | U2: 0.0136 | V2: 1 | W2: =Q2*V2 -> 3.103074
A3: 1961 | B3: =1/K3 -> 21.231423 | E3: 22.04 | F3: =1/L3 -> 42.553191 | G3: =E3/F3 -> 0.51794 | H3: =P3/R3 -> 35.087719 | J3: 1961 | K3: =Q3/P3 -> 0.0471 | L3: 0.0235 | M3: 0.0022 | N3: =K3-L3 -> 0.0236 | O3: 0.0285 | P3: 71.55 | Q3: 3.370005 | R3: 2.039175 | U3: 0.0067 | V3: =V2*(1+U3) -> 1.0067 | W3: =Q3*V3 -> 3.392584
A4: 1962 | B4: =1/K4 -> 17.211704 | E4: 18.59 | F4: =1/L4 -> 25.974026 | G4: =E4/F4 -> 0.715715 | H4: =P4/R4 -> 29.411765 | J4: 1962 | K4: =Q4/P4 -> 0.0581 | L4: 0.0385 | M4: 0.0112 | N4: =K4-L4 -> 0.0196 | O4: 0.034 | P4: 63.1 | Q4: 3.66611 | R4: 2.1454 | U4: 0.0123 | V4: =V3*(1+U4) -> 1.0190824 | W4: =Q4*V4 -> 3.7360682
A5: 1963 | B5: =1/K5 -> 18.14882 | E5: 21.04 | F5: =1/L5 -> 24.154589 | G5: =E5/F5 -> 0.871056 | H5: =P5/R5 -> 31.948882 | J5: 1963 | K5: =Q5/P5 -> 0.0551 | L5: 0.0414 | M5: 0.0102 | N5: =K5-L5 -> 0.0137 | O5: 0.0313 | P5: 75.02 | Q5: 4.133602 | R5: 2.348126 | U5: 0.0165 | V5: =V4*(1+U5) -> 1.0358973 | W5: =Q5*V5 -> 4.281987
A6: 1964 | B6: =1/K6 -> 17.793594 | E6: 22.75 | F6: =1/L6 -> 23.752969 | G6: =E6/F6 -> 0.957775 | H6: =P6/R6 -> 32.786885 | J6: 1964 | K6: =Q6/P6 -> 0.0562 | L6: 0.0421 | M6: 0.0067 | N6: =K6-L6 -> 0.0141 | O6: 0.0305 | P6: 84.75 | Q6: 4.76295 | R6: 2.584875 | U6: 0.012 | V6: =V5*(1+U6) -> 1.048328 | W6: =Q6*V6 -> 4.993134
A7: 1965 | B7: =1/K7 -> 17.452007 | E7: 23.69 | F7: =1/L7 -> 21.505376 | G7: =E7/F7 -> 1.101585 | H7: =P7/R7 -> 32.679739 | J7: 1965 | K7: =Q7/P7 -> 0.0573 | L7: 0.0465 | M7: 0.0072 | N7: =K7-L7 -> 0.0108 | O7: 0.0306 | P7: 92.43 | Q7: 5.296239 | R7: 2.828358 | U7: 0.0192 | V7: =V6*(1+U7) -> 1.0684559 | W7: =Q7*V7 -> 5.658798
A8: 1966 | B8: =1/K8 -> 14.836795 | E8: 19.74 | F8: =1/L8 -> 21.551724 | G8: =E8/F8 -> 0.915936 | H8: =P8/R8 -> 27.855153 | J8: 1966 | K8: =Q8/P8 -> 0.0674 | L8: 0.0464 | M8: -0.0012 | N8: =K8-L8 -> 0.021 | O8: 0.0359 | P8: 80.33 | Q8: 5.414242 | R8: 2.883847 | U8: 0.0336 | V8: =V7*(1+U8) -> 1.1043561 | W8: =Q8*V8 -> 5.9792509
A9: 1967 | B9: =1/K9 -> 17.667845 | E9: 21.75 | F9: =1/L9 -> 17.54386 | G9: =E9/F9 -> 1.23975 | H9: =P9/R9 -> 32.36246 | J9: 1967 | K9: =Q9/P9 -> 0.0566 | L9: 0.057 | M9: 0.0149 | N9: =K9-L9 -> -0.0004 | O9: 0.0309 | P9: 96.47 | Q9: 5.460202 | R9: 2.980923 | U9: 0.0328 | V9: =V8*(1+U9) -> 1.1405789 | W9: =Q9*V9 -> 6.2277914
A10: 1968 | B10: =1/K10 -> 18.14882 | E10: 22.78 | F10: =1/L10 -> 16.233766 | G10: =E10/F10 -> 1.403248 | H10: =P10/R10 -> 34.129693 | J10: 1968 | K10: =Q10/P10 -> 0.0551 | L10: 0.0616 | M10: 0.0095 | N10: =K10-L10 -> -0.0065 | O10: 0.0293 | P10: 103.86 | Q10: 5.722686 | R10: 3.043098 | U10: 0.0471 | V10: =V9*(1+U10) -> 1.1943002 | W10: =Q10*V10 -> 6.834605
A11: 1969 | B11: =1/K11 -> 15.082956 | C11: =P11/T11 -> 19.573621 | D11: =P11/X11 -> 16.9883 | E11: 17.33 | F11: =1/L11 -> 12.690355 | G11: =E11/F11 -> 1.365604 | H11: =P11/R11 -> 28.409091 | J11: 1969 | K11: =Q11/P11 -> 0.0663 | L11: 0.0788 | M11: 0.013 | N11: =K11-L11 -> -0.0125 | O11: 0.0352 | P11: 92.06 | Q11: 6.103578 | R11: 3.240512 | T11: =AVERAGE(Q2:Q11) -> 4.7032688 | U11: 0.059 | V11: =V10*(1+U11) -> 1.2647639 | W11: =Q11*V11 -> 7.7195852 | X11: =(Q11+Q10*(V11/V10)+Q9*(V11/V9)+Q8*(V11/V8)+Q7*(V11/V7)+Q6*(V11/V6)+Q5*(V11/V5)+Q4*(V11/V4)+Q3*(V11/V3)+Q2*(V11/V2))/10 -> 5.4190238
A12: 1970 | B12: =1/K12 -> 16.722408 | C12: =P12/T12 -> 18.638685 | D12: =P12/X12 -> 15.731714 | E12: 15.87 | F12: =1/L12 -> 15.384615 | G12: =E12/F12 -> 1.03155 | H12: =P12/R12 -> 28.901734 | J12: 1970 | K12: =Q12/P12 -> 0.0598 | L12: 0.065 | M12: -0.0003 | N12: =K12-L12 -> -0.0052 | O12: 0.0346 | P12: 92.15 | Q12: 5.51057 | R12: 3.18839 | T12: =AVERAGE(Q3:Q12) -> 4.9440184 | U12: 0.0557 | V12: =V11*(1+U12) -> 1.3352113 | W12: =Q12*V12 -> 7.3577751 | X12: =(Q12+Q11*(V12/V11)+Q10*(V12/V10)+Q9*(V12/V9)+Q8*(V12/V8)+Q7*(V12/V7)+Q6*(V12/V6)+Q5*(V12/V5)+Q4*(V12/V4)+Q3*(V12/V3))/10 -> 5.8575945
A13: 1971 | B13: =1/K13 -> 18.315018 | C13: =P13/T13 -> 19.767915 | D13: =P13/X13 -> 16.613612 | E13: 16.6 | F13: =1/L13 -> 16.977929 | G13: =E13/F13 -> 0.97774 | H13: =P13/R13 -> 32.258065 | J13: 1971 | K13: =Q13/P13 -> 0.0546 | L13: 0.0589 | M13: 0.015 | N13: =K13-L13 -> -0.0043 | O13: 0.031 | P13: 102.09 | Q13: 5.574114 | R13: 3.16479 | T13: =AVERAGE(Q4:Q13) -> 5.1644293 | U13: 0.0327 | V13: =V12*(1+U13) -> 1.3788727 | W13: =Q13*V13 -> 7.6859935 | X13: =(Q13+Q12*(V13/V12)+Q11*(V13/V11)+Q10*(V13/V10)+Q9*(V13/V9)+Q8*(V13/V8)+Q7*(V13/V7)+Q6*(V13/V6)+Q5*(V13/V5)+Q4*(V13/V4))/10 -> 6.1449611
A14: 1972 | B14: =1/K14 -> 19.120459 | C14: =P14/T14 -> 21.799669 | D14: =P14/X14 -> 18.276975 | E14: 18.65 | F14: =1/L14 -> 15.600624 | G14: =E14/F14 -> 1.195465 | H14: =P14/R14 -> 37.037037 | J14: 1972 | K14: =Q14/P14 -> 0.0523 | L14: 0.0641 | M14: 0.0257 | N14: =K14-L14 -> -0.0118 | O14: 0.027 | P14: 118.05 | Q14: 6.174015 | R14: 3.18735 | T14: =AVERAGE(Q5:Q14) -> 5.4152198 | U14: 0.0341 | V14: =V13*(1+U14) -> 1.4258922 | W14: =Q14*V14 -> 8.80348 | X14: =(Q14+Q13*(V14/V13)+Q12*(V14/V12)+Q11*(V14/V11)+Q10*(V14/V10)+Q9*(V14/V9)+Q8*(V14/V8)+Q7*(V14/V7)+Q6*(V14/V6)+Q5*(V14/V5))/10 -> 6.4589465
A15: 1973 | B15: =1/K15 -> 12.254902 | C15: =P15/T15 -> 16.825151 | D15: =P15/X15 -> 13.525064 | E15: 13.49 | F15: =1/L15 -> 14.492754 | G15: =E15/F15 -> 0.93081 | H15: =P15/R15 -> 27.027027 | J15: 1973 | K15: =Q15/P15 -> 0.0816 | L15: 0.069 | M15: -0.0003 | N15: =K15-L15 -> 0.0126 | O15: 0.037 | P15: 97.55 | Q15: 7.96008 | R15: 3.60935 | T15: =AVERAGE(Q6:Q15) -> 5.7978676 | U15: 0.0894 | V15: =V14*(1+U15) -> 1.553367 | W15: =Q15*V15 -> 12.364926 | X15: =(Q15+Q14*(V15/V14)+Q13*(V15/V13)+Q12*(V15/V12)+Q11*(V15/V11)+Q10*(V15/V10)+Q9*(V15/V9)+Q8*(V15/V8)+Q7*(V15/V7)+Q6*(V15/V6))/10 -> 7.2125351
A16: 1974 | B16: =1/K16 -> 7.3313783 | C16: =P16/T16 -> 10.957799 | D16: =P16/X16 -> 8.3312464 | E16: 8.29 | F16: =1/L16 -> 13.513514 | G16: =E16/F16 -> 0.61346 | H16: =P16/R16 -> 18.416206 | J16: 1974 | K16: =Q16/P16 -> 0.1364 | L16: 0.074 | M16: -0.006 | N16: =K16-L16 -> 0.0624 | O16: 0.0543 | P16: 68.56 | Q16: 9.351584 | R16: 3.722808 | T16: =AVERAGE(Q7:Q16) -> 6.256731 | U16: 0.121 | V16: =V15*(1+U16) -> 1.7413244 | W16: =Q16*V16 -> 16.284141 | X16: =(Q16+Q15*(V16/V15)+Q14*(V16/V14)+Q13*(V16/V13)+Q12*(V16/V12)+Q11*(V16/V11)+Q10*(V16/V10)+Q9*(V16/V9)+Q8*(V16/V8)+Q7*(V16/V7))/10 -> 8.2292608
A17: 1975 | B17: =1/K17 -> 11.695906 | C17: =P17/T17 -> 13.879161 | D17: =P17/X17 -> 10.411628 | E17: 10.25 | F17: =1/L17 -> 12.886598 | G17: =E17/F17 -> 0.7954 | H17: =P17/R17 -> 24.154589 | J17: 1975 | K17: =Q17/P17 -> 0.0855 | L17: 0.0776 | M17: 0.0196 | N17: =K17-L17 -> 0.0079 | O17: 0.0414 | P17: 90.19 | Q17: 7.711245 | R17: 3.733866 | T17: =AVERAGE(Q8:Q17) -> 6.4982316 | U17: 0.0713 | V17: =V16*(1+U17) -> 1.8654808 | W17: =Q17*V17 -> 14.38518 | X17: =(Q17+Q16*(V17/V16)+Q15*(V17/V15)+Q14*(V17/V14)+Q13*(V17/V13)+Q12*(V17/V12)+Q11*(V17/V11)+Q10*(V17/V10)+Q9*(V17/V9)+Q8*(V17/V8))/10 -> 8.6624297
A18: 1976 | B18: =1/K18 -> 11.025358 | C18: =P18/T18 -> 15.503206 | D18: =P18/X18 -> 11.791934 | E18: 11.6 | F18: =1/L18 -> 14.684288 | G18: =E18/F18 -> 0.78996 | H18: =P18/R18 -> 25.445293 | J18: 1976 | K18: =Q18/P18 -> 0.0907 | L18: 0.0681 | M18: 0.0173 | N18: =K18-L18 -> 0.0226 | O18: 0.0393 | P18: 107.46 | Q18: 9.746622 | R18: 4.223178 | T18: =AVERAGE(Q9:Q18) -> 6.9314696 | U18: 0.0504 | V18: =V17*(1+U18) -> 1.9595011 | W18: =Q18*V18 -> 19.098516 | X18: =(Q18+Q17*(V18/V17)+Q16*(V18/V16)+Q15*(V18/V15)+Q14*(V18/V14)+Q13*(V18/V13)+Q12*(V18/V12)+Q11*(V18/V11)+Q10*(V18/V10)+Q9*(V18/V9))/10 -> 9.1130088
A19: 1977 | B19: =1/K19 -> 8.7489064 | C19: =P19/T19 -> 12.726763 | D19: =P19/X19 -> 9.6961344 | E19: 9.68 | F19: =1/L19 -> 12.85347 | G19: =E19/F19 -> 0.753104 | H19: =P19/R19 -> 19.569472 | J19: 1977 | K19: =Q19/P19 -> 0.1143 | L19: 0.0778 | M19: 0.0266 | N19: =K19-L19 -> 0.0365 | O19: 0.0511 | P19: 95.1 | Q19: 10.86993 | R19: 4.85961 | T19: =AVERAGE(Q10:Q19) -> 7.4724424 | U19: 0.0668 | V19: =V18*(1+U19) -> 2.0903957 | W19: =Q19*V19 -> 22.722455 | X19: =(Q19+Q18*(V19/V18)+Q17*(V19/V17)+Q16*(V19/V16)+Q15*(V19/V15)+Q14*(V19/V14)+Q13*(V19/V13)+Q12*(V19/V12)+Q11*(V19/V11)+Q10*(V19/V10))/10 -> 9.8080324
A20: 1978 | B20: =1/K20 -> 8.2576383 | C20: =P20/T20 -> 11.918305 | D20: =P20/X20 -> 8.9305203 | E20: 9.01 | F20: =1/L20 -> 10.928962 | G20: =E20/F20 -> 0.824415 | H20: =P20/R20 -> 18.552876 | J20: 1978 | K20: =Q20/P20 -> 0.1211 | L20: 0.0915 | M20: 0.0197 | N20: =K20-L20 -> 0.0296 | O20: 0.0539 | P20: 96.11 | Q20: 11.638921 | R20: 5.180329 | T20: =AVERAGE(Q11:Q20) -> 8.0640659 | U20: 0.0899 | V20: =V19*(1+U20) -> 2.2783223 | W20: =Q20*V20 -> 26.517213 | X20: =(Q20+Q19*(V20/V19)+Q18*(V20/V18)+Q17*(V20/V17)+Q16*(V20/V16)+Q15*(V20/V15)+Q14*(V20/V14)+Q13*(V20/V13)+Q12*(V20/V12)+Q11*(V20/V11))/10 -> 10.761971
A21: 1979 | B21: =1/K21 -> 7.4183976 | C21: =P21/T21 -> 12.116192 | D21: =P21/X21 -> 8.7063876 | E21: 8.75 | F21: =1/L21 -> 9.6805421 | G21: =E21/F21 -> 0.903875 | H21: =P21/R21 -> 18.083183 | J21: 1979 | K21: =Q21/P21 -> 0.1348 | L21: 0.1033 | M21: -0.0005 | N21: =K21-L21 -> 0.0315 | O21: 0.0553 | P21: 107.94 | Q21: 14.550312 | R21: 5.969082 | T21: =AVERAGE(Q12:Q21) -> 8.9087393 | U21: 0.1325 | V21: =V20*(1+U21) -> 2.5802 | W21: =Q21*V21 -> 37.542715 | X21: =(Q21+Q20*(V21/V20)+Q19*(V21/V19)+Q18*(V21/V18)+Q17*(V21/V17)+Q16*(V21/V16)+Q15*(V21/V15)+Q14*(V21/V14)+Q13*(V21/V13)+Q12*(V21/V12))/10 -> 12.397794
A22: 1980 | B22: =1/K22 -> 9.057971 | C22: =P22/T22 -> 13.77369 | D22: =P22/X22 -> 9.5395218 | E22: 9.39 | F22: =1/L22 -> 8.0450523 | G22: =E22/F22 -> 1.167177 | H22: =P22/R22 -> 21.097046 | J22: 1980 | K22: =Q22/P22 -> 0.1104 | L22: 0.1243 | M22: 0.0119 | N22: =K22-L22 -> -0.0139 | O22: 0.0474 | P22: 135.76 | Q22: 14.987904 | R22: 6.435024 | T22: =AVERAGE(Q13:Q22) -> 9.8564727 | U22: 0.1235 | V22: =V21*(1+U22) -> 2.8988547 | W22: =Q22*V22 -> 43.447756 | X22: =(Q22+Q21*(V22/V21)+Q20*(V22/V20)+Q19*(V22/V19)+Q18*(V22/V18)+Q17*(V22/V17)+Q16*(V22/V16)+Q15*(V22/V15)+Q14*(V22/V14)+Q13*(V22/V13))/10 -> 14.231321
... A38: 1996 | B38: =1/K38 -> 18.231356 | C38: =P38/T38 -> 28.029084 | D38: =P38/X38 -> 25.143306 | E38: 27.72 | F38: =1/L38 -> 15.600624 | G38: =E38/F38 -> 1.776852 | H38: =P38/R38 -> 49.751244 | J38: 1996 | K38: =Q38/P38 -> 0.054850555 | L38: 0.0641 | M38: 0.0141 | N38: =K38-L38 -> -0.0092494451 | O38: 0.0201 | P38: 740.74 | Q38: 40.63 | R38: 14.888874 | T38: =AVERAGE(Q29:Q38) -> 26.427549 | U38: 0.0169705 | V38: =V37*(1+U38) -> 5.2179344 | W38: =Q38*V38 -> 212.00467 | X38: =(Q38+Q37*(V38/V37)+Q36*(V38/V36)+Q35*(V38/V35)+Q34*(V38/V34)+Q33*(V38/V33)+Q32*(V38/V32)+Q31*(V38/V31)+Q30*(V38/V30)+Q29*(V38/V29))/10 -> 29.460724
A39: 1997 | B39: =1/K39 -> 22.010206 | C39: =P39/T39 -> 33.196388 | D39: =P39/X39 -> 30.175989 | E39: 33.03 | F39: =1/L39 -> 17.421603 | G39: =E39/F39 -> 1.895922 | H39: =P39/R39 -> 62.51965 | J39: 1997 | K39: =Q39/P39 -> 0.045433468 | L39: 0.0574 | M39: 0.0039 | N39: =K39-L39 -> -0.011966532 | O39: =15.522/P39 -> 0.015994971 | P39: 970.43 | Q39: 44.09 | R39: 15.522 | T39: =AVERAGE(Q30:Q39) -> 29.233 | U39: 0.0160692 | V39: =V38*(1+U39) -> 5.3017824 | W39: =Q39*V39 -> 233.75559 | X39: =(Q39+Q38*(V39/V38)+Q37*(V39/V37)+Q36*(V39/V36)+Q35*(V39/V35)+Q34*(V39/V34)+Q33*(V39/V33)+Q32*(V39/V32)+Q31*(V39/V31)+Q30*(V39/V30))/10 -> 32.159012
A40: 1998 | B40: =1/K40 -> 27.766659 | C40: =P40/T40 -> 39.337878 | D40: =P40/X40 -> 35.918161 | E40: 38.82 | F40: =1/L40 -> 21.505376 | G40: =E40/F40 -> 1.80513 | H40: =P40/R40 -> 75.878395 | J40: 1998 | K40: =Q40/P40 -> 0.036014416 | L40: 0.0465 | M40: 0.0032 | N40: =K40-L40 -> -0.010485584 | O40: =16.2/P40 -> 0.013178982 | P40: 1229.23 | Q40: 44.27 | R40: 16.2 | T40: =AVERAGE(Q31:Q40) -> 31.248 | U40: 0.026764 | V40: =V39*(1+U40) -> 5.4436793 | W40: =Q40*V40 -> 240.99168 | X40: =(Q40+Q39*(V40/V39)+Q38*(V40/V38)+Q37*(V40/V37)+Q36*(V40/V36)+Q35*(V40/V35)+Q34*(V40/V34)+Q33*(V40/V33)+Q32*(V40/V32)+Q31*(V40/V31))/10 -> 34.223077
A41: 1999 | B41: =1/K41 -> 28.42976 | C41: =P41/T41 -> 43.233581 | D41: =P41/X41 -> 39.281764 | E41: 44.2 | F41: =1/L41 -> 15.52795 | G41: =E41/F41 -> 2.84648 | H41: =P41/R41 -> 87.916692 | J41: 1999 | K41: =Q41/P41 -> 0.035174409 | L41: 0.0644 | M41: 0.0107 | N41: =K41-L41 -> -0.029225591 | O41: =16.709/1469 -> 0.011374404 | P41: 1469.25 | Q41: 51.68 | R41: 16.711844 | T41: =AVERAGE(Q32:Q41) -> 33.984 | U41: 0.0343602 | V41: =V40*(1+U41) -> 5.6307252 | W41: =Q41*V41 -> 290.99588 | X41: =(Q41+Q40*(V41/V40)+Q39*(V41/V39)+Q38*(V41/V38)+Q37*(V41/V37)+Q36*(V41/V36)+Q35*(V41/V35)+Q34*(V41/V34)+Q33*(V41/V33)+Q32*(V41/V32))/10 -> 37.402851
A42: 2000 | B42: =1/K42 -> 23.521824 | C42: =P42/T42 -> 35.365906 | D42: =P42/X42 -> 32.43277 | E42: 37.28 | F42: =1/L42 -> 19.569472 | G42: =E42/F42 -> 1.905008 | H42: =P42/R42 -> 81.155856 | J42: 2000 | K42: =Q42/P42 -> 0.042513709 | L42: 0.0511 | M42: -0.0062 | N42: =K42-L42 -> -0.0085862908 | O42: =16.265/1320 -> 0.01232197 | P42: 1320.28 | Q42: 56.13 | R42: 16.26845 | T42: =AVERAGE(Q33:Q42) -> 37.332 | U42: 0.0160367 | V42: =V41*(1+U42) -> 5.7210235 | W42: =Q42*V42 -> 321.12105 | X42: =(Q42+Q41*(V42/V41)+Q40*(V42/V40)+Q39*(V42/V39)+Q38*(V42/V38)+Q37*(V42/V37)+Q36*(V42/V36)+Q35*(V42/V35)+Q34*(V42/V34)+Q33*(V42/V33))/10 -> 40.708209
A43: 2001 | B43: =1/K43 -> 29.551866 | C43: =P43/T43 -> 29.223153 | D43: =P43/X43 -> 26.614879 | E43: 30.5 | F43: =1/L43 -> 19.80198 | G43: =E43/F43 -> 1.54025 | H43: =P43/R43 -> 72.936281 | I43: =P43/S43 -> 38.167939 | J43: 2001 | K43: =Q43/P43 -> 0.033838811 | L43: 0.0505 | M43: 0.0325 | N43: =K43-L43 -> -0.016661189 | O43: =15.741/1148.09 -> 0.013710598 | P43: 1148.09 | Q43: 38.85 | R43: 15.741 | S43: 30.079958 | T43: =AVERAGE(Q34:Q43) -> 39.287 | U43: 0.0248027 | V43: =V42*(1+U43) -> 5.8629203 | W43: =Q43*V43 -> 227.77445 | X43: =(Q43+Q42*(V43/V42)+Q41*(V43/V41)+Q40*(V43/V40)+Q39*(V43/V39)+Q38*(V43/V38)+Q37*(V43/V37)+Q36*(V43/V36)+Q35*(V43/V35)+Q34*(V43/V34))/10 -> 43.137148
A44: 2002 | B44: =1/K44 -> 19.109904 | C44: =P44/T44 -> 21.046311 | D44: =P44/X44 -> 19.137805 | E44: 23.1 | F44: =1/L44 -> 26.246719 | G44: =E44/F44 -> 0.88011 | H44: =P44/R44 -> 54.715174 | I44: =P44/S44 -> 29.498525 | J44: 2002 | K44: =Q44/P44 -> 0.052328885 | L44: 0.0381 | M44: 0.0261 | N44: =K44-L44 -> 0.014228885 | O44: =R44/P44 -> 0.018276466 | P44: 879.82 | Q44: 46.04 | R44: 16.08 | S44: 29.825898 | T44: =AVERAGE(Q35:Q44) -> 41.804 | U44: 0.020352 | V44: =V43*(1+U44) -> 5.9822425 | W44: =Q44*V44 -> 275.42244 | X44: =(Q44+Q43*(V44/V43)+Q42*(V44/V42)+Q41*(V44/V41)+Q40*(V44/V40)+Q39*(V44/V39)+Q38*(V44/V38)+Q37*(V44/V37)+Q36*(V44/V36)+Q35*(V44/V35))/10 -> 45.972879
A45: 2003 | B45: =1/K45 -> 20.331139 | C45: =P45/T45 -> 24.940224 | D45: =P45/X45 -> 22.443373 | E45: 26.63 | F45: =1/L45 -> 23.529412 | G45: =E45/F45 -> 1.131775 | H45: =P45/R45 -> 62.18736 | I45: =P45/S45 -> 35.211268 | J45: 2003 | K45: =Q45/P45 -> 0.049185636 | L45: 0.0425 | M45: 0.0325 | N45: =K45-L45 -> 0.0066856355 | O45: 0.0161 | P45: 1111.91 | Q45: 54.69 | R45: 17.88 | S45: 31.578244 | T45: =AVERAGE(Q36:Q45) -> 44.583 | U45: 0.0334232 | V45: =V44*(1+U45) -> 6.1821882 | W45: =Q45*V45 -> 338.10387 | X45: =(Q45+Q44*(V45/V44)+Q43*(V45/V43)+Q42*(V45/V42)+Q41*(V45/V41)+Q40*(V45/V40)+Q39*(V45/V39)+Q38*(V45/V38)+Q37*(V45/V37)+Q36*(V45/V36))/10 -> 49.54291
A46: 2004 | B46: =1/K46 -> 17.906619 | C46: =P46/T46 -> 25.156094 | D46: =P46/X46 -> 22.493755 | E46: 27.14 | F46: =1/L46 -> 23.696682 | G46: =E46/F46 -> 1.145308 | H46: =P46/R46 -> 62.44757 | I46: =P46/S46 -> 29.850746 | J46: 2004 | K46: =Q46/P46 -> 0.05584527 | L46: 0.0422 | M46: 0.0204 | N46: =K46-L46 -> 0.01364527 | O46: =R46/P46 -> 0.016013433 | P46: 1211.92 | Q46: 67.68 | R46: 19.407 | S46: 40.59932 | T46: =AVERAGE(Q37:Q46) -> 48.176 | U46: 0.0333855 | V46: =V45*(1+U46) -> 6.3885836 | W46: =Q46*V46 -> 432.37934 | X46: =(Q46+Q45*(V46/V45)+Q44*(V46/V44)+Q43*(V46/V43)+Q42*(V46/V42)+Q41*(V46/V41)+Q40*(V46/V40)+Q39*(V46/V39)+Q38*(V46/V38)+Q37*(V46/V37))/10 -> 53.878066
A47: 2005 | B47: =1/K47 -> 16.328188 | C47: =P47/T47 -> 23.982056 | D47: =P47/X47 -> 21.496178 | E47: 26.43 | F47: =1/L47 -> 22.779043 | G47: =E47/F47 -> 1.160277 | H47: =P47/R47 -> 55.777033 | I47: =P47/S47 -> 20.408163 | J47: 2005 | K47: =Q47/P47 -> 0.061243781 | L47: 0.0439 | M47: 0.0008 | N47: =K47-L47 -> 0.017343781 | O47: =R47/P47 -> 0.017928526 | P47: 1248.29 | Q47: 76.45 | R47: 22.38 | S47: 61.16621 | T47: =AVERAGE(Q38:Q47) -> 52.051 | U47: 0.0252398 | V47: =V46*(1+U47) -> 6.5498302 | W47: =Q47*V47 -> 500.73452 | X47: =(Q47+Q46*(V47/V46)+Q45*(V47/V45)+Q44*(V47/V44)+Q43*(V47/V43)+Q42*(V47/V42)+Q41*(V47/V41)+Q40*(V47/V40)+Q39*(V47/V39)+Q38*(V47/V38))/10 -> 58.070322
A48: 2006 | B48: =1/K48 -> 16.168491 | C48: =P48/T48 -> 24.987667 | D48: =P48/X48 -> 22.189134 | E48: 27.27 | F48: =1/L48 -> 21.276596 | G48: =E48/F48 -> 1.28169 | H48: =P48/R48 -> 56.618762 | I48: =P48/S48 -> 19.386823 | J48: 2006 | K48: =Q48/P48 -> 0.061848692 | L48: 0.047 | M48: -0.0018 | N48: =K48-L48 -> 0.014848692 | O48: =R48/P48 -> 0.01766199 | P48: 1418.3 | Q48: 87.72 | R48: 25.05 | S48: 73.15794 | T48: =AVERAGE(Q39:Q48) -> 56.76 | U48: 0.0410881 | V48: =V47*(1+U48) -> 6.8189503 | W48: =Q48*V48 -> 598.15832 | X48: =(Q48+Q47*(V48/V47)+Q46*(V48/V46)+Q45*(V48/V45)+Q44*(V48/V44)+Q43*(V48/V43)+Q42*(V48/V42)+Q41*(V48/V41)+Q40*(V48/V40)+Q39*(V48/V39))/10 -> 63.918674
A49: 2007 | B49: =1/K49 -> 17.789678 | C49: =P49/T49 -> 24.228364 | D49: =P49/X49 -> 22.084242 | E49: 25.95 | F49: =1/L49 -> 24.875622 | G49: =E49/F49 -> 1.04319 | H49: =P49/R49 -> 52.952038 | I49: =P49/S49 -> 15.397686 | J49: 2007 | K49: =Q49/P49 -> 0.056212373 | L49: 0.0402 | M49: 0.0071 | N49: =K49-L49 -> 0.016012373 | O49: =R49/P49 -> 0.018885015 | P49: 1468.36 | Q49: 82.54 | R49: 27.73 | S49: 95.362382 | T49: =AVERAGE(Q40:Q49) -> 60.605 | U49: -0.0002223 | V49: =V48*(1+U49) -> 6.8174344 | W49: =Q49*V49 -> 562.71104 | X49: =(Q49+Q48*(V49/V48)+Q47*(V49/V47)+Q46*(V49/V46)+Q45*(V49/V45)+Q44*(V49/V44)+Q43*(V49/V43)+Q42*(V49/V42)+Q41*(V49/V41)+Q40*(V49/V40))/10 -> 66.489037
A50: 2008 | B50: =1/K50 -> 18.243789 | C50: =P50/T50 -> 14.776129 | D50: =P50/X50 -> 13.35953 | E50: 15.37 | F50: =1/L50 -> 45.248869 | G50: =E50/F50 -> 0.339677 | H50: =P50/R50 -> 32.201426 | I50: =P50/S50 -> 13.378086 | J50: 2008 | K50: =Q50/P50 -> 0.054813175 | L50: 0.0221 | M50: 0.0062 | N50: =K50-L50 -> 0.032713175 | O50: =R50/P50 -> 0.031054525 | P50: 903.25 | Q50: 49.51 | R50: 28.05 | S50: 67.517132 | T50: =AVERAGE(Q41:Q50) -> 61.129 | U50: 0.0281412 | V50: =V49*(1+U50) -> 7.0092852 | W50: =Q50*V50 -> 347.02971 | X50: =(Q50+Q49*(V50/V49)+Q48*(V50/V48)+Q47*(V50/V47)+Q46*(V50/V46)+Q45*(V50/V45)+Q44*(V50/V44)+Q43*(V50/V43)+Q42*(V50/V42)+Q41*(V50/V41))/10 -> 67.610911
A51: 2009 | B51: =1/K51 -> 19.611326 | C51: =P51/T51 -> 18.088471 | D51: =P51/X51 -> 16.460682 | E51: 20.32 | F51: =1/L51 -> 26.041667 | G51: =E51/F51 -> 0.780288 | H51: =P51/R51 -> 49.982071 | I51: =P51/S51 -> 29.793226 | J51: 2009 | K51: =Q51/P51 -> 0.050990943 | L51: 0.0384 | M51: 0.037 | N51: =K51-L51 -> 0.012590943 | O51: =R51/P51 -> 0.020007174 | P51: 1115.1 | Q51: 56.86 | R51: 22.31 | S51: 37.427971 | T51: =AVERAGE(Q42:Q51) -> 61.647 | U51: 0.0143779 | V51: =V50*(1+U51) -> 7.110064 | W51: =Q51*V51 -> 404.27824 | X51: =(Q51+Q50*(V51/V50)+Q49*(V51/V49)+Q48*(V51/V48)+Q47*(V51/V47)+Q46*(V51/V46)+Q45*(V51/V45)+Q44*(V51/V44)+Q43*(V51/V43)+Q42*(V51/V42))/10 -> 67.743245
A52: 2010 | B52: =1/K52 -> 15.013012 | C52: =P52/T52 -> 19.525236 | D52: =P52/X52 -> 17.717313 | E52: 22.39 | F52: =1/L52 -> 30.395137 | G52: =E52/F52 -> 0.736631 | H52: =P52/R52 -> 54.396194 | I52: =P52/S52 -> 22.649361 | J52: 2010 | K52: =Q52/P52 -> 0.066608886 | L52: 0.0329 | M52: 0.0316 | N52: =K52-L52 -> 0.033708886 | O52: =R52/P52 -> 0.018383639 | P52: 1257.64 | Q52: 83.77 | R52: 23.12 | S52: 55.526511 | T52: =AVERAGE(Q43:Q52) -> 64.411 | U52: 0.0302669 | V52: =V51*(1+U52) -> 7.3252636 | W52: =Q52*V52 -> 613.63733 | X52: =(Q52+Q51*(V52/V51)+Q50*(V52/V50)+Q49*(V52/V49)+Q48*(V52/V48)+Q47*(V52/V47)+Q46*(V52/V46)+Q45*(V52/V45)+Q44*(V52/V44)+Q43*(V52/V43))/10 -> 70.983674
A53: 2011 | B53: =1/K53 -> 13.040232 | C53: =P53/T53 -> 17.922189 | D53: =P53/X53 -> 16.344349 | E53: 20.52 | F53: =1/L53 -> 53.191489 | G53: =E53/F53 -> 0.385776 | H53: =P53/R53 -> 48.332052 | I53: =P53/S53 -> 17.643504 | J53: 2011 | K53: =Q53/P53 -> 0.076685751 | L53: 0.0188 | M53: 0.0185 | N53: =K53-L53 -> 0.057885751 | O53: =R53/P53 -> 0.020690204 | P53: 1257.6 | Q53: 96.44 | R53: 26.02 | S53: 71.27836 | T53: =AVERAGE(Q44:Q53) -> 70.17 | U53: 0.0176979 | V53: =V52*(1+U53) -> 7.4549054 | W53: =Q53*V53 -> 718.95107 | X53: =(Q53+Q52*(V53/V52)+Q51*(V53/V51)+Q50*(V53/V50)+Q49*(V53/V49)+Q48*(V53/V48)+Q47*(V53/V47)+Q46*(V53/V46)+Q45*(V53/V45)+Q44*(V53/V44))/10 -> 76.944024
A54: 2012 | B54: =1/K54 -> 14.730324 | C54: =P54/T54 -> 18.953195 | D54: =P54/X54 -> 17.397521 | E54: 21.23 | F54: =1/L54 -> 56.818182 | G54: =E54/F54 -> 0.373648 | H54: =P54/R54 -> 46.852497 | I54: =P54/S54 -> 18.790554 | J54: 2012 | K54: =Q54/P54 -> 0.067887168 | L54: 0.0176 | M54: 0.0171 | N54: =K54-L54 -> 0.050287168 | O54: =R54/P54 -> 0.02134358 | P54: 1426.19 | Q54: 96.82 | R54: 30.44 | S54: 75.899306 | T54: =AVERAGE(Q45:Q54) -> 75.248 | U54: 0.0152791 | V54: =V53*(1+U54) -> 7.5688096 | W54: =Q54*V54 -> 732.81215 | X54: =(Q54+Q53*(V54/V53)+Q52*(V54/V52)+Q51*(V54/V51)+Q50*(V54/V50)+Q49*(V54/V49)+Q48*(V54/V48)+Q47*(V54/V47)+Q46*(V54/V46)+Q45*(V54/V45))/10 -> 81.97662
A55: 2013 | B55: =1/K55 -> 17.226095 | C55: =P55/T55 -> 22.958427 | D55: =P55/X55 -> 21.363383 | E55: 24.86 | F55: =1/L55 -> 32.894737 | G55: =E55/F55 -> 0.755744 | H55: =P55/R55 -> 50.947078 | I55: =P55/S55 -> 20.973108 | J55: 2013 | K55: =Q55/P55 -> 0.058051462 | L55: 0.0304 | M55: 0.0297 | N55: =K55-L55 -> 0.027651462 | O55: =R55/P55 -> 0.019628211 | P55: 1848.36 | Q55: 107.3 | R55: 36.28 | S55: 88.13 | T55: =AVERAGE(Q46:Q55) -> 80.509 | U55: 0.0067619 | V55: =V54*(1+U55) -> 7.6199891 | W55: =Q55*V55 -> 817.62483 | X55: =(Q55+Q54*(V55/V54)+Q53*(V55/V53)+Q52*(V55/V52)+Q51*(V55/V51)+Q50*(V55/V50)+Q49*(V55/V49)+Q48*(V55/V48)+Q47*(V55/V47)+Q46*(V55/V46))/10 -> 86.520004
...

Sheet Stock Returns
A1: Year | B1: S&P 500
A2: 1960 | B2: 58.11
A3: 1961 | B3: 71.55
A4: 1962 | B4: 63.1
A5: 1963 | B5: 75.02
A6: 1964 | B6: 84.75
A7: 1965 | B7: 92.43
A8: 1966 | B8: 80.33
A9: 1967 | B9: 96.47
A10: 1968 | B10: 103.86
A11: 1969 | B11: 92.06
A12: 1970 | B12: 92.15
A13: 1971 | B13: 102.09
... A53: 2011 | B53: 1257.6
A54: 2012 | B54: 1426.19 | F54: =(B58/B50)-1 -> 1.4164296
A55: 2013 | B55: 1848.36
A56: 2014 | B56: 2058.9
A57: 2015 | B57: 2043.94
A58: 2016 (LTM) | B58: 2182.64

Sheet Cash versus Earnings
A1: Year | B1: Earnings | C1: Dividends | D1: Dividends + Buybacks | E1: Dividend Payout | F1: Cash Payout
A2: 2001 | B2: 38.85 | C2: 15.741 | D2: 30.079958 | E2: =C2/B2 -> 0.40517375 | F2: =D2/B2 -> 0.77425889
A3: 2002 | B3: 46.04 | C3: 16.08 | D3: 29.825898 | E3: =C3/B3 -> 0.34926151 | F3: =D3/B3 -> 0.64782576
A4: 2003 | B4: 54.69 | C4: 17.88 | D4: 31.578244 | E4: =C4/B4 -> 0.32693363 | F4: =D4/B4 -> 0.57740435
A5: 2004 | B5: 67.68 | C5: 19.407 | D5: 40.59932 | E5: =C5/B5 -> 0.28674645 | F5: =D5/B5 -> 0.59987175
A6: 2005 | B6: 76.45 | C6: 22.38 | D6: 61.16621 | E6: =C6/B6 -> 0.29274035 | F6: =D6/B6 -> 0.80008123
A7: 2006 | B7: 87.72 | C7: 25.05 | D7: 73.15794 | E7: =C7/B7 -> 0.28556772 | F7: =D7/B7 -> 0.83399384
A8: 2007 | B8: 82.54 | C8: 27.73 | D8: 95.362382 | E8: =C8/B8 -> 0.33595832 | F8: =D8/B8 -> 1.1553475
A9: 2008 | B9: 49.51 | C9: 28.05 | D9: 67.517132 | E9: =C9/B9 -> 0.56655221 | F9: =D9/B9 -> 1.363707
A10: 2009 | B10: 56.86 | C10: 22.31 | D10: 37.427971 | E10: =C10/B10 -> 0.39236722 | F10: =D10/B10 -> 0.65824783
A11: 2010 | B11: 83.77 | C11: 23.12 | D11: 55.526511 | E11: =C11/B11 -> 0.27599379 | F11: =D11/B11 -> 0.66284483
A12: 2011 | B12: 96.44 | C12: 26.02 | D12: 71.27836 | E12: =C12/B12 -> 0.26980506 | F12: =D12/B12 -> 0.7390954
A13: 2012 | B13: 96.82 | C13: 30.44 | D13: 75.899306 | E13: =C13/B13 -> 0.31439785 | F13: =D13/B13 -> 0.78392177
... A16: 2015 | B16: 100.48 | C16: 43.16 | D16: 106.1 | E16: =C16/B16 -> 0.42953822 | F16: =D16/B16 -> 1.0559315
A17: 2016 | B17: ='Raw Data'!Q58 -> 108.86 | C17: ='Raw Data'!R58 -> 45.03 | D17: ='Raw Data'!S58 -> 108.67 | E17: =C17/B17 -> 0.41365056 | F17: =D17/B17 -> 0.99825464

Sheet Just PE data 1969-2019
A1: Year | B1: PE | C1: Normalized PE | D1: CAPE | E1: Shiller PE
A2: 1969 | B2: ='Raw Data'!B11 -> 15.082956 | C2: ='Raw Data'!C11 -> 19.573621 | D2: ='Raw Data'!D11 -> 16.9883 | E2: ='Raw Data'!E11 -> 17.33
A3: 1970 | B3: ='Raw Data'!B12 -> 16.722408 | C3: ='Raw Data'!C12 -> 18.638685 | D3: ='Raw Data'!D12 -> 15.731714 | E3: ='Raw Data'!E12 -> 15.87
A4: 1971 | B4: ='Raw Data'!B13 -> 18.315018 | C4: ='Raw Data'!C13 -> 19.767915 | D4: ='Raw Data'!D13 -> 16.613612 | E4: ='Raw Data'!E13 -> 16.6
A5: 1972 | B5: ='Raw Data'!B14 -> 19.120459 | C5: ='Raw Data'!C14 -> 21.799669 | D5: ='Raw Data'!D14 -> 18.276975 | E5: ='Raw Data'!E14 -> 18.65
A6: 1973 | B6: ='Raw Data'!B15 -> 12.254902 | C6: ='Raw Data'!C15 -> 16.825151 | D6: ='Raw Data'!D15 -> 13.525064 | E6: ='Raw Data'!E15 -> 13.49
A7: 1974 | B7: ='Raw Data'!B16 -> 7.3313783 | C7: ='Raw Data'!C16 -> 10.957799 | D7: ='Raw Data'!D16 -> 8.3312464 | E7: ='Raw Data'!E16 -> 8.29
A8: 1975 | B8: ='Raw Data'!B17 -> 11.695906 | C8: ='Raw Data'!C17 -> 13.879161 | D8: ='Raw Data'!D17 -> 10.411628 | E8: ='Raw Data'!E17 -> 10.25
A9: 1976 | B9: ='Raw Data'!B18 -> 11.025358 | C9: ='Raw Data'!C18 -> 15.503206 | D9: ='Raw Data'!D18 -> 11.791934 | E9: ='Raw Data'!E18 -> 11.6
A10: 1977 | B10: ='Raw Data'!B19 -> 8.7489064 | C10: ='Raw Data'!C19 -> 12.726763 | D10: ='Raw Data'!D19 -> 9.6961344 | E10: ='Raw Data'!E19 -> 9.68
A11: 1978 | B11: ='Raw Data'!B20 -> 8.2576383 | C11: ='Raw Data'!C20 -> 11.918305 | D11: ='Raw Data'!D20 -> 8.9305203 | E11: ='Raw Data'!E20 -> 9.01
A12: 1979 | B12: ='Raw Data'!B21 -> 7.4183976 | C12: ='Raw Data'!C21 -> 12.116192 | D12: ='Raw Data'!D21 -> 8.7063876 | E12: ='Raw Data'!E21 -> 8.75
A13: 1980 | B13: ='Raw Data'!B22 -> 9.057971 | C13: ='Raw Data'!C22 -> 13.77369 | D13: ='Raw Data'!D22 -> 9.5395218 | E13: ='Raw Data'!E22 -> 9.39
... A49: 2016 | B49: ='Raw Data'!B58 -> 20.56614 | C49: ='Raw Data'!C58 -> 24.998381 | D49: ='Raw Data'!D58 -> 23.907431 | E49: ='Raw Data'!E58 -> 27.27
A50: 2017 | B50: 21.399152 | C50: 28.503609 | D50: 27.147104 | E50: 27.147104
A51: 2018 | B51: 16.899353 | C51: 24.178257 | D51: 22.857578 | E51: 22.857578
A52: 2019 | B52: 19.900092 | C52: 28.282865 | D52: 26.52781 | E52: 26.52781
A53: 2020 | B53: ='Raw Data'!B62 -> 27.194251 | C53: ='Raw Data'!C62 -> 31.387946 | D53: ='Raw Data'!D62 -> 29.363673 | E53: ='Raw Data'!E62 -> 29.363673
A54: 2020 | B54: ='Raw Data'!B63 -> 23.094195 | C54: ='Raw Data'!C63 -> 36.477728 | D54: ='Raw Data'!D63 -> 32.679289 | E54: ='Raw Data'!E63 -> 32.679289

Sheet All Multiples 2001-16
A1: Year | B1: PE | C1: Normalized PE | D1: CAPE | E1: Shiller PE | F1: T.Bond PE | G1: Price to Dividend | H1: Price/(Dividends + Buybacks)
A2: 2001 | B2: 29.551866 | C2: 29.223153 | D2: 26.614879 | E2: 30.5 | F2: 19.80198 | G2: 72.936281 | H2: 38.167939
A3: 2002 | B3: 19.109904 | C3: 21.046311 | D3: 19.137805 | E3: 23.1 | F3: 26.246719 | G3: 54.715174 | H3: 29.498525
A4: 2003 | B4: 20.331139 | C4: 24.940224 | D4: 22.443373 | E4: 26.63 | F4: 23.529412 | G4: 62.18736 | H4: 35.211268
A5: 2004 | B5: 17.906619 | C5: 25.156094 | D5: 22.493755 | E5: 27.14 | F5: 23.696682 | G5: 62.44757 | H5: 29.850746
A6: 2005 | B6: 16.328188 | C6: 23.982056 | D6: 21.496178 | E6: 26.43 | F6: 22.779043 | G6: 55.777033 | H6: 20.408163
A7: 2006 | B7: 16.168491 | C7: 24.987667 | D7: 22.189134 | E7: 27.27 | F7: 21.276596 | G7: 56.618762 | H7: 19.386823
A8: 2007 | B8: 17.789678 | C8: 24.228364 | D8: 22.084242 | E8: 25.95 | F8: 24.875622 | G8: 52.952038 | H8: 15.397686
A9: 2008 | B9: 18.243789 | C9: 14.776129 | D9: 13.35953 | E9: 15.37 | F9: 45.248869 | G9: 32.201426 | H9: 13.378086
A10: 2009 | B10: 19.611326 | C10: 18.088471 | D10: 16.460682 | E10: 20.32 | F10: 26.041667 | G10: 49.982071 | H10: 29.793226
A11: 2010 | B11: 15.013012 | C11: 19.525236 | D11: 17.717313 | E11: 22.39 | F11: 30.395137 | G11: 54.396194 | H11: 22.649361
A12: 2011 | B12: 13.040232 | C12: 17.922189 | D12: 16.344349 | E12: 20.52 | F12: 53.191489 | G12: 48.332052 | H12: 17.643504
A13: 2012 | B13: 14.730324 | C13: 18.953195 | D13: 17.397521 | E13: 21.23 | F13: 56.818182 | G13: 46.852497 | H13: 18.790554
... A17: 2016 | B17: 20.56614 | C17: 24.998381 | D17: 23.907431 | E17: 27.27 | F17: 40.82 | G17: 49.72 | H17: 20.6

Sheet Correlation
A1: Variable | B1: PE | C1: Normalized PE | D1: CAPE | E1: Shiiller PE
A2: PE | B2: 1
A3: Normalized PE | B3: 0.87460713 | C3: 1
A4: CAPE | B4: 0.88709814 | C4: 0.99385855 | D4: 1
A5: Shiller PE | B5: 0.86419079 | C5: 0.96774183 | D5: 0.98602717 | E5: 1
