Workbook

Sheet Inputs
A1: Input cell | B1: Computed Value
A2: Operating Information | E2: Notes/Comments | F2: Corporate Expense Growth
A3: All dollar values in millions | B3: Most Recent | C3: Prior year | F3: A1. Grow at same rate as total users | G3: =(Valuation!L21/Valuation!B21)^(1/10)-1 -> 0.16733938
A4: Number of Premium Subscribers | B4: 71 | C4: 48 | E4: Number of users , with growth over last year | F4: A2. Grow at inflation rate | G4: =B30 -> 0.02
A5: Annual Subscription Revenue/ Subscriber | B5: =5.24*12/0.81 -> 77.62963 | C5: =6*12/0.83 -> 86.746988 | E5: Subscription Revenues/ # Users | F5: A3. Grow at risk free rate | G5: =B29 -> 0.0285
A6: Preimum Content Cost as % of revenues | B6: 0.7924 | E6: Content cost as % of subscription revenues (starting year) | F6: A4. Direct Input | G6: 0.05
A7: Effective tax rate (current) | B7: 0.25 | C7: 0 | E7: Effective tax rate in most recent year
A8: Effective tax rate (steady state) | B8: 0.25 | E8: Effective tax rate in steady state
A9: Allocated Costs
A10: R&D, S,G&A costs | B10: =(396+264)/0.81 -> 814.81481 | E10: Total other Costs (other than content and marketing)
A11: Existing User Data | F11: Cost of Capital (in euros)
A12: Lifetime of a Spotify Subscriber (in years) | B12: 15 | E12: Typical subscriber life with company | F12: B1. Lowest decile of Global companies (7%) | G12: 0.07
A13: Annual Renewal Probability | B13: 0.945 | E13: Annual Renewal probability (assumed to be constant over time) | F13: b2. 25th percentile of Global companies (7.5%) | G13: 0.075
A14: Growth rate in Subscription Charge | B14: 0.03 | E14: Growth Rate in Subscription Charge/Subscriber | F14: B3. Median of Global companies (8.5%) | G14: 0.085
A15: Growth rate in Content Cost/Subscriber | B15: 0.015 | E15: Growth rate in Content Cost/Subscriber | F15: B4. 75th percentile of Global companies (10%) | G15: 0.1
A16: New User Information | F16: B5. Ninth decile of Global companies (12%) | G16: 0.12
A17: Total cost of acquiring new users in most recent year | B17: =567/0.81 -> 700 | E17: Selling and Marketing Cost in most recent year | F17: B6. Direct input | G17: 0.0924
A18: Growth rate in # Members (Years 1-5) | B18: 0.25 | E18: Growth Rate in # Premium Subscribers - Years 1-5
A19: Growth rate in # Members (Years 6-10) | B19: 0.1 | E19: Growth Rate in # Premium Subscribers - Years 6-10
A20: Growth rate in # Members after year 10 | B20: 0.01 | E20: Growth Rate in # Premium Subscribers after year 10
A21: G&A Data
A22: Growth rate approach for R&D, SG&A | B22: A4. Direct Input | E22: Growth Rate option for total other costs
A23: Growth rate in corporate expenses for next 10 years | B23: =VLOOKUP(B22,F3:G6,2) -> 0.05 | E23: DO NOT INPUT
A24: Advertising Revenues | C24: Do not input
A25: Advertising Revenues in most recent year | B25: =416/0.81 -> 513.58025 | E25: Total Revenues from Advertising (most recent year)
A26: Expected growth rate in revenues, years 1-5 | B26: 0.1 | E26: Growth rate in advertising revenues - Years 1-5
A27: Expected growth rate in revenues, years 6-10 | B27: 0.05 | E27: Growth rate in advertising revenues - Years 6-10
A28: Macroeconomic Data
A29: Risk free Rate | B29: 0.0285 | E29: Risk free Rate
A30: Inflation Rate | B30: 0.02 | E30: Inflation Rate
A31: Cost of capital for existing users (input choice) | B31: B3. Median of Global companies (8.5%) | E31: Cost of capital option (for existing subscribers)
A32: Cost of capital (existing users) | B32: =VLOOKUP(B31,F12:G17,2) -> 0.085 | E32: DO NOT INPUT
A33: Cost of capital for new users (input choice) | B33: B4. 75th percentile of Global companies (10%) | E33: Cost of capital option (for new subscribers
A34: Cost of capital (new users) | B34: =VLOOKUP(B33,F12:G17,2) -> 0.1 | C34: Do not input | E34: DO NOT INPUT
A35: Other Company Data
A36: Cash & Marketable Securities | B36: =1509.81/0.81 -> 1863.963 | E36: Cash and Marketable Securities
A37: Cross Holdings in Other Companies | B37: =910/0.81 -> 1123.4568 | E37: Minority Cross Holdings
A38: Debt Outstanding | B38: 0 | E38: Total Debt Outstanding
A39: Equity Options oustanding (value) | B39: =1344.28/0.81 -> 1659.6049 | E39: Value of Equity Options outstanding
E40: Valuation Output Summary
...

Sheet Valuation
A1: Value of Premium Subscribers
B2: Base Year | C2: 1 | D2: 2 | E2: 3 | F2: 4 | G2: 5 | H2: 6 | I2: 7 | J2: 8 | K2: 9 | L2: 10 | M2: =L2+1 -> 11 | N2: =M2+1 -> 12 | O2: =N2+1 -> 13 | P2: =O2+1 -> 14 | Q2: =P2+1 -> 15 | R2: =Q2+1 -> 16 | S2: =R2+1 -> 17 | T2: =S2+1 -> 18 | ... V2: =U2+1 -> 20
A3: Life Indicator | C3: =IF(C2>Inputs!$B$12,0,1) -> 1 | D3: =IF(D2>Inputs!$B$12,0,1) -> 1 | E3: =IF(E2>Inputs!$B$12,0,1) -> 1 | F3: =IF(F2>Inputs!$B$12,0,1) -> 1 | G3: =IF(G2>Inputs!$B$12,0,1) -> 1 | H3: =IF(H2>Inputs!$B$12,0,1) -> 1 | I3: =IF(I2>Inputs!$B$12,0,1) -> 1 | J3: =IF(J2>Inputs!$B$12,0,1) -> 1 | ... V3: =IF(V2>Inputs!$B$12,0,1) -> 0
A4: Membership Survival | B4: =1 -> 1 | C4: =B4*Inputs!$B$13 -> 0.945 | D4: =C4*Inputs!$B$13 -> 0.893025 | E4: =D4*Inputs!$B$13 -> 0.84390862 | F4: =E4*Inputs!$B$13 -> 0.79749365 | G4: =F4*Inputs!$B$13 -> 0.7536315 | H4: =G4*Inputs!$B$13 -> 0.71218177 | I4: =H4*Inputs!$B$13 -> 0.67301177 | J4: =I4*Inputs!$B$13 -> 0.63599612 | ... V4: =U4*Inputs!$B$13 -> 0.32257906
A5: Revenue/Subscriber | B5: =Inputs!B5 -> 77.62963 | C5: =B5*(1+Inputs!$B$14) -> 79.958519 | D5: =C5*(1+Inputs!$B$14) -> 82.357274 | E5: =D5*(1+Inputs!$B$14) -> 84.827992 | F5: =E5*(1+Inputs!$B$14) -> 87.372832 | G5: =F5*(1+Inputs!$B$14) -> 89.994017 | H5: =G5*(1+Inputs!$B$14) -> 92.693838 | I5: =H5*(1+Inputs!$B$14) -> 95.474653 | J5: =I5*(1+Inputs!$B$14) -> 98.338892 | ... V5: =U5*(1+Inputs!$B$14) -> 140.20775
A6: Content Cost/ Subscriber | B6: =Inputs!B6*B5 -> 61.513719 | C6: =B6*(1+Inputs!$B$15) -> 62.436424 | D6: =C6*(1+Inputs!$B$15) -> 63.372971 | E6: =D6*(1+Inputs!$B$15) -> 64.323565 | F6: =E6*(1+Inputs!$B$15) -> 65.288419 | G6: =F6*(1+Inputs!$B$15) -> 66.267745 | H6: =G6*(1+Inputs!$B$30) -> 67.5931 | I6: =H6*(1+Inputs!$B$30) -> 68.944962 | J6: =I6*(1+Inputs!$B$30) -> 70.323861 | K6: =J6*(1+Inputs!$B$30) -> 71.730338 | L6: =K6*(1+Inputs!$B$30) -> 73.164945 | M6: =L6*(1+Inputs!$B$30) -> 74.628244 | N6: =M6*(1+Inputs!$B$30) -> 76.120809 | O6: =N6*(1+Inputs!$B$30) -> 77.643225 | ... V6: =U6*(1+Inputs!$B$30) -> 89.18766
A7: Operating Profit/Loss per Subscriber | B7: =B5-B6 -> 16.115911 | C7: =C5-C6 -> 17.522094 | D7: =D5-D6 -> 18.984303 | E7: =E5-E6 -> 20.504427 | F7: =F5-F6 -> 22.084413 | G7: =G5-G6 -> 23.726272 | H7: =H5-H6 -> 25.100738 | I7: =I5-I6 -> 26.529691 | ... V7: =V5-V6 -> 51.020086
A8: Tax rate | B8: =Inputs!B7 -> 0.25 | C8: =B8+($L$8-$B$8)/10 -> 0.25 | D8: =C8+($L$8-$B$8)/10 -> 0.25 | E8: =D8+($L$8-$B$8)/10 -> 0.25 | F8: =E8+($L$8-$B$8)/10 -> 0.25 | G8: =F8+($L$8-$B$8)/10 -> 0.25 | H8: =G8+($L$8-$B$8)/10 -> 0.25 | I8: =H8+($L$8-$B$8)/10 -> 0.25 | J8: =I8+($L$8-$B$8)/10 -> 0.25 | K8: =J8+($L$8-$B$8)/10 -> 0.25 | L8: =Inputs!B8 -> 0.25 | M8: =L8 -> 0.25 | N8: =M8 -> 0.25 | O8: =N8 -> 0.25 | P8: =O8 -> 0.25 | Q8: =P8 -> 0.25 | R8: =Q8 -> 0.25 | S8: =R8 -> 0.25 | T8: =S8 -> 0.25 | ... V8: =U8 -> 0.25
A9: After-tax Operating Income | B9: =B7*(1-B8) -> 12.086933 | C9: =C3*C4*C7*(1-C8) -> 12.418784 | D9: =D3*D4*D7*(1-D8) -> 12.715093 | E9: =E3*E4*E7*(1-E8) -> 12.977897 | F9: =F3*F4*F7*(1-F8) -> 13.209135 | G9: =G3*G4*G7*(1-G8) -> 13.410649 | H9: =H3*H4*H7*(1-H8) -> 13.407216 | I9: =I3*I4*I7*(1-I8) -> 13.391096 | J9: =J3*J4*J7*(1-J8) -> 13.363088 | ... V9: =V3*V4*V7*(1-V8) -> 0
A10: Present Value (at Cost of Capital) | C10: =C9/(1+Inputs!$B$32)^Valuation!C2 -> 11.445884 | D10: =D9/(1+Inputs!$B$32)^Valuation!D2 -> 10.800903 | E10: =E9/(1+Inputs!$B$32)^Valuation!E2 -> 10.160501 | F10: =F9/(1+Inputs!$B$32)^Valuation!F2 -> 9.5313718 | G10: =G9/(1+Inputs!$B$32)^Valuation!G2 -> 8.9186911 | H10: =H9/(1+Inputs!$B$32)^Valuation!H2 -> 8.2178871 | I10: =I9/(1+Inputs!$B$32)^Valuation!I2 -> 7.5649828 | J10: =J9/(1+Inputs!$B$32)^Valuation!J2 -> 6.9577518 | ... V10: =V9/(1+Inputs!$B$32)^Valuation!V2 -> 0
A11: Life of subscriber = | B11: =Inputs!B12 -> 15
A12: Value per Subscriber = | B12: =SUM(C10:V10) -> 108.65185
A13: Number of Premium Subscribers = | B13: =Inputs!B4 -> 71
A14: Value of Premium Subscribers = | B14: =B13*B12 -> 7714.2813
A16: Value of New Premium Subscribers
A17: Cost of acquiring New Subscriber = | B17: =Inputs!B17/(Inputs!B4-Inputs!C4*Inputs!B13) -> 27.301092
A18: Value per new user (in today's $) = | B18: =B12-B17 -> 81.350758
B20: Base Year | C20: 1 | D20: 2 | E20: 3 | F20: 4 | G20: 5 | H20: 6 | I20: 7 | J20: 8 | K20: 9 | L20: 10
A21: Total Subscribers | B21: =Inputs!B4 -> 71 | C21: =B21*Inputs!$B$13+C22 -> 84.845 | D21: =C21*Inputs!$B$13+D22 -> 106.05625 | E21: =D21*Inputs!$B$13+E22 -> 132.57031 | F21: =E21*Inputs!$B$13+F22 -> 165.71289 | G21: =F21*Inputs!$B$13+G22 -> 207.14111 | H21: =G21*Inputs!$B$13+H22 -> 227.85522 | I21: =H21*Inputs!$B$13+I22 -> 250.64075 | J21: =I21*Inputs!$B$13+J22 -> 275.70482 | ... L21: =K21*Inputs!$B$13+L22 -> 333.60283
A22: New Subscribers | B22: 0 | C22: =B21*(1+Inputs!$B$18)-B21 -> 17.75 | D22: =(C21)*(1+Inputs!$B$18)-(C21)+C21*(1-Inputs!$B$13) -> 25.877725 | E22: =(D21)*(1+Inputs!$B$18)-(D21)+D21*(1-Inputs!$B$13) -> 32.347156 | F22: =(E21)*(1+Inputs!$B$18)-(E21)+E21*(1-Inputs!$B$13) -> 40.433945 | G22: =(F21)*(1+Inputs!$B$18)-(F21)+F21*(1-Inputs!$B$13) -> 50.542432 | H22: =(G21)*(1+Inputs!$B$19)-(G21)+G21*(1-Inputs!$B$13) -> 32.106873 | I22: =(H21)*(1+Inputs!$B$19)-(H21)+H21*(1-Inputs!$B$13) -> 35.31756 | J22: =(I21)*(1+Inputs!$B$19)-(I21)+I21*(1-Inputs!$B$13) -> 38.849316 | K22: =(J21)*(1+Inputs!$B$19)-(J21)+J21*(1-Inputs!$B$13) -> 42.734247 | L22: =(K21)*(1+Inputs!$B$19)-(K21)+K21*(1-Inputs!$B$13) -> 47.007672
A23: Value per Subscriber | B23: =B18 -> 81.350758 | C23: =B23*(1+Inputs!$B$30) -> 82.977773 | D23: =C23*(1+Inputs!$B$30) -> 84.637328 | E23: =D23*(1+Inputs!$B$30) -> 86.330075 | F23: =E23*(1+Inputs!$B$30) -> 88.056676 | G23: =F23*(1+Inputs!$B$30) -> 89.81781 | H23: =G23*(1+Inputs!$B$30) -> 91.614166 | I23: =H23*(1+Inputs!$B$30) -> 93.446449 | J23: =I23*(1+Inputs!$B$30) -> 95.315378 | ... L23: =K23*(1+Inputs!$B$30) -> 99.16612
A24: Value added by new Subscribers | C24: =C22*C23 -> 1472.8555 | D24: =D22*D23 -> 2190.2215 | E24: =E22*E23 -> 2792.5324 | F24: =F22*F23 -> 3560.4788 | G24: =G22*G23 -> 4539.6105 | H24: =H22*H23 -> 2941.4444 | I24: =I22*I23 -> 3300.3006 | J24: =J22*J23 -> 3702.9372 | ... L24: =L22*L23 -> 4661.5684
A25: Terminal Value (New Subscribers) | L25: =(L21*Inputs!B20*Valuation!L23*(1+Inputs!B30))/(Inputs!B34-Inputs!B30) -> 4217.9676
A26: Present Value | C26: =C24/(1+Inputs!$B$34)^Valuation!C20 -> 1338.9595 | D26: =D24/(1+Inputs!$B$34)^Valuation!D20 -> 1810.1004 | E26: =E24/(1+Inputs!$B$34)^Valuation!E20 -> 2098.0709 | F26: =F24/(1+Inputs!$B$34)^Valuation!F20 -> 2431.855 | G26: =G24/(1+Inputs!$B$34)^Valuation!G20 -> 2818.741 | H26: =H24/(1+Inputs!$B$34)^Valuation!H20 -> 1660.3687 | I26: =I24/(1+Inputs!$B$34)^Valuation!I20 -> 1693.576 | J26: =J24/(1+Inputs!$B$34)^Valuation!J20 -> 1727.4476 | K26: =K24/(1+Inputs!$B$34)^Valuation!K20 -> 1761.9965 | L26: =(L25+L24)/(1+Inputs!B34)^Valuation!L20 -> 3423.4455
A27: Value Added by New Users | B27: =SUM(C26:L26) -> 20764.561
A29: Value of Advertising Revenues
B30: =B20 -> Base Year | C30: =C20 -> 1 | D30: =D20 -> 2 | E30: =E20 -> 3 | F30: =F20 -> 4 | G30: =G20 -> 5 | H30: =H20 -> 6 | I30: =I20 -> 7 | ... L30: =L20 -> 10
A31: Advertising Revenue | B31: =Inputs!B25 -> 513.58025 | C31: =$B$31*(1+Inputs!$B$26)^Valuation!C30 -> 564.93827 | D31: =$B$31*(1+Inputs!$B$26)^Valuation!D30 -> 621.4321 | E31: =$B$31*(1+Inputs!$B$26)^Valuation!E30 -> 683.57531 | F31: =$B$31*(1+Inputs!$B$26)^Valuation!F30 -> 751.93284 | G31: =$B$31*(1+Inputs!$B$26)^Valuation!G30 -> 827.12612 | H31: =G31*(1+Inputs!$B$27) -> 868.48243 | I31: =H31*(1+Inputs!$B$27) -> 911.90655 | J31: =I31*(1+Inputs!$B$27) -> 957.50188 | K31: =J31*(1+Inputs!$B$27) -> 1005.377 | L31: =K31*(1+Inputs!$B$27) -> 1055.6458
A32: - Content Costs | B32: =B31*(B6/B5) -> 406.96099 | C32: =C31*(C6/C5) -> 441.13781 | D32: =D31*(D6/D5) -> 478.18482 | E32: =E31*(E6/E5) -> 518.34306 | F32: =F31*(F6/F5) -> 561.87381 | G32: =G31*(G6/G5) -> 609.0603 | H32: =H31*(H6/H5) -> 633.30445 | I32: =I31*(I6/I5) -> 658.51365 | ... L32: =L31*(L6/L5) -> 740.32348
A33: Operating Income | B33: =B31-B32 -> 106.61926 | C33: =C31-C32 -> 123.80046 | D33: =D31-D32 -> 143.24728 | E33: =E31-E32 -> 165.23225 | F33: =F31-F32 -> 190.05903 | G33: =G31-G32 -> 218.06582 | H33: =H31-H32 -> 235.17798 | I33: =I31-I32 -> 253.3929 | ... L33: =L31-L32 -> 315.32234
A34: After-tax Operating Income | B34: =B33*(1-B8) -> 79.964444 | C34: =C33*(1-C8) -> 92.850347 | D34: =D33*(1-D8) -> 107.43546 | E34: =E33*(1-E8) -> 123.92419 | F34: =F33*(1-F8) -> 142.54427 | G34: =G33*(1-G8) -> 163.54937 | H34: =H33*(1-H8) -> 176.38349 | I34: =I33*(1-I8) -> 190.04467 | ... L34: =L33*(1-L8) -> 236.49176
A35: Terminal Value | L35: =L34*(1+Inputs!B29)/(Inputs!B32-Inputs!B29) -> 4304.9871
A36: PV of After-tax Operating Income | C36: =C34/(1+Inputs!$B$32)^Valuation!C30 -> 85.576357 | D36: =D34/(1+Inputs!$B$32)^Valuation!D30 -> 91.26162 | E36: =E34/(1+Inputs!$B$32)^Valuation!E30 -> 97.02125 | F36: =F34/(1+Inputs!$B$32)^Valuation!F30 -> 102.85628 | G36: =G34/(1+Inputs!$B$32)^Valuation!G30 -> 108.76776 | H36: =H34/(1+Inputs!$B$32)^Valuation!H30 -> 108.11339 | I36: =I34/(1+Inputs!$B$32)^Valuation!I30 -> 107.36124 | J36: =J34/(1+Inputs!$B$32)^Valuation!J30 -> 106.51942 | K36: =K34/(1+Inputs!$B$32)^Valuation!K30 -> 105.59556 | L36: =(L34+L35)/(1+Inputs!$B$32)^Valuation!L30 -> 2008.6299
A37: Value of Advertising Business | B37: =SUM(C36:L36) -> 2921.7027
A39: Value Drag of Corporate Expenses (Cost)
B40: =B30 -> Base Year | C40: =C30 -> 1 | D40: =D30 -> 2 | E40: =E30 -> 3 | F40: =F30 -> 4 | G40: =G30 -> 5 | H40: =H30 -> 6 | I40: =I30 -> 7 | ... L40: =L30 -> 10
A41: Total R&D & G&A Costs | B41: =Inputs!B10 -> 814.81481
A42: Corporate Expenses | B42: =B41 -> 814.81481 | C42: =B42*(1+Inputs!$B$23) -> 855.55556 | D42: =C42*(1+Inputs!$B$23) -> 898.33333 | E42: =D42*(1+Inputs!$B$23) -> 943.25 | F42: =E42*(1+Inputs!$B$23) -> 990.4125 | G42: =F42*(1+Inputs!$B$23) -> 1039.9331 | H42: =G42*(1+Inputs!$B$23) -> 1091.9298 | I42: =H42*(1+Inputs!$B$23) -> 1146.5263 | J42: =I42*(1+Inputs!$B$23) -> 1203.8526 | ... L42: =K42*(1+Inputs!$B$23) -> 1327.2475
A43: After-tax Corporate Expenses | C43: =C42*(1-C8) -> 641.66667 | D43: =D42*(1-D8) -> 673.75 | E43: =E42*(1-E8) -> 707.4375 | F43: =F42*(1-F8) -> 742.80938 | G43: =G42*(1-G8) -> 779.94984 | H43: =H42*(1-H8) -> 818.94734 | I43: =I42*(1-I8) -> 859.8947 | J43: =J42*(1-J8) -> 902.88944 | ... L43: =L42*(1-L8) -> 995.43561
A44: Terminal Value (Corporate Exp) | L44: =L43*(1+Inputs!B29)/(Inputs!B32-Inputs!B29) -> 18120.452
...

Sheet Input choices
A1: Yes or No | B1: Cost of capital
A2: Yes | B2: Lowest decile of US companies (7%)
A3: No | B3: 25th percentile of US companies (7.5%)
B4: Median of US companies (8%)
B5: 75th percentile of US companies (10%)
B6: Ninth decile of US companies (12%)
B7: Direct input
