Workbook

Sheet Sheet1
A1: ='[1]Sovereign Ratings (Moody''s,S&P)'!A1 -> Country | B1: ='[1]Country GDP'!B1 -> GDP (in billions) in 2020 | C1: ='[1]Sovereign Ratings (Moody''s,S&P)'!C1 -> Moody's rating | D1: Adj. Default Spread | E1: Equity Risk Premium | F1: Country Risk Premium | G1: Corporate Tax Rate | H1: Region
A2: ='[1]Sovereign Ratings (Moody''s,S&P)'!A5 -> Angola | B2: ='[1]Country GDP'!B5 -> 62.307 | C2: ='[1]Sovereign Ratings (Moody''s,S&P)'!C5 -> B3 | D2: ='[1]ERPs by country'!D11 -> 0.05534494 | E2: ='[1]ERPs by country'!E11 -> 0.10672501 | F2: ='[1]ERPs by country'!F11 -> 0.064325014 | G2: ='[1]Country Tax Rates'!C5 -> 0.25 | H2: =VLOOKUP(A2,'[1]Regional lookup table'!$A$2:$B$161,2) -> Africa
A3: ='[1]Sovereign Ratings (Moody''s,S&P)'!A19 -> Benin | B3: ='[1]Country GDP'!B19 -> 15.652 | C3: ='[1]Sovereign Ratings (Moody''s,S&P)'!C19 -> B1 | D3: ='[1]ERPs by country'!D25 -> 0.038303918 | E3: ='[1]ERPs by country'!E25 -> 0.086918977 | F3: ='[1]ERPs by country'!F25 -> 0.044518977 | G3: ='[1]Country Tax Rates'!C19 -> 0.3 | H3: =VLOOKUP(A3,'[1]Regional lookup table'!$A$2:$B$161,2) -> Africa
A4: ='[1]Sovereign Ratings (Moody''s,S&P)'!A23 -> Botswana | B4: ='[1]Country GDP'!B23 -> 15.782 | C4: ='[1]Sovereign Ratings (Moody''s,S&P)'!C23 -> A3 | D4: ='[1]ERPs by country'!D29 -> 0.010209261 | E4: ='[1]ERPs by country'!E29 -> 0.054265779 | F4: ='[1]ERPs by country'!F29 -> 0.011865779 | G4: ='[1]Country Tax Rates'!C23 -> 0.22 | H4: =VLOOKUP(A4,'[1]Regional lookup table'!$A$2:$B$161,2) -> Africa
A5: ='[1]Sovereign Ratings (Moody''s,S&P)'!A26 -> Burkina Faso | B5: ='[1]Country GDP'!B26 -> 17.369 | C5: ='[1]Sovereign Ratings (Moody''s,S&P)'!C26 -> B2 | D5: ='[1]ERPs by country'!D32 -> 0.046824429 | E5: ='[1]ERPs by country'!E32 -> 0.096821995 | F5: ='[1]ERPs by country'!F32 -> 0.054421995 | G5: ='[1]Country Tax Rates'!C26 -> 0.28 | H5: =VLOOKUP(A5,'[1]Regional lookup table'!$A$2:$B$161,2) -> Africa
A6: ='[1]Sovereign Ratings (Moody''s,S&P)'!A28 -> Cameroon | B6: ='[1]Country GDP'!B28 -> 39.802 | C6: ='[1]Sovereign Ratings (Moody''s,S&P)'!C28 -> B2 | D6: ='[1]ERPs by country'!D34 -> 0.046824429 | E6: ='[1]ERPs by country'!E34 -> 0.096821995 | F6: ='[1]ERPs by country'!F34 -> 0.054421995 | G6: ='[1]Country Tax Rates'!C28 -> 0.33 | H6: =VLOOKUP(A6,'[1]Regional lookup table'!$A$2:$B$161,2) -> Africa
A7: ='[1]Sovereign Ratings (Moody''s,S&P)'!A30 -> Cape Verde | B7: ='[1]Country GDP'!B30 -> 1.7 | C7: ='[1]Sovereign Ratings (Moody''s,S&P)'!C30 -> B3 | D7: ='[1]ERPs by country'!D36 -> 0.05534494 | E7: ='[1]ERPs by country'!E36 -> 0.10672501 | F7: ='[1]ERPs by country'!F36 -> 0.064325014 | G7: ='[1]Country Tax Rates'!C30 -> 0 | H7: =VLOOKUP(A7,'[1]Regional lookup table'!$A$2:$B$161,2) -> Africa
A8: ='[1]Sovereign Ratings (Moody''s,S&P)'!A35 -> Congo (Democratic Republic of) | B8: ='[1]Country GDP'!B35 -> 49.87 | C8: ='[1]Sovereign Ratings (Moody''s,S&P)'!C35 -> Caa1 | D8: ='[1]ERPs by country'!D41 -> 0.063788689 | E8: ='[1]ERPs by country'!E41 -> 0.11653882 | F8: ='[1]ERPs by country'!F41 -> 0.074138817 | G8: ='[1]Country Tax Rates'!C35 -> 0.3 | H8: =VLOOKUP(A8,'[1]Regional lookup table'!$A$2:$B$161,2) -> Africa
A9: ='[1]Sovereign Ratings (Moody''s,S&P)'!A36 -> Congo (Republic of) | B9: ='[1]Country GDP'!B36 -> 10.89 | C9: ='[1]Sovereign Ratings (Moody''s,S&P)'!C36 -> Caa2 | D9: ='[1]ERPs by country'!D42 -> 0.076607836 | E9: ='[1]ERPs by country'!E42 -> 0.13143795 | F9: ='[1]ERPs by country'!F42 -> 0.089037953 | G9: ='[1]Country Tax Rates'!C36 -> 0.28 | H9: =VLOOKUP(A9,'[1]Regional lookup table'!$A$2:$B$161,2) -> Africa
A10: ='[1]Sovereign Ratings (Moody''s,S&P)'!A39 -> Côte d'Ivoire | B10: ='[1]Country GDP'!B39 -> 61.349 | C10: ='[1]Sovereign Ratings (Moody''s,S&P)'!C39 -> Ba3 | D10: ='[1]ERPs by country'!D45 -> 0.030627782 | E10: ='[1]ERPs by country'!E45 -> 0.077997338 | F10: ='[1]ERPs by country'!F45 -> 0.035597338 | G10: ='[1]Country Tax Rates'!C39 -> 0.2281 | H10: =VLOOKUP(A10,'[1]Regional lookup table'!$A$2:$B$161,2) -> Africa
A11: ='[1]Sovereign Ratings (Moody''s,S&P)'!A48 -> Egypt | B11: ='[1]Country GDP'!B48 -> 363.09 | C11: ='[1]Sovereign Ratings (Moody''s,S&P)'!C48 -> B2 | D11: ='[1]ERPs by country'!D54 -> 0.046824429 | E11: ='[1]ERPs by country'!E54 -> 0.096821995 | F11: ='[1]ERPs by country'!F54 -> 0.054421995 | G11: ='[1]Country Tax Rates'!C48 -> 0.225 | H11: =VLOOKUP(A11,'[1]Regional lookup table'!$A$2:$B$161,2) -> Africa
A12: ='[1]Sovereign Ratings (Moody''s,S&P)'!A51 -> Ethiopia | B12: ='[1]Country GDP'!B51 -> 107.645 | C12: ='[1]Sovereign Ratings (Moody''s,S&P)'!C51 -> Caa2 | D12: ='[1]ERPs by country'!D57 -> 0.076607836 | E12: ='[1]ERPs by country'!E57 -> 0.13143795 | F12: ='[1]ERPs by country'!F57 -> 0.089037953 | G12: ='[1]Country Tax Rates'!C51 -> 0.3 | H12: =VLOOKUP(A12,'[1]Regional lookup table'!$A$2:$B$161,2) -> Africa
A13: ='[1]Sovereign Ratings (Moody''s,S&P)'!A55 -> Gabon | B13: ='[1]Country GDP'!B55 -> 15.593 | C13: ='[1]Sovereign Ratings (Moody''s,S&P)'!C55 -> Caa1 | D13: ='[1]ERPs by country'!D61 -> 0.063788689 | E13: ='[1]ERPs by country'!E61 -> 0.11653882 | F13: ='[1]ERPs by country'!F61 -> 0.074138817 | G13: ='[1]Country Tax Rates'!C55 -> 0.3 | H13: =VLOOKUP(A13,'[1]Regional lookup table'!$A$2:$B$161,2) -> Africa
A14: ='[1]Sovereign Ratings (Moody''s,S&P)'!A58 -> Ghana | B14: ='[1]Country GDP'!B58 -> 72.354 | C14: ='[1]Sovereign Ratings (Moody''s,S&P)'!C58 -> B3 | D14: ='[1]ERPs by country'!D64 -> 0.05534494 | E14: ='[1]ERPs by country'!E64 -> 0.10672501 | F14: ='[1]ERPs by country'!F64 -> 0.064325014 | G14: ='[1]Country Tax Rates'!C58 -> 0.25 | H14: =VLOOKUP(A14,'[1]Regional lookup table'!$A$2:$B$161,2) -> Africa
A15: ='[1]Sovereign Ratings (Moody''s,S&P)'!A78 -> Kenya | B15: ='[1]Country GDP'!B78 -> 98.843 | C15: ='[1]Sovereign Ratings (Moody''s,S&P)'!C78 -> B2 | D15: ='[1]ERPs by country'!D84 -> 0.046824429 | E15: ='[1]ERPs by country'!E84 -> 0.096821995 | F15: ='[1]ERPs by country'!F84 -> 0.054421995 | G15: ='[1]Country Tax Rates'!C78 -> 0.3 | H15: =VLOOKUP(A15,'[1]Regional lookup table'!$A$2:$B$161,2) -> Africa
A16: ='[1]Sovereign Ratings (Moody''s,S&P)'!A92 -> Mali | B16: ='[1]Country GDP'!B92 -> 17.394 | C16: ='[1]Sovereign Ratings (Moody''s,S&P)'!C92 -> Caa1 | D16: ='[1]ERPs by country'!D98 -> 0.063788689 | E16: ='[1]ERPs by country'!E98 -> 0.11653882 | F16: ='[1]ERPs by country'!F98 -> 0.074138817 | G16: ='[1]Country Tax Rates'!C92 -> 0.2281 | H16: =VLOOKUP(A16,'[1]Regional lookup table'!$A$2:$B$161,2) -> Africa
A17: ='[1]Sovereign Ratings (Moody''s,S&P)'!A94 -> Mauritius | B17: ='[1]Country GDP'!B94 -> 10.914 | C17: ='[1]Sovereign Ratings (Moody''s,S&P)'!C94 -> Baa2 | D17: ='[1]ERPs by country'!D100 -> 0.016196647 | E17: ='[1]ERPs by country'!E100 -> 0.061224657 | F17: ='[1]ERPs by country'!F100 -> 0.018824657 | G17: ='[1]Country Tax Rates'!C94 -> 0.15 | H17: =VLOOKUP(A17,'[1]Regional lookup table'!$A$2:$B$161,2) -> Africa
A18: ='[1]Sovereign Ratings (Moody''s,S&P)'!A100 -> Morocco | B18: ='[1]Country GDP'!B100 -> 112.871 | C18: ='[1]Sovereign Ratings (Moody''s,S&P)'!C100 -> Ba1 | D18: ='[1]ERPs by country'!D106 -> 0.021262896 | E18: ='[1]ERPs by country'!E106 -> 0.067112939 | F18: ='[1]ERPs by country'!F106 -> 0.024712939 | G18: ='[1]Country Tax Rates'!C100 -> 0.31 | H18: =VLOOKUP(A18,'[1]Regional lookup table'!$A$2:$B$161,2) -> Africa
A19: ='[1]Sovereign Ratings (Moody''s,S&P)'!A101 -> Mozambique | B19: ='[1]Country GDP'!B101 -> 14.021 | C19: ='[1]Sovereign Ratings (Moody''s,S&P)'!C101 -> Caa2 | D19: ='[1]ERPs by country'!D107 -> 0.076607836 | E19: ='[1]ERPs by country'!E107 -> 0.13143795 | F19: ='[1]ERPs by country'!F107 -> 0.089037953 | G19: ='[1]Country Tax Rates'!C101 -> 0.32 | H19: =VLOOKUP(A19,'[1]Regional lookup table'!$A$2:$B$161,2) -> Africa
A20: ='[1]Sovereign Ratings (Moody''s,S&P)'!A102 -> Namibia | B20: ='[1]Country GDP'!B102 -> 10.7 | C20: ='[1]Sovereign Ratings (Moody''s,S&P)'!C102 -> Ba3 | D20: ='[1]ERPs by country'!D108 -> 0.030627782 | E20: ='[1]ERPs by country'!E108 -> 0.077997338 | F20: ='[1]ERPs by country'!F108 -> 0.035597338 | G20: ='[1]Country Tax Rates'!C102 -> 0.32 | H20: =VLOOKUP(A20,'[1]Regional lookup table'!$A$2:$B$161,2) -> Africa
A21: ='[1]Sovereign Ratings (Moody''s,S&P)'!A106 -> Niger | B21: ='[1]Country GDP'!B106 -> 13.678 | C21: ='[1]Sovereign Ratings (Moody''s,S&P)'!C106 -> B3 | D21: ='[1]ERPs by country'!D112 -> 0.05534494 | E21: ='[1]ERPs by country'!E112 -> 0.10672501 | F21: ='[1]ERPs by country'!F112 -> 0.064325014 | G21: ='[1]Country Tax Rates'!C106 -> 0.2281 | H21: =VLOOKUP(A21,'[1]Regional lookup table'!$A$2:$B$161,2) -> Africa
A22: ='[1]Sovereign Ratings (Moody''s,S&P)'!A107 -> Nigeria | B22: ='[1]Country GDP'!B107 -> 432.294 | C22: ='[1]Sovereign Ratings (Moody''s,S&P)'!C107 -> B2 | D22: ='[1]ERPs by country'!D113 -> 0.046824429 | E22: ='[1]ERPs by country'!E113 -> 0.096821995 | F22: ='[1]ERPs by country'!F113 -> 0.054421995 | G22: ='[1]Country Tax Rates'!C107 -> 0.3 | H22: =VLOOKUP(A22,'[1]Regional lookup table'!$A$2:$B$161,2) -> Africa
A23: ='[1]Sovereign Ratings (Moody''s,S&P)'!A122 -> Rwanda | B23: ='[1]Country GDP'!B122 -> 10.334 | C23: ='[1]Sovereign Ratings (Moody''s,S&P)'!C122 -> B2 | D23: ='[1]ERPs by country'!D128 -> 0.046824429 | E23: ='[1]ERPs by country'!E128 -> 0.096821995 | F23: ='[1]ERPs by country'!F128 -> 0.054421995 | G23: ='[1]Country Tax Rates'!C122 -> 0.3 | H23: =VLOOKUP(A23,'[1]Regional lookup table'!$A$2:$B$161,2) -> Africa
A24: ='[1]Sovereign Ratings (Moody''s,S&P)'!A124 -> Senegal | B24: ='[1]Country GDP'!B124 -> 24.911 | C24: ='[1]Sovereign Ratings (Moody''s,S&P)'!C124 -> Ba3 | D24: ='[1]ERPs by country'!D130 -> 0.030627782 | E24: ='[1]ERPs by country'!E130 -> 0.077997338 | F24: ='[1]ERPs by country'!F130 -> 0.035597338 | G24: ='[1]Country Tax Rates'!C124 -> 0.3 | H24: =VLOOKUP(A24,'[1]Regional lookup table'!$A$2:$B$161,2) -> Africa
A25: ='[1]Sovereign Ratings (Moody''s,S&P)'!A131 -> South Africa | B25: ='[1]Country GDP'!B131 -> 301.924 | C25: ='[1]Sovereign Ratings (Moody''s,S&P)'!C131 -> Ba2 | D25: ='[1]ERPs by country'!D137 -> 0.025561533 | E25: ='[1]ERPs by country'!E137 -> 0.072109057 | F25: ='[1]ERPs by country'!F137 -> 0.029709057 | G25: ='[1]Country Tax Rates'!C131 -> 0.28 | H25: =VLOOKUP(A25,'[1]Regional lookup table'!$A$2:$B$161,2) -> Africa
A26: ='[1]Sovereign Ratings (Moody''s,S&P)'!A137 -> Swaziland | B26: ='[1]Country GDP'!B137 -> 3.96 | C26: ='[1]Sovereign Ratings (Moody''s,S&P)'!C137 -> B3 | D26: ='[1]ERPs by country'!D143 -> 0.05534494 | E26: ='[1]ERPs by country'!E143 -> 0.10672501 | F26: ='[1]ERPs by country'!F143 -> 0.064325014 | G26: ='[1]Country Tax Rates'!C137 -> 0.275 | H26: =VLOOKUP(A26,'[1]Regional lookup table'!$A$2:$B$161,2) -> Africa
A27: ='[1]Sovereign Ratings (Moody''s,S&P)'!A142 -> Tanzania | B27: ='[1]Country GDP'!B142 -> 62.41 | C27: ='[1]Sovereign Ratings (Moody''s,S&P)'!C142 -> B2 | D27: ='[1]ERPs by country'!D148 -> 0.046824429 | E27: ='[1]ERPs by country'!E148 -> 0.096821995 | F27: ='[1]ERPs by country'!F148 -> 0.054421995 | G27: ='[1]Country Tax Rates'!C142 -> 0.3 | H27: =VLOOKUP(A27,'[1]Regional lookup table'!$A$2:$B$161,2) -> Africa
A28: ='[1]Sovereign Ratings (Moody''s,S&P)'!A144 -> Togo | B28: ='[1]Country GDP'!B144 -> 7.575 | C28: ='[1]Sovereign Ratings (Moody''s,S&P)'!C144 -> B3 | D28: ='[1]ERPs by country'!D150 -> 0.05534494 | E28: ='[1]ERPs by country'!E150 -> 0.10672501 | F28: ='[1]ERPs by country'!F150 -> 0.064325014 | G28: ='[1]Country Tax Rates'!C144 -> 0.2281 | H28: =VLOOKUP(A28,'[1]Regional lookup table'!$A$2:$B$161,2) -> Africa
A29: ='[1]Sovereign Ratings (Moody''s,S&P)'!A146 -> Tunisia | B29: ='[1]Country GDP'!B146 -> 39.236 | C29: ='[1]Sovereign Ratings (Moody''s,S&P)'!C146 -> Caa1 | D29: ='[1]ERPs by country'!D152 -> 0.063788689 | E29: ='[1]ERPs by country'!E152 -> 0.11653882 | F29: ='[1]ERPs by country'!F152 -> 0.074138817 | G29: ='[1]Country Tax Rates'!C146 -> 0.15 | H29: =VLOOKUP(A29,'[1]Regional lookup table'!$A$2:$B$161,2) -> Africa
A30: ='[1]Sovereign Ratings (Moody''s,S&P)'!A149 -> Uganda | B30: ='[1]Country GDP'!B149 -> 37.372 | C30: ='[1]Sovereign Ratings (Moody''s,S&P)'!C149 -> B2 | D30: ='[1]ERPs by country'!D155 -> 0.046824429 | E30: ='[1]ERPs by country'!E155 -> 0.096821995 | F30: ='[1]ERPs by country'!F155 -> 0.054421995 | G30: ='[1]Country Tax Rates'!C149 -> 0.3 | H30: =VLOOKUP(A30,'[1]Regional lookup table'!$A$2:$B$161,2) -> Africa
A31: ='[1]Sovereign Ratings (Moody''s,S&P)'!A158 -> Zambia | B31: ='[1]Country GDP'!B158 -> 19.32 | C31: ='[1]Sovereign Ratings (Moody''s,S&P)'!C158 -> Ca | D31: ='[1]ERPs by country'!D164 -> 0.10209261 | E31: ='[1]ERPs by country'!E164 -> 0.16105779 | F31: ='[1]ERPs by country'!F164 -> 0.11865779 | G31: ='[1]Country Tax Rates'!C158 -> 0.35 | H31: =VLOOKUP(A31,'[1]Regional lookup table'!$A$2:$B$161,2) -> Africa
A32: ='[1]Sovereign Ratings (Moody''s,S&P)'!A14 -> Bangladesh | B32: ='[1]Country GDP'!B14 -> 324.239 | C32: ='[1]Sovereign Ratings (Moody''s,S&P)'!C14 -> Ba3 | D32: ='[1]ERPs by country'!D20 -> 0.030627782 | E32: ='[1]ERPs by country'!E20 -> 0.077997338 | F32: ='[1]ERPs by country'!F20 -> 0.035597338 | G32: ='[1]Country Tax Rates'!C14 -> 0.325 | H32: =VLOOKUP(A32,'[1]Regional lookup table'!$A$2:$B$161,2) -> Asia
A33: ='[1]Sovereign Ratings (Moody''s,S&P)'!A27 -> Cambodia | B33: ='[1]Country GDP'!B27 -> 25.291 | C33: ='[1]Sovereign Ratings (Moody''s,S&P)'!C27 -> B2 | D33: ='[1]ERPs by country'!D33 -> 0.046824429 | E33: ='[1]ERPs by country'!E33 -> 0.096821995 | F33: ='[1]ERPs by country'!F33 -> 0.054421995 | G33: ='[1]Country Tax Rates'!C27 -> 0.2 | H33: =VLOOKUP(A33,'[1]Regional lookup table'!$A$2:$B$161,2) -> Asia
A34: ='[1]Sovereign Ratings (Moody''s,S&P)'!A33 -> China | B34: ='[1]Country GDP'!B33 -> 14722.731 | C34: ='[1]Sovereign Ratings (Moody''s,S&P)'!C33 -> A1 | D34: ='[1]ERPs by country'!D39 -> 0.005987386 | E34: ='[1]ERPs by country'!E39 -> 0.049358878 | F34: ='[1]ERPs by country'!F39 -> 0.0069588781 | G34: ='[1]Country Tax Rates'!C33 -> 0.25 | H34: =VLOOKUP(A34,'[1]Regional lookup table'!$A$2:$B$161,2) -> Asia
A35: ='[1]Sovereign Ratings (Moody''s,S&P)'!A52 -> Fiji | B35: ='[1]Country GDP'!B52 -> 4.376 | C35: ='[1]Sovereign Ratings (Moody''s,S&P)'!C52 -> B1 | D35: ='[1]ERPs by country'!D58 -> 0.038303918 | E35: ='[1]ERPs by country'!E58 -> 0.086918977 | F35: ='[1]ERPs by country'!F58 -> 0.044518977 | G35: ='[1]Country Tax Rates'!C52 -> 0.2 | H35: =VLOOKUP(A35,'[1]Regional lookup table'!$A$2:$B$161,2) -> Asia
A36: ='[1]Sovereign Ratings (Moody''s,S&P)'!A63 -> Hong Kong | B36: ='[1]Country GDP'!B63 -> 346.6 | C36: ='[1]Sovereign Ratings (Moody''s,S&P)'!C63 -> Aa3 | D36: ='[1]ERPs by country'!D69 -> 0.0051430111 | E36: ='[1]ERPs by country'!E69 -> 0.048377498 | F36: ='[1]ERPs by country'!F69 -> 0.0059774979 | G36: ='[1]Country Tax Rates'!C63 -> 0.165 | H36: =VLOOKUP(A36,'[1]Regional lookup table'!$A$2:$B$161,2) -> Asia
A37: ='[1]Sovereign Ratings (Moody''s,S&P)'!A66 -> India | B37: ='[1]Country GDP'!B66 -> 2622.984 | C37: ='[1]Sovereign Ratings (Moody''s,S&P)'!C66 -> Baa3 | D37: ='[1]ERPs by country'!D72 -> 0.018729772 | E37: ='[1]ERPs by country'!E72 -> 0.064168798 | F37: ='[1]ERPs by country'!F72 -> 0.021768798 | G37: ='[1]Country Tax Rates'!C66 -> 0.3 | H37: =VLOOKUP(A37,'[1]Regional lookup table'!$A$2:$B$161,2) -> Asia
A38: ='[1]Sovereign Ratings (Moody''s,S&P)'!A67 -> Indonesia | B38: ='[1]Country GDP'!B67 -> 1058.424 | C38: ='[1]Sovereign Ratings (Moody''s,S&P)'!C67 -> Baa2 | D38: ='[1]ERPs by country'!D73 -> 0.016196647 | E38: ='[1]ERPs by country'!E73 -> 0.061224657 | F38: ='[1]ERPs by country'!F73 -> 0.018824657 | G38: ='[1]Country Tax Rates'!C67 -> 0.35 | H38: =VLOOKUP(A38,'[1]Regional lookup table'!$A$2:$B$161,2) -> Asia
A39: ='[1]Sovereign Ratings (Moody''s,S&P)'!A74 -> Japan | B39: ='[1]Country GDP'!B74 -> 5064.873 | C39: ='[1]Sovereign Ratings (Moody''s,S&P)'!C74 -> A1 | D39: ='[1]ERPs by country'!D80 -> 0.005987386 | E39: ='[1]ERPs by country'!E80 -> 0.049358878 | F39: ='[1]ERPs by country'!F80 -> 0.0069588781 | G39: ='[1]Country Tax Rates'!C74 -> 0.3062 | H39: =VLOOKUP(A39,'[1]Regional lookup table'!$A$2:$B$161,2) -> Asia
A40: ='[1]Sovereign Ratings (Moody''s,S&P)'!A79 -> Korea | B40: ='[1]Country GDP'!B79 -> 1630.53 | C40: ='[1]Sovereign Ratings (Moody''s,S&P)'!C79 -> Aa2 | D40: ='[1]ERPs by country'!D85 -> 0.0042218748 | E40: ='[1]ERPs by country'!E85 -> 0.047306901 | F40: ='[1]ERPs by country'!F85 -> 0.0049069012 | G40: ='[1]Country Tax Rates'!C79 -> 0.25 | H40: =VLOOKUP(A40,'[1]Regional lookup table'!$A$2:$B$161,2) -> Asia
A41: ='[1]Sovereign Ratings (Moody''s,S&P)'!A82 -> Laos | B41: ='[1]Country GDP'!B82 -> 19.14 | C41: ='[1]Sovereign Ratings (Moody''s,S&P)'!C82 -> Caa2 | D41: ='[1]ERPs by country'!D88 -> 0.076607836 | E41: ='[1]ERPs by country'!E88 -> 0.13143795 | F41: ='[1]ERPs by country'!F88 -> 0.089037953 | G41: ='[1]Country Tax Rates'!C82 -> 0.2281 | H41: =VLOOKUP(A41,'[1]Regional lookup table'!$A$2:$B$161,2) -> Asia
A42: ='[1]Sovereign Ratings (Moody''s,S&P)'!A88 -> Macao | B42: ='[1]Country GDP'!B88 -> 55.15 | C42: ='[1]Sovereign Ratings (Moody''s,S&P)'!C88 -> Aa3 | D42: ='[1]ERPs by country'!D94 -> 0.0051430111 | E42: ='[1]ERPs by country'!E94 -> 0.048377498 | F42: ='[1]ERPs by country'!F94 -> 0.0059774979 | G42: ='[1]Country Tax Rates'!C88 -> 0.2281 | H42: =VLOOKUP(A42,'[1]Regional lookup table'!$A$2:$B$161,2) -> Asia
A43: ='[1]Sovereign Ratings (Moody''s,S&P)'!A90 -> Malaysia | B43: ='[1]Country GDP'!B90 -> 336.664 | C43: ='[1]Sovereign Ratings (Moody''s,S&P)'!C90 -> A3 | D43: ='[1]ERPs by country'!D96 -> 0.010209261 | E43: ='[1]ERPs by country'!E96 -> 0.054265779 | F43: ='[1]ERPs by country'!F96 -> 0.011865779 | G43: ='[1]Country Tax Rates'!C90 -> 0.24 | H43: =VLOOKUP(A43,'[1]Regional lookup table'!$A$2:$B$161,2) -> Asia
A44: ='[1]Sovereign Ratings (Moody''s,S&P)'!A91 -> Maldives | B44: ='[1]Country GDP'!B91 -> 4.03 | C44: ='[1]Sovereign Ratings (Moody''s,S&P)'!C91 -> Caa1 | D44: ='[1]ERPs by country'!D97 -> 0.063788689 | E44: ='[1]ERPs by country'!E97 -> 0.11653882 | F44: ='[1]ERPs by country'!F97 -> 0.074138817 | G44: ='[1]Country Tax Rates'!C91 -> 0.2281 | H44: =VLOOKUP(A44,'[1]Regional lookup table'!$A$2:$B$161,2) -> Asia
A45: ='[1]Sovereign Ratings (Moody''s,S&P)'!A97 -> Mongolia | B45: ='[1]Country GDP'!B97 -> 13.137 | C45: ='[1]Sovereign Ratings (Moody''s,S&P)'!C97 -> B3 | D45: ='[1]ERPs by country'!D103 -> 0.05534494 | E45: ='[1]ERPs by country'!E103 -> 0.10672501 | F45: ='[1]ERPs by country'!F103 -> 0.064325014 | G45: ='[1]Country Tax Rates'!C97 -> 0.25 | H45: =VLOOKUP(A45,'[1]Regional lookup table'!$A$2:$B$161,2) -> Asia
A46: ='[1]Sovereign Ratings (Moody''s,S&P)'!A110 -> Pakistan | B46: ='[1]Country GDP'!B110 -> 263.687 | C46: ='[1]Sovereign Ratings (Moody''s,S&P)'!C110 -> B3 | D46: ='[1]ERPs by country'!D116 -> 0.05534494 | E46: ='[1]ERPs by country'!E116 -> 0.10672501 | F46: ='[1]ERPs by country'!F116 -> 0.064325014 | G46: ='[1]Country Tax Rates'!C110 -> 0.29 | H46: =VLOOKUP(A46,'[1]Regional lookup table'!$A$2:$B$161,2) -> Asia
A47: ='[1]Sovereign Ratings (Moody''s,S&P)'!A112 -> Papua New Guinea | B47: ='[1]Country GDP'!B112 -> 23.592 | C47: ='[1]Sovereign Ratings (Moody''s,S&P)'!C112 -> B2 | D47: ='[1]ERPs by country'!D118 -> 0.046824429 | E47: ='[1]ERPs by country'!E118 -> 0.096821995 | F47: ='[1]ERPs by country'!F118 -> 0.054421995 | G47: ='[1]Country Tax Rates'!C112 -> 0.3 | H47: =VLOOKUP(A47,'[1]Regional lookup table'!$A$2:$B$161,2) -> Asia
A48: ='[1]Sovereign Ratings (Moody''s,S&P)'!A115 -> Philippines | B48: ='[1]Country GDP'!B115 -> 361.489 | C48: ='[1]Sovereign Ratings (Moody''s,S&P)'!C115 -> Baa2 | D48: ='[1]ERPs by country'!D121 -> 0.016196647 | E48: ='[1]ERPs by country'!E121 -> 0.061224657 | F48: ='[1]ERPs by country'!F121 -> 0.018824657 | G48: ='[1]Country Tax Rates'!C115 -> 0.3 | H48: =VLOOKUP(A48,'[1]Regional lookup table'!$A$2:$B$161,2) -> Asia
A49: ='[1]Sovereign Ratings (Moody''s,S&P)'!A127 -> Singapore | B49: ='[1]Country GDP'!B127 -> 339.998 | C49: ='[1]Sovereign Ratings (Moody''s,S&P)'!C127 -> Aaa | D49: ='[1]ERPs by country'!D133 -> 0 | E49: ='[1]ERPs by country'!E133 -> 0.0424 | F49: ='[1]ERPs by country'!F133 -> 0 | G49: ='[1]Country Tax Rates'!C127 -> 0.17 | H49: =VLOOKUP(A49,'[1]Regional lookup table'!$A$2:$B$161,2) -> Asia
A50: ='[1]Sovereign Ratings (Moody''s,S&P)'!A130 -> Solomon Islands | B50: ='[1]Country GDP'!B130 -> 1.551 | C50: ='[1]Sovereign Ratings (Moody''s,S&P)'!C130 -> Caa1 | D50: ='[1]ERPs by country'!D136 -> 0.063788689 | E50: ='[1]ERPs by country'!E136 -> 0.11653882 | F50: ='[1]ERPs by country'!F136 -> 0.074138817 | G50: ='[1]Country Tax Rates'!C130 -> 0.3 | H50: =VLOOKUP(A50,'[1]Regional lookup table'!$A$2:$B$161,2) -> Asia
A51: ='[1]Sovereign Ratings (Moody''s,S&P)'!A133 -> Sri Lanka | B51: ='[1]Country GDP'!B133 -> 80.707 | C51: ='[1]Sovereign Ratings (Moody''s,S&P)'!C133 -> Caa2 | D51: ='[1]ERPs by country'!D139 -> 0.076607836 | E51: ='[1]ERPs by country'!E139 -> 0.13143795 | F51: ='[1]ERPs by country'!F139 -> 0.089037953 | G51: ='[1]Country Tax Rates'!C133 -> 0.24 | H51: =VLOOKUP(A51,'[1]Regional lookup table'!$A$2:$B$161,2) -> Asia
A52: ='[1]Sovereign Ratings (Moody''s,S&P)'!A140 -> Taiwan | B52: ='[1]Country GDP'!B140 -> 689 | C52: ='[1]Sovereign Ratings (Moody''s,S&P)'!C140 -> Aa3 | D52: ='[1]ERPs by country'!D146 -> 0.0051430111 | E52: ='[1]ERPs by country'!E146 -> 0.048377498 | F52: ='[1]ERPs by country'!F146 -> 0.0059774979 | G52: ='[1]Country Tax Rates'!C140 -> 0.2 | H52: =VLOOKUP(A52,'[1]Regional lookup table'!$A$2:$B$161,2) -> Asia
A53: ='[1]Sovereign Ratings (Moody''s,S&P)'!A143 -> Thailand | B53: ='[1]Country GDP'!B143 -> 501.795 | C53: ='[1]Sovereign Ratings (Moody''s,S&P)'!C143 -> Baa1 | D53: ='[1]ERPs by country'!D149 -> 0.013586761 | E53: ='[1]ERPs by country'!E149 -> 0.0581913 | F53: ='[1]ERPs by country'!F149 -> 0.0157913 | G53: ='[1]Country Tax Rates'!C143 -> 0.2 | H53: =VLOOKUP(A53,'[1]Regional lookup table'!$A$2:$B$161,2) -> Asia
A54: ='[1]Sovereign Ratings (Moody''s,S&P)'!A157 -> Vietnam | B54: ='[1]Country GDP'!B157 -> 271.158 | C54: ='[1]Sovereign Ratings (Moody''s,S&P)'!C157 -> Ba3 | D54: ='[1]ERPs by country'!D163 -> 0.030627782 | E54: ='[1]ERPs by country'!E163 -> 0.077997338 | F54: ='[1]ERPs by country'!F163 -> 0.035597338 | G54: ='[1]Country Tax Rates'!C157 -> 0.2 | H54: =VLOOKUP(A54,'[1]Regional lookup table'!$A$2:$B$161,2) -> Asia
A55: ='[1]Sovereign Ratings (Moody''s,S&P)'!A9 -> Australia | B55: ='[1]Country GDP'!B9 -> 1330.901 | C55: ='[1]Sovereign Ratings (Moody''s,S&P)'!C9 -> Aaa | D55: ='[1]ERPs by country'!D15 -> 0 | E55: ='[1]ERPs by country'!E15 -> 0.0424 | F55: ='[1]ERPs by country'!F15 -> 0 | G55: ='[1]Country Tax Rates'!C9 -> 0.3 | H55: =VLOOKUP(A55,'[1]Regional lookup table'!$A$2:$B$161,2) -> Australia & New Zealand
A56: ='[1]Sovereign Ratings (Moody''s,S&P)'!A37 -> Cook Islands | B56: ='[1]Country GDP'!B37 -> 0.384 | C56: ='[1]Sovereign Ratings (Moody''s,S&P)'!C37 -> B1 | D56: ='[1]ERPs by country'!D43 -> 0.038303918 | E56: ='[1]ERPs by country'!E43 -> 0.086918977 | F56: ='[1]ERPs by country'!F43 -> 0.044518977 | G56: ='[1]Country Tax Rates'!C37 -> 0.2843 | H56: =VLOOKUP(A56,'[1]Regional lookup table'!$A$2:$B$161,2) -> Australia & New Zealand
A57: ='[1]Sovereign Ratings (Moody''s,S&P)'!A104 -> New Zealand | B57: ='[1]Country GDP'!B104 -> 212.482 | C57: ='[1]Sovereign Ratings (Moody''s,S&P)'!C104 -> Aaa | D57: ='[1]ERPs by country'!D110 -> 0 | E57: ='[1]ERPs by country'!E110 -> 0.0424 | F57: ='[1]ERPs by country'!F110 -> 0 | G57: ='[1]Country Tax Rates'!C104 -> 0.28 | H57: =VLOOKUP(A57,'[1]Regional lookup table'!$A$2:$B$161,2) -> Australia & New Zealand
A58: ='[1]Sovereign Ratings (Moody''s,S&P)'!A8 -> Aruba | B58: ='[1]Country GDP'!B8 -> 3.202 | C58: ='[1]Sovereign Ratings (Moody''s,S&P)'!C8 -> Baa2 | D58: ='[1]ERPs by country'!D14 -> 0.016196647 | E58: ='[1]ERPs by country'!E14 -> 0.061224657 | F58: ='[1]ERPs by country'!F14 -> 0.018824657 | G58: ='[1]Country Tax Rates'!C8 -> 0.25 | H58: =VLOOKUP(A58,'[1]Regional lookup table'!$A$2:$B$161,2) -> Caribbean
A59: ='[1]Sovereign Ratings (Moody''s,S&P)'!A12 -> Bahamas | B59: ='[1]Country GDP'!B12 -> 11.25 | C59: ='[1]Sovereign Ratings (Moody''s,S&P)'!C12 -> Ba3 | D59: ='[1]ERPs by country'!D18 -> 0.030627782 | E59: ='[1]ERPs by country'!E18 -> 0.077997338 | F59: ='[1]ERPs by country'!F18 -> 0.035597338 | G59: ='[1]Country Tax Rates'!C12 -> 0 | H59: =VLOOKUP(A59,'[1]Regional lookup table'!$A$2:$B$161,2) -> Caribbean
A60: ='[1]Sovereign Ratings (Moody''s,S&P)'!A15 -> Barbados | B60: ='[1]Country GDP'!B15 -> 4.366 | C60: ='[1]Sovereign Ratings (Moody''s,S&P)'!C15 -> Caa1 | D60: ='[1]ERPs by country'!D21 -> 0.063788689 | E60: ='[1]ERPs by country'!E21 -> 0.11653882 | F60: ='[1]ERPs by country'!F21 -> 0.074138817 | G60: ='[1]Country Tax Rates'!C15 -> 0.055 | H60: =VLOOKUP(A60,'[1]Regional lookup table'!$A$2:$B$161,2) -> Caribbean
A61: ='[1]Sovereign Ratings (Moody''s,S&P)'!A20 -> Bermuda | B61: ='[1]Country GDP'!B20 -> 7.484 | C61: ='[1]Sovereign Ratings (Moody''s,S&P)'!C20 -> A2 | D61: ='[1]ERPs by country'!D26 -> 0.0072155678 | E61: ='[1]ERPs by country'!E26 -> 0.05078634 | F61: ='[1]ERPs by country'!F26 -> 0.0083863403 | G61: ='[1]Country Tax Rates'!C20 -> 0 | H61: =VLOOKUP(A61,'[1]Regional lookup table'!$A$2:$B$161,2) -> Caribbean
A62: ='[1]Sovereign Ratings (Moody''s,S&P)'!A31 -> Cayman Islands | B62: ='[1]Country GDP'!B31 -> 5.936 | C62: ='[1]Sovereign Ratings (Moody''s,S&P)'!C31 -> Aa3 | D62: ='[1]ERPs by country'!D37 -> 0.0051430111 | E62: ='[1]ERPs by country'!E37 -> 0.048377498 | F62: ='[1]ERPs by country'!F37 -> 0.0059774979 | G62: ='[1]Country Tax Rates'!C31 -> 0 | H62: =VLOOKUP(A62,'[1]Regional lookup table'!$A$2:$B$161,2) -> Caribbean
A63: ='[1]Sovereign Ratings (Moody''s,S&P)'!A41 -> Cuba | B63: ='[1]Country GDP'!B41 -> 103.131 | C63: ='[1]Sovereign Ratings (Moody''s,S&P)'!C41 -> Ca | D63: ='[1]ERPs by country'!D47 -> 0.10209261 | E63: ='[1]ERPs by country'!E47 -> 0.16105779 | F63: ='[1]ERPs by country'!F47 -> 0.11865779 | G63: ='[1]Country Tax Rates'!C41 -> 0.2718 | H63: =VLOOKUP(A63,'[1]Regional lookup table'!$A$2:$B$161,2) -> Caribbean
A64: ='[1]Sovereign Ratings (Moody''s,S&P)'!A42 -> Curacao | B64: ='[1]Country GDP'!B42 -> 3.1 | C64: ='[1]Sovereign Ratings (Moody''s,S&P)'!C42 -> Baa2 | D64: ='[1]ERPs by country'!D48 -> 0.016196647 | E64: ='[1]ERPs by country'!E48 -> 0.061224657 | F64: ='[1]ERPs by country'!F48 -> 0.018824657 | G64: ='[1]Country Tax Rates'!C42 -> 0.22 | H64: =VLOOKUP(A64,'[1]Regional lookup table'!$A$2:$B$161,2) -> Caribbean
A65: ='[1]Sovereign Ratings (Moody''s,S&P)'!A46 -> Dominican Republic | B65: ='[1]Country GDP'!B46 -> 78.845 | C65: ='[1]Sovereign Ratings (Moody''s,S&P)'!C46 -> Ba3 | D65: ='[1]ERPs by country'!D52 -> 0.030627782 | E65: ='[1]ERPs by country'!E52 -> 0.077997338 | F65: ='[1]ERPs by country'!F52 -> 0.035597338 | G65: ='[1]Country Tax Rates'!C46 -> 0.27 | H65: =VLOOKUP(A65,'[1]Regional lookup table'!$A$2:$B$161,2) -> Caribbean
A66: ='[1]Sovereign Ratings (Moody''s,S&P)'!A73 -> Jamaica | B66: ='[1]Country GDP'!B73 -> 13.812 | C66: ='[1]Sovereign Ratings (Moody''s,S&P)'!C73 -> B2 | D66: ='[1]ERPs by country'!D79 -> 0.046824429 | E66: ='[1]ERPs by country'!E79 -> 0.096821995 | F66: ='[1]ERPs by country'!F79 -> 0.054421995 | G66: ='[1]Country Tax Rates'!C73 -> 0.25 | H66: =VLOOKUP(A66,'[1]Regional lookup table'!$A$2:$B$161,2) -> Caribbean
A67: ='[1]Sovereign Ratings (Moody''s,S&P)'!A99 -> Montserrat | B67: ='[1]Country GDP'!B99 -> 0.25 | C67: ='[1]Sovereign Ratings (Moody''s,S&P)'!C99 -> Baa3 | D67: ='[1]ERPs by country'!D105 -> 0.018729772 | E67: ='[1]ERPs by country'!E105 -> 0.064168798 | F67: ='[1]ERPs by country'!F105 -> 0.021768798 | G67: ='[1]Country Tax Rates'!C99 -> 0.2718 | H67: =VLOOKUP(A67,'[1]Regional lookup table'!$A$2:$B$161,2) -> Caribbean
A68: ='[1]Sovereign Ratings (Moody''s,S&P)'!A134 -> St. Maarten | B68: ='[1]Country GDP'!B134 -> 1.19 | C68: ='[1]Sovereign Ratings (Moody''s,S&P)'!C134 -> Ba2 | D68: ='[1]ERPs by country'!D140 -> 0.025561533 | E68: ='[1]ERPs by country'!E140 -> 0.072109057 | F68: ='[1]ERPs by country'!F140 -> 0.029709057 | G68: ='[1]Country Tax Rates'!C134 -> 0.2718 | H68: =VLOOKUP(A68,'[1]Regional lookup table'!$A$2:$B$161,2) -> Caribbean
A69: ='[1]Sovereign Ratings (Moody''s,S&P)'!A135 -> St. Vincent & the Grenadines | B69: ='[1]Country GDP'!B135 -> 0.81 | C69: ='[1]Sovereign Ratings (Moody''s,S&P)'!C135 -> B3 | D69: ='[1]ERPs by country'!D141 -> 0.05534494 | E69: ='[1]ERPs by country'!E141 -> 0.10672501 | F69: ='[1]ERPs by country'!F141 -> 0.064325014 | G69: ='[1]Country Tax Rates'!C135 -> 0.2718 | H69: =VLOOKUP(A69,'[1]Regional lookup table'!$A$2:$B$161,2) -> Caribbean
A70: ='[1]Sovereign Ratings (Moody''s,S&P)'!A145 -> Trinidad and Tobago | B70: ='[1]Country GDP'!B145 -> 21.53 | C70: ='[1]Sovereign Ratings (Moody''s,S&P)'!C145 -> Ba2 | D70: ='[1]ERPs by country'!D151 -> 0.025561533 | E70: ='[1]ERPs by country'!E151 -> 0.072109057 | F70: ='[1]ERPs by country'!F151 -> 0.029709057 | G70: ='[1]Country Tax Rates'!C145 -> 0.3 | H70: =VLOOKUP(A70,'[1]Regional lookup table'!$A$2:$B$161,2) -> Caribbean
A71: ='[1]Sovereign Ratings (Moody''s,S&P)'!A148 -> Turks and Caicos Islands | B71: ='[1]Country GDP'!B148 -> 0.925 | C71: ='[1]Sovereign Ratings (Moody''s,S&P)'!C148 -> Baa1 | D71: ='[1]ERPs by country'!D154 -> 0.013586761 | E71: ='[1]ERPs by country'!E154 -> 0.0581913 | F71: ='[1]ERPs by country'!F154 -> 0.0157913 | G71: ='[1]Country Tax Rates'!C148 -> 0 | H71: =VLOOKUP(A71,'[1]Regional lookup table'!$A$2:$B$161,2) -> Caribbean
A72: ='[1]Sovereign Ratings (Moody''s,S&P)'!A6 -> Argentina | B72: ='[1]Country GDP'!B6 -> 383.067 | C72: ='[1]Sovereign Ratings (Moody''s,S&P)'!C6 -> Ca | D72: ='[1]ERPs by country'!D12 -> 0.10209261 | E72: ='[1]ERPs by country'!E12 -> 0.16105779 | F72: ='[1]ERPs by country'!F12 -> 0.11865779 | G72: ='[1]Country Tax Rates'!C6 -> 0.25 | H72: =VLOOKUP(A72,'[1]Regional lookup table'!$A$2:$B$161,2) -> Central and South America
A73: ='[1]Sovereign Ratings (Moody''s,S&P)'!A18 -> Belize | B73: ='[1]Country GDP'!B18 -> 1.764 | C73: ='[1]Sovereign Ratings (Moody''s,S&P)'!C18 -> Caa3 | D73: ='[1]ERPs by country'!D24 -> 0.085051586 | E73: ='[1]ERPs by country'!E24 -> 0.14125176 | F73: ='[1]ERPs by country'!F24 -> 0.098851756 | G73: ='[1]Country Tax Rates'!C18 -> 0.2718 | H73: =VLOOKUP(A73,'[1]Regional lookup table'!$A$2:$B$161,2) -> Central and South America
A74: ='[1]Sovereign Ratings (Moody''s,S&P)'!A21 -> Bolivia | B74: ='[1]Country GDP'!B21 -> 36.689 | C74: ='[1]Sovereign Ratings (Moody''s,S&P)'!C21 -> B2 | D74: ='[1]ERPs by country'!D27 -> 0.046824429 | E74: ='[1]ERPs by country'!E27 -> 0.096821995 | F74: ='[1]ERPs by country'!F27 -> 0.054421995 | G74: ='[1]Country Tax Rates'!C21 -> 0.25 | H74: =VLOOKUP(A74,'[1]Regional lookup table'!$A$2:$B$161,2) -> Central and South America
A75: ='[1]Sovereign Ratings (Moody''s,S&P)'!A24 -> Brazil | B75: ='[1]Country GDP'!B24 -> 1444.733 | C75: ='[1]Sovereign Ratings (Moody''s,S&P)'!C24 -> Ba2 | D75: ='[1]ERPs by country'!D30 -> 0.025561533 | E75: ='[1]ERPs by country'!E30 -> 0.072109057 | F75: ='[1]ERPs by country'!F30 -> 0.029709057 | G75: ='[1]Country Tax Rates'!C24 -> 0.34 | H75: =VLOOKUP(A75,'[1]Regional lookup table'!$A$2:$B$161,2) -> Central and South America
A76: ='[1]Sovereign Ratings (Moody''s,S&P)'!A32 -> Chile | B76: ='[1]Country GDP'!B32 -> 252.94 | C76: ='[1]Sovereign Ratings (Moody''s,S&P)'!C32 -> A1 | D76: ='[1]ERPs by country'!D38 -> 0.005987386 | E76: ='[1]ERPs by country'!E38 -> 0.049358878 | F76: ='[1]ERPs by country'!F38 -> 0.0069588781 | G76: ='[1]Country Tax Rates'!C32 -> 0.27 | H76: =VLOOKUP(A76,'[1]Regional lookup table'!$A$2:$B$161,2) -> Central and South America
A77: ='[1]Sovereign Ratings (Moody''s,S&P)'!A34 -> Colombia | B77: ='[1]Country GDP'!B34 -> 271.347 | C77: ='[1]Sovereign Ratings (Moody''s,S&P)'!C34 -> Baa2 | D77: ='[1]ERPs by country'!D40 -> 0.016196647 | E77: ='[1]ERPs by country'!E40 -> 0.061224657 | F77: ='[1]ERPs by country'!F40 -> 0.018824657 | G77: ='[1]Country Tax Rates'!C34 -> 0.31 | H77: =VLOOKUP(A77,'[1]Regional lookup table'!$A$2:$B$161,2) -> Central and South America
A78: ='[1]Sovereign Ratings (Moody''s,S&P)'!A38 -> Costa Rica | B78: ='[1]Country GDP'!B38 -> 61.521 | C78: ='[1]Sovereign Ratings (Moody''s,S&P)'!C38 -> B2 | D78: ='[1]ERPs by country'!D44 -> 0.046824429 | E78: ='[1]ERPs by country'!E44 -> 0.096821995 | F78: ='[1]ERPs by country'!F44 -> 0.054421995 | G78: ='[1]Country Tax Rates'!C38 -> 0.3 | H78: =VLOOKUP(A78,'[1]Regional lookup table'!$A$2:$B$161,2) -> Central and South America
A79: ='[1]Sovereign Ratings (Moody''s,S&P)'!A47 -> Ecuador | B79: ='[1]Country GDP'!B47 -> 98.808 | C79: ='[1]Sovereign Ratings (Moody''s,S&P)'!C47 -> Caa3 | D79: ='[1]ERPs by country'!D53 -> 0.085051586 | E79: ='[1]ERPs by country'!E53 -> 0.14125176 | F79: ='[1]ERPs by country'!F53 -> 0.098851756 | G79: ='[1]Country Tax Rates'!C47 -> 0.25 | H79: =VLOOKUP(A79,'[1]Regional lookup table'!$A$2:$B$161,2) -> Central and South America
A80: ='[1]Sovereign Ratings (Moody''s,S&P)'!A49 -> El Salvador | B80: ='[1]Country GDP'!B49 -> 24.639 | C80: ='[1]Sovereign Ratings (Moody''s,S&P)'!C49 -> Caa1 | D80: ='[1]ERPs by country'!D55 -> 0.063788689 | E80: ='[1]ERPs by country'!E55 -> 0.11653882 | F80: ='[1]ERPs by country'!F55 -> 0.074138817 | G80: ='[1]Country Tax Rates'!C49 -> 0.3 | H80: =VLOOKUP(A80,'[1]Regional lookup table'!$A$2:$B$161,2) -> Central and South America
A81: ='[1]Sovereign Ratings (Moody''s,S&P)'!A60 -> Guatemala | B81: ='[1]Country GDP'!B60 -> 77.605 | C81: ='[1]Sovereign Ratings (Moody''s,S&P)'!C60 -> Ba1 | D81: ='[1]ERPs by country'!D66 -> 0.021262896 | E81: ='[1]ERPs by country'!E66 -> 0.067112939 | F81: ='[1]ERPs by country'!F66 -> 0.024712939 | G81: ='[1]Country Tax Rates'!C60 -> 0.25 | H81: =VLOOKUP(A81,'[1]Regional lookup table'!$A$2:$B$161,2) -> Central and South America
A82: ='[1]Sovereign Ratings (Moody''s,S&P)'!A62 -> Honduras | B82: ='[1]Country GDP'!B62 -> 23.828 | C82: ='[1]Sovereign Ratings (Moody''s,S&P)'!C62 -> B1 | D82: ='[1]ERPs by country'!D68 -> 0.038303918 | E82: ='[1]ERPs by country'!E68 -> 0.086918977 | F82: ='[1]ERPs by country'!F68 -> 0.044518977 | G82: ='[1]Country Tax Rates'!C62 -> 0.25 | H82: =VLOOKUP(A82,'[1]Regional lookup table'!$A$2:$B$161,2) -> Central and South America
A83: ='[1]Sovereign Ratings (Moody''s,S&P)'!A95 -> Mexico | B83: ='[1]Country GDP'!B95 -> 1076.163 | C83: ='[1]Sovereign Ratings (Moody''s,S&P)'!C95 -> Baa1 | D83: ='[1]ERPs by country'!D101 -> 0.013586761 | E83: ='[1]ERPs by country'!E101 -> 0.0581913 | F83: ='[1]ERPs by country'!F101 -> 0.0157913 | G83: ='[1]Country Tax Rates'!C95 -> 0.3 | H83: =VLOOKUP(A83,'[1]Regional lookup table'!$A$2:$B$161,2) -> Central and South America
A84: ='[1]Sovereign Ratings (Moody''s,S&P)'!A105 -> Nicaragua | B84: ='[1]Country GDP'!B105 -> 12.621 | C84: ='[1]Sovereign Ratings (Moody''s,S&P)'!C105 -> B3 | D84: ='[1]ERPs by country'!D111 -> 0.05534494 | E84: ='[1]ERPs by country'!E111 -> 0.10672501 | F84: ='[1]ERPs by country'!F111 -> 0.064325014 | G84: ='[1]Country Tax Rates'!C105 -> 0.3 | H84: =VLOOKUP(A84,'[1]Regional lookup table'!$A$2:$B$161,2) -> Central and South America
A85: ='[1]Sovereign Ratings (Moody''s,S&P)'!A111 -> Panama | B85: ='[1]Country GDP'!B111 -> 52.938 | C85: ='[1]Sovereign Ratings (Moody''s,S&P)'!C111 -> Baa2 | D85: ='[1]ERPs by country'!D117 -> 0.016196647 | E85: ='[1]ERPs by country'!E117 -> 0.061224657 | F85: ='[1]ERPs by country'!F117 -> 0.018824657 | G85: ='[1]Country Tax Rates'!C111 -> 0.25 | H85: =VLOOKUP(A85,'[1]Regional lookup table'!$A$2:$B$161,2) -> Central and South America
A86: ='[1]Sovereign Ratings (Moody''s,S&P)'!A113 -> Paraguay | B86: ='[1]Country GDP'!B113 -> 35.304 | C86: ='[1]Sovereign Ratings (Moody''s,S&P)'!C113 -> Ba1 | D86: ='[1]ERPs by country'!D119 -> 0.021262896 | E86: ='[1]ERPs by country'!E119 -> 0.067112939 | F86: ='[1]ERPs by country'!F119 -> 0.024712939 | G86: ='[1]Country Tax Rates'!C113 -> 0.1 | H86: =VLOOKUP(A86,'[1]Regional lookup table'!$A$2:$B$161,2) -> Central and South America
A87: ='[1]Sovereign Ratings (Moody''s,S&P)'!A114 -> Peru | B87: ='[1]Country GDP'!B114 -> 202.014 | C87: ='[1]Sovereign Ratings (Moody''s,S&P)'!C114 -> Baa1 | D87: ='[1]ERPs by country'!D120 -> 0.013586761 | E87: ='[1]ERPs by country'!E120 -> 0.0581913 | F87: ='[1]ERPs by country'!F120 -> 0.0157913 | G87: ='[1]Country Tax Rates'!C114 -> 0.295 | H87: =VLOOKUP(A87,'[1]Regional lookup table'!$A$2:$B$161,2) -> Central and South America
A88: ='[1]Sovereign Ratings (Moody''s,S&P)'!A136 -> Suriname | B88: ='[1]Country GDP'!B136 -> 3.808 | C88: ='[1]Sovereign Ratings (Moody''s,S&P)'!C136 -> Caa3 | D88: ='[1]ERPs by country'!D142 -> 0.085051586 | E88: ='[1]ERPs by country'!E142 -> 0.14125176 | F88: ='[1]ERPs by country'!F142 -> 0.098851756 | G88: ='[1]Country Tax Rates'!C136 -> 0.36 | H88: =VLOOKUP(A88,'[1]Regional lookup table'!$A$2:$B$161,2) -> Central and South America
A89: ='[1]Sovereign Ratings (Moody''s,S&P)'!A154 -> Uruguay | B89: ='[1]Country GDP'!B154 -> 53.629 | C89: ='[1]Sovereign Ratings (Moody''s,S&P)'!C154 -> Baa2 | D89: ='[1]ERPs by country'!D160 -> 0.016196647 | E89: ='[1]ERPs by country'!E160 -> 0.061224657 | F89: ='[1]ERPs by country'!F160 -> 0.018824657 | G89: ='[1]Country Tax Rates'!C154 -> 0.25 | H89: =VLOOKUP(A89,'[1]Regional lookup table'!$A$2:$B$161,2) -> Central and South America
A90: ='[1]Sovereign Ratings (Moody''s,S&P)'!A156 -> Venezuela | B90: ='[1]Country GDP'!B156 -> 98.4 | C90: ='[1]Sovereign Ratings (Moody''s,S&P)'!C156 -> C | D90: ='[1]ERPs by country'!D162 -> 0.175 | E90: ='[1]ERPs by country'!E162 -> 0.24579488 | F90: ='[1]ERPs by country'!F162 -> 0.20339488 | G90: ='[1]Country Tax Rates'!C156 -> 0.34 | H90: =VLOOKUP(A90,'[1]Regional lookup table'!$A$2:$B$161,2) -> Central and South America
A91: ='[1]Sovereign Ratings (Moody''s,S&P)'!A3 -> Albania | B91: ='[1]Country GDP'!B3 -> 14.8 | C91: ='[1]Sovereign Ratings (Moody''s,S&P)'!C3 -> B1 | D91: ='[1]ERPs by country'!D9 -> 0.038303918 | E91: ='[1]ERPs by country'!E9 -> 0.086918977 | F91: ='[1]ERPs by country'!F9 -> 0.044518977 | G91: ='[1]Country Tax Rates'!C3 -> 0.15 | H91: =VLOOKUP(A91,'[1]Regional lookup table'!$A$2:$B$161,2) -> Eastern Europe & Russia
A92: ='[1]Sovereign Ratings (Moody''s,S&P)'!A7 -> Armenia | B92: ='[1]Country GDP'!B7 -> 12.645 | C92: ='[1]Sovereign Ratings (Moody''s,S&P)'!C7 -> Ba3 | D92: ='[1]ERPs by country'!D13 -> 0.030627782 | E92: ='[1]ERPs by country'!E13 -> 0.077997338 | F92: ='[1]ERPs by country'!F13 -> 0.035597338 | G92: ='[1]Country Tax Rates'!C7 -> 0.18 | H92: =VLOOKUP(A92,'[1]Regional lookup table'!$A$2:$B$161,2) -> Eastern Europe & Russia
A93: ='[1]Sovereign Ratings (Moody''s,S&P)'!A11 -> Azerbaijan | B93: ='[1]Country GDP'!B11 -> 42.607 | C93: ='[1]Sovereign Ratings (Moody''s,S&P)'!C11 -> Ba2 | D93: ='[1]ERPs by country'!D17 -> 0.025561533 | E93: ='[1]ERPs by country'!E17 -> 0.072109057 | F93: ='[1]ERPs by country'!F17 -> 0.029709057 | G93: ='[1]Country Tax Rates'!C11 -> 0.2 | H93: =VLOOKUP(A93,'[1]Regional lookup table'!$A$2:$B$161,2) -> Eastern Europe & Russia
A94: ='[1]Sovereign Ratings (Moody''s,S&P)'!A16 -> Belarus | B94: ='[1]Country GDP'!B16 -> 60.258 | C94: ='[1]Sovereign Ratings (Moody''s,S&P)'!C16 -> B3 | D94: ='[1]ERPs by country'!D22 -> 0.05534494 | E94: ='[1]ERPs by country'!E22 -> 0.10672501 | F94: ='[1]ERPs by country'!F22 -> 0.064325014 | G94: ='[1]Country Tax Rates'!C16 -> 0.18 | H94: =VLOOKUP(A94,'[1]Regional lookup table'!$A$2:$B$161,2) -> Eastern Europe & Russia
A95: ='[1]Sovereign Ratings (Moody''s,S&P)'!A22 -> Bosnia and Herzegovina | B95: ='[1]Country GDP'!B22 -> 19.788 | C95: ='[1]Sovereign Ratings (Moody''s,S&P)'!C22 -> B3 | D95: ='[1]ERPs by country'!D28 -> 0.05534494 | E95: ='[1]ERPs by country'!E28 -> 0.10672501 | F95: ='[1]ERPs by country'!F28 -> 0.064325014 | G95: ='[1]Country Tax Rates'!C22 -> 0.1 | H95: =VLOOKUP(A95,'[1]Regional lookup table'!$A$2:$B$161,2) -> Eastern Europe & Russia
A96: ='[1]Sovereign Ratings (Moody''s,S&P)'!A25 -> Bulgaria | B96: ='[1]Country GDP'!B25 -> 69.105 | C96: ='[1]Sovereign Ratings (Moody''s,S&P)'!C25 -> Baa1 | D96: ='[1]ERPs by country'!D31 -> 0.013586761 | E96: ='[1]ERPs by country'!E31 -> 0.0581913 | F96: ='[1]ERPs by country'!F31 -> 0.0157913 | G96: ='[1]Country Tax Rates'!C25 -> 0.1 | H96: =VLOOKUP(A96,'[1]Regional lookup table'!$A$2:$B$161,2) -> Eastern Europe & Russia
A97: ='[1]Sovereign Ratings (Moody''s,S&P)'!A40 -> Croatia | B97: ='[1]Country GDP'!B40 -> 55.967 | C97: ='[1]Sovereign Ratings (Moody''s,S&P)'!C40 -> Ba1 | D97: ='[1]ERPs by country'!D46 -> 0.021262896 | E97: ='[1]ERPs by country'!E46 -> 0.067112939 | F97: ='[1]ERPs by country'!F46 -> 0.024712939 | G97: ='[1]Country Tax Rates'!C40 -> 0.18 | H97: =VLOOKUP(A97,'[1]Regional lookup table'!$A$2:$B$161,2) -> Eastern Europe & Russia
A98: ='[1]Sovereign Ratings (Moody''s,S&P)'!A44 -> Czech Republic | B98: ='[1]Country GDP'!B44 -> 243.53 | C98: ='[1]Sovereign Ratings (Moody''s,S&P)'!C44 -> Aa3 | D98: ='[1]ERPs by country'!D50 -> 0.0051430111 | E98: ='[1]ERPs by country'!E50 -> 0.048377498 | F98: ='[1]ERPs by country'!F50 -> 0.0059774979 | G98: ='[1]Country Tax Rates'!C44 -> 0.19 | H98: =VLOOKUP(A98,'[1]Regional lookup table'!$A$2:$B$161,2) -> Eastern Europe & Russia
A99: ='[1]Sovereign Ratings (Moody''s,S&P)'!A50 -> Estonia | B99: ='[1]Country GDP'!B50 -> 31.03 | C99: ='[1]Sovereign Ratings (Moody''s,S&P)'!C50 -> A1 | D99: ='[1]ERPs by country'!D56 -> 0.005987386 | E99: ='[1]ERPs by country'!E56 -> 0.049358878 | F99: ='[1]ERPs by country'!F56 -> 0.0069588781 | G99: ='[1]Country Tax Rates'!C50 -> 0.2 | H99: =VLOOKUP(A99,'[1]Regional lookup table'!$A$2:$B$161,2) -> Eastern Europe & Russia
A100: ='[1]Sovereign Ratings (Moody''s,S&P)'!A56 -> Georgia | B100: ='[1]Country GDP'!B56 -> 15.892 | C100: ='[1]Sovereign Ratings (Moody''s,S&P)'!C56 -> Ba2 | D100: ='[1]ERPs by country'!D62 -> 0.025561533 | E100: ='[1]ERPs by country'!E62 -> 0.072109057 | F100: ='[1]ERPs by country'!F62 -> 0.029709057 | G100: ='[1]Country Tax Rates'!C56 -> 0.15 | H100: =VLOOKUP(A100,'[1]Regional lookup table'!$A$2:$B$161,2) -> Eastern Europe & Russia
...

Sheet Sheet2
A1: Country | B1: Adj. Default Spread | C1: Equity Risk Premium | D1: Country Risk Premium | E1: Corporate Tax Rate | F1: Moody's rating | I1: Country
A2: Abu Dhabi | B2: 0.0042218748 | C2: 0.047306901 | D2: 0.0049069012 | E2: 0.55 | F2: Aa2 | I2: Abu Dhabi
A3: Albania | B3: 0.038303918 | C3: 0.086918977 | D3: 0.044518977 | E3: 0.15 | F3: B1 | I3: Albania
A4: =I4 -> Algeria | B4: 0.05534494 | C4: 0.10672501 | D4: 0.064325014 | E4: 0.26 | F4: NR | I4: Algeria
A5: Andorra (Principality of) | B5: 0.016196647 | C5: 0.061224657 | D5: 0.018824657 | E5: 0.1898 | F5: Baa2 | I5: Andorra (Principality of)
A6: Angola | B6: 0.05534494 | C6: 0.10672501 | D6: 0.064325014 | E6: 0.25 | F6: B3 | I6: Angola
A7: =I7 -> Anguilla | B7: 0.058800545 | C7: 0.11074131 | D7: 0.068341314 | E7: 0.24064846 | F7: NR | I7: Anguilla
A8: =I8 -> Antigua & Barbuda | B8: 0.0588 | C8: 0.1107 | D8: 0.0683 | E8: 0.2406 | F8: NR | I8: Antigua & Barbuda
A9: Argentina | B9: 0.10209261 | C9: 0.16105779 | D9: 0.11865779 | E9: 0.25 | F9: Ca | I9: Argentina
A10: Armenia | B10: 0.030627782 | C10: 0.077997338 | D10: 0.035597338 | E10: 0.18 | F10: Ba3 | I10: Armenia
A11: Aruba | B11: 0.016196647 | C11: 0.061224657 | D11: 0.018824657 | E11: 0.25 | F11: Baa2 | I11: Aruba
A12: Australia | B12: 0 | C12: 0.0424 | D12: 0 | E12: 0.3 | F12: Aaa | I12: Australia
A13: Austria | B13: 0.0033774998 | C13: 0.046325521 | D13: 0.003925521 | E13: 0.25 | F13: Aa1 | I13: Austria
A14: Azerbaijan | B14: 0.025561533 | C14: 0.072109057 | D14: 0.029709057 | E14: 0.2 | F14: Ba2 | I14: Azerbaijan
A15: Bahamas | B15: 0.030627782 | C15: 0.077997338 | D15: 0.035597338 | E15: 0 | F15: Ba3 | I15: Bahamas
A16: Bahrain | B16: 0.046824429 | C16: 0.096821995 | D16: 0.054421995 | E16: 0 | F16: B2 | I16: Bahrain
A17: Bangladesh | B17: 0.030627782 | C17: 0.077997338 | D17: 0.035597338 | E17: 0.325 | F17: Ba3 | I17: Bangladesh
A18: Barbados | B18: 0.063788689 | C18: 0.11653882 | D18: 0.074138817 | E18: 0.055 | F18: Caa1 | I18: Barbados
A19: Belarus | B19: 0.05534494 | C19: 0.10672501 | D19: 0.064325014 | E19: 0.18 | F19: B3 | I19: Belarus
A20: Belgium | B20: 0.0051430111 | C20: 0.048377498 | D20: 0.0059774979 | E20: 0.25 | F20: Aa3 | I20: Belgium
... A27: Brazil | B27: 0.025561533 | C27: 0.072109057 | D27: 0.029709057 | E27: 0.34 | F27: Ba2 | I27: Brazil
A28: =I28 -> British Virgin Islands | B28: 0.0588 | C28: 0.1107 | D28: 0.0683 | E28: 0.2406 | F28: NR | I28: British Virgin Islands
A29: =I29 -> Brunei | B29: 0.0072155678 | C29: 0.05078634 | D29: 0.0083863403 | E29: 0.185 | F29: NR | I29: Brunei
A30: Bulgaria | B30: 0.013586761 | C30: 0.0581913 | D30: 0.0157913 | E30: 0.1 | F30: Baa1 | I30: Bulgaria
A31: Burkina Faso | B31: 0.046824429 | C31: 0.096821995 | D31: 0.054421995 | E31: 0.28 | F31: B2 | I31: Burkina Faso
A32: Cambodia | B32: 0.046824429 | C32: 0.096821995 | D32: 0.054421995 | E32: 0.2 | F32: B2 | I32: Cambodia
A33: Cameroon | B33: 0.046824429 | C33: 0.096821995 | D33: 0.054421995 | E33: 0.33 | F33: B2 | I33: Cameroon
A34: Canada | B34: 0 | C34: 0.0424 | D34: 0 | E34: 0.265 | F34: Aaa | I34: Canada
A35: Cape Verde | B35: 0.05534494 | C35: 0.10672501 | D35: 0.064325014 | E35: 0 | F35: B3 | I35: Cape Verde
A36: Cayman Islands | B36: 0.0051430111 | C36: 0.048377498 | D36: 0.0059774979 | E36: 0 | F36: Aa3 | I36: Cayman Islands
A37: =I37 -> Channel Islands | B37: 0.007159786 | C37: 0.050721508 | D37: 0.0083215075 | E37: 0.23935184 | F37: NR | I37: Channel Islands
A38: Chile | B38: 0.005987386 | C38: 0.049358878 | D38: 0.0069588781 | E38: 0.27 | F38: A1 | I38: Chile
A39: China | B39: 0.005987386 | C39: 0.049358878 | D39: 0.0069588781 | E39: 0.25 | F39: A1 | I39: China
A40: Colombia | B40: 0.016196647 | C40: 0.061224657 | D40: 0.018824657 | E40: 0.31 | F40: Baa2 | I40: Colombia
A41: Congo (Democratic Republic of) | B41: 0.063788689 | C41: 0.11653882 | D41: 0.074138817 | E41: 0.3 | F41: Caa1 | I41: Congo (Democratic Republic of)
A42: Congo (Republic of) | B42: 0.076607836 | C42: 0.13143795 | D42: 0.089037953 | E42: 0.28 | F42: Caa2 | I42: Congo (Republic of)
A43: Cook Islands | B43: 0.038303918 | C43: 0.086918977 | D43: 0.044518977 | E43: 0.2843 | F43: B1 | I43: Cook Islands
A44: Costa Rica | B44: 0.046824429 | C44: 0.096821995 | D44: 0.054421995 | E44: 0.3 | F44: B2 | I44: Costa Rica
A45: Croatia | B45: 0.021262896 | C45: 0.067112939 | D45: 0.024712939 | E45: 0.18 | F45: Ba1 | I45: Croatia
A46: Cuba | B46: 0.10209261 | C46: 0.16105779 | D46: 0.11865779 | E46: 0.2718 | F46: Ca | I46: Cuba
A47: Curacao | B47: 0.016196647 | C47: 0.061224657 | D47: 0.018824657 | E47: 0.22 | F47: Baa2 | I47: Curaçao
A48: Cyprus | B48: 0.021262896 | C48: 0.067112939 | D48: 0.024712939 | E48: 0.125 | F48: Ba1 | I48: Cyprus
A49: Czech Republic | B49: 0.0051430111 | C49: 0.048377498 | D49: 0.0059774979 | E49: 0.19 | F49: Aa3 | I49: Czech Republic
... A56: Ethiopia | B56: 0.076607836 | C56: 0.13143795 | D56: 0.089037953 | E56: 0.3 | F56: Caa2 | I56: Ethiopia
A57: =I57 -> Falkland Islands | B57: 0.0588 | C57: 0.1107 | D57: 0.0683 | E57: 0.2406 | F57: NR | I57: Falkland Islands
A58: Fiji | B58: 0.038303918 | C58: 0.086918977 | D58: 0.044518977 | E58: 0.2 | F58: B1 | I58: Fiji
A59: Finland | B59: 0.0033774998 | C59: 0.046325521 | D59: 0.003925521 | E59: 0.2 | F59: Aa1 | I59: Finland
A60: France | B60: 0.0042218748 | C60: 0.047306901 | D60: 0.0049069012 | E60: 0.265 | F60: Aa2 | I60: France
A61: =I61 -> French Guiana | B61: 0.032603394 | C61: 0.080293505 | D61: 0.037893505 | E61: 0.30299877 | F61: NR | I61: French Guiana
A62: Gabon | B62: 0.063788689 | C62: 0.11653882 | D62: 0.074138817 | E62: 0.3 | F62: Caa1 | I62: Gabon
A63: =I63 -> Gambia | B63: 0.046824429 | C63: 0.096821995 | D63: 0.054421995 | E63: 0.31 | F63: NR | I63: Gambia
A64: Georgia | B64: 0.025561533 | C64: 0.072109057 | D64: 0.029709057 | E64: 0.15 | F64: Ba2 | I64: Georgia
A65: Germany | B65: 0 | C65: 0.0424 | D65: 0 | E65: 0.3 | F65: Aaa | I65: Germany
A66: Ghana | B66: 0.05534494 | C66: 0.10672501 | D66: 0.064325014 | E66: 0.25 | F66: B3 | I66: Ghana
A67: =I67 -> Gibraltar | B67: 0.007159786 | C67: 0.050721508 | D67: 0.0083215075 | E67: 0.23935184 | F67: NR | I67: Gibraltar
A68: Greece | B68: 0.030627782 | C68: 0.077997338 | D68: 0.035597338 | E68: 0.24 | F68: Ba3 | I68: Greece
A69: =I69 -> Greenland | B69: 0.007159786 | C69: 0.050721508 | D69: 0.0083215075 | E69: 0.23935184 | F69: NR | I69: Greenland
A70: Guatemala | B70: 0.021262896 | C70: 0.067112939 | D70: 0.024712939 | E70: 0.25 | F70: Ba1 | I70: Guatemala
A71: Guernsey | B71: 0.0051430111 | C71: 0.048377498 | D71: 0.0059774979 | E71: 0 | F71: Aa3 | I71: Guernsey
A72: =I72 -> Guinea | B72: 0.076607836 | C72: 0.13143795 | D72: 0.089037953 | E72: 0.2915 | F72: NR | I72: Guinea
A73: =I73 -> Guinea-Bissau | B73: 0.05534494 | C73: 0.10672501 | D73: 0.064325014 | E73: 0.2915 | F73: NR | I73: Guinea-Bissau
A74: =I74 -> Guyana | B74: 0.038303918 | C74: 0.086918977 | D74: 0.044518977 | E74: 0.1864 | F74: NR | I74: Guyana
A75: =I75 -> Haiti | B75: 0.085051586 | C75: 0.14125176 | D75: 0.098851756 | E75: 0.1864 | F75: NR | I75: Haiti
A76: Honduras | B76: 0.038303918 | C76: 0.086918977 | D76: 0.044518977 | E76: 0.25 | F76: B1 | I76: Honduras
A77: Hong Kong | B77: 0.0051430111 | C77: 0.048377498 | D77: 0.0059774979 | E77: 0.165 | F77: Aa3 | I77: Hong Kong
A78: Hungary | B78: 0.016196647 | C78: 0.061224657 | D78: 0.018824657 | E78: 0.09 | F78: Baa2 | I78: Hungary
A79: Iceland | B79: 0.0072155678 | C79: 0.05078634 | D79: 0.0083863403 | E79: 0.2 | F79: A2 | I79: Iceland
A80: India | B80: 0.018729772 | C80: 0.064168798 | D80: 0.021768798 | E80: 0.3 | F80: Baa3 | I80: India
A81: Indonesia | B81: 0.016196647 | C81: 0.061224657 | D81: 0.018824657 | E81: 0.35 | F81: Baa2 | I81: Indonesia
A82: =I82 -> Iran | B82: 0.05534494 | C82: 0.10672501 | D82: 0.064325014 | E82: 0.2023 | F82: NR | I82: Iran
A83: Iraq | B83: 0.063788689 | C83: 0.11653882 | D83: 0.074138817 | E83: 0.35 | F83: Caa1 | I83: Iraq
A84: Ireland | B84: 0.0072155678 | C84: 0.05078634 | D84: 0.0083863403 | E84: 0.125 | F84: A2 | I84: Ireland
A85: Isle of Man | B85: 0.0051430111 | C85: 0.048377498 | D85: 0.0059774979 | E85: 0 | F85: Aa3 | I85: Isle of Man
A86: Israel | B86: 0.005987386 | C86: 0.049358878 | D86: 0.0069588781 | E86: 0.23 | F86: A1 | I86: Israel
A87: Italy | B87: 0.018729772 | C87: 0.064168798 | D87: 0.021768798 | E87: 0.24 | F87: Baa3 | I87: Italy
A88: Ivory Coast | B88: 0.030627782 | C88: 0.077997338 | D88: 0.035597338 | E88: 0.2281 | F88: Ba3 | I88: Ivory Coast
A89: Jamaica | B89: 0.046824429 | C89: 0.096821995 | D89: 0.054421995 | E89: 0.25 | F89: B2 | I89: Jamaica
A90: Japan | B90: 0.005987386 | C90: 0.049358878 | D90: 0.0069588781 | E90: 0.3062 | F90: A1 | I90: Japan
A91: Jersey | B91: 0 | C91: 0.0424 | D91: 0 | E91: 0 | F91: Aaa | I91: Jersey
A92: Jordan | B92: 0.038303918 | C92: 0.086918977 | D92: 0.044518977 | E92: 0.2 | F92: B1 | I92: Jordan
A93: Kazakhstan | B93: 0.016196647 | C93: 0.061224657 | D93: 0.018824657 | E93: 0.2 | F93: Baa2 | I93: Kazakhstan
A94: Kenya | B94: 0.046824429 | C94: 0.096821995 | D94: 0.054421995 | E94: 0.3 | F94: B2 | I94: Kenya
... A100: Lebanon | B100: 0.175 | C100: 0.24579488 | D100: 0.20339488 | E100: 0.17 | F100: C | I100: Lebanon
A101: =I101 -> Liberia | B101: 0.076607836 | C101: 0.13143795 | D101: 0.089037953 | E101: 0.2915 | F101: NR | I101: Liberia
A102: =I102 -> Libya | B102: 0.038303918 | C102: 0.086918977 | D102: 0.044518977 | E102: 0.2 | F102: NR | I102: Libya
A103: Liechtenstein | B103: 0 | C103: 0.0424 | D103: 0 | E103: 0.125 | F103: Aaa | I103: Liechtenstein
A104: Lithuania | B104: 0.0072155678 | C104: 0.05078634 | D104: 0.0083863403 | E104: 0.15 | F104: A2 | I104: Lithuania
A105: Luxembourg | B105: 0 | C105: 0.0424 | D105: 0 | E105: 0.2494 | F105: Aaa | I105: Luxembourg
A106: Macao | B106: 0.0051430111 | C106: 0.048377498 | D106: 0.0059774979 | E106: 0.2281 | F106: Aa3 | I106: Macao
A107: Macedonia | B107: 0.030627782 | C107: 0.077997338 | D107: 0.035597338 | E107: 0.1 | F107: Ba3 | I107: Macedonia
A108: =I108 -> Madagascar | B108: 0.05534494 | C108: 0.10672501 | D108: 0.064325014 | E108: 0.2 | F108: NR | I108: Madagascar
A109: =I109 -> Malawi | B109: 0.076607836 | C109: 0.13143795 | D109: 0.089037953 | E109: 0.3 | F109: NR | I109: Malawi
A110: Malaysia | B110: 0.010209261 | C110: 0.054265779 | D110: 0.011865779 | E110: 0.24 | F110: A3 | I110: Malaysia
A111: Maldives | B111: 0.063788689 | C111: 0.11653882 | D111: 0.074138817 | E111: 0.2281 | F111: Caa1
A112: Mali | B112: 0.063788689 | C112: 0.11653882 | D112: 0.074138817 | E112: 0.2281 | F112: Caa1 | I112: Mali
A113: Malta | B113: 0.0072155678 | C113: 0.05078634 | D113: 0.0083863403 | E113: 0.35 | F113: A2 | I113: Malta
A114: =I114 -> Martinique | B114: 0.032603394 | C114: 0.080293505 | D114: 0.037893505 | E114: 0.30299877 | F114: NR | I114: Martinique
A115: Mauritius | B115: 0.016196647 | C115: 0.061224657 | D115: 0.018824657 | E115: 0.15 | F115: Baa2 | I115: Mauritius
A116: Mexico | B116: 0.013586761 | C116: 0.0581913 | D116: 0.0157913 | E116: 0.3 | F116: Baa1 | I116: Mexico
A117: Moldova | B117: 0.05534494 | C117: 0.10672501 | D117: 0.064325014 | E117: 0.12 | F117: B3 | I117: Moldova
...

Sheet Sheet3
