Workbook

Sheet Sheet1
A1: ='[1]Sovereign Ratings (Moody''s,S&P)'!A1 -> Country | B1: ='[1]Country GDP'!B1 -> GDP (in billions) in 2020 | C1: ='[1]Sovereign Ratings (Moody''s,S&P)'!C1 -> Moody's rating | D1: Adj. Default Spread | E1: Equity Risk Premium | F1: Country Risk Premium | G1: Corporate Tax Rate | H1: Region
A2: ='[1]Sovereign Ratings (Moody''s,S&P)'!A5 -> Angola | B2: ='[1]Country GDP'!B5 -> 62.307 | C2: ='[1]Sovereign Ratings (Moody''s,S&P)'!C5 -> B3 | D2: ='[1]ERPs by country'!D11 -> 0.05534494 | E2: ='[1]ERPs by country'!E11 -> 0.10672501 | F2: ='[1]ERPs by country'!F11 -> 0.064325014 | G2: ='[1]Country Tax Rates'!C5 -> 0.25 | H2: =VLOOKUP(A2,'[1]Regional lookup table'!$A$2:$B$161,2) -> Africa
A3: ='[1]Sovereign Ratings (Moody''s,S&P)'!A19 -> Benin | B3: ='[1]Country GDP'!B19 -> 15.652 | C3: ='[1]Sovereign Ratings (Moody''s,S&P)'!C19 -> B1 | D3: ='[1]ERPs by country'!D25 -> 0.038303918 | E3: ='[1]ERPs by country'!E25 -> 0.086918977 | F3: ='[1]ERPs by country'!F25 -> 0.044518977 | G3: ='[1]Country Tax Rates'!C19 -> 0.3 | H3: =VLOOKUP(A3,'[1]Regional lookup table'!$A$2:$B$161,2) -> Africa
A4: ='[1]Sovereign Ratings (Moody''s,S&P)'!A23 -> Botswana | B4: ='[1]Country GDP'!B23 -> 15.782 | C4: ='[1]Sovereign Ratings (Moody''s,S&P)'!C23 -> A3 | D4: ='[1]ERPs by country'!D29 -> 0.010209261 | E4: ='[1]ERPs by country'!E29 -> 0.054265779 | F4: ='[1]ERPs by country'!F29 -> 0.011865779 | G4: ='[1]Country Tax Rates'!C23 -> 0.22 | H4: =VLOOKUP(A4,'[1]Regional lookup table'!$A$2:$B$161,2) -> Africa
A5: ='[1]Sovereign Ratings (Moody''s,S&P)'!A26 -> Burkina Faso | B5: ='[1]Country GDP'!B26 -> 17.369 | C5: ='[1]Sovereign Ratings (Moody''s,S&P)'!C26 -> B2 | D5: ='[1]ERPs by country'!D32 -> 0.046824429 | E5: ='[1]ERPs by country'!E32 -> 0.096821995 | F5: ='[1]ERPs by country'!F32 -> 0.054421995 | G5: ='[1]Country Tax Rates'!C26 -> 0.28 | H5: =VLOOKUP(A5,'[1]Regional lookup table'!$A$2:$B$161,2) -> Africa
A6: ='[1]Sovereign Ratings (Moody''s,S&P)'!A28 -> Cameroon | B6: ='[1]Country GDP'!B28 -> 39.802 | C6: ='[1]Sovereign Ratings (Moody''s,S&P)'!C28 -> B2 | D6: ='[1]ERPs by country'!D34 -> 0.046824429 | E6: ='[1]ERPs by country'!E34 -> 0.096821995 | F6: ='[1]ERPs by country'!F34 -> 0.054421995 | G6: ='[1]Country Tax Rates'!C28 -> 0.33 | H6: =VLOOKUP(A6,'[1]Regional lookup table'!$A$2:$B$161,2) -> Africa
A7: ='[1]Sovereign Ratings (Moody''s,S&P)'!A30 -> Cape Verde | B7: ='[1]Country GDP'!B30 -> 1.7 | C7: ='[1]Sovereign Ratings (Moody''s,S&P)'!C30 -> B3 | D7: ='[1]ERPs by country'!D36 -> 0.05534494 | E7: ='[1]ERPs by country'!E36 -> 0.10672501 | F7: ='[1]ERPs by country'!F36 -> 0.064325014 | G7: ='[1]Country Tax Rates'!C30 -> 0 | H7: =VLOOKUP(A7,'[1]Regional lookup table'!$A$2:$B$161,2) -> Africa
A8: ='[1]Sovereign Ratings (Moody''s,S&P)'!A35 -> Congo (Democratic Republic of) | B8: ='[1]Country GDP'!B35 -> 49.87 | C8: ='[1]Sovereign Ratings (Moody''s,S&P)'!C35 -> Caa1 | D8: ='[1]ERPs by country'!D41 -> 0.063788689 | E8: ='[1]ERPs by country'!E41 -> 0.11653882 | F8: ='[1]ERPs by country'!F41 -> 0.074138817 | G8: ='[1]Country Tax Rates'!C35 -> 0.3 | H8: =VLOOKUP(A8,'[1]Regional lookup table'!$A$2:$B$161,2) -> Africa
A9: ='[1]Sovereign Ratings (Moody''s,S&P)'!A36 -> Congo (Republic of) | B9: ='[1]Country GDP'!B36 -> 10.89 | C9: ='[1]Sovereign Ratings (Moody''s,S&P)'!C36 -> Caa2 | D9: ='[1]ERPs by country'!D42 -> 0.076607836 | E9: ='[1]ERPs by country'!E42 -> 0.13143795 | F9: ='[1]ERPs by country'!F42 -> 0.089037953 | G9: ='[1]Country Tax Rates'!C36 -> 0.28 | H9: =VLOOKUP(A9,'[1]Regional lookup table'!$A$2:$B$161,2) -> Africa
A10: ='[1]Sovereign Ratings (Moody''s,S&P)'!A39 -> Côte d'Ivoire | B10: ='[1]Country GDP'!B39 -> 61.349 | C10: ='[1]Sovereign Ratings (Moody''s,S&P)'!C39 -> Ba3 | D10: ='[1]ERPs by country'!D45 -> 0.030627782 | E10: ='[1]ERPs by country'!E45 -> 0.077997338 | F10: ='[1]ERPs by country'!F45 -> 0.035597338 | G10: ='[1]Country Tax Rates'!C39 -> 0.2281 | H10: =VLOOKUP(A10,'[1]Regional lookup table'!$A$2:$B$161,2) -> Africa
A11: ='[1]Sovereign Ratings (Moody''s,S&P)'!A48 -> Egypt | B11: ='[1]Country GDP'!B48 -> 363.09 | C11: ='[1]Sovereign Ratings (Moody''s,S&P)'!C48 -> B2 | D11: ='[1]ERPs by country'!D54 -> 0.046824429 | E11: ='[1]ERPs by country'!E54 -> 0.096821995 | F11: ='[1]ERPs by country'!F54 -> 0.054421995 | G11: ='[1]Country Tax Rates'!C48 -> 0.225 | H11: =VLOOKUP(A11,'[1]Regional lookup table'!$A$2:$B$161,2) -> Africa
A12: ='[1]Sovereign Ratings (Moody''s,S&P)'!A51 -> Ethiopia | B12: ='[1]Country GDP'!B51 -> 107.645 | C12: ='[1]Sovereign Ratings (Moody''s,S&P)'!C51 -> Caa2 | D12: ='[1]ERPs by country'!D57 -> 0.076607836 | E12: ='[1]ERPs by country'!E57 -> 0.13143795 | F12: ='[1]ERPs by country'!F57 -> 0.089037953 | G12: ='[1]Country Tax Rates'!C51 -> 0.3 | H12: =VLOOKUP(A12,'[1]Regional lookup table'!$A$2:$B$161,2) -> Africa
A13: ='[1]Sovereign Ratings (Moody''s,S&P)'!A55 -> Gabon | B13: ='[1]Country GDP'!B55 -> 15.593 | C13: ='[1]Sovereign Ratings (Moody''s,S&P)'!C55 -> Caa1 | D13: ='[1]ERPs by country'!D61 -> 0.063788689 | E13: ='[1]ERPs by country'!E61 -> 0.11653882 | F13: ='[1]ERPs by country'!F61 -> 0.074138817 | G13: ='[1]Country Tax Rates'!C55 -> 0.3 | H13: =VLOOKUP(A13,'[1]Regional lookup table'!$A$2:$B$161,2) -> Africa
A14: ='[1]Sovereign Ratings (Moody''s,S&P)'!A58 -> Ghana | B14: ='[1]Country GDP'!B58 -> 72.354 | C14: ='[1]Sovereign Ratings (Moody''s,S&P)'!C58 -> B3 | D14: ='[1]ERPs by country'!D64 -> 0.05534494 | E14: ='[1]ERPs by country'!E64 -> 0.10672501 | F14: ='[1]ERPs by country'!F64 -> 0.064325014 | G14: ='[1]Country Tax Rates'!C58 -> 0.25 | H14: =VLOOKUP(A14,'[1]Regional lookup table'!$A$2:$B$161,2) -> Africa
A15: ='[1]Sovereign Ratings (Moody''s,S&P)'!A78 -> Kenya | B15: ='[1]Country GDP'!B78 -> 98.843 | C15: ='[1]Sovereign Ratings (Moody''s,S&P)'!C78 -> B2 | D15: ='[1]ERPs by country'!D84 -> 0.046824429 | E15: ='[1]ERPs by country'!E84 -> 0.096821995 | F15: ='[1]ERPs by country'!F84 -> 0.054421995 | G15: ='[1]Country Tax Rates'!C78 -> 0.3 | H15: =VLOOKUP(A15,'[1]Regional lookup table'!$A$2:$B$161,2) -> Africa
A16: ='[1]Sovereign Ratings (Moody''s,S&P)'!A92 -> Mali | B16: ='[1]Country GDP'!B92 -> 17.394 | C16: ='[1]Sovereign Ratings (Moody''s,S&P)'!C92 -> Caa1 | D16: ='[1]ERPs by country'!D98 -> 0.063788689 | E16: ='[1]ERPs by country'!E98 -> 0.11653882 | F16: ='[1]ERPs by country'!F98 -> 0.074138817 | G16: ='[1]Country Tax Rates'!C92 -> 0.2281 | H16: =VLOOKUP(A16,'[1]Regional lookup table'!$A$2:$B$161,2) -> Africa
A17: ='[1]Sovereign Ratings (Moody''s,S&P)'!A94 -> Mauritius | B17: ='[1]Country GDP'!B94 -> 10.914 | C17: ='[1]Sovereign Ratings (Moody''s,S&P)'!C94 -> Baa2 | D17: ='[1]ERPs by country'!D100 -> 0.016196647 | E17: ='[1]ERPs by country'!E100 -> 0.061224657 | F17: ='[1]ERPs by country'!F100 -> 0.018824657 | G17: ='[1]Country Tax Rates'!C94 -> 0.15 | H17: =VLOOKUP(A17,'[1]Regional lookup table'!$A$2:$B$161,2) -> Africa
A18: ='[1]Sovereign Ratings (Moody''s,S&P)'!A100 -> Morocco | B18: ='[1]Country GDP'!B100 -> 112.871 | C18: ='[1]Sovereign Ratings (Moody''s,S&P)'!C100 -> Ba1 | D18: ='[1]ERPs by country'!D106 -> 0.021262896 | E18: ='[1]ERPs by country'!E106 -> 0.067112939 | F18: ='[1]ERPs by country'!F106 -> 0.024712939 | G18: ='[1]Country Tax Rates'!C100 -> 0.31 | H18: =VLOOKUP(A18,'[1]Regional lookup table'!$A$2:$B$161,2) -> Africa
A19: ='[1]Sovereign Ratings (Moody''s,S&P)'!A101 -> Mozambique | B19: ='[1]Country GDP'!B101 -> 14.021 | C19: ='[1]Sovereign Ratings (Moody''s,S&P)'!C101 -> Caa2 | D19: ='[1]ERPs by country'!D107 -> 0.076607836 | E19: ='[1]ERPs by country'!E107 -> 0.13143795 | F19: ='[1]ERPs by country'!F107 -> 0.089037953 | G19: ='[1]Country Tax Rates'!C101 -> 0.32 | H19: =VLOOKUP(A19,'[1]Regional lookup table'!$A$2:$B$161,2) -> Africa
A20: ='[1]Sovereign Ratings (Moody''s,S&P)'!A102 -> Namibia | B20: ='[1]Country GDP'!B102 -> 10.7 | C20: ='[1]Sovereign Ratings (Moody''s,S&P)'!C102 -> Ba3 | D20: ='[1]ERPs by country'!D108 -> 0.030627782 | E20: ='[1]ERPs by country'!E108 -> 0.077997338 | F20: ='[1]ERPs by country'!F108 -> 0.035597338 | G20: ='[1]Country Tax Rates'!C102 -> 0.32 | H20: =VLOOKUP(A20,'[1]Regional lookup table'!$A$2:$B$161,2) -> Africa
A21: ='[1]Sovereign Ratings (Moody''s,S&P)'!A106 -> Niger | B21: ='[1]Country GDP'!B106 -> 13.678 | C21: ='[1]Sovereign Ratings (Moody''s,S&P)'!C106 -> B3 | D21: ='[1]ERPs by country'!D112 -> 0.05534494 | E21: ='[1]ERPs by country'!E112 -> 0.10672501 | F21: ='[1]ERPs by country'!F112 -> 0.064325014 | G21: ='[1]Country Tax Rates'!C106 -> 0.2281 | H21: =VLOOKUP(A21,'[1]Regional lookup table'!$A$2:$B$161,2) -> Africa
A22: ='[1]Sovereign Ratings (Moody''s,S&P)'!A107 -> Nigeria | B22: ='[1]Country GDP'!B107 -> 432.294 | C22: ='[1]Sovereign Ratings (Moody''s,S&P)'!C107 -> B2 | D22: ='[1]ERPs by country'!D113 -> 0.046824429 | E22: ='[1]ERPs by country'!E113 -> 0.096821995 | F22: ='[1]ERPs by country'!F113 -> 0.054421995 | G22: ='[1]Country Tax Rates'!C107 -> 0.3 | H22: =VLOOKUP(A22,'[1]Regional lookup table'!$A$2:$B$161,2) -> Africa
A23: ='[1]Sovereign Ratings (Moody''s,S&P)'!A122 -> Rwanda | B23: ='[1]Country GDP'!B122 -> 10.334 | C23: ='[1]Sovereign Ratings (Moody''s,S&P)'!C122 -> B2 | D23: ='[1]ERPs by country'!D128 -> 0.046824429 | E23: ='[1]ERPs by country'!E128 -> 0.096821995 | F23: ='[1]ERPs by country'!F128 -> 0.054421995 | G23: ='[1]Country Tax Rates'!C122 -> 0.3 | H23: =VLOOKUP(A23,'[1]Regional lookup table'!$A$2:$B$161,2) -> Africa
A24: ='[1]Sovereign Ratings (Moody''s,S&P)'!A124 -> Senegal | B24: ='[1]Country GDP'!B124 -> 24.911 | C24: ='[1]Sovereign Ratings (Moody''s,S&P)'!C124 -> Ba3 | D24: ='[1]ERPs by country'!D130 -> 0.030627782 | E24: ='[1]ERPs by country'!E130 -> 0.077997338 | F24: ='[1]ERPs by country'!F130 -> 0.035597338 | G24: ='[1]Country Tax Rates'!C124 -> 0.3 | H24: =VLOOKUP(A24,'[1]Regional lookup table'!$A$2:$B$161,2) -> Africa
A25: ='[1]Sovereign Ratings (Moody''s,S&P)'!A131 -> South Africa | B25: ='[1]Country GDP'!B131 -> 301.924 | C25: ='[1]Sovereign Ratings (Moody''s,S&P)'!C131 -> Ba2 | D25: ='[1]ERPs by country'!D137 -> 0.025561533 | E25: ='[1]ERPs by country'!E137 -> 0.072109057 | F25: ='[1]ERPs by country'!F137 -> 0.029709057 | G25: ='[1]Country Tax Rates'!C131 -> 0.28 | H25: =VLOOKUP(A25,'[1]Regional lookup table'!$A$2:$B$161,2) -> Africa
A26: ='[1]Sovereign Ratings (Moody''s,S&P)'!A137 -> Swaziland | B26: ='[1]Country GDP'!B137 -> 3.96 | C26: ='[1]Sovereign Ratings (Moody''s,S&P)'!C137 -> B3 | D26: ='[1]ERPs by country'!D143 -> 0.05534494 | E26: ='[1]ERPs by country'!E143 -> 0.10672501 | F26: ='[1]ERPs by country'!F143 -> 0.064325014 | G26: ='[1]Country Tax Rates'!C137 -> 0.275 | H26: =VLOOKUP(A26,'[1]Regional lookup table'!$A$2:$B$161,2) -> Africa
A27: ='[1]Sovereign Ratings (Moody''s,S&P)'!A142 -> Tanzania | B27: ='[1]Country GDP'!B142 -> 62.41 | C27: ='[1]Sovereign Ratings (Moody''s,S&P)'!C142 -> B2 | D27: ='[1]ERPs by country'!D148 -> 0.046824429 | E27: ='[1]ERPs by country'!E148 -> 0.096821995 | F27: ='[1]ERPs by country'!F148 -> 0.054421995 | G27: ='[1]Country Tax Rates'!C142 -> 0.3 | H27: =VLOOKUP(A27,'[1]Regional lookup table'!$A$2:$B$161,2) -> Africa
A28: ='[1]Sovereign Ratings (Moody''s,S&P)'!A144 -> Togo | B28: ='[1]Country GDP'!B144 -> 7.575 | C28: ='[1]Sovereign Ratings (Moody''s,S&P)'!C144 -> B3 | D28: ='[1]ERPs by country'!D150 -> 0.05534494 | E28: ='[1]ERPs by country'!E150 -> 0.10672501 | F28: ='[1]ERPs by country'!F150 -> 0.064325014 | G28: ='[1]Country Tax Rates'!C144 -> 0.2281 | H28: =VLOOKUP(A28,'[1]Regional lookup table'!$A$2:$B$161,2) -> Africa
A29: ='[1]Sovereign Ratings (Moody''s,S&P)'!A146 -> Tunisia | B29: ='[1]Country GDP'!B146 -> 39.236 | C29: ='[1]Sovereign Ratings (Moody''s,S&P)'!C146 -> Caa1 | D29: ='[1]ERPs by country'!D152 -> 0.063788689 | E29: ='[1]ERPs by country'!E152 -> 0.11653882 | F29: ='[1]ERPs by country'!F152 -> 0.074138817 | G29: ='[1]Country Tax Rates'!C146 -> 0.15 | H29: =VLOOKUP(A29,'[1]Regional lookup table'!$A$2:$B$161,2) -> Africa
A30: ='[1]Sovereign Ratings (Moody''s,S&P)'!A149 -> Uganda | B30: ='[1]Country GDP'!B149 -> 37.372 | C30: ='[1]Sovereign Ratings (Moody''s,S&P)'!C149 -> B2 | D30: ='[1]ERPs by country'!D155 -> 0.046824429 | E30: ='[1]ERPs by country'!E155 -> 0.096821995 | F30: ='[1]ERPs by country'!F155 -> 0.054421995 | G30: ='[1]Country Tax Rates'!C149 -> 0.3 | H30: =VLOOKUP(A30,'[1]Regional lookup table'!$A$2:$B$161,2) -> Africa
A31: ='[1]Sovereign Ratings (Moody''s,S&P)'!A158 -> Zambia | B31: ='[1]Country GDP'!B158 -> 19.32 | C31: ='[1]Sovereign Ratings (Moody''s,S&P)'!C158 -> Ca | D31: ='[1]ERPs by country'!D164 -> 0.10209261 | E31: ='[1]ERPs by country'!E164 -> 0.16105779 | F31: ='[1]ERPs by country'!F164 -> 0.11865779 | G31: ='[1]Country Tax Rates'!C158 -> 0.35 | H31: =VLOOKUP(A31,'[1]Regional lookup table'!$A$2:$B$161,2) -> Africa
A32: ='[1]Sovereign Ratings (Moody''s,S&P)'!A14 -> Bangladesh | B32: ='[1]Country GDP'!B14 -> 324.239 | C32: ='[1]Sovereign Ratings (Moody''s,S&P)'!C14 -> Ba3 | D32: ='[1]ERPs by country'!D20 -> 0.030627782 | E32: ='[1]ERPs by country'!E20 -> 0.077997338 | F32: ='[1]ERPs by country'!F20 -> 0.035597338 | G32: ='[1]Country Tax Rates'!C14 -> 0.325 | H32: =VLOOKUP(A32,'[1]Regional lookup table'!$A$2:$B$161,2) -> Asia
A33: ='[1]Sovereign Ratings (Moody''s,S&P)'!A27 -> Cambodia | B33: ='[1]Country GDP'!B27 -> 25.291 | C33: ='[1]Sovereign Ratings (Moody''s,S&P)'!C27 -> B2 | D33: ='[1]ERPs by country'!D33 -> 0.046824429 | E33: ='[1]ERPs by country'!E33 -> 0.096821995 | F33: ='[1]ERPs by country'!F33 -> 0.054421995 | G33: ='[1]Country Tax Rates'!C27 -> 0.2 | H33: =VLOOKUP(A33,'[1]Regional lookup table'!$A$2:$B$161,2) -> Asia
A34: ='[1]Sovereign Ratings (Moody''s,S&P)'!A33 -> China | B34: ='[1]Country GDP'!B33 -> 14722.731 | C34: ='[1]Sovereign Ratings (Moody''s,S&P)'!C33 -> A1 | D34: ='[1]ERPs by country'!D39 -> 0.005987386 | E34: ='[1]ERPs by country'!E39 -> 0.049358878 | F34: ='[1]ERPs by country'!F39 -> 0.0069588781 | G34: ='[1]Country Tax Rates'!C33 -> 0.25 | H34: =VLOOKUP(A34,'[1]Regional lookup table'!$A$2:$B$161,2) -> Asia
A35: ='[1]Sovereign Ratings (Moody''s,S&P)'!A52 -> Fiji | B35: ='[1]Country GDP'!B52 -> 4.376 | C35: ='[1]Sovereign Ratings (Moody''s,S&P)'!C52 -> B1 | D35: ='[1]ERPs by country'!D58 -> 0.038303918 | E35: ='[1]ERPs by country'!E58 -> 0.086918977 | F35: ='[1]ERPs by country'!F58 -> 0.044518977 | G35: ='[1]Country Tax Rates'!C52 -> 0.2 | H35: =VLOOKUP(A35,'[1]Regional lookup table'!$A$2:$B$161,2) -> Asia
A36: ='[1]Sovereign Ratings (Moody''s,S&P)'!A63 -> Hong Kong | B36: ='[1]Country GDP'!B63 -> 346.6 | C36: ='[1]Sovereign Ratings (Moody''s,S&P)'!C63 -> Aa3 | D36: ='[1]ERPs by country'!D69 -> 0.0051430111 | E36: ='[1]ERPs by country'!E69 -> 0.048377498 | F36: ='[1]ERPs by country'!F69 -> 0.0059774979 | G36: ='[1]Country Tax Rates'!C63 -> 0.165 | H36: =VLOOKUP(A36,'[1]Regional lookup table'!$A$2:$B$161,2) -> Asia
A37: ='[1]Sovereign Ratings (Moody''s,S&P)'!A66 -> India | B37: ='[1]Country GDP'!B66 -> 2622.984 | C37: ='[1]Sovereign Ratings (Moody''s,S&P)'!C66 -> Baa3 | D37: ='[1]ERPs by country'!D72 -> 0.018729772 | E37: ='[1]ERPs by country'!E72 -> 0.064168798 | F37: ='[1]ERPs by country'!F72 -> 0.021768798 | G37: ='[1]Country Tax Rates'!C66 -> 0.3 | H37: =VLOOKUP(A37,'[1]Regional lookup table'!$A$2:$B$161,2) -> Asia
A38: ='[1]Sovereign Ratings (Moody''s,S&P)'!A67 -> Indonesia | B38: ='[1]Country GDP'!B67 -> 1058.424 | C38: ='[1]Sovereign Ratings (Moody''s,S&P)'!C67 -> Baa2 | D38: ='[1]ERPs by country'!D73 -> 0.016196647 | E38: ='[1]ERPs by country'!E73 -> 0.061224657 | F38: ='[1]ERPs by country'!F73 -> 0.018824657 | G38: ='[1]Country Tax Rates'!C67 -> 0.35 | H38: =VLOOKUP(A38,'[1]Regional lookup table'!$A$2:$B$161,2) -> Asia
A39: ='[1]Sovereign Ratings (Moody''s,S&P)'!A74 -> Japan | B39: ='[1]Country GDP'!B74 -> 5064.873 | C39: ='[1]Sovereign Ratings (Moody''s,S&P)'!C74 -> A1 | D39: ='[1]ERPs by country'!D80 -> 0.005987386 | E39: ='[1]ERPs by country'!E80 -> 0.049358878 | F39: ='[1]ERPs by country'!F80 -> 0.0069588781 | G39: ='[1]Country Tax Rates'!C74 -> 0.3062 | H39: =VLOOKUP(A39,'[1]Regional lookup table'!$A$2:$B$161,2) -> Asia
A40: ='[1]Sovereign Ratings (Moody''s,S&P)'!A79 -> Korea | B40: ='[1]Country GDP'!B79 -> 1630.53 | C40: ='[1]Sovereign Ratings (Moody''s,S&P)'!C79 -> Aa2 | D40: ='[1]ERPs by country'!D85 -> 0.0042218748 | E40: ='[1]ERPs by country'!E85 -> 0.047306901 | F40: ='[1]ERPs by country'!F85 -> 0.0049069012 | G40: ='[1]Country Tax Rates'!C79 -> 0.25 | H40: =VLOOKUP(A40,'[1]Regional lookup table'!$A$2:$B$161,2) -> Asia
...

Sheet Sheet2
A1: Country | B1: Adj. Default Spread | C1: Equity Risk Premium | D1: Country Risk Premium | E1: Corporate Tax Rate | F1: Moody's rating | I1: Country
A2: Abu Dhabi | B2: 0.0042218748 | C2: 0.047306901 | D2: 0.0049069012 | E2: 0.55 | F2: Aa2 | I2: Abu Dhabi
A3: Albania | B3: 0.038303918 | C3: 0.086918977 | D3: 0.044518977 | E3: 0.15 | F3: B1 | I3: Albania
A4: =I4 -> Algeria | B4: 0.05534494 | C4: 0.10672501 | D4: 0.064325014 | E4: 0.26 | F4: NR | I4: Algeria
A5: Andorra (Principality of) | B5: 0.016196647 | C5: 0.061224657 | D5: 0.018824657 | E5: 0.1898 | F5: Baa2 | I5: Andorra (Principality of)
A6: Angola | B6: 0.05534494 | C6: 0.10672501 | D6: 0.064325014 | E6: 0.25 | F6: B3 | I6: Angola
A7: =I7 -> Anguilla | B7: 0.058800545 | C7: 0.11074131 | D7: 0.068341314 | E7: 0.24064846 | F7: NR | I7: Anguilla
A8: =I8 -> Antigua & Barbuda | B8: 0.0588 | C8: 0.1107 | D8: 0.0683 | E8: 0.2406 | F8: NR | I8: Antigua & Barbuda
A9: Argentina | B9: 0.10209261 | C9: 0.16105779 | D9: 0.11865779 | E9: 0.25 | F9: Ca | I9: Argentina
A10: Armenia | B10: 0.030627782 | C10: 0.077997338 | D10: 0.035597338 | E10: 0.18 | F10: Ba3 | I10: Armenia
A11: Aruba | B11: 0.016196647 | C11: 0.061224657 | D11: 0.018824657 | E11: 0.25 | F11: Baa2 | I11: Aruba
A12: Australia | B12: 0 | C12: 0.0424 | D12: 0 | E12: 0.3 | F12: Aaa | I12: Australia
A13: Austria | B13: 0.0033774998 | C13: 0.046325521 | D13: 0.003925521 | E13: 0.25 | F13: Aa1 | I13: Austria
A14: Azerbaijan | B14: 0.025561533 | C14: 0.072109057 | D14: 0.029709057 | E14: 0.2 | F14: Ba2 | I14: Azerbaijan
A15: Bahamas | B15: 0.030627782 | C15: 0.077997338 | D15: 0.035597338 | E15: 0 | F15: Ba3 | I15: Bahamas
A16: Bahrain | B16: 0.046824429 | C16: 0.096821995 | D16: 0.054421995 | E16: 0 | F16: B2 | I16: Bahrain
A17: Bangladesh | B17: 0.030627782 | C17: 0.077997338 | D17: 0.035597338 | E17: 0.325 | F17: Ba3 | I17: Bangladesh
A18: Barbados | B18: 0.063788689 | C18: 0.11653882 | D18: 0.074138817 | E18: 0.055 | F18: Caa1 | I18: Barbados
A19: Belarus | B19: 0.05534494 | C19: 0.10672501 | D19: 0.064325014 | E19: 0.18 | F19: B3 | I19: Belarus
A20: Belgium | B20: 0.0051430111 | C20: 0.048377498 | D20: 0.0059774979 | E20: 0.25 | F20: Aa3 | I20: Belgium
... A27: Brazil | B27: 0.025561533 | C27: 0.072109057 | D27: 0.029709057 | E27: 0.34 | F27: Ba2 | I27: Brazil
A28: =I28 -> British Virgin Islands | B28: 0.0588 | C28: 0.1107 | D28: 0.0683 | E28: 0.2406 | F28: NR | I28: British Virgin Islands
A29: =I29 -> Brunei | B29: 0.0072155678 | C29: 0.05078634 | D29: 0.0083863403 | E29: 0.185 | F29: NR | I29: Brunei
A30: Bulgaria | B30: 0.013586761 | C30: 0.0581913 | D30: 0.0157913 | E30: 0.1 | F30: Baa1 | I30: Bulgaria
A31: Burkina Faso | B31: 0.046824429 | C31: 0.096821995 | D31: 0.054421995 | E31: 0.28 | F31: B2 | I31: Burkina Faso
A32: Cambodia | B32: 0.046824429 | C32: 0.096821995 | D32: 0.054421995 | E32: 0.2 | F32: B2 | I32: Cambodia
A33: Cameroon | B33: 0.046824429 | C33: 0.096821995 | D33: 0.054421995 | E33: 0.33 | F33: B2 | I33: Cameroon
A34: Canada | B34: 0 | C34: 0.0424 | D34: 0 | E34: 0.265 | F34: Aaa | I34: Canada
A35: Cape Verde | B35: 0.05534494 | C35: 0.10672501 | D35: 0.064325014 | E35: 0 | F35: B3 | I35: Cape Verde
A36: Cayman Islands | B36: 0.0051430111 | C36: 0.048377498 | D36: 0.0059774979 | E36: 0 | F36: Aa3 | I36: Cayman Islands
A37: =I37 -> Channel Islands | B37: 0.007159786 | C37: 0.050721508 | D37: 0.0083215075 | E37: 0.23935184 | F37: NR | I37: Channel Islands
A38: Chile | B38: 0.005987386 | C38: 0.049358878 | D38: 0.0069588781 | E38: 0.27 | F38: A1 | I38: Chile
A39: China | B39: 0.005987386 | C39: 0.049358878 | D39: 0.0069588781 | E39: 0.25 | F39: A1 | I39: China
A40: Colombia | B40: 0.016196647 | C40: 0.061224657 | D40: 0.018824657 | E40: 0.31 | F40: Baa2 | I40: Colombia
A41: Congo (Democratic Republic of) | B41: 0.063788689 | C41: 0.11653882 | D41: 0.074138817 | E41: 0.3 | F41: Caa1 | I41: Congo (Democratic Republic of)
A42: Congo (Republic of) | B42: 0.076607836 | C42: 0.13143795 | D42: 0.089037953 | E42: 0.28 | F42: Caa2 | I42: Congo (Republic of)
A43: Cook Islands | B43: 0.038303918 | C43: 0.086918977 | D43: 0.044518977 | E43: 0.2843 | F43: B1 | I43: Cook Islands
A44: Costa Rica | B44: 0.046824429 | C44: 0.096821995 | D44: 0.054421995 | E44: 0.3 | F44: B2 | I44: Costa Rica
A45: Croatia | B45: 0.021262896 | C45: 0.067112939 | D45: 0.024712939 | E45: 0.18 | F45: Ba1 | I45: Croatia
A46: Cuba | B46: 0.10209261 | C46: 0.16105779 | D46: 0.11865779 | E46: 0.2718 | F46: Ca | I46: Cuba
...

Sheet Sheet3
