Workbook

Sheet Value Weighted
A1: Enter starting year: | D1: 1977
A2: Enter ending year: | D2: 2024
A3: Cumulative value start (Smallest decile): | D3: =IF(D1=1927,100,VLOOKUP((D1-1),A12:I109,8)) -> 11435.918 | F3: Cumulative value start (Smallest quintile): | I3: =IF(D1=1927,100,VLOOKUP((D1-1),A12:Q109,13)) -> 26725.025
A4: Cumulative value start (Largest decile): | D4: =IF(D1=1927,100,VLOOKUP((D1-1),A12:I109,9)) -> 4331.9019 | F4: Cumulative value start (Largest qunitile): | I4: =IF(D1=1927,100,VLOOKUP((D1-1),A12:Q109,14)) -> 5110.8885
A5: Cumulative value (Smallest decile) | D5: =IF(D2=1927,100,VLOOKUP(D2,A12:I109,8)) -> 5422165.5 | F5: Cumulative value (Smallest quintile) | I5: =IF(D2=1927,100,VLOOKUP(D2,A12:Q109,13)) -> 17205086
A6: Cumulative value (Largest decile): | D6: =IF(D2=1927,100,VLOOKUP(D2,A12:I109,9)) -> 715222.66 | F6: Cumulative value (Largest quintile): | I6: =IF(D2=1927,100,VLOOKUP(D2,A12:Q109,14)) -> 1164073.1
A7: Geometric average return (Smallest decile): | D7: =(D5/D3)^(1/(D2-D1))-1 -> 0.14007673 | F7: Geometric average return (Smallest quintile): | I7: =(I5/I3)^(1/(D2-D1))-1 -> 0.14752036
A8: Geometric average return (Largest decile): | D8: =(D6/D4)^(1/(D2-D1))-1 -> 0.11477299 | F8: Geometric average return (Largest quintile): | I8: =(I6/I4)^(1/(D2-D1))-1 -> 0.12242991
A9: Annual Return different (Smallest decille - Largest decile) | D9: =D7-D8 -> 0.025303731 | F9: Annual Return different (Smallest decille - Largest quintile) | I9: =I7-I8 -> 0.025090447
A11: Year | B11: Lowest Quintile (PBV) | C11: Highest Quintile (PBV) | D11: Lowest Decile (PBV) | E11: Highest Decile (PBV) | F11: Lowest Decile | G11: Highest Decile | H11: Cum Value (lowest decile) | I11: Cum Value (Highest decile) | J11: D1 - D10 | K11: Value Premium - decile (xince 1926) | L11: Value Premium -decile (starting in year) | M11: Cum Value (lowest quntile) | N11: Cum Value (Highest quintile) | O11: Q1 - Q5 | P11: Value Premium -quntile (xince 1926) | Q11: Value Premium (starting in year)
A12: 1927 | B12: ='French Raw data Value Weight'!J3/100 -> 0.4066 | C12: ='French Raw data Value Weight'!F3/100 -> 0.449 | D12: ='French Raw data Value Weight'!T3 -> 48.27 | E12: ='French Raw data Value Weight'!K3 -> 57.86 | F12: =D12/100 -> 0.4827 | G12: =E12/100 -> 0.5786 | H12: =100*(1+F12) -> 148.27 | I12: =100*(1+G12) -> 157.86 | J12: =F12-G12 -> -0.0959 | K12: =J12 -> -0.0959 | L12: =($H$109/100)^(1/(2024-A12+1))-($I$109/100)^(1/(2024-A12+1)) -> 0.022864776 | M12: =100*(1+B12) -> 140.66 | N12: =100*(1+C12) -> 144.9 | O12: =B12-C12 -> -0.0424 | P12: =O12 -> -0.0424 | Q12: =($M$109/100)^(1/(2024-A12+1))-($N$109/100)^(1/(2024-A12+1)) -> 0.030656771
A13: 1928 | B13: ='French Raw data Value Weight'!J4/100 -> 0.3597 | C13: ='French Raw data Value Weight'!F4/100 -> 0.4842 | D13: ='French Raw data Value Weight'!T4 -> 27.71 | E13: ='French Raw data Value Weight'!K4 -> 48.57 | F13: =D13/100 -> 0.2771 | G13: =E13/100 -> 0.4857 | H13: =H12*(1+F13) -> 189.35562 | I13: =I12*(1+G13) -> 234.5326 | J13: =F13-G13 -> -0.2086 | K13: =(H13/100)^(1/(A13-1927+1))-(I13/100)^(1/(A13-1927+1)) -> -0.15538026 | L13: =($H$109/H12)^(1/(2024-A13+1))-($I$109/I12)^(1/(2024-A13+1)) -> 0.023735769 | M13: =M12*(1+B13) -> 191.2554 | N13: =N12*(1+C13) -> 215.06058 | O13: =B13-C13 -> -0.1245 | P13: =(M13/100)^(1/(A13-1927+1))-(N13/100)^(1/(A13-1927+1)) -> -0.083543192 | Q13: =($M$109/M12)^(1/(2024-A13+1))-($N$109/N12)^(1/(2024-A13+1)) -> 0.031234837
A14: 1929 | B14: ='French Raw data Value Weight'!J5/100 -> -0.1149 | C14: ='French Raw data Value Weight'!F5/100 -> -0.2182 | D14: ='French Raw data Value Weight'!T5 -> -25.39 | E14: ='French Raw data Value Weight'!K5 -> -26.86 | F14: =D14/100 -> -0.2539 | G14: =E14/100 -> -0.2686 | H14: =H13*(1+F14) -> 141.27823 | I14: =I13*(1+G14) -> 171.53715 | J14: =F14-G14 -> 0.0147 | K14: =(H14/100)^(1/(A14-1927+1))-(I14/100)^(1/(A14-1927+1)) -> -0.07498633 | L14: =($H$109/H13)^(1/(2024-A14+1))-($I$109/I13)^(1/(2024-A14+1)) -> 0.025661018 | M14: =M13*(1+B14) -> 169.28016 | N14: =N13*(1+C14) -> 168.13436 | O14: =B14-C14 -> 0.1033 | P14: =(M14/100)^(1/(A14-1927+1))-(N14/100)^(1/(A14-1927+1)) -> 0.0026950327 | Q14: =($M$109/M13)^(1/(2024-A14+1))-($N$109/N13)^(1/(2024-A14+1)) -> 0.032492937
A15: 1930 | B15: ='French Raw data Value Weight'!J6/100 -> -0.5271 | C15: ='French Raw data Value Weight'!F6/100 -> -0.261 | D15: ='French Raw data Value Weight'!T6 -> -56.32 | E15: ='French Raw data Value Weight'!K6 -> -29.12 | F15: =D15/100 -> -0.5632 | G15: =E15/100 -> -0.2912 | H15: =H14*(1+F15) -> 61.710329 | I15: =I14*(1+G15) -> 121.58553 | J15: =F15-G15 -> -0.272 | K15: =(H15/100)^(1/(A15-1927+1))-(I15/100)^(1/(A15-1927+1)) -> -0.16375758 | L15: =($H$109/H14)^(1/(2024-A15+1))-($I$109/I14)^(1/(2024-A15+1)) -> 0.025808657 | M15: =M14*(1+B15) -> 80.052586 | N15: =N14*(1+C15) -> 124.25129 | O15: =B15-C15 -> -0.2661 | P15: =(M15/100)^(1/(A15-1927+1))-(N15/100)^(1/(A15-1927+1)) -> -0.10988739 | Q15: =($M$109/M14)^(1/(2024-A15+1))-($N$109/N14)^(1/(2024-A15+1)) -> 0.031480451
A16: 1931 | B16: ='French Raw data Value Weight'!J7/100 -> -0.5184 | C16: ='French Raw data Value Weight'!F7/100 -> -0.3618 | D16: ='French Raw data Value Weight'!T7 -> -55.62 | E16: ='French Raw data Value Weight'!K7 -> -37.53 | F16: =D16/100 -> -0.5562 | G16: =E16/100 -> -0.3753 | H16: =H15*(1+F16) -> 27.387044 | I16: =I15*(1+G16) -> 75.95448 | J16: =F16-G16 -> -0.1809 | K16: =(H16/100)^(1/(A16-1927+1))-(I16/100)^(1/(A16-1927+1)) -> -0.17467077 | L16: =($H$109/H15)^(1/(2024-A16+1))-($I$109/I15)^(1/(2024-A16+1)) -> 0.032004655 | M16: =M15*(1+B16) -> 38.553325 | N16: =N15*(1+C16) -> 79.297175 | O16: =B16-C16 -> -0.1566 | P16: =(M16/100)^(1/(A16-1927+1))-(N16/100)^(1/(A16-1927+1)) -> -0.12822421 | Q16: =($M$109/M15)^(1/(2024-A16+1))-($N$109/N15)^(1/(2024-A16+1)) -> 0.037353237
A17: 1932 | B17: ='French Raw data Value Weight'!J8/100 -> 0.1757 | C17: ='French Raw data Value Weight'!F8/100 -> -0.108 | D17: ='French Raw data Value Weight'!T8 -> 3.45 | E17: ='French Raw data Value Weight'!K8 -> -14.33 | F17: =D17/100 -> 0.0345 | G17: =E17/100 -> -0.1433 | H17: =H16*(1+F17) -> 28.331897 | I17: =I16*(1+G17) -> 65.070203 | J17: =F17-G17 -> 0.1778 | K17: =(H17/100)^(1/(A17-1927+1))-(I17/100)^(1/(A17-1927+1)) -> -0.12046254 | L17: =($H$109/H16)^(1/(2024-A17+1))-($I$109/I16)^(1/(2024-A17+1)) -> 0.036733984 | M17: =M16*(1+B17) -> 45.327145 | N17: =N16*(1+C17) -> 70.73308 | O17: =B17-C17 -> 0.2837 | P17: =(M17/100)^(1/(A17-1927+1))-(N17/100)^(1/(A17-1927+1)) -> -0.067475662 | Q17: =($M$109/M16)^(1/(2024-A17+1))-($N$109/N16)^(1/(2024-A17+1)) -> 0.04146072
A18: 1933 | B18: ='French Raw data Value Weight'!J9/100 -> 1.3099 | C18: ='French Raw data Value Weight'!F9/100 -> 0.3965 | D18: ='French Raw data Value Weight'!T9 -> 151.89 | E18: ='French Raw data Value Weight'!K9 -> 45.78 | F18: =D18/100 -> 1.5189 | G18: =E18/100 -> 0.4578 | H18: =H17*(1+F18) -> 71.365215 | I18: =I17*(1+G18) -> 94.859341 | J18: =F18-G18 -> 1.0611 | K18: =(H18/100)^(1/(A18-1927+1))-(I18/100)^(1/(A18-1927+1)) -> -0.039540385 | L18: =($H$109/H17)^(1/(2024-A18+1))-($I$109/I17)^(1/(2024-A18+1)) -> 0.034900258 | M18: =M17*(1+B18) -> 104.70117 | N18: =N17*(1+C18) -> 98.778747 | O18: =B18-C18 -> 0.9134 | P18: =(M18/100)^(1/(A18-1927+1))-(N18/100)^(1/(A18-1927+1)) -> 0.0083383058 | Q18: =($M$109/M17)^(1/(2024-A18+1))-($N$109/N17)^(1/(2024-A18+1)) -> 0.038562322
A19: 1934 | B19: ='French Raw data Value Weight'!J10/100 -> -0.2247 | C19: ='French Raw data Value Weight'!F10/100 -> 0.1102 | D19: ='French Raw data Value Weight'!T10 -> -12.89 | E19: ='French Raw data Value Weight'!K10 -> 13.03 | F19: =D19/100 -> -0.1289 | G19: =E19/100 -> 0.1303 | H19: =H18*(1+F19) -> 62.166239 | I19: =I18*(1+G19) -> 107.21951 | J19: =F19-G19 -> -0.2592 | K19: =(H19/100)^(1/(A19-1927+1))-(I19/100)^(1/(A19-1927+1)) -> -0.066440445 | L19: =($H$109/H18)^(1/(2024-A19+1))-($I$109/I18)^(1/(2024-A19+1)) -> 0.028362777 | M19: =M18*(1+B19) -> 81.174818 | N19: =N18*(1+C19) -> 109.66416 | O19: =B19-C19 -> -0.3349 | P19: =(M19/100)^(1/(A19-1927+1))-(N19/100)^(1/(A19-1927+1)) -> -0.037332036 | Q19: =($M$109/M18)^(1/(2024-A19+1))-($N$109/N18)^(1/(2024-A19+1)) -> 0.032567961
A20: 1935 | B20: ='French Raw data Value Weight'!J11/100 -> 0.4644 | C20: ='French Raw data Value Weight'!F11/100 -> 0.4428 | D20: ='French Raw data Value Weight'!T11 -> 34.52 | E20: ='French Raw data Value Weight'!K11 -> 36.24 | F20: =D20/100 -> 0.3452 | G20: =E20/100 -> 0.3624 | H20: =H19*(1+F20) -> 83.626025 | I20: =I19*(1+G20) -> 146.07587 | J20: =F20-G20 -> -0.0172 | K20: =(H20/100)^(1/(A20-1927+1))-(I20/100)^(1/(A20-1927+1)) -> -0.062677558 | L20: =($H$109/H19)^(1/(2024-A20+1))-($I$109/I19)^(1/(2024-A20+1)) -> 0.031953671 | M20: =M19*(1+B20) -> 118.8724 | N20: =N19*(1+C20) -> 158.22346 | O20: =B20-C20 -> 0.0216 | P20: =(M20/100)^(1/(A20-1927+1))-(N20/100)^(1/(A20-1927+1)) -> -0.032909344 | Q20: =($M$109/M19)^(1/(2024-A20+1))-($N$109/N19)^(1/(2024-A20+1)) -> 0.037497287
A21: 1936 | B21: ='French Raw data Value Weight'!J12/100 -> 0.4205 | C21: ='French Raw data Value Weight'!F12/100 -> 0.2754 | D21: ='French Raw data Value Weight'!T12 -> 50.01 | E21: ='French Raw data Value Weight'!K12 -> 24.06 | F21: =D21/100 -> 0.5001 | G21: =E21/100 -> 0.2406 | H21: =H20*(1+F21) -> 125.4474 | I21: =I20*(1+G21) -> 181.22172 | J21: =F21-G21 -> 0.2595 | K21: =(H21/100)^(1/(A21-1927+1))-(I21/100)^(1/(A21-1927+1)) -> -0.038327525 | L21: =($H$109/H20)^(1/(2024-A21+1))-($I$109/I20)^(1/(2024-A21+1)) -> 0.032402903 | M21: =M20*(1+B21) -> 168.85825 | N21: =N20*(1+C21) -> 201.7982 | O21: =B21-C21 -> 0.1451 | P21: =(M21/100)^(1/(A21-1927+1))-(N21/100)^(1/(A21-1927+1)) -> -0.018947692 | Q21: =($M$109/M20)^(1/(2024-A21+1))-($N$109/N20)^(1/(2024-A21+1)) -> 0.037622746
A22: 1937 | B22: ='French Raw data Value Weight'!J13/100 -> -0.4144 | C22: ='French Raw data Value Weight'!F13/100 -> -0.339 | D22: ='French Raw data Value Weight'!T13 -> -57.24 | E22: ='French Raw data Value Weight'!K13 -> -32.52 | F22: =D22/100 -> -0.5724 | G22: =E22/100 -> -0.3252 | H22: =H21*(1+F22) -> 53.641308 | I22: =I21*(1+G22) -> 122.28842 | J22: =F22-G22 -> -0.2472 | K22: =(H22/100)^(1/(A22-1927+1))-(I22/100)^(1/(A22-1927+1)) -> -0.073509893 | L22: =($H$109/H21)^(1/(2024-A22+1))-($I$109/I21)^(1/(2024-A22+1)) -> 0.03029249 | M22: =M21*(1+B22) -> 98.883391 | N22: =N21*(1+C22) -> 133.38861 | O22: =B22-C22 -> -0.0754 | P22: =(M22/100)^(1/(A22-1927+1))-(N22/100)^(1/(A22-1927+1)) -> -0.027556871 | Q22: =($M$109/M21)^(1/(2024-A22+1))-($N$109/N21)^(1/(2024-A22+1)) -> 0.036598953
A23: 1938 | B23: ='French Raw data Value Weight'!J14/100 -> 0.2767 | C23: ='French Raw data Value Weight'!F14/100 -> 0.3585 | D23: ='French Raw data Value Weight'!T14 -> 23.85 | E23: ='French Raw data Value Weight'!K14 -> 30.5 | F23: =D23/100 -> 0.2385 | G23: =E23/100 -> 0.305 | H23: =H22*(1+F23) -> 66.43476 | I23: =I22*(1+G23) -> 159.58638 | J23: =F23-G23 -> -0.0665 | K23: =(H23/100)^(1/(A23-1927+1))-(I23/100)^(1/(A23-1927+1)) -> -0.073224805 | L23: =($H$109/H22)^(1/(2024-A23+1))-($I$109/I22)^(1/(2024-A23+1)) -> 0.036788706 | M23: =M22*(1+B23) -> 126.24443 | N23: =N22*(1+C23) -> 181.20842 | O23: =B23-C23 -> -0.0818 | P23: =(M23/100)^(1/(A23-1927+1))-(N23/100)^(1/(A23-1927+1)) -> -0.0311768 | Q23: =($M$109/M22)^(1/(2024-A23+1))-($N$109/N22)^(1/(2024-A23+1)) -> 0.03884349
A24: 1939 | B24: ='French Raw data Value Weight'!J15/100 -> -0.1385 | C24: ='French Raw data Value Weight'!F15/100 -> 0.0512 | D24: ='French Raw data Value Weight'!T15 -> -20.98 | E24: ='French Raw data Value Weight'!K15 -> 6.62 | F24: =D24/100 -> -0.2098 | G24: =E24/100 -> 0.0662 | H24: =H23*(1+F24) -> 52.496748 | I24: =I23*(1+G24) -> 170.151 | J24: =F24-G24 -> -0.276 | K24: =(H24/100)^(1/(A24-1927+1))-(I24/100)^(1/(A24-1927+1)) -> -0.090095304 | L24: =($H$109/H23)^(1/(2024-A24+1))-($I$109/I23)^(1/(2024-A24+1)) -> 0.03784504 | M24: =M23*(1+B24) -> 108.75957 | N24: =N23*(1+C24) -> 190.4863 | O24: =B24-C24 -> -0.1897 | P24: =(M24/100)^(1/(A24-1927+1))-(N24/100)^(1/(A24-1927+1)) -> -0.044339054 | Q24: =($M$109/M23)^(1/(2024-A24+1))-($N$109/N23)^(1/(2024-A24+1)) -> 0.04003906
... A109: 2024 | B109: ='French Raw data Value Weight'!J100/100 -> 0.212 | C109: ='French Raw data Value Weight'!F100/100 -> 0.2958 | D109: ='French Raw data Value Weight'!T100 -> 20.61 | E109: ='French Raw data Value Weight'!K100 -> 34.97 | F109: =D109/100 -> 0.2061 | G109: =E109/100 -> 0.3497 | H109: =H108*(1+F109) -> 5422165.5 | I109: =I108*(1+G109) -> 715222.66 | J109: =F109-G109 -> -0.1436 | K109: =(H109/100)^(1/(A109-1927+1))-(I109/100)^(1/(A109-1927+1)) -> 0.022864776 | L109: =($H$109/H108)^(1/(2024-A109+1))-($I$109/I108)^(1/(2024-A109+1)) -> -0.1436 | M109: =M108*(1+B109) -> 17205086 | N109: =N108*(1+C109) -> 1164073.1 | O109: =B109-C109 -> -0.0838 | P109: =(M109/100)^(1/(A109-1927+1))-(N109/100)^(1/(A109-1927+1)) -> 0.030656771 | Q109: =($M$109/M108)^(1/(2024-A109+1))-($N$109/N108)^(1/(2024-A109+1)) -> -0.0838

Sheet Equally Weighted
A1: Enter starting year: | D1: 1977 | E1: 1927 or later
A2: Enter ending year: | D2: 2024 | E2: Has to be > starting year
A3: Cumulative value start (Smallest decile): | D3: =IF(D1=1927,100,VLOOKUP((D1-1),A12:I109,8)) -> 462120.45 | F3: Cumulative value start (Smallest quintile): | I3: =IF(D1=1927,100,VLOOKUP((D1-1),A12:Q109,13)) -> 401153.41
A4: Cumulative value start (Largest decile): | D4: =IF(D1=1927,100,VLOOKUP((D1-1),A12:I109,9)) -> 2881.0289 | F4: Cumulative value start (Largest qunitile): | I4: =IF(D1=1927,100,VLOOKUP((D1-1),A12:Q109,14)) -> 3474.2643
A5: Cumulative value (Smallest decile) | D5: =IF(D2=1927,100,VLOOKUP(D2,A12:I109,8)) -> 2.7182989e+09 | F5: Cumulative value (Smallest quintile) | I5: =IF(D2=1927,100,VLOOKUP(D2,A12:Q109,13)) -> 1.4418692e+09
A6: Cumulative value (Largest decile): | D6: =IF(D2=1927,100,VLOOKUP(D2,A12:I109,9)) -> 40218.087 | F6: Cumulative value (Largest quintile): | I6: =IF(D2=1927,100,VLOOKUP(D2,A12:Q109,14)) -> 108929.61
A7: Geometric average return (Smallest decile): | D7: =(D5/D3)^(1/(D2-D1))-1 -> 0.20282659 | F7: Geometric average return (Smallest quintile): | I7: =(I5/I3)^(1/(D2-D1))-1 -> 0.19028618
A8: Geometric average return (Largest decile): | D8: =(D6/D4)^(1/(D2-D1))-1 -> 0.057691506 | F8: Geometric average return (Largest quintile): | I8: =(I6/I4)^(1/(D2-D1))-1 -> 0.076058322
A9: Annual Return different (Smallest decille - Largest decile) | D9: =D7-D8 -> 0.14513509 | F9: Annual Return different (Smallest decille - Largest quintile) | I9: =I7-I8 -> 0.11422786
A11: Year | B11: Lowest Quintile (PBV) | C11: Highest Quintile (PBV) | D11: Lowest Decile (PBV) | E11: Highest Decile (PBV) | F11: Lowest Decile | G11: Highest Decile | H11: Cum Value (lowest decile) | I11: Cum Value (Highest decile) | J11: D1 - D10 | K11: Value Premium - decile (xince 1926) | L11: Value Premium -decile (starting in year) | M11: Cum Value (lowest quntile) | N11: Cum Value (Highest quintile) | O11: Q1 - Q5 | P11: Value Premium -quntile (xince 1926) | Q11: Value Premium (starting in year)
A12: 1927 | B12: ='French Raw data Equally Weight'!J3/100 -> 0.4204 | C12: ='French Raw data Equally Weight'!F3/100 -> 0.3559 | D12: ='French Raw data Equally Weight'!T3 -> 41.94 | E12: ='French Raw data Equally Weight'!K3 -> 43.29 | F12: =D12/100 -> 0.4194 | G12: =E12/100 -> 0.4329 | H12: =100*(1+F12) -> 141.94 | I12: =100*(1+G12) -> 143.29 | J12: =F12-G12 -> -0.0135 | K12: =J12 -> -0.0135 | L12: =($H$109/100)^(1/(2024-A12+1))-($I$109/100)^(1/(2024-A12+1)) -> 0.1277546 | M12: =100*(1+B12) -> 142.04 | N12: =100*(1+C12) -> 135.59 | O12: =B12-C12 -> 0.0645 | P12: =O12 -> 0.0645 | Q12: =($M$109/100)^(1/(2024-A12+1))-($N$109/100)^(1/(2024-A12+1)) -> 0.10921062
A13: 1928 | B13: ='French Raw data Equally Weight'!J4/100 -> 0.5692 | C13: ='French Raw data Equally Weight'!F4/100 -> 0.4127 | D13: ='French Raw data Equally Weight'!T4 -> 62.35 | E13: ='French Raw data Equally Weight'!K4 -> 42.29 | F13: =D13/100 -> 0.6235 | G13: =E13/100 -> 0.4229 | H13: =H12*(1+F13) -> 230.43959 | I13: =I12*(1+G13) -> 203.88734 | J13: =F13-G13 -> 0.2006 | K13: =(H13/100)^(1/(A13-1927+1))-(I13/100)^(1/(A13-1927+1)) -> 0.090132436 | L13: =($H$109/H12)^(1/(2024-A13+1))-($I$109/I12)^(1/(2024-A13+1)) -> 0.12886778 | M13: =M12*(1+B13) -> 222.88917 | N13: =N12*(1+C13) -> 191.54799 | O13: =B13-C13 -> 0.1565 | P13: =(M13/100)^(1/(A13-1927+1))-(N13/100)^(1/(A13-1927+1)) -> 0.10893867 | Q13: =($M$109/M12)^(1/(2024-A13+1))-($N$109/N12)^(1/(2024-A13+1)) -> 0.10956159
A14: 1929 | B14: ='French Raw data Equally Weight'!J5/100 -> -0.3651 | C14: ='French Raw data Equally Weight'!F5/100 -> -0.3299 | D14: ='French Raw data Equally Weight'!T5 -> -38.07 | E14: ='French Raw data Equally Weight'!K5 -> -32.78 | F14: =D14/100 -> -0.3807 | G14: =E14/100 -> -0.3278 | H14: =H13*(1+F14) -> 142.71124 | I14: =I13*(1+G14) -> 137.05307 | J14: =F14-G14 -> -0.0529 | K14: =(H14/100)^(1/(A14-1927+1))-(I14/100)^(1/(A14-1927+1)) -> 0.01508039 | L14: =($H$109/H13)^(1/(2024-A14+1))-($I$109/I13)^(1/(2024-A14+1)) -> 0.12826141 | M14: =M13*(1+B14) -> 141.51233 | N14: =N13*(1+C14) -> 128.35631 | O14: =B14-C14 -> -0.0352 | P14: =(M14/100)^(1/(A14-1927+1))-(N14/100)^(1/(A14-1927+1)) -> 0.035929104 | Q14: =($M$109/M13)^(1/(2024-A14+1))-($N$109/N13)^(1/(2024-A14+1)) -> 0.10915199
A15: 1930 | B15: ='French Raw data Equally Weight'!J6/100 -> -0.4573 | C15: ='French Raw data Equally Weight'!F6/100 -> -0.3326 | D15: ='French Raw data Equally Weight'!T6 -> -47.69 | E15: ='French Raw data Equally Weight'!K6 -> -35.42 | F15: =D15/100 -> -0.4769 | G15: =E15/100 -> -0.3542 | H15: =H14*(1+F15) -> 74.652249 | I15: =I14*(1+G15) -> 88.508873 | J15: =F15-G15 -> -0.1227 | K15: =(H15/100)^(1/(A15-1927+1))-(I15/100)^(1/(A15-1927+1)) -> -0.040419845 | L15: =($H$109/H14)^(1/(2024-A15+1))-($I$109/I14)^(1/(2024-A15+1)) -> 0.13133893 | M15: =M14*(1+B15) -> 76.798743 | N15: =N14*(1+C15) -> 85.665001 | O15: =B15-C15 -> -0.1247 | P15: =(M15/100)^(1/(A15-1927+1))-(N15/100)^(1/(A15-1927+1)) -> -0.025922019 | Q15: =($M$109/M14)^(1/(2024-A15+1))-($N$109/N14)^(1/(2024-A15+1)) -> 0.11157447
A16: 1931 | B16: ='French Raw data Equally Weight'!J7/100 -> -0.4088 | C16: ='French Raw data Equally Weight'!F7/100 -> -0.3983 | D16: ='French Raw data Equally Weight'!T7 -> -39.27 | E16: ='French Raw data Equally Weight'!K7 -> -37.68 | F16: =D16/100 -> -0.3927 | G16: =E16/100 -> -0.3768 | H16: =H15*(1+F16) -> 45.336311 | I16: =I15*(1+G16) -> 55.15873 | J16: =F16-G16 -> -0.0159 | K16: =(H16/100)^(1/(A16-1927+1))-(I16/100)^(1/(A16-1927+1)) -> -0.034147304 | L16: =($H$109/H15)^(1/(2024-A16+1))-($I$109/I15)^(1/(2024-A16+1)) -> 0.13621914 | M16: =M15*(1+B16) -> 45.403417 | N16: =N15*(1+C16) -> 51.544631 | O16: =B16-C16 -> -0.0105 | P16: =(M16/100)^(1/(A16-1927+1))-(N16/100)^(1/(A16-1927+1)) -> -0.021942997 | Q16: =($M$109/M15)^(1/(2024-A16+1))-($N$109/N15)^(1/(2024-A16+1)) -> 0.1160203
A17: 1932 | B17: ='French Raw data Equally Weight'!J8/100 -> 0.5108 | C17: ='French Raw data Equally Weight'!F8/100 -> -0.0721 | D17: ='French Raw data Equally Weight'!T8 -> 67.59 | E17: ='French Raw data Equally Weight'!K8 -> -7.9 | F17: =D17/100 -> 0.6759 | G17: =E17/100 -> -0.079 | H17: =H16*(1+F17) -> 75.979123 | I17: =I16*(1+G17) -> 50.80119 | J17: =F17-G17 -> 0.7549 | K17: =(H17/100)^(1/(A17-1927+1))-(I17/100)^(1/(A17-1927+1)) -> 0.061984816 | L17: =($H$109/H16)^(1/(2024-A17+1))-($I$109/I16)^(1/(2024-A17+1)) -> 0.13891077 | M17: =M16*(1+B17) -> 68.595482 | N17: =N16*(1+C17) -> 47.828263 | O17: =B17-C17 -> 0.5829 | P17: =(M17/100)^(1/(A17-1927+1))-(N17/100)^(1/(A17-1927+1)) -> 0.054779341 | Q17: =($M$109/M16)^(1/(2024-A17+1))-($N$109/N16)^(1/(2024-A17+1)) -> 0.11830043
A18: 1933 | B18: ='French Raw data Equally Weight'!J9/100 -> 2.1446 | C18: ='French Raw data Equally Weight'!F9/100 -> 0.6721 | D18: ='French Raw data Equally Weight'!T9 -> 204.97 | E18: ='French Raw data Equally Weight'!K9 -> 55.93 | F18: =D18/100 -> 2.0497 | G18: =E18/100 -> 0.5593 | H18: =H17*(1+F18) -> 231.71353 | I18: =I17*(1+G18) -> 79.214296 | J18: =F18-G18 -> 1.4904 | K18: =(H18/100)^(1/(A18-1927+1))-(I18/100)^(1/(A18-1927+1)) -> 0.16028996 | L18: =($H$109/H17)^(1/(2024-A18+1))-($I$109/I17)^(1/(2024-A18+1)) -> 0.13286282 | M18: =M17*(1+B18) -> 215.70535 | N18: =N17*(1+C18) -> 79.973639 | O18: =B18-C18 -> 1.4725 | P18: =(M18/100)^(1/(A18-1927+1))-(N18/100)^(1/(A18-1927+1)) -> 0.14749818 | Q18: =($M$109/M17)^(1/(2024-A18+1))-($N$109/N17)^(1/(2024-A18+1)) -> 0.11347802
A19: 1934 | B19: ='French Raw data Equally Weight'!J10/100 -> 0.0603 | C19: ='French Raw data Equally Weight'!F10/100 -> 0.223 | D19: ='French Raw data Equally Weight'!T10 -> 17.04 | E19: ='French Raw data Equally Weight'!K10 -> 22.7 | F19: =D19/100 -> 0.1704 | G19: =E19/100 -> 0.227 | H19: =H18*(1+F19) -> 271.19752 | I19: =I18*(1+G19) -> 97.195941 | J19: =F19-G19 -> -0.0566 | K19: =(H19/100)^(1/(A19-1927+1))-(I19/100)^(1/(A19-1927+1)) -> 0.13636834 | L19: =($H$109/H18)^(1/(2024-A19+1))-($I$109/I18)^(1/(2024-A19+1)) -> 0.12501472 | M19: =M18*(1+B19) -> 228.71239 | N19: =N18*(1+C19) -> 97.807761 | O19: =B19-C19 -> -0.1627 | P19: =(M19/100)^(1/(A19-1927+1))-(N19/100)^(1/(A19-1927+1)) -> 0.11171502 | Q19: =($M$109/M18)^(1/(2024-A19+1))-($N$109/N18)^(1/(2024-A19+1)) -> 0.10596967
A20: 1935 | B20: ='French Raw data Equally Weight'!J11/100 -> 0.6611 | C20: ='French Raw data Equally Weight'!F11/100 -> 0.4041 | D20: ='French Raw data Equally Weight'!T11 -> 59.09 | E20: ='French Raw data Equally Weight'!K11 -> 39.52 | F20: =D20/100 -> 0.5909 | G20: =E20/100 -> 0.3952 | H20: =H19*(1+F20) -> 431.44813 | I20: =I19*(1+G20) -> 135.60778 | J20: =F20-G20 -> 0.1957 | K20: =(H20/100)^(1/(A20-1927+1))-(I20/100)^(1/(A20-1927+1)) -> 0.14195668 | L20: =($H$109/H19)^(1/(2024-A20+1))-($I$109/I19)^(1/(2024-A20+1)) -> 0.12691914 | M20: =M19*(1+B20) -> 379.91414 | N20: =N19*(1+C20) -> 137.33188 | O20: =B20-C20 -> 0.257 | P20: =(M20/100)^(1/(A20-1927+1))-(N20/100)^(1/(A20-1927+1)) -> 0.12399411 | Q20: =($M$109/M19)^(1/(2024-A20+1))-($N$109/N19)^(1/(2024-A20+1)) -> 0.10894443
A21: 1936 | B21: ='French Raw data Equally Weight'!J12/100 -> 0.7815 | C21: ='French Raw data Equally Weight'!F12/100 -> 0.3076 | D21: ='French Raw data Equally Weight'!T12 -> 89.39 | E21: ='French Raw data Equally Weight'!K12 -> 29.99 | F21: =D21/100 -> 0.8939 | G21: =E21/100 -> 0.2999 | H21: =H20*(1+F21) -> 817.11961 | I21: =I20*(1+G21) -> 176.27655 | J21: =F21-G21 -> 0.594 | K21: =(H21/100)^(1/(A21-1927+1))-(I21/100)^(1/(A21-1927+1)) -> 0.175428 | L21: =($H$109/H20)^(1/(2024-A21+1))-($I$109/I20)^(1/(2024-A21+1)) -> 0.12628441 | M21: =M20*(1+B21) -> 676.81705 | N21: =N20*(1+C21) -> 179.57516 | O21: =B21-C21 -> 0.4739 | P21: =(M21/100)^(1/(A21-1927+1))-(N21/100)^(1/(A21-1927+1)) -> 0.15043961 | Q21: =($M$109/M20)^(1/(2024-A21+1))-($N$109/N20)^(1/(2024-A21+1)) -> 0.10766445
A22: 1937 | B22: ='French Raw data Equally Weight'!J13/100 -> -0.5174 | C22: ='French Raw data Equally Weight'!F13/100 -> -0.4177 | D22: ='French Raw data Equally Weight'!T13 -> -58.68 | E22: ='French Raw data Equally Weight'!K13 -> -41.48 | F22: =D22/100 -> -0.5868 | G22: =E22/100 -> -0.4148 | H22: =H21*(1+F22) -> 337.63382 | I22: =I21*(1+G22) -> 103.15704 | J22: =F22-G22 -> -0.172 | K22: =(H22/100)^(1/(A22-1927+1))-(I22/100)^(1/(A22-1927+1)) -> 0.11413785 | L22: =($H$109/H21)^(1/(2024-A22+1))-($I$109/I21)^(1/(2024-A22+1)) -> 0.12243116 | M22: =M21*(1+B22) -> 326.63191 | N22: =N21*(1+C22) -> 104.56662 | O22: =B22-C22 -> -0.0997 | P22: =(M22/100)^(1/(A22-1927+1))-(N22/100)^(1/(A22-1927+1)) -> 0.10954094 | Q22: =($M$109/M21)^(1/(2024-A22+1))-($N$109/N21)^(1/(2024-A22+1)) -> 0.10455433
A23: 1938 | B23: ='French Raw data Equally Weight'!J14/100 -> 0.19 | C23: ='French Raw data Equally Weight'!F14/100 -> 0.4351 | D23: ='French Raw data Equally Weight'!T14 -> 6.19 | E23: ='French Raw data Equally Weight'!K14 -> 45.55 | F23: =D23/100 -> 0.0619 | G23: =E23/100 -> 0.4555 | H23: =H22*(1+F23) -> 358.53336 | I23: =I22*(1+G23) -> 150.14507 | J23: =F23-G23 -> -0.3936 | K23: =(H23/100)^(1/(A23-1927+1))-(I23/100)^(1/(A23-1927+1)) -> 0.077822061 | L23: =($H$109/H22)^(1/(2024-A23+1))-($I$109/I22)^(1/(2024-A23+1)) -> 0.12956425 | M23: =M22*(1+B23) -> 388.69197 | N23: =N22*(1+C23) -> 150.06355 | O23: =B23-C23 -> -0.2451 | P23: =(M23/100)^(1/(A23-1927+1))-(N23/100)^(1/(A23-1927+1)) -> 0.085380217 | Q23: =($M$109/M22)^(1/(2024-A23+1))-($N$109/N22)^(1/(2024-A23+1)) -> 0.10913316
A24: 1939 | B24: ='French Raw data Equally Weight'!J15/100 -> 0.0794 | C24: ='French Raw data Equally Weight'!F15/100 -> 0.0742 | D24: ='French Raw data Equally Weight'!T15 -> 11.92 | E24: ='French Raw data Equally Weight'!K15 -> 14.13 | F24: =D24/100 -> 0.1192 | G24: =E24/100 -> 0.1413 | H24: =H23*(1+F24) -> 401.27053 | I24: =I23*(1+G24) -> 171.36056 | J24: =F24-G24 -> -0.0221 | K24: =(H24/100)^(1/(A24-1927+1))-(I24/100)^(1/(A24-1927+1)) -> 0.07050193 | L24: =($H$109/H23)^(1/(2024-A24+1))-($I$109/I23)^(1/(2024-A24+1)) -> 0.1350921 | M24: =M23*(1+B24) -> 419.55411 | N24: =N23*(1+C24) -> 161.19827 | O24: =B24-C24 -> 0.0052 | P24: =(M24/100)^(1/(A24-1927+1))-(N24/100)^(1/(A24-1927+1)) -> 0.079212633 | Q24: =($M$109/M23)^(1/(2024-A24+1))-($N$109/N23)^(1/(2024-A24+1)) -> 0.11269761
... A109: 2024 | B109: ='French Raw data Equally Weight'!J100/100 -> 0.1648 | C109: ='French Raw data Equally Weight'!F100/100 -> 0.1069 | D109: ='French Raw data Equally Weight'!T100 -> 17.91 | E109: ='French Raw data Equally Weight'!K100 -> 9.51 | F109: =D109/100 -> 0.1791 | G109: =E109/100 -> 0.0951 | H109: =H108*(1+F109) -> 2.7182989e+09 | I109: =I108*(1+G109) -> 40218.087 | J109: =F109-G109 -> 0.084 | K109: =(H109/100)^(1/(A109-1927+1))-(I109/100)^(1/(A109-1927+1)) -> 0.1277546 | L109: =($H$109/H108)^(1/(2024-A109+1))-($I$109/I108)^(1/(2024-A109+1)) -> 0.084 | M109: =M108*(1+B109) -> 1.4418692e+09 | N109: =N108*(1+C109) -> 108929.61 | O109: =B109-C109 -> 0.0579 | P109: =(M109/100)^(1/(A109-1927+1))-(N109/100)^(1/(A109-1927+1)) -> 0.10921062 | Q109: =($M$109/M108)^(1/(2024-A109+1))-($N$109/N108)^(1/(2024-A109+1)) -> 0.0579

Sheet French Raw data Value Weight
A1: Value Weight Returns -- Annual from January to December
B2: <= 0 | C2: Lo 30 | D2: Med 40 | E2: Hi 30 | F2: Lo 20 | G2: Qnt 2 | H2: Qnt 3 | I2: Qnt 4 | J2: Hi 20 | K2: Lo 10 | L2: 45993 | M2: 45994 | N2: 45995 | O2: 45996 | P2: 45997 | Q2: 45998 | R2: 45999 | S2: 46000 | T2: Hi 10
A3: 1927 | B3: 13.99 | C3: 44.07 | D3: 23.41 | E3: 32.36 | F3: 44.9 | G3: 31.16 | H3: 23.11 | I3: 26.81 | J3: 40.66 | K3: 57.86 | L3: 25.6 | M3: 42.91 | N3: 20.22 | O3: 20.37 | P3: 25.96 | Q3: 28.34 | R3: 24.74 | S3: 38.24 | T3: 48.27
A4: 1928 | B4: 88.57 | C4: 45.78 | D4: 31.62 | E4: 34.63 | F4: 48.42 | G4: 38.14 | H4: 34.69 | I4: 22.7 | J4: 35.97 | K4: 48.57 | L4: 50.02 | M4: 39.59 | N4: 37.39 | O4: 46.7 | P4: 25.73 | Q4: 14.92 | R4: 33.23 | S4: 37.35 | T4: 27.71
A5: 1929 | B5: -53.5 | C5: -19.82 | D5: -1.42 | E5: -9.71 | F5: -21.82 | G5: -9.63 | H5: -2.37 | I5: -3.5 | J5: -11.49 | K5: -26.86 | L5: -8.8 | M5: -13.38 | N5: -6.62 | O5: -0.39 | P5: -1.41 | Q5: 0.07 | R5: -8.37 | S5: -8.27 | T5: -25.39
A6: 1930 | B6: -74.1 | C6: -26.33 | D6: -28.88 | E6: -43.62 | F6: -26.1 | G6: -26.8 | H6: -27.9 | I6: -38.95 | J6: -52.71 | K6: -29.12 | L6: -20.56 | M6: -26.97 | N6: -26.85 | O6: -25.33 | P6: -35.07 | Q6: -38.47 | R6: -40.58 | S6: -52.64 | T6: -56.32
A7: 1931 | B7: -74.64 | C7: -36.78 | D7: -59.69 | E7: -54.92 | F7: -36.18 | G7: -44.79 | H7: -62.51 | I7: -59.72 | J7: -51.84 | K7: -37.53 | L7: -33.93 | M7: -37.8 | N7: -53.84 | O7: -60.49 | P7: -63.04 | Q7: -62.86 | R7: -55.44 | S7: -50.79 | T7: -55.62
A8: 1932 | B8: 11.54 | C8: -6.71 | D8: -16.6 | E8: 0.81 | F8: -10.8 | G8: -1.47 | H8: -14.25 | I8: -7.8 | J8: 17.57 | K8: -14.33 | L8: -4.57 | M8: 10.8 | N8: -20.6 | O8: -10.19 | P8: -20 | Q8: -6.74 | R8: -8.64 | S8: 21.61 | T8: 3.45
A9: 1933 | B9: 95.57 | C9: 44.51 | D9: 90.3 | E9: 125.13 | F9: 39.65 | G9: 71.5 | H9: 84.47 | I9: 106.16 | J9: 130.99 | K9: 45.78 | L9: 28.58 | M9: 63.46 | N9: 100.53 | O9: 81.29 | P9: 87.94 | Q9: 93.33 | R9: 124.97 | S9: 119.11 | T9: 151.89
A10: 1934 | B10: -0.01 | C10: 8.77 | D10: -1.14 | E10: -14.66 | F10: 11.02 | G10: 3.59 | H10: -3.7 | I10: -10.94 | J10: -22.47 | K10: 13.03 | L10: 11.78 | M10: 3.06 | N10: 5.97 | O10: -8.05 | P10: 3.92 | Q10: -14.4 | R10: -8.07 | S10: -26.29 | T10: -12.89
A11: 1935 | B11: 52.7 | C11: 43.67 | D11: 48.34 | E11: 50.6 | F11: 44.28 | G11: 45.6 | H11: 45.78 | I11: 38.95 | J11: 46.44 | K11: 36.24 | L11: 55.84 | M11: 40.18 | N11: 49.76 | O11: 35.39 | P11: 65.34 | Q11: 34.04 | R11: 52.01 | S11: 52.56 | T11: 34.52
A12: 1936 | B12: 80.38 | C12: 26.69 | D12: 38.27 | E12: 50.3 | F12: 27.54 | G12: 25.9 | H12: 36.92 | I12: 58.45 | J12: 42.05 | K12: 24.06 | L12: 29.53 | M12: 20.94 | N12: 27.38 | O12: 29.08 | P12: 54.11 | Q12: 59.39 | R12: 58.65 | S12: 39.05 | T12: 50.01
A13: 1937 | B13: -49.01 | C13: -34.86 | D13: -31.65 | E13: -42.31 | F13: -33.9 | G13: -37.71 | H13: -29.42 | I13: -37.65 | J13: -41.44 | K13: -32.52 | L13: -35.87 | M13: -38.3 | N13: -37.24 | O13: -36.46 | P13: -22.22 | Q13: -33.11 | R13: -41.7 | S13: -35.69 | T13: -57.24
A14: 1938 | B14: -16.62 | C14: 34.08 | D14: 21.86 | E14: 27.6 | F14: 35.85 | G14: 28.59 | H14: 18.62 | I14: 26.85 | J14: 27.67 | K14: 30.5 | L14: 43.26 | M14: 30.57 | N14: 26.15 | O14: 27.53 | P14: 10.61 | Q14: 25.51 | R14: 28.3 | S14: 28.8 | T14: 23.85
... A100: 2024 | B100: 18.29 | C100: 29.6 | D100: 15.41 | E100: 18.47 | F100: 29.58 | G100: 22 | H100: 13.52 | I100: 21.33 | J100: 21.2 | K100: 34.97 | L100: 18.89 | M100: 29.9 | N100: 8.01 | O100: 24.92 | P100: 2.16 | Q100: 24 | R100: 13.95 | S100: 21.4 | T100: 20.61

Sheet French Raw data Equally Weight
A1: Equal Weight Returns -- Annual from January to December
B2: <= 0 | C2: Lo 30 | D2: Med 40 | E2: Hi 30 | F2: Lo 20 | G2: Qnt 2 | H2: Qnt 3 | I2: Qnt 4 | J2: Hi 20 | K2: Lo 10 | L2: 45993 | M2: 45994 | N2: 45995 | O2: 45996 | P2: 45997 | Q2: 45998 | R2: 45999 | S2: 46000 | T2: Hi 10
A3: 1927 | B3: 50.99 | C3: 34.69 | D3: 26.84 | E3: 38.85 | F3: 35.59 | G3: 32.47 | H3: 25.6 | I3: 27.98 | J3: 42.04 | K3: 43.29 | L3: 28.35 | M3: 32.75 | N3: 32.16 | O3: 28.91 | P3: 22.31 | Q3: 23.82 | R3: 32.3 | S3: 41.81 | T3: 41.94
A4: 1928 | B4: 88.57 | C4: 40.52 | D4: 38.85 | E4: 45.35 | F4: 41.27 | G4: 43.6 | H4: 35.8 | I4: 29.73 | J4: 56.92 | K4: 42.29 | L4: 39.99 | M4: 38.99 | N4: 48 | O4: 41.95 | P4: 29.8 | Q4: 35.78 | R4: 23.81 | S4: 51.1 | T4: 62.35
A5: 1929 | B5: -39.66 | C5: -32.38 | D5: -26.31 | E5: -34.89 | F5: -32.99 | G5: -31.2 | H5: -24.93 | I5: -28.04 | J5: -36.51 | K5: -32.78 | L5: -33.37 | M5: -31.29 | N5: -31.14 | O5: -19.3 | P5: -30.18 | Q5: -24.25 | R5: -31.69 | S5: -35.02 | T5: -38.07
A6: 1930 | B6: -68.72 | C6: -33.21 | D6: -34.99 | E6: -44.68 | F6: -33.26 | G6: -31.09 | H6: -36.47 | I6: -40.57 | J6: -45.73 | K6: -35.42 | L6: -31.17 | M6: -33.39 | N6: -28.94 | O6: -36.3 | P6: -36.71 | Q6: -38.24 | R6: -42.91 | S6: -44.03 | T6: -47.69
A7: 1931 | B7: -46.23 | C7: -40.15 | D7: -49.41 | E7: -43.29 | F7: -39.83 | G7: -42.89 | H7: -50.73 | I7: -49.42 | J7: -40.88 | K7: -37.68 | L7: -41.94 | M7: -40.89 | N7: -44.94 | O7: -51.38 | P7: -50.15 | Q7: -51.18 | R7: -47.88 | S7: -43.06 | T7: -39.27
A8: 1932 | B8: 101.81 | C8: -7.51 | D8: 0.17 | E8: 35.57 | F8: -7.21 | G8: -10.19 | H8: -1.35 | I8: 13.37 | J8: 51.08 | K8: -7.9 | L8: -6.66 | M8: -8.26 | N8: -12.94 | O8: -1.97 | P8: -1.34 | Q8: 16.73 | R8: 8.45 | S8: 35.13 | T8: 67.59
A9: 1933 | B9: 228.84 | C9: 74.69 | D9: 141.6 | E9: 211.32 | F9: 67.21 | G9: 121.83 | H9: 126.55 | I9: 178.97 | J9: 214.46 | K9: 55.93 | L9: 78.63 | M9: 90.16 | N9: 155.07 | O9: 118.13 | P9: 134.61 | Q9: 155.59 | R9: 201.84 | S9: 219.84 | T9: 204.97
A10: 1934 | B10: 11.97 | C10: 22.39 | D10: 21.57 | E10: 9.72 | F10: 22.3 | G10: 24.71 | H10: 19.47 | I10: 18.08 | J10: 6.03 | K10: 22.7 | L10: 21.72 | M10: 22.45 | N10: 26.86 | O10: 12.75 | P10: 26.39 | Q10: 19.67 | R10: 16.22 | S10: -4.56 | T10: 17.04
A11: 1935 | B11: 94.07 | C11: 40.41 | D11: 61.65 | E11: 71.89 | F11: 40.41 | G11: 47.72 | H11: 67.52 | I11: 68.27 | J11: 66.11 | K11: 39.52 | L11: 41.17 | M11: 40.23 | N11: 55.47 | O11: 72.27 | P11: 62.26 | Q11: 55.04 | R11: 82.03 | S11: 70.03 | T11: 59.09
A12: 1936 | B12: 62.74 | C12: 31.1 | D12: 49.23 | E12: 77.36 | F12: 30.76 | G12: 33.66 | H12: 50.83 | I12: 67.61 | J12: 78.15 | K12: 29.99 | L12: 31.38 | M12: 31.67 | N12: 35.6 | O12: 49.31 | P12: 52.33 | Q12: 60.35 | R12: 74.86 | S12: 65.58 | T12: 89.39
A13: 1937 | B13: -52.52 | C13: -42.89 | D13: -45.74 | E13: -49.71 | F13: -41.77 | G13: -45.77 | H13: -45.33 | I13: -45.75 | J13: -51.74 | K13: -41.48 | L13: -42.09 | M13: -45.11 | N13: -46.45 | O13: -45.52 | P13: -45.25 | Q13: -45.93 | R13: -45.64 | S13: -43.78 | T13: -58.68
A14: 1938 | B14: -31.32 | C14: 43.96 | D14: 43.95 | E14: 23.77 | F14: 43.51 | G14: 46 | H14: 44.64 | I14: 36.4 | J14: 19 | K14: 45.55 | L14: 41.44 | M14: 44.87 | N14: 47.04 | O14: 47.02 | P14: 42.22 | Q14: 39.32 | R14: 33.35 | S14: 32.07 | T14: 6.19
... A100: 2024 | B100: -2.65 | C100: 10.93 | D100: 6.68 | E100: 13.52 | F100: 10.69 | G100: 7.33 | H100: 7 | I100: 6.95 | J100: 16.48 | K100: 9.51 | L100: 11.99 | M100: 11.48 | N100: 3.69 | O100: 4.06 | P100: 9.83 | Q100: 9.17 | R100: 4.93 | S100: 14.78 | T100: 17.91
