Workbook

Sheet Read me first
A1: Dividend Discount Model
A2: Assumptions | B2: 1. The firm is expected to grow at a higher growth rate in the first period.
B3: 2. The growth rate will drop at the end of the first period to the stable growth rate.
B4: 3. The dividend payout ratio is consistent with the expected growth rate.
A5: Inputs needed | B5: 1. Length of high growth period
B6: 2. Expected growth rate in earnings during the high growth period.
B7: 3. Dividend payout ratio during the high growth period.
B8: 4. Expected growth rate in earnings during the stable growth period.
B9: 5. Expected payout ratio during the stable growth period.
B10: 6. Current Earnings per share
B11: 7. Inputs for the Cost of Equity
A12: How the model works | B12: The expected dividends are estimated for the high growth period, using the payout
B13: ratio for the high growth period and the expected growth rate in earnings per share.
B14: The expected growth rate is estimated either using fundamentals:
B15: Expected growth = Retention Ratio * Return on Equity
B16: Alternatively, you can input the expected growth rate.
B17: At the end of the high growth phase, the expected terminal price is estimated using
B18: dividends per share one year after the high growth period, using the growth rate
B19: in stable growth, the payout ratio in stable growth and the cost of equity in stable
B20: growth.
B21: The dividends per share and the terminal price are discounted back to the present at
B22: the cost of equity changes.
B23: If your cost of equity in stable growth is different from your cost of equity in high
B24: growth, the cost of equity in the second half of the stable growth period will be
... B26: equity.
A27: Options Available | B27: You can make this model into a three stage model by answering yes to the question
B28: of whether you want me to adjust the inputs in the second half of the high growth
B29: period. If you do, I will adjust the growth rate, the payout ratio and the cost of
B30: equity from high-growth levels to stable growth levels gradually.
B31: You can also make this a stable growth model by setting the high
B32: growth period to zero.

Sheet Inputs
C1: Input cell | E1: Calculated cell
A2: Your Company inputs
A3: Name of company: | B3: JP Morgan Chase
A4: Date of valuation: | B4: 43973
A5: Name for your valuation story | B5: Dimon in the Rough
A6: Inputs from current financials
B7: Last 12 months | C7: Last year
A8: Book Value of Equity = | B8: 322878 | C8: 292332 | D8: (in currency)
A9: Net Income = | B9: 49552 | C9: 37676 | D9: (in currency)
A10: Current Dividends (aggregate) = | B10: 13463 | C10: (in currency)
A11: Number of shares outstanding | B11: 2908.3
A12: Current stock price | B12: 198.06
A14: Inputs for Discount Rate
A15: Beta of the stock = | B15: 1.06 | D15: Use industry average sheet for guidance
A16: Riskfree rate= | B16: 0.045 | C16: (in percent) | D16: Use the currrent riskfree rate in your currency of choice.
A17: Equity Risk Premium | B17: ='ERP calculator'!E29 -> 0.050903809 | C17: (in percent) | D17: Use the ERP calculator for guidance
A19: Inputs for High Growth Period
A20: Length of high growth period | B20: 10 | C20: Up to 15 years
A22: Do you want to calculate the growth rate from fundamentals? | B22: Yes | C22: (Yes or No)
A23: If no, enter the expected growth rate in earnings in high growth = | B23: 0.15
A24: If yes, the following will be the inputs to the fundamental growth formulation:
A25: ROE = | B25: =B9/C8 -> 0.1695059 | C25: (in percent)
A26: Retention = | B26: =1-B10/B9 -> 0.72830562 | C26: (in percent)
A27: Do you want to change any of these inputs for the high growth period? | B27: Yes
A28: If yes, specify the values for these inputs (Please enter all variables)
A29: ROE = | B29: 0.15 | C29: (in percent) | D29: Use industry average sheet for guidance
A30: Retention = | B30: =B26 -> 0.72830562 | C30: (in percent) | D30: Use industry average sheet for guidance
A31: Do you want to change any of these inputs for the stable growth period? | B31: Yes
A32: If yes, specify the values for these inputs
A33: ROE = | B33: 0.12 | C33: (in percent) | D33: Use industry average sheet for guidance
A34: Do you want me to gradually adjust your inputs during the second half? | B34: Yes
A36: Inputs for Stable Growth Period
A37: The model uses the riskfree rate as the growth rate in perpeutiy. If you want to change that assumption, you can do so below (but you are entering dangerous territory)
A38: Do you want to override the detault & use a different growth rate | B38: No
A39: Enter growth rate in stable growth period? | B39: 0.015 | C39: (in percent)
A41: Stable payout ratio from fundamentals is = | B41: =IF(B31="Yes",IF(B38="Yes",1-B39/B33,1-B16/B33),IF(B38="Yes",IF(B27="Yes",1-B39/B29,1-B39/B25),IF(B27="Yes",1-B16/B29,1-B16/B25))) -> 0.625 | C41: (in percent)
A42: Do you want to change this payout ratio? | B42: No | C42: (Yes or No)
A43: If yes, enter the stable payout ratio= | C43: (in percent)
A45: Will the beta to change in the stable period? | B45: No | C45: (Yes or No)
A46: If yes, enter the beta for stable period = | B46: 0.8

Sheet Valuation Output
B2: Output from the program
B3: Cost of Equity = | D3: =Inputs!B16+Inputs!B15*Inputs!B17 -> 0.098958037
B4: Return on Equity = | D4: =IF(Inputs!B27="Yes",Inputs!B29,Inputs!B25) -> 0.15
B5: Net Income = | D5: =Inputs!B9 -> 49552
B6: Earnings per Share = | D6: =D5/Inputs!B11 -> 17.038132
B7: Growth rate in Net Income - | D7: =IF(Inputs!B22="Yes",IF(Inputs!B27="Yes",Inputs!B29*Inputs!B30,Inputs!B25*Inputs!B26),Inputs!B23) -> 0.10924584
B8: Payout Ratio for high growth phase= | D8: =IF(Inputs!B27="Yes",1-Inputs!B30,1-Inputs!B26) -> 0.27169438
B10: The dividends for the high growth phase are shown below (upto 10 years)
C11: =IF(Inputs!B20=0," ",1) -> 1 | D11: =IF(Inputs!B20<2," ",2) -> 2 | E11: =IF(Inputs!B20<3," ",3) -> 3 | F11: =IF(Inputs!B20<4," ",4) -> 4 | G11: =IF(Inputs!B20<5," ",5) -> 5 | H11: =IF(Inputs!B20<6," ",6) -> 6 | I11: =IF(Inputs!B20<7," ",7) -> 7 | J11: =IF(Inputs!B20<8," ",8) -> 8 | K11: =IF(Inputs!B20<9," ",9) -> 9 | L11: =IF(Inputs!B20<10," ",10) -> 10 | M11: =IF(Inputs!B20<11," ",11) | N11: =IF(Inputs!B20<12," ",12) | O11: =IF(Inputs!B20<13," ",13) | P11: =IF(Inputs!B20<14," ",14) | Q11: =IF(Inputs!B20<15," ",15)
B12: Expected Growth Rate | C12: =IF(Inputs!$B$20<C11," ",IF(Inputs!$B$34="Yes",IF(C11<(Inputs!$B$20/2),$D$7,$D$22+(($D$7-$D$22)/(Inputs!$B$20/2))*(Inputs!$B$20-C11)),$D$7)) -> 0.10924584 | D12: =IF(Inputs!$B$20<D11," ",IF(Inputs!$B$34="Yes",IF(D11<(Inputs!$B$20/2),$D$7,$D$22+(($D$7-$D$22)/(Inputs!$B$20/2))*(Inputs!$B$20-D11)),$D$7)) -> 0.10924584 | E12: =IF(Inputs!$B$20<E11," ",IF(Inputs!$B$34="Yes",IF(E11<(Inputs!$B$20/2),$D$7,$D$22+(($D$7-$D$22)/(Inputs!$B$20/2))*(Inputs!$B$20-E11)),$D$7)) -> 0.10924584 | F12: =IF(Inputs!$B$20<F11," ",IF(Inputs!$B$34="Yes",IF(F11<(Inputs!$B$20/2),$D$7,$D$22+(($D$7-$D$22)/(Inputs!$B$20/2))*(Inputs!$B$20-F11)),$D$7)) -> 0.10924584 | G12: =IF(Inputs!$B$20<G11," ",IF(Inputs!$B$34="Yes",IF(G11<(Inputs!$B$20/2),$D$7,$D$22+(($D$7-$D$22)/(Inputs!$B$20/2))*(Inputs!$B$20-G11)),$D$7)) -> 0.10924584 | H12: =IF(Inputs!$B$20<H11," ",IF(Inputs!$B$34="Yes",IF(H11<(Inputs!$B$20/2),$D$7,$D$22+(($D$7-$D$22)/(Inputs!$B$20/2))*(Inputs!$B$20-H11)),$D$7)) -> 0.096396674 | I12: =IF(Inputs!$B$20<I11," ",IF(Inputs!$B$34="Yes",IF(I11<(Inputs!$B$20/2),$D$7,$D$22+(($D$7-$D$22)/(Inputs!$B$20/2))*(Inputs!$B$20-I11)),$D$7)) -> 0.083547506 | J12: =IF(Inputs!$B$20<J11," ",IF(Inputs!$B$34="Yes",IF(J11<(Inputs!$B$20/2),$D$7,$D$22+(($D$7-$D$22)/(Inputs!$B$20/2))*(Inputs!$B$20-J11)),$D$7)) -> 0.070698337 | ... Q12: =IF(Inputs!$B$20<Q11," ",IF(Inputs!$B$34="Yes",IF(Q11<(Inputs!$B$20/2),$D$7,$D$22+(($D$7-$D$22)/(Inputs!$B$20/2))*(Inputs!$B$20-Q11)),$D$7))
B13: Return on equity | C13: =IF(Inputs!$B$20<C11," ",IF(Inputs!$B$34="Yes",IF(C11<(Inputs!$B$20/2),$D$4,$D$21+(($D$4-$D$21)/(Inputs!$B$20/2))*(Inputs!$B$20-C11)),$D$4)) -> 0.15 | D13: =IF(Inputs!$B$20<D11," ",IF(Inputs!$B$34="Yes",IF(D11<(Inputs!$B$20/2),$D$4,$D$21+(($D$4-$D$21)/(Inputs!$B$20/2))*(Inputs!$B$20-D11)),$D$4)) -> 0.15 | E13: =IF(Inputs!$B$20<E11," ",IF(Inputs!$B$34="Yes",IF(E11<(Inputs!$B$20/2),$D$4,$D$21+(($D$4-$D$21)/(Inputs!$B$20/2))*(Inputs!$B$20-E11)),$D$4)) -> 0.15 | F13: =IF(Inputs!$B$20<F11," ",IF(Inputs!$B$34="Yes",IF(F11<(Inputs!$B$20/2),$D$4,$D$21+(($D$4-$D$21)/(Inputs!$B$20/2))*(Inputs!$B$20-F11)),$D$4)) -> 0.15 | G13: =IF(Inputs!$B$20<G11," ",IF(Inputs!$B$34="Yes",IF(G11<(Inputs!$B$20/2),$D$4,$D$21+(($D$4-$D$21)/(Inputs!$B$20/2))*(Inputs!$B$20-G11)),$D$4)) -> 0.15 | H13: =IF(Inputs!$B$20<H11," ",IF(Inputs!$B$34="Yes",IF(H11<(Inputs!$B$20/2),$D$4,$D$21+(($D$4-$D$21)/(Inputs!$B$20/2))*(Inputs!$B$20-H11)),$D$4)) -> 0.144 | I13: =IF(Inputs!$B$20<I11," ",IF(Inputs!$B$34="Yes",IF(I11<(Inputs!$B$20/2),$D$4,$D$21+(($D$4-$D$21)/(Inputs!$B$20/2))*(Inputs!$B$20-I11)),$D$4)) -> 0.138 | J13: =IF(Inputs!$B$20<J11," ",IF(Inputs!$B$34="Yes",IF(J11<(Inputs!$B$20/2),$D$4,$D$21+(($D$4-$D$21)/(Inputs!$B$20/2))*(Inputs!$B$20-J11)),$D$4)) -> 0.132 | ... Q13: =IF(Inputs!$B$20<Q11," ",IF(Inputs!$B$34="Yes",IF(Q11<(Inputs!$B$20/2),$D$4,$D$21+(($D$4-$D$21)/(Inputs!$B$20/2))*(Inputs!$B$20-Q11)),$D$4))
B14: Earnings per share | C14: =D5 -> 49552 | D14: =IF(Inputs!$B$20<D11," ",C14*(1+D12)) -> 54965.35 | E14: =IF(Inputs!$B$20<E11," ",D14*(1+E12)) -> 60970.086 | F14: =IF(Inputs!$B$20<F11," ",E14*(1+F12)) -> 67630.814 | G14: =IF(Inputs!$B$20<G11," ",F14*(1+G12)) -> 75019.2 | H14: =IF(Inputs!$B$20<H11," ",G14*(1+H12)) -> 82250.801 | I14: =IF(Inputs!$B$20<I11," ",H14*(1+I12)) -> 89122.65 | J14: =IF(Inputs!$B$20<J11," ",I14*(1+J12)) -> 95423.474 | K14: =IF(Inputs!$B$20<K11," ",J14*(1+K12)) -> 100943.64 | ... Q14: =IF(Inputs!$B$20<Q11," ",P14*(1+Q12))
B15: Payout ratio | C15: =IF(Inputs!$B$20<C11," ",IF(Inputs!$B$34="Yes",IF(C11<(Inputs!$B$20/2),$D$8,$D$23+(($D$8-$D$23)/(Inputs!$B$20/2))*(Inputs!$B$20-C11)),$D$8)) -> 0.27169438 | D15: =IF(Inputs!$B$20<D11," ",IF(Inputs!$B$34="Yes",IF(D11<(Inputs!$B$20/2),$D$8,$D$23+(($D$8-$D$23)/(Inputs!$B$20/2))*(Inputs!$B$20-D11)),$D$8)) -> 0.27169438 | E15: =IF(Inputs!$B$20<E11," ",IF(Inputs!$B$34="Yes",IF(E11<(Inputs!$B$20/2),$D$8,$D$23+(($D$8-$D$23)/(Inputs!$B$20/2))*(Inputs!$B$20-E11)),$D$8)) -> 0.27169438 | F15: =IF(Inputs!$B$20<F11," ",IF(Inputs!$B$34="Yes",IF(F11<(Inputs!$B$20/2),$D$8,$D$23+(($D$8-$D$23)/(Inputs!$B$20/2))*(Inputs!$B$20-F11)),$D$8)) -> 0.27169438 | G15: =IF(Inputs!$B$20<G11," ",IF(Inputs!$B$34="Yes",IF(G11<(Inputs!$B$20/2),$D$8,$D$23+(($D$8-$D$23)/(Inputs!$B$20/2))*(Inputs!$B$20-G11)),$D$8)) -> 0.27169438 | H15: =IF(Inputs!$B$20<H11," ",IF(Inputs!$B$34="Yes",IF(H11<(Inputs!$B$20/2),$D$8,$D$23+(($D$8-$D$23)/(Inputs!$B$20/2))*(Inputs!$B$20-H11)),$D$8)) -> 0.34235551 | I15: =IF(Inputs!$B$20<I11," ",IF(Inputs!$B$34="Yes",IF(I11<(Inputs!$B$20/2),$D$8,$D$23+(($D$8-$D$23)/(Inputs!$B$20/2))*(Inputs!$B$20-I11)),$D$8)) -> 0.41301663 | J15: =IF(Inputs!$B$20<J11," ",IF(Inputs!$B$34="Yes",IF(J11<(Inputs!$B$20/2),$D$8,$D$23+(($D$8-$D$23)/(Inputs!$B$20/2))*(Inputs!$B$20-J11)),$D$8)) -> 0.48367775 | ... Q15: =IF(Inputs!$B$20<Q11," ",IF(Inputs!$B$34="Yes",IF(Q11<(Inputs!$B$20/2),$D$8,$D$23+(($D$8-$D$23)/(Inputs!$B$20/2))*(Inputs!$B$20-Q11)),$D$8))
B16: Dividends per share | C16: =IF(Inputs!$B$20<C11," ",C14*C15) -> 13463 | D16: =IF(Inputs!$B$20<D11," ",D14*D15) -> 14933.777 | E16: =IF(Inputs!$B$20<E11," ",E14*E15) -> 16565.23 | F16: =IF(Inputs!$B$20<F11," ",F14*F15) -> 18374.912 | G16: =IF(Inputs!$B$20<G11," ",G14*G15) -> 20382.295 | H16: =IF(Inputs!$B$20<H11," ",H14*H15) -> 28159.015 | I16: =IF(Inputs!$B$20<I11," ",I14*I15) -> 36809.137 | J16: =IF(Inputs!$B$20<J11," ",J14*J15) -> 46154.211 | ... Q16: =IF(Inputs!$B$20<Q11," ",Q14*Q15)
B17: Cost of Equity | C17: =IF(Inputs!$B$20<C11," ",IF(Inputs!$B$34="Yes",IF(C11<(Inputs!$B$20/2),$D$3,$D$24+(($D$3-$D$24)/(Inputs!$B$20/2))*(Inputs!$B$20-C11)),$D$3)) -> 0.098958037 | D17: =IF(Inputs!$B$20<D11," ",IF(Inputs!$B$34="Yes",IF(D11<(Inputs!$B$20/2),$D$3,$D$24+(($D$3-$D$24)/(Inputs!$B$20/2))*(Inputs!$B$20-D11)),$D$3)) -> 0.098958037 | E17: =IF(Inputs!$B$20<E11," ",IF(Inputs!$B$34="Yes",IF(E11<(Inputs!$B$20/2),$D$3,$D$24+(($D$3-$D$24)/(Inputs!$B$20/2))*(Inputs!$B$20-E11)),$D$3)) -> 0.098958037 | F17: =IF(Inputs!$B$20<F11," ",IF(Inputs!$B$34="Yes",IF(F11<(Inputs!$B$20/2),$D$3,$D$24+(($D$3-$D$24)/(Inputs!$B$20/2))*(Inputs!$B$20-F11)),$D$3)) -> 0.098958037 | G17: =IF(Inputs!$B$20<G11," ",IF(Inputs!$B$34="Yes",IF(G11<(Inputs!$B$20/2),$D$3,$D$24+(($D$3-$D$24)/(Inputs!$B$20/2))*(Inputs!$B$20-G11)),$D$3)) -> 0.098958037 | H17: =IF(Inputs!$B$20<H11," ",IF(Inputs!$B$34="Yes",IF(H11<(Inputs!$B$20/2),$D$3,$D$24+(($D$3-$D$24)/(Inputs!$B$20/2))*(Inputs!$B$20-H11)),$D$3)) -> 0.098958037 | I17: =IF(Inputs!$B$20<I11," ",IF(Inputs!$B$34="Yes",IF(I11<(Inputs!$B$20/2),$D$3,$D$24+(($D$3-$D$24)/(Inputs!$B$20/2))*(Inputs!$B$20-I11)),$D$3)) -> 0.098958037 | J17: =IF(Inputs!$B$20<J11," ",IF(Inputs!$B$34="Yes",IF(J11<(Inputs!$B$20/2),$D$3,$D$24+(($D$3-$D$24)/(Inputs!$B$20/2))*(Inputs!$B$20-J11)),$D$3)) -> 0.098958037 | ... Q17: =IF(Inputs!$B$20<Q11," ",IF(Inputs!$B$34="Yes",IF(Q11<(Inputs!$B$20/2),$D$3,$D$24+(($D$3-$D$24)/(Inputs!$B$20/2))*(Inputs!$B$20-Q11)),$D$3))
B18: Cumulative Cost of Equity | C18: =IF(Inputs!$B$20<C11," ",(1+C17)) -> 1.098958 | D18: =IF(Inputs!$B$20<D11," ",(1+C17)*(1+D17)) -> 1.2077088 | E18: =IF(Inputs!$B$20<E11," ",(1+C17)*(1+D17)*(1+E17)) -> 1.3272213 | F18: =IF(Inputs!$B$20<F11," ",(1+C17)*(1+D17)*(1+E17)*(1+F17)) -> 1.4585605 | G18: =IF(Inputs!$B$20<G11," ",(1+C17)*(1+D17)*(1+E17)*(1+F17)*(1+G17)) -> 1.6028967 | H18: =IF(Inputs!$B$20<H11," ",(1+C17)*(1+D17)*(1+E17)*(1+F17)*(1+G17)*(1+H17)) -> 1.7615163 | I18: =IF(Inputs!$B$20<I11," ",(1+C17)*(1+D17)*(1+E17)*(1+F17)*(1+G17)*(1+H17)*(1+I17)) -> 1.9358325 | J18: =IF(Inputs!$B$20<J11," ",(1+C17)*(1+D17)*(1+E17)*(1+F17)*(1+G17)*(1+H17)*(1+I17)*(1+J17)) -> 2.1273986 | K18: =IF(Inputs!$B$20<K11," ",(1+C17)*(1+D17)*(1+E17)*(1+F17)*(1+G17)*(1+H17)*(1+I17)*(1+J17)*(1+K17)) -> 2.3379218 | L18: =IF(Inputs!$B$20<L11," ",(1+C17)*(1+D17)*(1+E17)*(1+F17)*(1+G17)*(1+H17)*(1+I17)*(1+J17)*(1+K17)*(1+L17)) -> 2.569278 | M18: =IF(Inputs!$B$20<M11," ",(1+C17)*(1+D17)*(1+E17)*(1+F17)*(1+G17)*(1+H17)*(1+I17)*(1+J17)*(1+K17)*(1+L17)*(1+M17)) | N18: =IF(Inputs!$B$20<N11," ",(1+C17)*(1+D17)*(1+E17)*(1+F17)*(1+G17)*(1+H17)*(1+I17)*(1+J17)*(1+K17)*(1+L17)*(1+M17)*(1+N17)) | O18: =IF(Inputs!$B$20<O11," ",(1+C17)*(1+D17)*(1+E17)*(1+F17)*(1+G17)*(1+H17)*(1+I17)*(1+J17)*(1+K17)*(1+L17)*(1+M17)*(1+N17)*(1+O17)) | P18: =IF(Inputs!$B$20<P11," ",(1+C17)*(1+D17)*(1+E17)*(1+F17)*(1+G17)*(1+H17)*(1+I17)*(1+J17)*(1+K17)*(1+L17)*(1+M17)*(1+N17)*(1+O17)*(1+P17)) | Q18: =IF(Inputs!$B$20<Q11," ",(1+C17)*(1+D17)*(1+E17)*(1+F17)*(1+G17)*(1+H17)*(1+I17)*(1+J17)*(1+K17)*(1+L17)*(1+M17)*(1+N17)*(1+O17)*(1+P17)*(1+Q17))
B19: Present Value | C19: =IF(Inputs!$B$20<C11," ",C16/C18) -> 12250.695 | D19: =IF(Inputs!$B$20<D11," ",D16/D18) -> 12365.379 | E19: =IF(Inputs!$B$20<E11," ",E16/E18) -> 12481.137 | F19: =IF(Inputs!$B$20<F11," ",F16/F18) -> 12597.978 | G19: =IF(Inputs!$B$20<G11," ",G16/G18) -> 12715.913 | H19: =IF(Inputs!$B$20<H11," ",H16/H18) -> 15985.668 | I19: =IF(Inputs!$B$20<I11," ",I16/I18) -> 19014.629 | J19: =IF(Inputs!$B$20<J11," ",J16/J18) -> 21695.14 | ... Q19: =IF(Inputs!$B$20<Q11," ",Q16/Q18)
B21: Return on equity in Stable Phase = | D21: =IF(Inputs!B31="No",'Valuation Output'!D4,Inputs!B33) -> 0.12
B22: Growth Rate in Stable Phase = | D22: =IF(Inputs!B38="Yes",Inputs!B39,Inputs!B16) -> 0.045
B23: Payout Ratio in Stable Phase = | D23: =IF(Inputs!B42="No",Inputs!B41,Inputs!B43) -> 0.625
B24: Cost of Equity in Stable Phase = | D24: =IF(Inputs!B45="No",Inputs!B16+Inputs!B15*Inputs!B17,Inputs!B16+Inputs!B46*Inputs!B17) -> 0.098958037
B25: Value at the end of growth phase = | D25: =IF(Inputs!B20=0,D6*D23*(1+D22)/(D24-D22),MAX(C14:Q14)*(1+D22)*D23/(D24-D22)) -> 1276836.9
B27: Present Value of dividends in high growth phase = | E27: =SUM(C19:Q19) -> 168701.48
B28: Present Value of Terminal Price = | E28: =IF(Inputs!B20=0,'Valuation Output'!D25,D25/MAX(C18:Q18)) -> 496963.31
B29: Value of equity = | E29: =E27+E28 -> 665664.79
B30: Number of shares outstanding | E30: =Inputs!B11 -> 2908.3
B31: Value per share = | E31: =E29/E30 -> 228.8845
B32: Price per share = | E32: =Inputs!B12 -> 198.06
B34: Estimating the value of growth
B35: Value of assets in place = | D35: =D6/D24 -> 172.17533
B36: Value of stable growth = | D36: =D6*D23*(1+D22)/(D24-D22)-D35 -> 34.059569
B37: Value of extraordinary growth = | D37: =E31-D36-D35 -> 22.649607
B38: Value of the stock = | D38: =SUM(D35:D37) -> 228.8845

Sheet Stories to Numbers
A1: =Inputs!B3 -> JP Morgan Chase | G1: =Inputs!B4 -> 43973
A2: =Inputs!B5 -> Dimon in the Rough
A3: JP Morgan, the largest bank in the world, also happens to be one of the best regarded. With a large and very sticky deposit base, and a client list that includes almost every corporate heavyweight, JPM will continue to deliver supeiror returns on equity, aided by the the stresses on smaller banks. Its size will make it difficult to deliver high growth, but it will manage to
A7: The Assumptions
B8: Base year | C8: Growth Period - !st Half | E8: 2nd half | F8: Stable Growth | G8: Link to story
A9: Net Income | B9: ='Valuation Output'!D6 -> 17.038132 | C9: ='Valuation Output'!C12 -> 0.10924584 | E9: Moves to | F9: ='Valuation Output'!Q12 | G9: Gain market share at expense of smaller banks, but size acts as a limiting factor.
A10: Dividend Payout Ratio | B10: ='Valuation Output'!C15 -> 0.27169438 | C10: ='Valuation Output'!C15 -> 0.27169438 | E10: Moves to | F10: ='Valuation Output'!D23 -> 0.625 | G10: Payout ratio a function of growth and ROE
A11: Return on Equity | B11: =Inputs!B25 -> 0.1695059 | C11: =Inputs!B29 -> 0.15 | E11: Moves to | F11: {=IF(Inputs!B31="Yes",Inputs!B33,'Stories to Numbers'!C11:D11)} -> 0.12 | G11: Significant competitive advantages and superior management team.
A12: Cost of equity | B12: ='Valuation Output'!C17 -> 0.098958037 | C12: Moves to | F12: ='Valuation Output'!D24 -> 0.098958037 | G12: Median cost of equity for large banks
A13: The Cash Flows
B14: Net Income | C14: Expected Growth | D14: Payout Ratio | E14: Dividends | F14: Cumulated Cost of Equity | G14: PV of Dividends
A15: 1 | B15: ='Valuation Output'!C14 -> 49552 | C15: ='Valuation Output'!C12 -> 0.10924584 | D15: ='Valuation Output'!C15 -> 0.27169438 | E15: ='Valuation Output'!C16 -> 13463 | F15: ='Valuation Output'!C18 -> 1.098958 | G15: ='Valuation Output'!C19 -> 12250.695
A16: 2 | B16: ='Valuation Output'!D14 -> 54965.35 | C16: ='Valuation Output'!D12 -> 0.10924584 | D16: ='Valuation Output'!D15 -> 0.27169438 | E16: ='Valuation Output'!D16 -> 14933.777 | F16: ='Valuation Output'!D18 -> 1.2077088 | G16: ='Valuation Output'!D19 -> 12365.379
A17: 3 | B17: ='Valuation Output'!E14 -> 60970.086 | C17: ='Valuation Output'!E12 -> 0.10924584 | D17: ='Valuation Output'!E15 -> 0.27169438 | E17: ='Valuation Output'!E16 -> 16565.23 | F17: ='Valuation Output'!E18 -> 1.3272213 | G17: ='Valuation Output'!E19 -> 12481.137
A18: 4 | B18: ='Valuation Output'!F14 -> 67630.814 | C18: ='Valuation Output'!F12 -> 0.10924584 | D18: ='Valuation Output'!F15 -> 0.27169438 | E18: ='Valuation Output'!F16 -> 18374.912 | F18: ='Valuation Output'!F18 -> 1.4585605 | G18: ='Valuation Output'!F19 -> 12597.978
A19: 5 | B19: ='Valuation Output'!G14 -> 75019.2 | C19: ='Valuation Output'!G12 -> 0.10924584 | D19: ='Valuation Output'!G15 -> 0.27169438 | E19: ='Valuation Output'!G16 -> 20382.295 | F19: ='Valuation Output'!G18 -> 1.6028967 | G19: ='Valuation Output'!G19 -> 12715.913
A20: 6 | B20: ='Valuation Output'!H14 -> 82250.801 | C20: ='Valuation Output'!H12 -> 0.096396674 | D20: ='Valuation Output'!H15 -> 0.34235551 | E20: ='Valuation Output'!H16 -> 28159.015 | F20: ='Valuation Output'!H18 -> 1.7615163 | G20: ='Valuation Output'!H19 -> 15985.668
A21: 7 | B21: ='Valuation Output'!I14 -> 89122.65 | C21: ='Valuation Output'!I12 -> 0.083547506 | D21: ='Valuation Output'!I15 -> 0.41301663 | E21: ='Valuation Output'!I16 -> 36809.137 | F21: ='Valuation Output'!I18 -> 1.9358325 | G21: ='Valuation Output'!I19 -> 19014.629
A22: 8 | B22: ='Valuation Output'!J14 -> 95423.474 | C22: ='Valuation Output'!J12 -> 0.070698337 | D22: ='Valuation Output'!J15 -> 0.48367775 | E22: ='Valuation Output'!J16 -> 46154.211 | F22: ='Valuation Output'!J18 -> 2.1273986 | G22: ='Valuation Output'!J19 -> 21695.14
A23: 9 | B23: ='Valuation Output'!K14 -> 100943.64 | C23: ='Valuation Output'!K12 -> 0.057849169 | D23: ='Valuation Output'!K15 -> 0.55433888 | E23: ='Valuation Output'!K16 -> 55956.985 | F23: ='Valuation Output'!K18 -> 2.3379218 | G23: ='Valuation Output'!K19 -> 23934.498
A24: 10 | B24: ='Valuation Output'!L14 -> 105486.11 | C24: ='Valuation Output'!L12 -> 0.045 | D24: ='Valuation Output'!L15 -> 0.625 | E24: ='Valuation Output'!L16 -> 65928.816 | F24: ='Valuation Output'!L18 -> 2.569278 | G24: ='Valuation Output'!L19 -> 25660.445
A25: 11 | B25: ='Valuation Output'!M14 | C25: ='Valuation Output'!M12 | D25: ='Valuation Output'!M15 | E25: ='Valuation Output'!M16 | F25: ='Valuation Output'!M18 | G25: ='Valuation Output'!M19
A26: 12 | B26: ='Valuation Output'!N14 | C26: ='Valuation Output'!N12 | D26: ='Valuation Output'!N15 | E26: ='Valuation Output'!N16 | F26: ='Valuation Output'!N18 | G26: ='Valuation Output'!N19
A27: 13 | B27: ='Valuation Output'!O14 | C27: ='Valuation Output'!O12 | D27: ='Valuation Output'!O15 | E27: ='Valuation Output'!O16 | F27: ='Valuation Output'!O18 | G27: ='Valuation Output'!O19
A28: 14 | B28: ='Valuation Output'!P14 | C28: ='Valuation Output'!P12 | D28: ='Valuation Output'!P15 | E28: ='Valuation Output'!P16 | F28: ='Valuation Output'!P18 | G28: ='Valuation Output'!P19
A29: 15 | B29: ='Valuation Output'!Q14 | C29: ='Valuation Output'!Q12 | D29: ='Valuation Output'!Q15 | E29: ='Valuation Output'!Q16 | F29: ='Valuation Output'!Q18 | G29: ='Valuation Output'!Q19
A30: Terminal year | B30: =MAX('Valuation Output'!C14:Q14)*(1+'Valuation Output'!D22) -> 110232.98 | C30: ='Valuation Output'!D22 -> 0.045 | D30: ='Valuation Output'!D23 -> 0.625 | E30: =B30*D30 -> 68895.613
A31: The Value
A32: Expected dividends in terminal year | D32: =E30 -> 68895.613
A33: Expected growth rate in perpetuity | D33: =C30 -> 0.045
A34: Cost of equity in perpetuity | D34: ='Valuation Output'!D24 -> 0.098958037
A35: Terminal value per shae | D35: =D32/(D34-D33) -> 1276836.9
A36: PV of terminal value = | D36: ='Valuation Output'!E28 -> 496963.31
A37: PV of dividends during high growth = | D37: ='Valuation Output'!E27 -> 168701.48
A38: Value of equity | D38: =D36+D37 -> 665664.79
A39: Number of shares outstanding = | D39: =Inputs!B11 -> 2908.3 | E39: Stock was trading at = | G39: ='Valuation Output'!E32 -> 198.06
A40: Value per share = | D40: =D38/D39 -> 228.8845 | E40: % Under or Over Valued | G40: =G39/D40-1 -> -0.13467273

Sheet US Industry averages
A1: Industry Name | B1: Number of firms | C1: Annual Average Revenue growth - Last 5 years | D1: Pre-tax Operating Margin (Unadjusted) | E1: After-tax ROC | F1: Average effective tax rate | G1: Unlevered Beta | H1: Equity (Levered) Beta | I1: Cost of equity | J1: Std deviation in stock prices | K1: Pre-tax cost of debt | L1: Market Debt/Capital | M1: Cost of capital | N1: Sales/Capital | O1: EV/Sales | P1: EV/EBITDA | Q1: EV/EBIT | R1: Price/Book | S1: Trailing PE | T1: Non-cash WC as % of Revenues | U1: Cap Ex as % of Revenues | V1: Net Cap Ex as % of Revenues | W1: Reinvestment Rate | X1: ROE | Y1: Dividend Payout Ratio | Z1: Equity Reinvestment Rate | AA1: Pre-tax Operating Margin (Lease & R&D adjusted)
A2: Advertising | B2: 57 | C2: 0.115684 | D2: 0.096130213 | E2: 0.31515111 | F2: 0.20554353 | G2: 1.1806104 | H2: 1.3723256 | I2: 0.10192698 | J2: 0.56414425 | K2: 0.053524 | L2: 0.25241808 | M2: 0.086331585 | N2: 3.283403 | O2: 2.2595129 | P2: 12.940313 | Q2: 22.238594 | R2: 5.7632981 | S2: 175.7347 | T2: 0.012534141 | U2: 0.018346747 | V2: -0.016886086 | W2: -0.00993406 | X2: 0.032541006 | Y2: 2.8284446 | Z2: 2.8284446 | AA2: 0.10140072
A3: Aerospace/Defense | B3: 70 | C3: 0.075882564 | D3: 0.085393847 | E3: 0.16167718 | F3: 0.15449878 | G3: 0.93085354 | H3: 1.076405 | I3: 0.088314631 | J3: 0.3640215 | K3: 0.050855 | L3: 0.20291778 | M3: 0.07813356 | N3: 1.9843396 | O3: 2.4783142 | P3: 18.488712 | Q3: 28.310279 | R3: 5.0771569 | S3: 32.517251 | T3: 0.45042764 | U3: 0.028342847 | V3: 0.022829232 | W3: 0.39247743 | X3: 0.13191484 | Y3: 0.53694697 | Z3: 0.53694697 | AA3: 0.087701154
A4: Air Transport | B4: 25 | C4: 0.029028333 | D4: 0.068956115 | E4: 0.10923252 | F4: 0.23528768 | G4: 0.64018805 | H4: 1.2668402 | I4: 0.097074648 | J4: 0.44650999 | K4: 0.050855 | L4: 0.61854039 | M4: 0.060621961 | N4: 1.77732 | O4: 0.9057918 | P4: 6.1674965 | Q4: 13.024538 | R4: 2.235942 | S4: 12.658954 | T4: 0.010944385 | U4: 0.11159926 | V4: 0.067202755 | W4: 1.1858967 | X4: 0.21936354 | Y4: 0.078632719 | Z4: 0.078632719 | AA4: 0.067227109
A5: Apparel | B5: 38 | C5: 0.057186 | D5: 0.087577812 | E5: 0.15293488 | F5: 0.32165919 | G5: 0.92957565 | H5: 1.1946999 | I5: 0.093756194 | J5: 0.3703551 | K5: 0.050855 | L5: 0.3277875 | M5: 0.075526311 | N5: 1.7730762 | O5: 1.2013804 | P5: 7.9181162 | Q5: 12.388401 | R5: 2.5581526 | S5: 18.688545 | T5: 0.24650262 | U5: 0.02417273 | V5: 0.0053650839 | W5: -0.072858763 | X5: 0.092041716 | Y5: 0.74982998 | Z5: 0.74982998 | AA5: 0.096042065
A6: Auto & Truck | B6: 34 | C6: 0.21942111 | D6: 0.04819732 | E6: 0.051866325 | F6: 0.13206978 | G6: 1.3040309 | H6: 1.5223779 | I6: 0.10882938 | J6: 0.59698514 | K6: 0.053524 | L6: 0.23675434 | M6: 0.092567584 | N6: 1.0487317 | O6: 2.4924482 | P6: 21.649291 | Q6: 49.578166 | R6: 4.5988812 | S6: 21.120153 | T6: -0.021993841 | U6: 0.064092755 | V6: 0.026576673 | W6: 0.81471032 | X6: 0.093709081 | Y6: 0.35459225 | Z6: 0.35459225 | AA6: 0.050979542
A7: Auto Parts | B7: 39 | C7: 0.062846957 | D7: 0.053068985 | E7: 0.10156047 | F7: 0.2795041 | G7: 1.1211039 | H7: 1.3444266 | I7: 0.10064362 | J7: 0.37071964 | K7: 0.050855 | L7: 0.27766272 | M7: 0.083289044 | N7: 2.004791 | O7: 0.81660916 | P7: 7.055527 | Q7: 14.116436 | R7: 1.9975303 | S7: 39.033425 | T7: 0.15450925 | U7: 0.037078148 | V7: 0.031693604 | W7: 0.95183325 | X7: 0.057236137 | Y7: 0.45365553 | Z7: 0.45365553 | AA7: 0.058520549
A8: Bank (Money Center) | B8: 15 | C8: 0.072753846 | D8: 0 | E8: 0.00017809966 | F8: 0.15860164 | G8: 0.64400512 | H8: 1.0613762 | I8: 0.087623304 | J8: 0.22510527 | K8: 0.045043 | L8: 0.68370661 | M8: 0.05081182 | N8: 0.266457 | O8: 5.2658799 | P8: NA | Q8: NA | R8: 1.0492602 | S8: 8.5473587 | T8: NA | U8: 0.019731137 | V8: 0.012953142 | W8: 55.728776 | X8: 0.14874035 | Y8: 0.2433797 | Z8: 0.2433797 | AA8: 0.00081200893
A9: Banks (Regional) | B9: 625 | C9: 0.092156242 | D9: 3.6415349e-08 | E9: -0.00053374958 | F9: 0.20724129 | G9: 0.33336661 | H9: 0.46115813 | I9: 0.060013274 | J9: 0.18677353 | K9: 0.045043 | L9: 0.50481829 | M9: 0.046771373 | N9: 0.36719246 | O9: 4.4737565 | P9: NA | Q9: NA | R9: 1.0188589 | S9: 35.966292 | T9: NA | U9: 0.02733682 | V9: -0.10087905 | W9: NA | X9: 0.12142592 | Y9: 0.32014618 | Z9: 0.32014618 | AA9: -0.0017660881
A10: Beverage (Alcoholic) | B10: 19 | C10: 0.12062222 | D10: 0.20626606 | E10: 0.16670847 | F10: 0.25595532 | G10: 0.97026335 | H10: 1.1318349 | I10: 0.090864406 | J10: 0.4970414 | K10: 0.050855 | L10: 0.19656022 | M10: 0.080501131 | N10: 0.89682312 | O10: 3.8916687 | P10: 14.84353 | Q10: 18.678841 | R10: 3.0993349 | S10: 35.375901 | T10: 0.17116248 | U10: 0.076631776 | V10: 0.093903058 | W10: 0.90812969 | X10: 0.086990898 | Y10: 0.54634665 | Z10: 0.54634665 | AA10: 0.20751043
A11: Beverage (Soft) | B11: 29 | C11: 0.28579077 | D11: 0.19303403 | E11: 0.3065163 | F11: 0.18728623 | G11: 0.70183335 | H11: 0.76414588 | I11: 0.07395071 | J11: 0.42961071 | K11: 0.050855 | L11: 0.14615788 | M11: 0.068716876 | N11: 1.6931991 | O11: 4.1646256 | P11: 18.067517 | Q11: 21.467254 | R11: 7.4226028 | S11: 33.673065 | T11: -0.071416169 | U11: 0.046538313 | V11: 0.023869928 | W11: 0.25676456 | X11: 0.30557354 | Y11: 0.66389669 | Z11: 0.66389669 | AA11: 0.19397268
A12: Broadcasting | B12: 22 | C12: 0.054847059 | D12: 0.11778498 | E12: 0.12063889 | F12: 0.2627115 | G12: 0.49975667 | H12: 1.0609244 | I12: 0.087602522 | J12: 0.38457134 | K12: 0.050855 | L12: 0.63820799 | M12: 0.056035943 | N12: 1.1159894 | O12: 1.253302 | P12: 7.3098296 | Q12: 10.673058 | R12: 0.80101351 | S12: 7.8167812 | T12: 0.10922957 | U12: 0.025150013 | V12: -0.020612152 | W12: 2.1143669 | X12: -0.021565149 | Y12: 0.002195876 | Z12: 0.002195876 | AA12: 0.11731512
A13: Brokerage & Investment Banking | B13: 27 | C13: 0.12787474 | D13: 0.0077058531 | E13: 0.0013074469 | F13: 0.21046665 | G13: 0.55077822 | H13: 1.1203262 | I13: 0.090335005 | J13: 0.25213732 | K13: 0.050855 | L13: 0.69330766 | M13: 0.054148675 | N13: 0.27949922 | O13: 5.6097535 | P13: NA | Q13: NA | R13: 1.6565413 | S13: 222.18515 | T13: NA | U13: 0.034125848 | V13: 0.016766163 | W13: 56.433656 | X13: 0.10413111 | Y13: 0.43525111 | Z13: 0.43525111 | AA13: 0.0057932474
A14: Building Materials | B14: 44 | C14: 0.064077647 | D14: 0.13549669 | E14: 0.25267057 | F14: 0.24749104 | G14: 1.2090472 | H14: 1.3177985 | I14: 0.099418732 | J14: 0.2871588 | K14: 0.050855 | L14: 0.15361123 | M14: 0.090005823 | N14: 2.2882187 | O14: 2.1109365 | P14: 12.010469 | Q14: 15.394244 | R14: 4.7352003 | S14: 24.847889 | T14: 0.18356211 | U14: 0.032512734 | V14: 0.024513126 | W14: -0.0076166545 | X14: 0.21354651 | Y14: 0.29019406 | Z14: 0.29019406 | AA14: 0.13773259
A15: Business & Consumer Services | B15: 162 | C15: 0.06692427 | D15: 0.11098788 | E15: 0.2745236 | F15: 0.24242513 | G15: 0.92964266 | H15: 1.0221017 | I15: 0.085816679 | J15: 0.41290055 | K15: 0.050855 | L15: 0.15210607 | M15: 0.078564957 | N15: 2.7218927 | O15: 2.6819988 | P15: 16.123378 | Q15: 23.49344 | R15: 5.5355121 | S15: 86.899382 | T15: 0.13484425 | U15: 0.029848449 | V15: 0.016940121 | W15: 0.25446821 | X15: 0.13997547 | Y15: 0.59783008 | Z15: 0.59783008 | AA15: 0.11307359
A16: Cable TV | B16: 10 | C16: 0.16231667 | D16: 0.19465082 | E16: 0.11311872 | F16: 0.25555177 | G16: 0.73562954 | H16: 1.2767983 | I16: 0.097532723 | J16: 0.33005304 | K16: 0.050855 | L16: 0.50426003 | M16: 0.067583977 | N16: 0.77672237 | O16: 2.5465854 | P16: 7.8008724 | Q16: 13.348956 | R16: 2.0630945 | S16: 16.12066 | T16: -0.00097741192 | U16: 0.14079354 | V16: 0.016512641 | W16: 0.15767367 | X16: 0.19466771 | Y16: 0.21927067 | Z16: 0.21927067 | AA16: 0.19087795
A17: Chemical (Basic) | B17: 32 | C17: 0.113161 | D17: 0.078809382 | E17: 0.11808932 | F17: 0.23971308 | G17: 0.87469078 | H17: 1.0962671 | I17: 0.089228286 | J17: 0.38924524 | K17: 0.050855 | L17: 0.31354658 | M17: 0.07321012 | N17: 1.6175128 | O17: 1.1499986 | P17: 8.0995323 | Q17: 14.056068 | R17: 1.9757813 | S17: 12.407994 | T17: 0.14739172 | U17: 0.055075324 | V17: 0.030793498 | W17: 0.173667 | X17: 0.088946042 | Y17: 1.3126657 | Z17: 1.3126657 | AA17: 0.080172536
A18: Chemical (Diversified) | B18: 4 | C18: -0.00755 | D18: 0.015232689 | E18: 0.015720853 | F18: 0.44293366 | G18: 0.81346086 | H18: 1.1332797 | I18: 0.090930868 | J18: 0.37242278 | K18: 0.050855 | L18: 0.41012862 | M18: 0.069280335 | N18: 1.2786447 | O18: 1.1597139 | P18: 15.396064 | Q18: 73.615159 | R18: 1.9746043 | S18: 30.52773 | T18: 0.17621389 | U18: 0.04511777 | V18: -0.0057903354 | W18: -5.5565142 | X18: -0.023605004 | Y18: 0.01037037 | Z18: 0.01037037 | AA18: 0.014639497
A19: Chemical (Specialty) | B19: 68 | C19: 0.07331875 | D19: 0.13090391 | E19: 0.13505276 | F19: 0.182667 | G19: 0.93813574 | H19: 1.0873833 | I19: 0.088819631 | J19: 0.36600539 | K19: 0.050855 | L19: 0.21148852 | M19: 0.078101735 | N19: 1.1573241 | O19: 2.6791416 | P19: 12.849678 | Q19: 19.995555 | R19: 2.6727607 | S19: 60.901134 | T19: 0.22747766 | U19: 0.084587825 | V19: 0.098115173 | W19: 1.0348497 | X19: 0.14943273 | Y19: 0.33249927 | Z19: 0.33249927 | AA19: 0.13047366
A20: Coal & Related Energy | B20: 18 | C20: 0.0556 | D20: 0.20509759 | E20: 0.29497551 | F20: 0.13126064 | G20: 1.242725 | H20: 1.2707581 | I20: 0.097254872 | J20: 0.5569226 | K20: 0.053524 | L20: 0.18396816 | M20: 0.086748106 | N20: 1.4739521 | O20: 1.3292639 | P20: 2.7528991 | Q20: 4.0368282 | R20: 1.790144 | S20: 91.912423 | T20: 0.061300783 | U20: 0.09304612 | V20: 0.01594012 | W20: 0.13283665 | X20: 0.29069216 | Y20: 0.15155666 | Z20: 0.15155666 | AA20: 0.20552884
A21: Computer Services | B21: 72 | C21: 0.10926474 | D21: 0.069781751 | E21: 0.24167411 | F21: 0.18859681 | G21: 0.85869751 | H21: 0.99732354 | I21: 0.084676883 | J21: 0.49612773 | K21: 0.050855 | L21: 0.22566036 | M21: 0.074175635 | N21: 3.5867521 | O21: 1.3742207 | P21: 12.610911 | Q21: 18.862943 | R21: 4.374578 | S21: 76.1322 | T21: 0.13853122 | U21: 0.01232575 | V21: 0.008234391 | W21: 0.23795589 | X21: 0.18772571 | Y21: 0.57072644 | Z21: 0.57072644 | AA21: 0.073034387
A22: Computers/Peripherals | B22: 36 | C22: 0.023118148 | D22: 0.210639 | E22: 0.37798197 | F22: 0.14611861 | G22: 1.1003544 | H22: 1.1329224 | I22: 0.090914429 | J22: 0.38898165 | K22: 0.050855 | L22: 0.057417447 | M22: 0.087884328 | N22: 1.9227871 | O22: 5.5117306 | P22: 21.831632 | Q22: 25.971419 | R22: 30.98288 | S22: 31.833391 | T22: -0.098693445 | U22: 0.03059766 | V22: 0.0090047013 | W22: 0.092441187 | X22: -1.234289e-05 | Y22: 0.17443899 | Z22: 0.17443899 | AA22: 0.21483117
A23: Construction Supplies | B23: 11 | C23: 0.093214286 | D23: 0.19042806 | E23: 0.16917185 | F23: 0.20587655 | G23: 0.85045702 | H23: 0.93781622 | I23: 0.081939546 | J23: 0.30297084 | K23: 0.050855 | L23: 0.13984163 | M23: 0.075814721 | N23: 1.0504345 | O23: 4.0960652 | P23: 14.937132 | Q23: 21.86743 | R23: 3.7678129 | S23: 63.097849 | T23: 0.22904316 | U23: 0.094668418 | V23: 0.034544526 | W23: 0.39648111 | X23: 0.17203971 | Y23: 0.1519331 | Z23: 0.1519331 | AA23: 0.18714102
A24: Diversified | B24: 23 | C24: 0.069406364 | D24: 0.22931749 | E24: 0.20395198 | F24: 0.17651836 | G24: 1.0923486 | H24: 1.1948544 | I24: 0.093763304 | J24: 0.52250503 | K24: 0.053524 | L24: 0.16074208 | M24: 0.085144265 | N24: 0.93313862 | O24: 2.4285334 | P24: 8.9346372 | Q24: 10.510497 | R24: 1.8732586 | S24: 13.800009 | T24: 0.050020771 | U24: 0.044830249 | V24: 0.04610103 | W24: 0.25080421 | X24: 0.15867711 | Y24: 0.081605407 | Z24: 0.081605407 | AA24: 0.23068357
A25: Drugs (Biotechnology) | B25: 572 | C25: 0.18950851 | D25: 0.010772126 | E25: 0.015551579 | F25: 0.16414119 | G25: 1.0890965 | H25: 1.1233547 | I25: 0.090474318 | J25: 0.61980948 | K25: 0.053524 | L25: 0.14082268 | M25: 0.083386527 | N25: 0.40681193 | O25: 6.888047 | P25: 13.519817 | Q25: NA | R25: 6.1352917 | S25: 30.391605 | T25: 0.099810417 | U25: 0.038231005 | V25: 0.03468872 | W25: NA | X25: -0.1159004 | Y25: 0.00088496674 | Z25: 0.00088496674 | AA25: 0.038302994
A26: Drugs (Pharmaceutical) | B26: 245 | C26: 0.41537667 | D26: 0.18160472 | E26: 0.13375271 | F26: 0.14924679 | G26: 0.94399769 | H26: 1.026962 | I26: 0.08604025 | J26: 0.65303414 | K26: 0.060879 | L26: 0.13828828 | M26: 0.080456031 | N26: 0.64296182 | O26: 5.0792398 | P26: 16.617974 | Q26: 27.42848 | R26: 5.1951083 | S26: 57.625877 | T26: 0.22369121 | U26: 0.053053464 | V26: 0.12973516 | W26: 0.85392632 | X26: 0.17320808 | Y26: 0.69958362 | Z26: 0.69958362 | AA26: 0.21327301
A27: Education | B27: 31 | C27: 0.041181875 | D27: 0.058152138 | E27: 0.059280308 | F27: 0.32156187 | G27: 1.1467394 | H27: 1.2251856 | I27: 0.095158535 | J27: 0.43781301 | K27: 0.050855 | L27: 0.1638311 | M27: 0.085817331 | N27: 1.2894169 | O27: 2.3038717 | P27: 10.798855 | Q27: 31.741208 | R27: 2.7160288 | S27: 34.57347 | T27: 0.090768336 | U27: 0.029240502 | V27: 0.0033245289 | W27: 0.9750398 | X27: 0.016746881 | Y27: 0.38078808 | Z27: 0.38078808 | AA27: 0.05162999
A28: Electrical Equipment | B28: 103 | C28: 0.1490783 | D28: 0.090010628 | E28: 0.13265964 | F28: 0.21670554 | G28: 1.1458435 | H28: 1.2410544 | I28: 0.095888501 | J28: 0.54423899 | K28: 0.053524 | L28: 0.17619595 | M28: 0.086066369 | N28: 1.4659763 | O28: 2.975718 | P28: 14.654555 | Q28: 28.892016 | R28: 2.923649 | S28: 24.688706 | T28: 0.28273149 | U28: 0.06163253 | V28: 0.098179239 | W28: 2.1463998 | X28: 0.23703236 | Y28: 0.17177866 | Z28: 0.17177866 | AA28: 0.095714676
A29: Electronics (Consumer & Office) | B29: 13 | C29: -0.06321 | D29: -0.00076434016 | E29: 0.0095426355 | F29: 0.69442344 | G29: 1.3029636 | H29: 1.2951788 | I29: 0.098378224 | J29: 0.39424155 | K29: 0.050855 | L29: 0.15486982 | M29: 0.089049334 | N29: 1.6732154 | O29: 0.84607344 | P29: 19.143942 | Q29: NA | R29: 1.903149 | S29: 38.632883 | T29: 0.15533543 | U29: 0.015568093 | V29: -0.0022079528 | W29: NA | X29: -0.066268001 | Y29: 0 | Z29: 0 | AA29: 0.0056724355
A30: Electronics (General) | B30: 129 | C30: 0.15823965 | D30: 0.094816606 | E30: 0.15114384 | F30: 0.22613288 | G30: 0.87720517 | H30: 0.9339546 | I30: 0.081761912 | J30: 0.42942644 | K30: 0.050855 | L30: 0.14673841 | M30: 0.075361085 | N30: 1.6768879 | O30: 2.1770119 | P30: 13.5896 | Q30: 22.109356 | R30: 3.2790177 | S30: 102.26028 | T30: 0.24013987 | U30: 0.040634673 | V30: 0.04116814 | W30: 0.70431641 | X30: 0.087976601 | Y30: 0.28526884 | Z30: 0.28526884 | AA30: 0.097970185
A31: Engineering/Construction | B31: 77 | C31: 0.065536667 | D31: 0.10360185 | E31: 0.18528356 | F31: 0.23687332 | G31: 0.92403959 | H31: 1.0580761 | I31: 0.087471502 | J31: 0.36589094 | K31: 0.050855 | L31: 0.21102554 | M31: 0.077061559 | N31: 2.0378501 | O31: 1.5719288 | P31: 11.036891 | Q31: 14.820564 | R31: 3.7460429 | S31: 36.142453 | T31: 0.18944889 | U31: 0.037420769 | V31: 0.028433402 | W31: 0.66623551 | X31: 0.21241763 | Y31: 0.2474936 | Z31: 0.2474936 | AA31: 0.10638181
A32: Entertainment | B32: 98 | C32: 0.15469138 | D32: 0.070067936 | E32: 0.075578912 | F32: 0.1999716 | G32: 0.86571919 | H32: 0.99455943 | I32: 0.084549734 | J32: 0.6118583 | K32: 0.053524 | L32: 0.22327359 | M32: 0.074634883 | N32: 1.1059341 | O32: 3.0674273 | P32: 16.372327 | Q32: 42.533399 | R32: 2.5929692 | S32: 31.168325 | T32: 0.038054347 | U32: 0.043745016 | V32: -0.022575917 | W32: -0.20650613 | X32: -0.0027275544 | Y32: 0.0034346523 | Z32: 0.0034346523 | AA32: 0.070525654
A33: Environmental & Waste Services | B33: 57 | C33: 0.13381231 | D33: 0.13553472 | E33: 0.29942484 | F33: 0.24029481 | G33: 0.7857302 | H33: 0.90699903 | I33: 0.080521956 | J33: 0.46066419 | K33: 0.050855 | L33: 0.17996903 | M33: 0.072894741 | N33: 2.2902045 | O33: 3.3833884 | P33: 15.000346 | Q33: 24.256339 | R33: 6.2476402 | S33: 31.275191 | T33: 0.10180592 | U33: 0.078381742 | V33: 0.064845914 | W33: 0.70099824 | X33: 0.21011635 | Y33: 0.36342219 | Z33: 0.36342219 | AA33: 0.13822317
A34: Farming/Agriculture | B34: 42 | C34: 0.2138381 | D34: 0.10178672 | E34: 0.17930588 | F34: 0.20906219 | G34: 0.76921334 | H34: 0.99162451 | I34: 0.084414727 | J34: 0.54139722 | K34: 0.053524 | L34: 0.31178335 | M34: 0.07061154 | N34: 1.8306605 | O34: 1.1055364 | P34: 8.9728446 | Q34: 10.56471 | R34: 2.7330368 | S34: 21.611875 | T34: 0.147225 | U34: 0.033959386 | V34: 0.02698979 | W34: 0.53012036 | X34: 0.27512097 | Y34: 0.17330467 | Z34: 0.17330467 | AA34: 0.10487455
A35: Financial Svcs. (Non-bank & Insurance) | B35: 192 | C35: 0.19123908 | D35: 0.15992934 | E35: 0.0096330086 | F35: 0.18997827 | G35: 0.3285147 | H35: 1.1400491 | I35: 0.091242258 | J35: 0.38102135 | K35: 0.050855 | L35: 0.77415085 | M35: 0.050134067 | N35: 0.06711915 | O35: 18.642987 | P35: 57.680539 | Q35: 77.494582 | R35: 3.3808152 | S35: 25.806044 | T35: 12.604429 | U35: 0.028409763 | V35: 0.027841238 | W35: 0.20105977 | X35: 0.21311644 | Y35: 0.31700384 | Z35: 0.31700384 | AA35: 0.16014177
A36: Food Processing | B36: 93 | C36: 0.064526667 | D36: 0.1049105 | E36: 0.16632788 | F36: 0.22335962 | G36: 0.56908998 | H36: 0.70750534 | I36: 0.071345245 | J36: 0.35521017 | K36: 0.050855 | L36: 0.26892857 | M36: 0.062415742 | N36: 1.7135539 | O36: 1.7282134 | P36: 11.437949 | Q36: 16.118698 | R36: 2.3044997 | S36: 30.031722 | T36: 0.077500137 | U36: 0.044694927 | V36: 0.033044851 | W36: 0.464556 | X36: 0.089774903 | Y36: 0.76422138 | Z36: 0.76422138 | AA36: 0.10671026
A37: Food Wholesalers | B37: 14 | C37: 0.18654 | D37: 0.022317778 | E37: 0.14961754 | F37: 0.244019 | G37: 0.73507045 | H37: 0.96571097 | I37: 0.083222705 | J37: 0.27303412 | K37: 0.050855 | L37: 0.30860321 | M37: 0.069310423 | N37: 8.019146 | O37: 0.4004885 | P37: 11.256367 | Q37: 18.051542 | R37: 4.102757 | S37: 26.104224 | T37: 0.057756763 | U37: 0.009305648 | V37: 0.0089900829 | W37: 0.47194526 | X37: 0.21114375 | Y37: 0.38161391 | Z37: 0.38161391 | AA37: 0.022183645
A38: Furn/Home Furnishings | B38: 31 | C38: 0.031330476 | D38: 0.058633421 | E38: 0.10314616 | F38: 0.34491478 | G38: 0.86118749 | H38: 1.1071062 | I38: 0.089726887 | J38: 0.4665248 | K38: 0.050855 | L38: 0.32226062 | M38: 0.073102868 | N38: 1.9608741 | O38: 1.0479459 | P38: 9.3651533 | Q38: 16.699225 | R38: 2.2525462 | S38: 19.580017 | T38: 0.1397377 | U38: 0.032449168 | V38: 0.072155188 | W38: 0.97314551 | X38: -0.065262791 | Y38: 0.0085617108 | Z38: 0.0085617108 | AA38: 0.061113859
A39: Green & Renewable Energy | B39: 17 | C39: 0.03735 | D39: 0.23439692 | E39: 0.041502731 | F39: 0.070572558 | G39: 0.55608602 | H39: 1.1067077 | I39: 0.089708555 | J39: 0.57336205 | K39: 0.053524 | L39: 0.58576062 | M39: 0.060675005 | N39: 0.19933189 | O39: 7.4719646 | P39: 12.631995 | Q39: 33.578775 | R39: 0.85442229 | S39: 39.872418 | T39: -0.27981625 | U39: 0.44316772 | V39: 0.20460876 | W39: 1.1590198 | X39: 0.10675101 | Y39: 0.25595302 | Z39: 0.25595302 | AA39: 0.21775571
A40: Healthcare Products | B40: 230 | C40: 0.179484 | D40: 0.13294968 | E40: 0.13081182 | F40: 0.20580163 | G40: 1.0054181 | H40: 1.0620799 | I40: 0.087655675 | J40: 0.52205535 | K40: 0.053524 | L40: 0.1123973 | M40: 0.082315379 | N40: 0.99169607 | O40: 5.1610657 | P40: 21.511373 | Q40: 36.992221 | R40: 4.629147 | S40: 61.891562 | T40: 0.25574202 | U40: 0.049018238 | V40: 0.020771729 | W40: 0.49512455 | X40: 0.083057979 | Y40: 0.41765479 | Z40: 0.41765479 | AA40: 0.1383574
...

Sheet Global Industry averages
A1: Industry Name | B1: Number of firms | C1: Annual Average Revenue growth - Last 5 years | D1: Pre-tax Operating Margin (Unadjusted) | E1: After-tax ROC | F1: Average effective tax rate | G1: Unlevered Beta | H1: Equity (Levered) Beta | I1: Cost of equity | J1: Std deviation in stock prices | K1: Pre-tax cost of debt | L1: Market Debt/Capital | M1: Cost of capital | N1: Sales/Capital | O1: EV/Sales | P1: EV/EBITDA | Q1: EV/EBIT | R1: Price/Book | S1: Trailing PE | T1: Non-cash WC as % of Revenues | U1: Cap Ex as % of Revenues | V1: Net Cap Ex as % of Revenues | W1: Reinvestment Rate | X1: ROE | Y1: Dividend Payout Ratio | Z1: Equity Reinvestment Rate | AA1: Pre-tax Operating Margin (Lease & R&D adjusted)
A2: Advertising | B2: 391 | C2: 0.060678733 | D2: 0.07893289 | E2: 0.22318415 | F2: 0.24671862 | G2: 1.2309227 | H2: 1.3525261 | I2: 0.12549692 | J2: 0.38891118 | K2: 0.064355 | L2: 0.23971066 | M2: 0.10693454 | N2: 3.2269278 | O2: 1.5597582 | P2: 11.941458 | Q2: 18.468198 | R2: 2.5969841 | S2: 53.676864 | T2: -0.025138145 | U2: 0.017243189 | V2: 0.0017319182 | W2: 0.25114078 | X2: 0.07535655 | Y2: 0.7601358 | Z2: 0.7601358 | AA2: 0.080659837
A3: Aerospace/Defense | B3: 289 | C3: 0.09309568 | D3: 0.079923618 | E3: 0.13938187 | F3: 0.16177288 | G3: 0.90338326 | H3: 0.98430307 | I3: 0.10189383 | J3: 0.35101019 | K3: 0.064355 | L3: 0.17197349 | M3: 0.09263589 | N3: 1.832262 | O3: 2.2616279 | P3: 17.907632 | Q3: 27.409854 | R3: 4.467579 | S3: 77.145602 | T3: 0.38805334 | U3: 0.035404722 | V3: 0.021536227 | W3: 0.40167246 | X3: 0.14143383 | Y3: 0.44958156 | Z3: 0.44958156 | AA3: 0.083597009
A4: Air Transport | B4: 155 | C4: 0.02483496 | D4: 0.072832786 | E4: 0.076090439 | F4: 0.18079323 | G4: 0.81040341 | H4: 1.2872128 | I4: 0.12131034 | J4: 0.30061794 | K4: 0.064355 | L4: 0.50981682 | M4: 0.083966244 | N4: 1.1974038 | O4: 1.4160607 | P4: 8.4210655 | Q4: 18.088757 | R4: 2.4000358 | S4: 96.631584 | T4: -0.028523145 | U4: 0.09872859 | V4: 0.034606502 | W4: 0.30360301 | X4: 0.19646294 | Y4: 0.25209575 | Z4: 0.25209575 | AA4: 0.072336877
A5: Apparel | B5: 1152 | C5: 0.029902593 | D5: 0.14639551 | E5: 0.213148 | F5: 0.25306546 | G5: 0.77946573 | H5: 0.8327733 | I5: 0.092180769 | J5: 0.32723669 | K5: 0.064355 | L5: 0.14561415 | M5: 0.085756206 | N5: 1.6689116 | O5: 2.4393038 | P5: 13.19284 | Q5: 16.125325 | R5: 3.6292339 | S5: 42.488215 | T5: 0.22428068 | U5: 0.051634121 | V5: 0.034267563 | W5: 0.52147231 | X5: 0.17062717 | Y5: 0.4237836 | Z5: 0.4237836 | AA5: 0.14804138
A6: Auto & Truck | B6: 165 | C6: 0.081321569 | D6: 0.075594609 | E6: 0.086167571 | F6: 0.21881135 | G6: 1.1030216 | H6: 1.3606863 | I6: 0.12602 | J6: 0.36463723 | K6: 0.064355 | L6: 0.35609741 | M6: 0.098258755 | N6: 1.2339367 | O6: 1.2010454 | P6: 9.8422842 | Q6: 15.278939 | R6: 1.6673634 | S6: 42.264064 | T6: 0.0212791 | U6: 0.060660184 | V6: 0.03461175 | W6: 0.70382133 | X6: 0.14502972 | Y6: 0.26552011 | Z6: 0.26552011 | AA6: 0.077383713
A7: Auto Parts | B7: 761 | C7: 0.068719932 | D7: 0.050112865 | E7: 0.069513427 | F7: 0.2407743 | G7: 1.2090552 | H7: 1.3055576 | I7: 0.12248625 | J7: 0.30389336 | K7: 0.064355 | L7: 0.23444227 | M7: 0.10503766 | N7: 1.730294 | O7: 0.82655482 | P7: 8.5539997 | Q7: 15.807322 | R7: 1.4984185 | S7: 130.48898 | T7: 0.11764661 | U7: 0.053688521 | V7: 0.038473888 | W7: 1.1613589 | X7: 0.0757882 | Y7: 0.41658239 | Z7: 0.41658239 | AA7: 0.048274278
A8: Bank (Money Center) | B8: 607 | C8: 0.1202628 | D8: 0.0028364376 | E8: 0.00038710601 | F8: 0.18590464 | G8: 0.42062216 | H8: 0.87661223 | I8: 0.094990844 | J8: 0.21280779 | K8: 0.058543 | L8: 0.74422548 | M8: 0.05683371 | N8: 0.15911568 | O8: 6.7699193 | P8: 189.89899 | Q8: NA | R8: 0.84234957 | S8: 14.729078 | T8: NA | U8: 0.033254364 | V8: 0.050798671 | W8: 19.575019 | X8: 0.12654306 | Y8: 0.30695422 | Z8: 0.30695422 | AA8: 0.0031046483
A9: Banks (Regional) | B9: 881 | C9: 0.084004418 | D9: -0.00010767473 | E9: -0.0001474166 | F9: 0.1917831 | G9: 0.28391224 | H9: 0.52308361 | I9: 0.072329659 | J9: 0.18295557 | K9: 0.058543 | L9: 0.71756531 | M9: 0.051800297 | N9: 0.17196644 | O9: 5.8371202 | P9: NA | Q9: NA | R9: 0.74498598 | S9: 28.980754 | T9: NA | U9: 0.029584981 | V9: -0.042662563 | W9: NA | X9: 0.098266835 | Y9: 0.29089509 | Z9: 0.29089509 | AA9: -0.0010386505
A10: Beverage (Alcoholic) | B10: 220 | C10: 0.082478475 | D10: 0.21689012 | E10: 0.16067498 | F10: 0.21945068 | G10: 0.68658211 | H10: 0.74556336 | I10: 0.086590611 | J10: 0.27489398 | K10: 0.064355 | L10: 0.15736772 | M10: 0.080527186 | N10: 0.8820906 | O10: 3.6455195 | P10: 13.890019 | Q10: 16.68246 | R10: 3.1761893 | S10: 49.806145 | T10: 0.10799586 | U10: 0.051080513 | V10: 0.029178936 | W10: 0.39674912 | X10: 0.16528004 | Y10: 0.4461457 | Z10: 0.4461457 | AA10: 0.21737063
A11: Beverage (Soft) | B11: 100 | C11: 0.13106444 | D11: 0.16712852 | E11: 0.26082973 | F11: 0.20408116 | G11: 0.65633361 | H11: 0.70711616 | I11: 0.084126146 | J11: 0.32238073 | K11: 0.064355 | L11: 0.14148945 | M11: 0.079023211 | N11: 1.7627547 | O11: 3.5378584 | P11: 17.269454 | Q11: 21.066832 | R11: 6.2212477 | S11: 34.110062 | T11: -0.046222998 | U11: 0.04667917 | V11: 0.022693159 | W11: 0.2835381 | X11: 0.25763421 | Y11: 0.63108793 | Z11: 0.63108793 | AA11: 0.16780765
A12: Broadcasting | B12: 130 | C12: 0.040306759 | D12: 0.099129608 | E12: 0.088152853 | F12: 0.2529277 | G12: 0.66373824 | H12: 0.98196857 | I12: 0.10174419 | J12: 0.31539633 | K12: 0.064355 | L12: 0.46662627 | M12: 0.076693881 | N12: 1.0482623 | O12: 1.1859946 | P12: 7.8705782 | Q12: 11.66682 | R12: 0.74709201 | S12: 45.336231 | T12: 0.12358975 | U12: 0.037688123 | V12: -0.0027459631 | W12: 1.5367973 | X12: -0.0035567527 | Y12: 0.0047085165 | Z12: 0.0047085165 | AA12: 0.098763143
A13: Brokerage & Investment Banking | B13: 590 | C13: 0.10416122 | D13: 0.01177559 | E13: 0.0018058244 | F13: 0.18959735 | G13: 0.39976611 | H13: 0.92867817 | I13: 0.09832827 | J13: 0.31951734 | K13: 0.064355 | L13: 0.71231609 | M13: 0.062521596 | N13: 0.18374812 | O13: 6.8227984 | P13: 189.17464 | Q13: NA | R13: 1.2584233 | S13: 115.17714 | T13: NA | U13: 0.032147268 | V13: 0.017840381 | W13: 8.4602071 | X13: 0.076645177 | Y13: 0.59630235 | Z13: 0.59630235 | AA13: 0.011347045
A14: Building Materials | B14: 457 | C14: 0.06034178 | D14: 0.10639298 | E14: 0.1673029 | F14: 0.22838372 | G14: 0.94049139 | H14: 1.0314798 | I14: 0.10491785 | J14: 0.28001304 | K14: 0.064355 | L14: 0.1780086 | M14: 0.094796723 | N14: 1.8434296 | O14: 1.7142682 | P14: 11.505962 | Q14: 15.690307 | R14: 2.82074 | S14: 28.790077 | T14: 0.17489299 | U14: 0.04351106 | V14: 0.051551982 | W14: 0.67999327 | X14: 0.13388148 | Y14: 0.38887234 | Z14: 0.38887234 | AA14: 0.10786547
A15: Business & Consumer Services | B15: 980 | C15: 0.074751887 | D15: 0.09154535 | E15: 0.2105184 | F15: 0.24712005 | G15: 0.96407248 | H15: 1.0420887 | I15: 0.10559788 | J15: 0.3330641 | K15: 0.064355 | L15: 0.16018507 | M15: 0.096381225 | N15: 2.7153343 | O15: 2.0557336 | P15: 15.4443 | Q15: 21.52399 | R15: 4.4253805 | S15: 215.34905 | T15: 0.10538725 | U15: 0.027100047 | V15: 0.014473205 | W15: 0.30416219 | X15: 0.13588912 | Y15: 0.54379559 | Z15: 0.54379559 | AA15: 0.093079704
A16: Cable TV | B16: 48 | C16: 0.041942683 | D16: 0.18608744 | E16: 0.12004315 | F16: 0.25003543 | G16: 0.60757746 | H16: 1.0211435 | I16: 0.1042553 | J16: 0.30910674 | K16: 0.064355 | L16: 0.4922968 | M16: 0.076590687 | N16: 0.7593723 | O16: 2.5412604 | P16: 7.8754764 | Q16: 13.842133 | R16: 1.8679222 | S16: 34.875966 | T16: 0.0075306298 | U16: 0.14155246 | V16: 0.014127988 | W16: 0.18025282 | X16: 0.15882582 | Y16: 0.24726749 | Z16: 0.24726749 | AA16: 0.18267772
A17: Chemical (Basic) | B17: 888 | C17: 0.085872087 | D17: 0.046542236 | E17: 0.046390051 | F17: 0.19898679 | G17: 0.90192729 | H17: 1.0727321 | I17: 0.10756213 | J17: 0.28877339 | K17: 0.064355 | L17: 0.30060028 | M17: 0.089675864 | N17: 1.1423312 | O17: 1.3267681 | P17: 12.709581 | Q17: 26.906774 | R17: 1.4647626 | S17: 113.95451 | T17: 0.13109122 | U17: 0.093408742 | V17: 0.066481922 | W17: 1.9459033 | X17: 0.038401073 | Y17: 1.4179037 | Z17: 1.4179037 | AA17: 0.047045769
A18: Chemical (Diversified) | B18: 64 | C18: 0.081043455 | D18: 0.066238601 | E18: 0.054454419 | F18: 0.22367776 | G18: 0.84636701 | H18: 1.0926753 | I18: 0.10884048 | J18: 0.22362857 | K18: 0.058543 | L18: 0.35776017 | M18: 0.085542937 | N18: 1.0817263 | O18: 1.0157982 | P18: 7.9802615 | Q18: 14.423534 | R18: 1.1205498 | S18: 82.991454 | T18: 0.19327838 | U18: 0.072577921 | V18: 0.02999193 | W18: 0.4901687 | X18: 0.029144223 | Y18: 1.7073694 | Z18: 1.7073694 | AA18: 0.065288297
A19: Chemical (Specialty) | B19: 949 | C19: 0.094848672 | D19: 0.1194729 | E19: 0.12380682 | F19: 0.20888361 | G19: 0.94095302 | H19: 1.0268135 | I19: 0.10461875 | J19: 0.31217964 | K19: 0.064355 | L19: 0.17874753 | M19: 0.094509066 | N19: 1.2093762 | O19: 2.2521789 | P19: 12.466233 | Q19: 18.488181 | R19: 2.4503177 | S19: 46.34969 | T19: 0.18241925 | U19: 0.088331116 | V19: 0.067377141 | W19: 0.78861872 | X19: 0.12070412 | Y19: 0.51719762 | Z19: 0.51719762 | AA19: 0.11942988
A20: Coal & Related Energy | B20: 215 | C20: 0.14781404 | D20: 0.24031355 | E20: 0.32220934 | F20: 0.22559346 | G20: 1.0773642 | H20: 1.006257 | I20: 0.10330107 | J20: 0.50421473 | K20: 0.067024 | L20: 0.16520602 | M20: 0.094504259 | N20: 1.4921479 | O20: 1.3071148 | P20: 4.0711931 | Q20: 5.1735913 | R20: 1.5046538 | S20: 25.295557 | T20: -0.030186939 | U20: 0.090487992 | V20: 0.051223276 | W20: 0.2494509 | X20: 0.21362535 | Y20: 0.76433442 | Z20: 0.76433442 | AA20: 0.2407923
A21: Computer Services | B21: 1164 | C21: 0.10303602 | D21: 0.075579066 | E21: 0.2109495 | F21: 0.23628691 | G21: 1.0014532 | H21: 1.0414843 | I21: 0.10555914 | J21: 0.32895363 | K21: 0.064355 | L21: 0.1239104 | M21: 0.098434439 | N21: 3.2861205 | O21: 1.5245899 | P21: 14.677564 | Q21: 19.463101 | R21: 3.9981873 | S21: 64.471243 | T21: 0.15358638 | U21: 0.015317633 | V21: 0.011342016 | W21: 0.2766352 | X21: 0.16017731 | Y21: 0.53071092 | Z21: 0.53071092 | AA21: 0.076819539
A22: Computers/Peripherals | B22: 338 | C22: 0.0057764981 | D22: 0.11390914 | E22: 0.15747684 | F22: 0.15096535 | G22: 1.2534021 | H22: 1.2665979 | I22: 0.11998893 | J22: 0.32935741 | K22: 0.064355 | L22: 0.070298242 | M22: 0.11493247 | N22: 1.6364958 | O22: 3.0481583 | P22: 18.661506 | Q22: 26.442663 | R22: 6.7989481 | S22: 54.682422 | T22: 0.020955925 | U22: 0.056849932 | V22: 0.034593625 | W22: 0.38943366 | X22: 0.28447577 | Y22: 0.24867757 | Z22: 0.24867757 | AA22: 0.1101324
A23: Construction Supplies | B23: 453 | C23: 0.094758754 | D23: 0.09885473 | E23: 0.077513427 | F23: 0.22830902 | G23: 0.73700428 | H23: 0.8950019 | I23: 0.096169622 | J23: 0.26865017 | K23: 0.064355 | L23: 0.29922439 | M23: 0.081774144 | N23: 0.94894788 | O23: 1.6529552 | P23: 10.165 | Q23: 16.387287 | R23: 1.3202123 | S23: 82.491171 | T23: 0.13298628 | U23: 0.078721679 | V23: 0.042007946 | W23: 0.78193429 | X23: 0.083677486 | Y23: 0.4649158 | Z23: 0.4649158 | AA23: 0.098539623
A24: Diversified | B24: 326 | C24: 0.08091494 | D24: 0.15638956 | E24: 0.11943532 | F24: 0.17383651 | G24: 0.74470552 | H24: 0.9535675 | I24: 0.099923677 | J24: 0.27139035 | K24: 0.064355 | L24: 0.34006148 | M24: 0.082286945 | N24: 0.85444722 | O24: 1.8308485 | P24: 8.9318342 | Q24: 11.141035 | R24: 1.2240144 | S24: 18.171079 | T24: -0.094527901 | U24: 0.048969043 | V24: 0.036123723 | W24: 0.37089583 | X24: 0.130976 | Y24: 0.20065345 | Z24: 0.20065345 | AA24: 0.16233636
A25: Drugs (Biotechnology) | B25: 1259 | C25: 0.20205506 | D25: -0.0043496542 | E25: 0.0069302625 | F25: 0.16290318 | G25: 1.1499581 | H25: 1.1735861 | I25: 0.11402687 | J25: 0.53278357 | K25: 0.067024 | L25: 0.12539389 | M25: 0.106005 | N25: 0.42240185 | O25: 6.964535 | P25: 15.315541 | Q25: NA | R25: 5.1098851 | S25: 127.83565 | T25: 0.17156985 | U25: 0.056708801 | V25: 0.09623601 | W25: NA | X25: -0.088267685 | Y25: 0.0046600509 | Z25: 0.0046600509 | AA25: 0.016293477
A26: Drugs (Pharmaceutical) | B26: 1299 | C26: 0.18011463 | D26: 0.18171078 | E26: 0.12868088 | F26: 0.16609342 | G26: 0.88577514 | H26: 0.9463177 | I26: 0.099458964 | J26: 0.41512557 | K26: 0.064355 | L26: 0.13356717 | M26: 0.092593792 | N26: 0.71335756 | O26: 4.0501863 | P26: 14.601133 | Q26: 21.71034 | R26: 3.8805329 | S26: 41.506467 | T26: 0.15494978 | U26: 0.050126177 | V26: 0.057092304 | W26: 0.44219809 | X26: 0.13204955 | Y26: 0.63542627 | Z26: 0.63542627 | AA26: 0.19790655
A27: Education | B27: 260 | C27: 0.10492715 | D27: 0.11068502 | E27: 0.092684764 | F27: 0.20115514 | G27: 0.76004819 | H27: 0.8310439 | I27: 0.092069914 | J27: 0.34525639 | K27: 0.064355 | L27: 0.2238175 | M27: 0.082219795 | N27: 0.97000135 | O27: 2.2863341 | P27: 10.920841 | Q27: 18.170084 | R27: 1.9459813 | S27: 125.42376 | T27: 0.034761841 | U27: 0.057202129 | V27: 0.030121777 | W27: 0.57594987 | X27: 0.051181871 | Y27: 0.57708042 | Z27: 0.57708042 | AA27: 0.10893549
A28: Electrical Equipment | B28: 1072 | C28: 0.10648473 | D28: 0.07125667 | E28: 0.10900313 | F28: 0.18776406 | G28: 1.103838 | H28: 1.1304438 | I28: 0.11126145 | J28: 0.35113385 | K28: 0.064355 | L28: 0.14982262 | M28: 0.10179249 | N28: 1.6654991 | O28: 1.9374739 | P28: 15.546387 | Q28: 24.885789 | R28: 2.8201041 | S28: 97.34873 | T28: 0.2172457 | U28: 0.068861989 | V28: 0.06026384 | W28: 1.622376 | X28: 0.10855338 | Y28: 0.39383157 | Z28: 0.39383157 | AA28: 0.073928527
A29: Electronics (Consumer & Office) | B29: 127 | C29: 0.030448866 | D29: 0.046753507 | E29: 0.062281609 | F29: 0.14511189 | G29: 1.1252478 | H29: 1.2272209 | I29: 0.11746486 | J29: 0.33860994 | K29: 0.064355 | L29: 0.2324043 | M29: 0.10133495 | N29: 1.4795011 | O29: 0.93723071 | P29: 11.435557 | Q29: 19.485954 | R29: 1.7221992 | S29: 40.793478 | T29: 0.066260614 | U29: 0.041996586 | V29: 0.026957625 | W29: 0.8712161 | X29: 0.073103505 | Y29: 0.32240989 | Z29: 0.32240989 | AA29: 0.047475839
A30: Electronics (General) | B30: 1486 | C30: 0.058386103 | D30: 0.052816363 | E30: 0.06442013 | F30: 0.18363373 | G30: 1.2783309 | H30: 1.2819639 | I30: 0.12097389 | J30: 0.32533099 | K30: 0.064355 | L30: 0.15707809 | M30: 0.10952076 | N30: 1.359642 | O30: 1.5902472 | P30: 14.162266 | Q30: 28.293548 | R30: 2.271368 | S30: 102.00099 | T30: 0.18920481 | U30: 0.063112177 | V30: 0.035719374 | W30: 0.9658047 | X30: 0.066824042 | Y30: 0.61911602 | Z30: 0.61911602 | AA30: 0.053403823
A31: Engineering/Construction | B31: 1623 | C31: 0.063632522 | D31: 0.056830671 | E31: 0.087832769 | F31: 0.22550851 | G31: 0.8082989 | H31: 1.0134173 | I31: 0.10376005 | J31: 0.30521755 | K31: 0.064355 | L31: 0.40137684 | M31: 0.081403466 | N31: 1.79554 | O31: 0.78265543 | P31: 9.3963917 | Q31: 13.16986 | R31: 1.3065437 | S31: 42.843281 | T31: 0.15922667 | U31: 0.03367122 | V31: 0.022302216 | W31: 1.0727987 | X31: 0.10080519 | Y31: 0.53466879 | Z31: 0.53466879 | AA31: 0.057689743
A32: Entertainment | B32: 741 | C32: 0.096076652 | D32: 0.073014559 | E32: 0.074713947 | F32: 0.22104866 | G32: 1.0326457 | H32: 1.1080718 | I32: 0.1098274 | J32: 0.41350767 | K32: 0.064355 | L32: 0.18212969 | M32: 0.09857778 | N32: 1.0903965 | O32: 2.9125408 | P32: 15.776376 | Q32: 36.435754 | R32: 2.4782438 | S32: 156.16716 | T32: 0.039983541 | U32: 0.037191471 | V32: -0.025549451 | W32: -0.34121715 | X32: 0.022666951 | Y32: 0.89236563 | Z32: 0.89236563 | AA32: 0.074795523
A33: Environmental & Waste Services | B33: 383 | C33: 0.082141268 | D33: 0.10594278 | E33: 0.10776036 | F33: 0.22828573 | G33: 0.82790886 | H33: 1.0018793 | I33: 0.10302047 | J33: 0.33888162 | K33: 0.064355 | L33: 0.2593043 | M33: 0.088769062 | N33: 1.1590208 | O33: 2.7759011 | P33: 14.044705 | Q33: 24.861013 | R33: 3.0192594 | S33: 39.262853 | T33: 0.14714494 | U33: 0.08649035 | V33: 0.074507317 | W33: 1.3468736 | X33: 0.080683417 | Y33: 0.63167403 | Z33: 0.63167403 | AA33: 0.10712906
A34: Farming/Agriculture | B34: 430 | C34: 0.11069166 | D34: 0.081559189 | E34: 0.10564639 | F34: 0.21465598 | G34: 0.57398339 | H34: 0.77392079 | I34: 0.088408322 | J34: 0.34054792 | K34: 0.064355 | L34: 0.36687002 | M34: 0.073605848 | N34: 1.4546832 | O34: 1.0834452 | P34: 9.7489631 | Q34: 12.674166 | R34: 1.826141 | S34: 26.811988 | T34: 0.16202092 | U34: 0.04191541 | V34: 0.02711998 | W34: 0.59827152 | X34: 0.14471014 | Y34: 0.33023374 | Z34: 0.33023374 | AA34: 0.083784585
A35: Financial Svcs. (Non-bank & Insurance) | B35: 1258 | C35: 0.12562276 | D35: 0.12676164 | E35: 0.0094098181 | F35: 0.17186208 | G35: 0.27764418 | H35: 0.9064411 | I35: 0.096902875 | J35: 0.34608474 | K35: 0.064355 | L35: 0.76985807 | M35: 0.059301035 | N35: 0.085866413 | O35: 14.427254 | P35: 48.685478 | Q35: 67.19285 | R35: 2.2423073 | S35: 75.538288 | T35: NA | U35: 0.040021054 | V35: -0.073819923 | W35: -0.68655709 | X35: 0.1804461 | Y35: 0.25756972 | Z35: 0.25756972 | AA35: 0.12765948
A36: Food Processing | B36: 1657 | C36: 0.084663066 | D36: 0.076612696 | E36: 0.11456981 | F36: 0.23277823 | G36: 0.61262228 | H36: 0.72111816 | I36: 0.085023674 | J36: 0.28613127 | K36: 0.064355 | L36: 0.25097433 | M36: 0.075746819 | N36: 1.759098 | O36: 1.3920067 | P36: 12.154853 | Q36: 17.800402 | R36: 2.2665404 | S36: 46.464615 | T36: 0.10527082 | U36: 0.046154263 | V36: 0.025405255 | W36: 0.61952642 | X36: 0.099151351 | Y36: 0.6585422 | Z36: 0.6585422 | AA36: 0.077140853
A37: Food Wholesalers | B37: 173 | C37: 0.077620738 | D37: 0.024705013 | E37: 0.10682869 | F37: 0.24528806 | G37: 0.49621393 | H37: 0.66918428 | I37: 0.081694712 | J37: 0.30822331 | K37: 0.064355 | L37: 0.36579862 | M37: 0.069391296 | N37: 5.2660012 | O37: 0.37040946 | P37: 9.7054738 | Q37: 14.908329 | R37: 2.1484245 | S37: 49.788417 | T37: 0.05873509 | U37: 0.014196922 | V37: 0.0090395737 | W37: 0.48474528 | X37: 0.089141668 | Y37: 0.56945565 | Z37: 0.56945565 | AA37: 0.024650662
