Workbook

Sheet Read me first
A1: Analysis of Dividend Policy
A2: Objective | B2: 1. To compare how much a firm has returned to its stockholder historically (up to 10 years) with how much it could have returned.
B3: 2. To provide an assessment of project quality (ROE compared to cost of equity) and stock price performance over the period.
B4: 3. To provide forecasts of how much cash the firm will have available for stock buybacks in the future
A5: Inputs needed | B5: For historical analysis:
B6: a. Net Income
B7: b. Depreciation, amortization and other non-cash charges
B8: c. Capital expenditures: Please include acquisitions as part of capital expenditures
B9: d. Non-cash working capital changes
B10: In entering these numbers, please make sure that you get the signs right (check the comment box on each of these inputs)
B11: e. Dividends: Only cash dividends should be shown here (ignore stock dividends)
B12: f. Stock Buybacks: Include the cash flow associated with stock buybacks.
B13: For project assessment and stock price performance analysis
B14: a. Beta: You should really use an average beta over the historical period, but go ahead and use your current beta if you do not have this.
B15: b. Book Value of Equity: To compute return on equity.
B16: c. Return on the stock: This is the total return you would have made as an investor: It includes price appreciation + dividend yield each year
B17: d. Short term Riskfree rate: The short term government security rate at the start of each year (use the T.Bill rate from the worksheet)
... B22: c. Debt as a percent of reinvestment, looking forward. As a default, you can use your historical average.
A23: Output | B23: Historical Analysis
B24: 1. FCFE and Cash Returned each year for the historical period
B25: 2. Returns on equity, the stock and your required return each year for the historical period
B26: 3. Averages of both over the entire period
B27: Forecasts
B28: 1. Forecasted FCFE for next 5 years
B29: 2. Forecasted dividends for next 5 years
B30: 3. Cash available each year for stock buybacks for next 5 years.

Sheet Inputs
A1: Section 1: Inputs for estimating Dividends and FCFE
A2: How many years of historical data do you have available? | E2: 5 | F2: (number of years)
A3: Current debt to capital ratio = | E3: 0.11579297
A4: Do you want to want to change this ratio to a target debt ratio? | E4: No
A5: If yes, enter the target debt ratio to use = | E5: 0.4
E6: Use less years, if you do not have the data.
A7: Enter the following data for the years for which you have data (starting with the most recent year of data and working backwards).
A8: Year | B8: Net Income | C8: Depreciation & Amortization | D8: Capital Spending & Cash Acquisitions | E8: Chg in Non-Cash WC | F8: Net Debt Issued
A9: =IF($E$2<1,0,1) -> 1 | B9: 6136 | C9: 2192 | D9: 2796 | E9: -133 | F9: =3931-2050 -> 1881
A10: =IF($E$2<2,0,2) -> 2 | B10: 5682 | C10: 1987 | D10: 3784 | E10: 940 | F10: =3779+467 -> 4246
A11: =IF($E$2<3,0,3) -> 3 | B11: 4807 | C11: 1841 | D11: 3559 | E11: 950 | F11: =2350+393 -> 2743
A12: =IF($E$2<4,0,4) -> 4 | B12: 3963 | C12: 1713 | D12: 2110 | E12: 308 | F12: 1190
A13: =IF($E$2<5,0,5) -> 5 | B13: 3307 | C13: 1631 | D13: 1753 | E13: -109 | F13: =1750-1985 -> -235
A14: =IF($E$2<6,0,6) -> 0 | B14: 4427 | C14: 1582 | D14: 1586 | E14: 485 | F14: =1706-701 -> 1005
A15: =IF($E$2<7,0,7) -> 0 | B15: 4687 | C15: 1491 | D15: 1566 | E15: 45 | F15: =3143+1847 -> 4990
A16: =IF($E$2<8,0,8) -> 0 | B16: 3374 | C16: 1437 | D16: 1319 | E16: -136 | F16: =2806+85 -> 2891
A17: =IF($E$2<9,0,9) -> 0 | B17: 2533 | C17: 1339 | D17: 1823 | E17: 270 | F17: =422+654 -> 1076
A18: =IF($E$2<10,0,10) -> 0 | B18: 2345 | C18: 1210 | D18: 1427 | E18: 51 | F18: =176+100 -> 276
A20: Enter the dollar dividends paid and equity repurchases for each year of historical data (staring with most recent year): (Equity repurchases are in the statement of cash flows)
A21: Year | B21: Dividends (aggregate) | C21: Equity Repurchases (in $)
A22: =IF($E$2<1,0,1) -> 1 | B22: 1324 | C22: 4087
A23: =IF($E$2<2,0,2) -> 2 | B23: 1076 | C23: 3015
A24: =IF($E$2<3,0,3) -> 3 | B24: 756 | C24: 4993
A25: =IF($E$2<4,0,4) -> 4 | B25: 653 | C25: 2669
A26: =IF($E$2<5,0,5) -> 5 | B26: 648 | C26: 648
A27: =IF($E$2<6,0,6) -> 0 | B27: 664 | C27: 4453
A28: =IF($E$2<7,0,7) -> 0 | B28: 637 | C28: 6923
A29: =IF($E$2<8,0,8) -> 0 | B29: 519 | C29: 6898
A30: =IF($E$2<9,0,9) -> 0 | B30: 490 | C30: 2420
A31: =IF($E$2<10,0,10) -> 0 | B31: 430 | C31: 335
A33: Section 2: Assessing Investment Quality and Stock Performance
A34: The following section of the dividend policy analysis looks at the quality of your firm's investments and the risk-adjusted, market-adjusted performance of your stock over the period. If
A35: you have a measure of excess returns (ROIC- Cost of capital) or a Jensen's alpha computed for your stock, you can use those measures instead of the ones computed here.
A36: The last set of inputs to this analysis relate to project choice and performance:
A37: Enter the beta for the equity of this firm: | D37: 0.9011
A39: Enter the following data relating to performance (starting with most recent year): (Make sure that you update the riskfree rate and return on the market from the attached worksheet to reflect the time period for your data)
A40: Year | B40: BV: Equity | C40: Annual return on stock | D40: T.Bill rate | E40: Return on market
A41: =IF($E$2<1,0,1) -> 1 | B41: 380078 | C41: 0.3533 | D41: ='Historical Stock and T.Bills'!C96 -> 0.0442 | E41: ='Historical Stock and T.Bills'!B96 -> -0.18037506 | F41: Note: I have the numbers for the US in the Historical stock & t.bill worksheet.
A42: =IF($E$2<2,0,2) -> 2 | B42: 330056 | C42: 0.1065 | D42: ='Historical Stock and T.Bills'!C95 -> 0.0006 | E42: ='Historical Stock and T.Bills'!B95 -> 0.28468852 | F42: Please match up the annual data for the years for your company.
A43: =IF($E$2<3,0,3) -> 3 | B43: 194181 | C43: -0.0515 | D43: ='Historical Stock and T.Bills'!C94 -> 0.0009 | E43: ='Historical Stock and T.Bills'!B94 -> 0.18023202 | F43: If you are in foreign market and don't
...

Sheet Analysis of past dividends
A1: Analysis of Past Dividends
B2: =Inputs!A22 -> 1 | C2: =Inputs!A23 -> 2 | D2: =Inputs!A24 -> 3 | E2: =Inputs!A25 -> 4 | F2: =Inputs!A26 -> 5 | G2: =Inputs!A27 -> 0 | H2: =Inputs!A28 -> 0 | I2: =Inputs!A29 -> 0 | J2: =Inputs!A30 -> 0 | K2: =Inputs!A31 -> 0 | L2: Aggregate
A3: Net Income | B3: =IF(B2>0,Inputs!B9,0) -> 6136 | C3: =IF(C2>0,Inputs!B10," ") -> 5682 | D3: =IF(D2>0,Inputs!B11," ") -> 4807 | E3: =IF(E2>0,Inputs!B12," ") -> 3963 | F3: =IF(F2>0,Inputs!B13," ") -> 3307 | G3: =IF(G2>0,Inputs!B14," ") | H3: =IF(H2>0,Inputs!B15," ") | I3: =IF(I2>0,Inputs!B16," ") | J3: =IF(J2>0,Inputs!B17," ") | K3: =IF(K2>0,Inputs!B18," ") | L3: =SUM(B3:K3) -> 23895
A4: - (Cap. Exp - Depr) | B4: =IF(B2>0,Inputs!D9-Inputs!C9," ") -> 604 | C4: =IF(C2>0,Inputs!D10-Inputs!C10," ") -> 1797 | D4: =IF(D2>0,Inputs!D11-Inputs!C11," ") -> 1718 | E4: =IF(E2>0,Inputs!D12-Inputs!C12," ") -> 397 | F4: =IF(F2>0,Inputs!D13-Inputs!C13," ") -> 122 | G4: =IF(G2>0,Inputs!D14-Inputs!C14," ") | H4: =IF(H2>0,Inputs!D15-Inputs!C15," ") | I4: =IF(I2>0,Inputs!D16-Inputs!C16," ") | J4: =IF(J2>0,Inputs!D17-Inputs!C17," ") | K4: =IF(K2>0,Inputs!D18-Inputs!C18," ") | L4: =SUM(B4:K4) -> 4638
A5: - ∂ Working Capital | B5: =IF(B2>0,Inputs!E9," ") -> -133 | C5: =IF(C2>0,Inputs!E10," ") -> 940 | D5: =IF(D2>0,Inputs!E11," ") -> 950 | E5: =IF(E2>0,Inputs!E12," ") -> 308 | F5: =IF(F2>0,Inputs!E13," ") -> -109 | G5: =IF(G2>0,Inputs!E14," ") | H5: =IF(H2>0,Inputs!E15," ") | I5: =IF(I2>0,Inputs!E16," ") | J5: =IF(J2>0,Inputs!E17," ") | K5: =IF(K2>0,Inputs!E18," ") | L5: =SUM(B5:K5) -> 1956
A6: Free CF to Equity (pre-debt) | B6: =IF(B2>0,B3-B4-B5,) -> 5665 | C6: =IF(C2>0,C3-C4-C5,) -> 2945 | D6: =IF(D2>0,D3-D4-D5,) -> 2139 | E6: =IF(E2>0,E3-E4-E5,) -> 3258 | F6: =IF(F2>0,F3-F4-F5,) -> 3294 | G6: =IF(G2>0,G3-G4-G5,) -> 0 | H6: =IF(H2>0,H3-H4-H5,) -> 0 | I6: =IF(I2>0,I3-I4-I5,) -> 0 | ... K6: =IF(K2>0,K3-K4-K5,) -> 0 | L6: =SUM(B6:K6) -> 17301
A7: + Net Debt Issued | B7: =IF(B2>0,Inputs!F9," ") -> 1881 | C7: =IF(C2>0,Inputs!F10," ") -> 4246 | D7: =IF(D2>0,Inputs!F11," ") -> 2743 | E7: =IF(E2>0,Inputs!F12," ") -> 1190 | F7: =IF(F2>0,Inputs!F13," ") -> -235 | G7: =IF(G2>0,Inputs!F14," ") | H7: =IF(H2>0,Inputs!F15," ") | I7: =IF(I2>0,Inputs!F16," ") | J7: =IF(J2>0,Inputs!F17," ") | K7: =IF(K2>0,Inputs!F18," ") | L7: =SUM(B7:K7) -> 9825
A8: = Free CF to Equity (actual debt) | B8: =IF(B2>0,B3-B4-B5+B7," ") -> 7546 | C8: =IF(C2>0,C3-C4-C5+C7," ") -> 7191 | D8: =IF(D2>0,D3-D4-D5+D7," ") -> 4882 | E8: =IF(E2>0,E3-E4-E5+E7," ") -> 4448 | F8: =IF(F2>0,F3-F4-F5+F7," ") -> 3059 | G8: =IF(G2>0,G3-G4-G5+G7," ") | H8: =IF(H2>0,H3-H4-H5+H7," ") | I8: =IF(I2>0,I3-I4-I5+I7," ") | ... K8: =IF(K2>0,K3-K4-K5+K7," ") | L8: =SUM(B8:K8) -> 27126
A9: Free CF to Equity (target debt ratio) | B9: =IF(B2>0,IF(Inputs!$E$4="Yes",B3-(B4+B5)*(1-Inputs!$E$5),B3-(B4+B5)*(1-Inputs!$E$3)),) -> 5719.5385 | C9: =IF(C2>0,IF(Inputs!$E$4="Yes",C3-(C4+C5)*(1-Inputs!$E$5),C3-(C4+C5)*(1-Inputs!$E$3)),) -> 3261.9253 | D9: =IF(D2>0,IF(Inputs!$E$4="Yes",D3-(D4+D5)*(1-Inputs!$E$5),D3-(D4+D5)*(1-Inputs!$E$3)),) -> 2447.9356 | E9: =IF(E2>0,IF(Inputs!$E$4="Yes",E3-(E4+E5)*(1-Inputs!$E$5),E3-(E4+E5)*(1-Inputs!$E$3)),) -> 3339.634 | F9: =IF(F2>0,IF(Inputs!$E$4="Yes",F3-(F4+F5)*(1-Inputs!$E$5),F3-(F4+F5)*(1-Inputs!$E$3)),) -> 3295.5053 | G9: =IF(G2>0,IF(Inputs!$E$4="Yes",G3-(G4+G5)*(1-Inputs!$E$5),G3-(G4+G5)*(1-Inputs!$E$3)),) -> 0 | H9: =IF(H2>0,IF(Inputs!$E$4="Yes",H3-(H4+H5)*(1-Inputs!$E$5),H3-(H4+H5)*(1-Inputs!$E$3)),) -> 0 | I9: =IF(I2>0,IF(Inputs!$E$4="Yes",I3-(I4+I5)*(1-Inputs!$E$5),I3-(I4+I5)*(1-Inputs!$E$3)),) -> 0 | ... K9: =IF(K2>0,IF(Inputs!$E$4="Yes",K3-(K4+K5)*(1-Inputs!$E$5),K3-(K4+K5)*(1-Inputs!$E$3)),) -> 0 | L9: =SUM(B9:K9) -> 18064.539
A11: Dividends | B11: =IF(B2>0,Inputs!B22," ") -> 1324 | C11: =IF(C2>0,Inputs!B23," ") -> 1076 | D11: =IF(D2>0,Inputs!B24," ") -> 756 | E11: =IF(E2>0,Inputs!B25," ") -> 653 | F11: =IF(F2>0,Inputs!B26," ") -> 648 | G11: =IF(G2>0,Inputs!B27," ") | H11: =IF(H2>0,Inputs!B28," ") | I11: =IF(I2>0,Inputs!B29," ") | J11: =IF(J2>0,Inputs!B30," ") | K11: =IF(K2>0,Inputs!B31," ") | L11: =SUM(B11:K11) -> 4457
A12: + Equity Repurchases | B12: =IF(B2>0,Inputs!C22,) -> 4087 | C12: =IF(C2>0,Inputs!C23,) -> 3015 | D12: =IF(D2>0,Inputs!C24,) -> 4993 | E12: =IF(E2>0,Inputs!C25,) -> 2669 | F12: =IF(F2>0,Inputs!C26,) -> 648 | G12: =IF(G2>0,Inputs!C27,) -> 0 | H12: =IF(H2>0,Inputs!C28,) -> 0 | I12: =IF(I2>0,Inputs!C29,) -> 0 | J12: =IF(J2>0,Inputs!C30,) -> 0 | K12: =IF(K2>0,Inputs!C31,) -> 0 | L12: =SUM(B12:K12) -> 15412
A13: = Cash to Stockholders | B13: =IF(B2>0,B11+B12," ") -> 5411 | C13: =IF(C2>0,C11+C12," ") -> 4091 | D13: =IF(D2>0,D11+D12," ") -> 5749 | E13: =IF(E2>0,E11+E12," ") -> 3322 | F13: =IF(F2>0,F11+F12," ") -> 1296 | G13: =IF(G2>0,G11+G12," ") | H13: =IF(H2>0,H11+H12," ") | I13: =IF(I2>0,I11+I12," ") | ... K13: =IF(K2>0,K11+K12," ") | L13: =SUM(B13:K13) -> 19869
A15: Dividend Ratios
A16: Payout Ratio | B16: =IF(B2>0,B11/B3," ") -> 0.21577575 | C16: =IF(C2>0,C11/C3," ") -> 0.18936994 | D16: =IF(D2>0,D11/D3," ") -> 0.15727065 | E16: =IF(E2>0,E11/E3," ") -> 0.16477416 | F16: =IF(F2>0,F11/F3," ") -> 0.19594799 | G16: =IF(G2>0,G11/G3," ") | H16: =IF(H2>0,H11/H3," ") | I16: =IF(I2>0,I11/I3," ") | ... K16: =IF(K2>0,K11/K3," ")
A17: Cash Paid as % of FCFE | B17: =IF(B2>0,B13/B8," ") -> 0.71706865 | C17: =IF(C2>0,C13/C8," ") -> 0.56890558 | D17: =IF(D2>0,D13/D8," ") -> 1.1775912 | E17: =IF(E2>0,E13/E8," ") -> 0.74685252 | F17: =IF(F2>0,F13/F8," ") -> 0.42366787 | G17: =IF(G2>0,G13/G8," ") | H17: =IF(H2>0,H13/H8," ") | I17: =IF(I2>0,I13/I8," ") | ... K17: =IF(K2>0,K13/K8," ")
A19: Performance Ratios
A20: 1. Accounting Measure
A21: ROE | B21: =IF(B2>0,Inputs!B9/Inputs!B41," ") -> 0.016144055 | C21: =IF(C2>0,Inputs!B10/Inputs!B42," ") -> 0.01721526 | D21: =IF(D2>0,Inputs!B11/Inputs!B43," ") -> 0.024755254 | E21: =IF(E2>0,Inputs!B12/Inputs!B44," ") -> 0.047066508 | F21: =IF(F2>0,Inputs!B13/Inputs!B45," ") -> 0.05213046 | G21: =IF(G2>0,Inputs!B14/Inputs!B46," ") | H21: =IF(H2>0,Inputs!B15/Inputs!B47," ") | I21: =IF(I2>0,Inputs!B16/Inputs!B48," ") | J21: =IF(J2>0,Inputs!B17/Inputs!B49," ") | K21: =IF(K2>0,Inputs!B18/Inputs!B50," ")
A22: Required rate of return | B22: =IF(B2>0,Inputs!D41+Inputs!$D$37*(Inputs!E41-Inputs!D41)," ") -> -0.15816459 | C22: =IF(C2>0,Inputs!D42+Inputs!$D$37*(Inputs!E42-Inputs!D42)," ") -> 0.25659216 | D22: =IF(D2>0,Inputs!D43+Inputs!$D$37*(Inputs!E43-Inputs!D43)," ") -> 0.16249608 | E22: =IF(E2>0,Inputs!D44+Inputs!$D$37*(Inputs!E44-Inputs!D44)," ") -> 0.2827814 | F22: =IF(F2>0,Inputs!D45+Inputs!$D$37*(Inputs!E45-Inputs!D45)," ") -> -0.036170483 | G22: =IF(G2>0,Inputs!D46+Inputs!$D$37*(Inputs!E46-Inputs!D46)," ") | H22: =IF(H2>0,Inputs!D47+Inputs!$D$37*(Inputs!E47-Inputs!D47)," ") | I22: =IF(I2>0,Inputs!D48+Inputs!$D$37*(Inputs!E48-Inputs!D48)," ") | J22: =IF(J2>0,Inputs!D49+Inputs!$D$37*(Inputs!E49-Inputs!D49)," ") | K22: =IF(K2>0,Inputs!D50+Inputs!$D$37*(Inputs!E50-Inputs!D50)," ")
A23: ROE - Cost of Equity | B23: =IF(B2>0,B21-B22," ") -> 0.17430864 | C23: =IF(C2>0,C21-C22," ") -> -0.2393769 | D23: =IF(D2>0,D21-D22," ") -> -0.13774083 | E23: =IF(E2>0,E21-E22," ") -> -0.23571489 | F23: =IF(F2>0,F21-F22," ") -> 0.088300943 | G23: =IF(G2>0,G21-G22," ") | H23: =IF(H2>0,H21-H22," ") | I23: =IF(I2>0,I21-I22," ") | ... K23: =IF(K2>0,K21-K22," ")
A24: 2. Stock Performance Measure
A25: Returns on stock | B25: =IF(B2>0,Inputs!C41," ") -> 0.3533 | C25: =IF(C2>0,Inputs!C42," ") -> 0.1065 | D25: =IF(D2>0,Inputs!C43," ") -> -0.0515 | E25: =IF(E2>0,Inputs!C44," ") -> 0.1622 | F25: =IF(F2>0,Inputs!C45," ") -> 0.3117 | G25: =IF(G2>0,Inputs!C46," ") | H25: =IF(H2>0,Inputs!C47," ") | I25: =IF(I2>0,Inputs!C48," ") | J25: =IF(J2>0,Inputs!C49," ") | K25: =IF(K2>0,Inputs!C50," ")
A26: Required rate of return | B26: =B22 -> -0.15816459 | C26: =C22 -> 0.25659216 | D26: =D22 -> 0.16249608 | E26: =E22 -> 0.2827814 | F26: =F22 -> -0.036170483 | G26: =G22 | H26: =H22 | I26: =I22 | ... K26: =K22
A27: Jensen's alpha | B27: =IF(B2>0,B25-B26," ") -> 0.51146459 | C27: =IF(C2>0,C25-C26," ") -> -0.15009216 | D27: =IF(D2>0,D25-D26," ") -> -0.21399608 | E27: =IF(E2>0,E25-E26," ") -> -0.1205814 | F27: =IF(F2>0,F25-F26," ") -> 0.34787048 | G27: =IF(G2>0,G25-G26," ") | H27: =IF(H2>0,H25-H26," ") | I27: =IF(I2>0,I25-I26," ") | ... K27: =IF(K2>0,K25-K26," ")
A28: Index | B28: =IF(B2>0,1,0) -> 1 | C28: =IF(C2>0,1,0) -> 1 | D28: =IF(D2>0,1,0) -> 1 | E28: =IF(E2>0,1,0) -> 1 | F28: =IF(F2>0,1,0) -> 1 | G28: =IF(G2>0,1,0) -> 0 | H28: =IF(H2>0,1,0) -> 0 | I28: =IF(I2>0,1,0) -> 0 | ... K28: =IF(K2>0,1,0) -> 0
B31: Aggregate | C31: Average
A32: Net Income | B32: =L3 -> 23895 | C32: =L3/Inputs!E2 -> 4779
A33: Dividends | B33: =L11 -> 4457 | C33: =B33/Inputs!E2 -> 891.4
A34: Dividend Payout Ratio | B34: =B33/B32 -> 0.18652438 | C34: =AVERAGE(B16:K16) -> 0.1846277
A35: Stock Buybacks | B35: =L12 -> 15412 | C35: =B35/Inputs!E2 -> 3082.4
A36: Dividends + Buybacks | B36: =B33+B35 -> 19869 | C36: =C33+C35 -> 3973.8
A37: Cash Payout Ratio | B37: =B36/B32 -> 0.83151287
A38: Free CF to Equity (pre-debt) | B38: =L6 -> 17301 | C38: =B38/Inputs!E2 -> 3460.2
A39: Free CF to Equity (actual debt) | B39: =L8 -> 27126 | C39: =B39/Inputs!E2 -> 5425.2
A40: Free CF to Equity (target debt ratio) | B40: =L9 -> 18064.539 | C40: =B40/Inputs!E2 -> 3612.9078
A41: Cash payout as % of pre-debt FCFE | B41: =IF(B38<0,"FCFE negative",B36/B38) -> 1.1484307
A42: Cash payout as % of actual FCFE | B42: =IF(B39<0,"FCFE negative",B36/B39) -> 0.73247069
A43: Cash payout as % of target FCFE | B43: =B36/B40 -> 1.0998897
A45: ROE | B45: =(SUM(Inputs!B9:B18)/SUM(B28:K28))/(SUM(Inputs!B41:B50)/SUM(B28:K28)) -> 0.030161506
A46: Return on Stock | B46: =AVERAGE(B25:K25) -> 0.17644
...

Sheet Forecasted Dividends & FCFE
A1: FORECASTED FCFE AND DIVIDENDS
A2: Debt Ratio used in forecasting FCFE = | B2: =IF(Inputs!E4="Yes",Inputs!E5,Inputs!E3) -> 0.11579297
A4: Forecasted FCFE
B5: 1 | C5: 2 | D5: 3 | E5: 4 | F5: 5
A6: Net Income | B6: =(1+Inputs!$E$56)^B5*Inputs!$E$61 -> 6442.8 | C6: =(1+Inputs!$E$56)^C5*Inputs!$E$61 -> 6764.94 | D6: =(1+Inputs!$E$56)^D5*Inputs!$E$61 -> 7103.187 | E6: =(1+Inputs!$E$56)^E5*Inputs!$E$61 -> 7458.3463 | F6: =(1+Inputs!$E$56)^F5*Inputs!$E$61 -> 7831.2637
A7: - (Cap Ex - Deprec'n) (1 - DR) | B7: =((1+Inputs!$E$57)^B5*Inputs!$E$62- (1+Inputs!$E$58)^B5*Inputs!$E$63)*(1-'Forecasted Dividends & FCFE'!$B$2) -> 560.7641 | C7: =((1+Inputs!$E$57)^C5*Inputs!$E$62- (1+Inputs!$E$58)^C5*Inputs!$E$63)*(1-'Forecasted Dividends & FCFE'!$B$2) -> 588.80231 | D7: =((1+Inputs!$E$57)^D5*Inputs!$E$62- (1+Inputs!$E$58)^D5*Inputs!$E$63)*(1-'Forecasted Dividends & FCFE'!$B$2) -> 618.24242 | E7: =((1+Inputs!$E$57)^E5*Inputs!$E$62- (1+Inputs!$E$58)^E5*Inputs!$E$63)*(1-'Forecasted Dividends & FCFE'!$B$2) -> 649.15454 | F7: =((1+Inputs!$E$57)^F5*Inputs!$E$62- (1+Inputs!$E$58)^F5*Inputs!$E$63)*(1-'Forecasted Dividends & FCFE'!$B$2) -> 681.61227
A8: - Change in Working Capital (1 - DR) | B8: =B14*(1-$B$2) -> 112.14751 | C8: =C14*(1-$B$2) -> 117.75489 | D8: =D14*(1-$B$2) -> 123.64264 | E8: =E14*(1-$B$2) -> 129.82477 | F8: =F14*(1-$B$2) -> 136.31601
A9: FCFE | B9: =B6-B7-B8 -> 5769.8884 | C9: =C6-C7-C8 -> 6058.3828 | D9: =D6-D7-D8 -> 6361.3019 | E9: =E6-E7-E8 -> 6679.367 | F9: =F6-F7-F8 -> 7013.3354
A10: Expected Dividends | B10: =(1+Inputs!$D$66)^B5*Inputs!$E$64 -> 1390.2 | C10: =(1+Inputs!$D$66)^C5*Inputs!$E$64 -> 1459.71 | D10: =(1+Inputs!$D$66)^D5*Inputs!$E$64 -> 1532.6955 | E10: =(1+Inputs!$D$66)^E5*Inputs!$E$64 -> 1609.3303 | F10: =(1+Inputs!$D$66)^F5*Inputs!$E$64 -> 1689.7968
A11: Cash available for stock buybacks | B11: =B9-B10 -> 4379.6884 | C11: =C9-C10 -> 4598.6728 | D11: =D9-D10 -> 4828.6064 | E11: =E9-E10 -> 5070.0368 | F11: =F9-F10 -> 5323.5386
A13: Revenues | B13: =Inputs!$E$60*(1+Inputs!$E$55)^B5 -> 44391.9 | C13: =Inputs!$E$60*(1+Inputs!$E$55)^C5 -> 46611.495 | D13: =Inputs!$E$60*(1+Inputs!$E$55)^D5 -> 48942.07 | E13: =Inputs!$E$60*(1+Inputs!$E$55)^E5 -> 51389.173 | F13: =Inputs!$E$60*(1+Inputs!$E$55)^F5 -> 53958.632
A14: Non-cash WC | B14: =(B13-Inputs!E60)*Inputs!$E$59 -> 126.834 | C14: =(C13-B13)*Inputs!$E$59 -> 133.1757 | D14: =(D13-C13)*Inputs!$E$59 -> 139.83448 | E14: =(E13-D13)*Inputs!$E$59 -> 146.82621 | F14: =(F13-E13)*Inputs!$E$59 -> 154.16752

Sheet Historical Stock and T.Bills
A1: Year | B1: S&P 500 (includes dividends) | C1: 3-month T.Bill | D1: US T. Bond
A2: 1928 | B2: 0.43811155 | C2: 0.0308 | D2: 0.0083547086
A3: 1929 | B3: -0.082979466 | C3: 0.0316 | D3: 0.042038042
A4: 1930 | B4: -0.25123636 | C4: 0.0455 | D4: 0.045409314
A5: 1931 | B5: -0.43837549 | C5: 0.0231 | D5: -0.02558856
A6: 1932 | B6: -0.086423645 | C6: 0.0107 | D6: 0.08790307
A7: 1933 | B7: 0.49982225 | C7: 0.0096 | D7: 0.018552721
A8: 1934 | B8: -0.011885657 | C8: 0.0027833333 | D8: 0.079634426
A9: 1935 | B9: 0.46740421 | C9: 0.001675 | D9: 0.044720477
A10: 1936 | B10: 0.3194341 | C10: 0.001725 | D10: 0.050178754
A11: 1937 | B11: -0.35336729 | C11: 0.0027583333 | D11: 0.013791461
A12: 1938 | B12: 0.29282654 | C12: 0.00065 | D12: 0.042132485
A13: 1939 | B13: -0.010975647 | C13: 0.00045833333 | D13: 0.044122614
... A98: 2024 | B98: 0.24878611 | C98: 0.0497 | D98: -0.016371801

Sheet Sheet1
A2: Yes | B2: 1
A3: No | B3: 2
B4: 3
B5: 4
B6: 5
B7: 6
B8: 7
B9: 8
B10: 9
B11: 10
