Workbook

Sheet Impl premium calculator
A1: Implied Risk Premium Calculator | B1: Jan 2023 Update: The COVID-adjusted ERP that I computed from March 2020 to December 2021 has been discontinued. All of the other numbers have been updated. The big jump in the normalized ERP came from changing the normalization to the 2013-22 time period and bringing in the effects of inflation in the last two years. Finally, the smoothed out ERP, where I use the average cash yield over the last ten years multiplied by the current index level to get the cash flow also had a big jump from the numbers for the last six months, largely as a result of the index value increasing.
A2: Inputs
A3: Base Year Earnings for the Index | B3: Estimated | D3: Cash Flow Choices
A4: Enter current level of index | B4: 4567.8 | D4: Dividends and Buybacks Trailing 12 months = | G4: ='Buyback & Dividend computation'!G52 -> 166.81501 | H4: C | I4: Dividends + Buybacks in last four quarters
A5: What cash yield (dividends & buybacks) do you want to use as your base number? | B5: C | D5: Dividends and Buybacks (Average yield- last decade) | G5: ='Buyback & Dividend computation'!D24*'Buyback & Dividend computation'!D27 -> 195.99577 | H5: A10 | I5: Multiplies average cash yield over last 10 years by index level at the start of most recent quarter
A6: Cash yield on index (Calculated number but you can override it) | B6: =IF(B5="C",G4/B4,IF(B5="A10",G5/B4,IF(B5="A5",G6/B4,IF(B5="P10",G7/B4,IF(B5="p5",G8/B4,IF(B5="NC",G10/B4,G9/B4)))))) -> 0.03651977 | D6: Dividends and Buybacks (Average yield- last 5 years) | G6: ='Buyback & Dividend computation'!D25*'Buyback & Dividend computation'!D27 -> 186.5673 | H6: A5 | I6: Multiplies average cash yield over last 5 years by index level at the start of most recent quarter
A7: What expected growth rate do you want to use for the next 5 years? | B7: TD | D7: Dividends and Buybacks (Average payout- last decade) | G7: ='Buyback & Dividend computation'!E24*'Buyback & Dividend computation'!C52 -> 191.36985 | H7: P10 | I7: Multiplies Earnings in last 12 months by average payout ratio (including buybacks) over last 10 years
A8: Expected growth rate in earnings for the next 5 years = | B8: =IF(B7="H",G13,IF(B7="BU",G14,IF(B7="TD",G15,IF(B7="FC",G16,G17)))) -> 0.073160227 | D8: Dividends and Buybacks (Average payout - last 5 years) | G8: ='Buyback & Dividend computation'!E25*'Buyback & Dividend computation'!C52 -> 186.40526 | H8: P5 | I8: Multiplies Earnings in last 12 months by average payout ratio (including buybacks) over last 5 years
A9: Enter current long term risk free rate = | B9: =0.04285+0.00048 -> 0.04333 | D9: Dividend and Buybacks (Average payout & normal earnings) | G9: ='Buyback & Dividend computation'!E24*AVERAGE('Buyback & Dividend computation'!Q42:Q52) -> 152.98179 | H9: NORM | I9: Multiplies average earnings over last 10 years by average payout ratio over same period
A10: If you want to compute an intrinsic value for index, what ERP would you like to use? | B10: ERP10 | D10: Dividends and Buybacks, net of stock issues, trailing 12 months | G10: ='Buyback & Dividend computation'!H52 -> 158.77981 | H10: NC | I10: Dividends + Buybacks - Stock Issuances in last four quarters
A11: ERP used to compute fair value of index (you can override this number) = | B11: 0.05
A12: Do you want to change the growth rate in the long term? | B12: No | D12: Growth Choices
A13: If yes, enter the expected growth rate to use after year 5 | B13: 0.03 | D13: Historical earnings growth rate (last decade) = | G13: =('Buyback & Dividend computation'!C52/'Buyback & Dividend computation'!C40)^(1/10)-1 -> 0.08046856 | H13: H
A14: Do you want to adjust the payout ratio to sustainable levels in year 5? | B14: No | D14: Bottom up forecasted growth rate (next 5 years) = | G14: ='Expected growth rate'!L11 -> 0.046452167 | H14: BU
A15: Here is how it works | D15: Top down forecasted growth rate (next 5 years) = | G15: ='Expected growth rate'!G11 -> 0.073160227 | H15: TD
A16: For the intrinsic value of the index, I start with your base cash flow choice (from B5) and grow these cash flows at | D16: Fundamental growth rate (based on current ROE) = | G16: =(1-((B6*B4)/B31))*'Buyback & Dividend computation'!$F18 -> 0.038067417 | H16: FC
A17: the expected growth rate (from B7) for 5 years. After year 5, I use the expected growth rate in the long term (B12) | D17: Fundamental growth rate (based on average ROE) = | G17: =(1-((B6*B4)/B31))*'Buyback & Dividend computation'!$F24 -> 0.040066284 | H17: FA
A18: as the perpetual growth rate. The discount rate that I use is the sum of the risk free rate (B9) and your ERP choice (B11).
A19: If you choose to adjust your payout ratio, I estimate the payout ratio given average ROE over last 10 years. Payout = 1 - g/ ROE | D19: ERP Choices (for index intrinsic value)
A20: For the implied ERP, you will have to use the goal seek function in Excel. (See picture to the right) | D20: Historical Equity risk premium (US) = | G20: ='Historical ERP'!M96 -> 0.050613437 | H20: HUS
A21: 1. In the set cell box, enter B48 | D21: Historical Equity risk premium (Global) = | G21: 0.032 | H21: HG
A22: 2. In "To value" box, enter the current level of the index | D22: Average implied ERP (last decade) = | G22: =AVERAGE('Implied ERP- Annual since 1960'!E54:E63) -> 0.05353 | H22: ERP10
A23: 3. In "By changing cell" enter C40 | D23: Average implied ERP (1960-Current) = | G23: =AVERAGE('Implied ERP- Annual since 1960'!E3:E63) -> 0.042131148 | H23: ERPLong
A24: 4. Click on OK and the answer should show up in C40 | D24: Historical High ERP (1960-Current) = | G24: =MAX('Implied ERP- Annual since 1960'!E3:E63) -> 0.0645 | H24: ERPHigh
D25: Base Year Earnings
D26: Reported Earnings by companies in trailing 12 months | G26: ='Buyback & Dividend computation'!C52 -> 209.1118 | H26: Reported LTM
D27: Estimated base year Earnings (for the most recent year) | G27: ='Expected growth rate'!H4 -> 218.09 | H27: Estimated
A29: Intrinsic Value Estimate (based on your choice of ERP) based upon pre-Corona numbers
B30: Last 12 months | C30: 1 | D30: 2 | E30: 3 | F30: 4 | G30: 5 | H30: Terminal Year
A31: Expected Earnings | B31: =IF(B3="Inputed",G26,G27) -> 218.09 | C31: =B31*(1+$B$8) -> 234.04551 | D31: =C31*(1+$B$8) -> 251.16834 | E31: =D31*(1+$B$8) -> 269.54387 | F31: =E31*(1+$B$8) -> 289.26376 | G31: =F31*(1+$B$8) -> 310.42636 | H31: =IF(B12="No",G31*(1+B9),G31*(1+B13)) -> 323.87714
A32: Expected cash payout (dividends + buybacks) as % of earnings | B32: =B33/G26 -> 0.79773119 | C32: =IF($B$14="Yes",B32-($B$32-$H$32)/5,$B$32) -> 0.79773119 | D32: =IF($B$14="Yes",C32-($B$32-$H$32)/5,$B$32) -> 0.79773119 | E32: =IF($B$14="Yes",D32-($B$32-$H$32)/5,$B$32) -> 0.79773119 | F32: =IF($B$14="Yes",E32-($B$32-$H$32)/5,$B$32) -> 0.79773119 | G32: =IF($B$14="Yes",F32-($B$32-$H$32)/5,$B$32) -> 0.79773119 | H32: =IF($B$14="Yes",IF(B12="No",1-B9/'Buyback & Dividend computation'!F24,1-B13/'Buyback & Dividend computation'!F24),$B$32) -> 0.79773119
A33: Expected Dividends + Buybacks = | B33: =IF(B5="C",G4,IF(B5="A10",G5,IF(B5="A5",G6,IF(B5="P10",G7,IF(B5="P5",G8,IF(B5="NORM",G9,G10)))))) -> 166.81501 | C33: =C31*C32 -> 186.70541 | D33: =D31*D32 -> 200.36482 | E33: =E31*E32 -> 215.02355 | F33: =F31*F32 -> 230.75472 | G33: =G31*G32 -> 247.63679 | H33: =H32*H31 -> 258.36689
A34: Expected Terminal Value = | G34: =IF(B12="No",H33/(B9+B11-B9),H33/(B9+B11-B13)) -> 5167.3379
A35: Present Value = | C35: =C33/(1+$B$9+$B$11)^C30 -> 170.76766 | D35: =D33/(1+$B$9+$B$11)^D30 -> 167.61734 | E35: =E33/(1+$B$9+$B$11)^E30 -> 164.52513 | F35: =F33/(1+$B$9+$B$11)^F30 -> 161.48996 | G35: =(G33+G34)/(1+$B$9+$B$11)^G30 -> 3466.0921
A36: Intrinsic Value of Index = | C36: =SUM(C35:G35) -> 4130.4922
A37: Intrinsic Trailing PE = | C37: =C36/'Buyback & Dividend computation'!C52 -> 19.752554
A38: Intrinsic CAPE (based on inflation-adjusted ten year average earnings) = | C38: =C36/AVERAGE('Buyback & Dividend computation'!Q36:Q45) -> 35.200332
A39: Implied Equity Risk Premium Calculator | C39: -4.2534789e+27
A40: Implied Risk Premium in current level of Index = | C40: 0.045260134 | D40: (Go under Tools and choose Solver or Goal Seek: See below)
B42: =B30 -> Last 12 months | C42: 1 | D42: 2 | E42: 3 | F42: 4 | G42: 5 | H42: =H30 -> Terminal Year
...

Sheet Buyback & Dividend computation
A1: Year | B1: Dividend Yield | C1: Buybacks/Index | D1: Gross Cash Yield | E1: Payout | F1: Return on Equity | G1: Net Profit Margin | H1: Column1 | I1: Column2
A2: 2001 | B2: =I30 -> 0.013709727 | C2: =J30 -> 0.012490273 | D2: =K30 -> 0.0262 | E2: =(D30+E30)/C30 -> 0.77425889 | F2: =C30/M30 -> 0.11924494 | G2: =C30/O30 -> 0.052722289
A3: 2002 | B3: =I31 -> 0.018140074 | C3: =J31 -> 0.015759926 | D3: =K31 -> 0.0339 | E3: =(D31+E31)/C31 -> 0.64782576 | F3: =C31/M31 -> 0.13606407 | G3: =C31/O31 -> 0.068248862
A4: 2003 | B4: =I32 -> 0.016080438 | C4: =J32 -> 0.012319562 | D4: =K32 -> 0.0284 | E4: =(D32+E32)/C32 -> 0.57740435 | F4: =C32/M32 -> 0.16790495 | G4: =C32/O32 -> 0.076940392
A5: 2004 | B5: =I33 -> 0.015685854 | C5: =J33 -> 0.017814146 | D5: =K33 -> 0.0335 | E5: =(D33+E33)/C33 -> 0.59987175 | F5: =C33/M33 -> 0.18432879 | G5: =C33/O33 -> 0.0858698
A6: 2005 | B6: =I34 -> 0.0179 | C6: =J34 -> 0.0311 | D6: =K34 -> 0.049 | E6: =(D34+E34)/C34 -> 0.80008123 | F6: =C34/M34 -> 0.18432791 | G6: =C34/O34 -> 0.087439381
A7: 2006 | B7: =I35 -> 0.017656532 | C7: =J35 -> 0.033924896 | D7: =K35 -> 0.0516 | E7: =(D35+E35)/C35 -> 0.83399384 | F7: =C35/M35 -> 0.19361674 | G7: =C35/O35 -> 0.092093521
A8: 2007 | B8: =I36 -> 0.01916304 | C8: =J36 -> 0.045781784 | D8: =K36 -> 0.064944824 | E8: =(D36+E36)/C36 -> 1.1553475 | F8: =C36/M36 -> 0.16364321 | G8: =C36/O36 -> 0.080520545
A9: 2008 | B9: =I37 -> 0.031493887 | C9: =J37 -> 0.043255222 | D9: =K37 -> 0.074749109 | E9: =(D37+E37)/C37 -> 1.363707 | F9: =C37/M37 -> 0.093487415 | G9: =C37/O37 -> 0.047493429
A10: 2009 | B10: =I38 -> 0.019702861 | C10: =J38 -> 0.013864827 | D10: =K38 -> 0.033567687 | E10: =(D38+E38)/C38 -> 0.65824783 | F10: =C38/M38 -> 0.12597204 | G10: =C38/O38 -> 0.062593571 | J10: Table will be updated once the year's final numbers are in. For 2022, for instance, the update was in March 2023
A11: 2010 | B11: =I39 -> 0.018007874 | C11: =J39 -> 0.026143482 | D11: =K39 -> 0.044151356 | E11: =(D39+E39)/C39 -> 0.66284483 | F11: =C39/M39 -> 0.16310993 | G11: =C39/O39 -> 0.087014781
A12: 2011 | B12: =I40 -> 0.021097936 | C12: =J40 -> 0.035580149 | D12: =K40 -> 0.056678085 | E12: =(D40+E40)/C40 -> 0.7390954 | F12: =C40/M40 -> 0.16652278 | G12: =C40/O40 -> 0.091600733
A13: 2012 | B13: =I41 -> 0.021911527 | C13: =J41 -> 0.031306702 | D13: =K41 -> 0.053218229 | E13: =(D41+E41)/C41 -> 0.78392177 | F13: =C41/M41 -> 0.15790847 | G13: =C41/O41 -> 0.088632972
A14: 2013 | B14: =I42 -> 0.018881603 | C14: =J42 -> 0.028798502 | D14: =K42 -> 0.047680106 | E14: =(D42+E42)/C42 -> 0.83997331 | F14: =C42/M42 -> 0.15730842 | G14: =C42/O42 -> 0.09394615
A15: 2014 | B15: =I43 -> 0.019206906 | C15: =J43 -> 0.030324472 | D15: =K43 -> 0.049531378 | E15: =(D43+E43)/C43 -> 0.87792833 | F15: =C43/M43 -> 0.1622709 | G15: =C43/O43 -> 0.099852147
A16: 2015 | B16: =I44 -> 0.021238393 | C16: =J44 -> 0.03177197 | D16: =K44 -> 0.053010362 | E16: =(D44+E44)/C44 -> 1.078324 | F16: =C44/M44 -> 0.13821943 | G16: =C44/O44 -> 0.089146771
A17: 2016 | B17: =I45 -> 0.020412539 | C17: =J45 -> 0.027836092 | D17: =K45 -> 0.048248631 | E17: =(D45+E45)/C45 -> 1.0165631 | F17: =C45/M45 -> 0.14353834 | G17: =C45/O45 -> 0.092345396
A18: 2017 | B18: =I46 -> 0.018301099 | C18: =J46 -> 0.02275949 | D18: =K46 -> 0.041060588 | E18: =(D46+E46)/C46 -> 0.88169625 | F18: =C46/M46 -> 0.16191368 | G18: =C46/O46 -> 0.1010986
A19: 2018 | B19: =I47 -> 0.021696551 | C19: =J47 -> 0.038338951 | D19: =K47 -> 0.060035503 | E19: =(D47+E47)/C47 -> 0.98507658 | F19: =C47/M47 -> 0.18484731 | G19: =C47/O47 -> 0.11522826
A20: 2019 | B20: =I48 -> 0.018107083 | C20: =J48 -> 0.027179195 | D20: =K48 -> 0.045286278 | E20: =(D48+E48)/C48 -> 0.93084362 | F20: =C48/M48 -> 0.18456589 | G20: =C48/O48 -> 0.11287774
A21: 2020 | B21: =I49 -> 0.015175436 | C21: =J49 -> 0.016416094 | D21: =K49 -> 0.031591531 | E21: =(D49+E49)/C49 -> 0.8490269 | F21: =C49/M49 -> 0.15282668 | G21: =C49/O49 -> 0.10245358
A22: 2021 | B22: =I50 -> 0.012725075 | C22: =J50 -> 0.021948395 | D22: =K50 -> 0.03467347 | E22: =(D50+E50)/C50 -> 0.80477234 | F22: =C50/M50 -> 0.22139684 | G22: =C50/O50 -> 0.13589438
A23: 2022 | B23: =I51 -> 0.01744498 | C23: =J51 -> 0.028511525 | D23: =K51 -> 0.045956505 | E23: =(D51+E51)/C51 -> 0.88735228 | F23: =C51/M51 -> 0.19726791 | G23: =C51/O51 -> 0.11597254
A24: Average: Last 10 years = | D24: =AVERAGE(D14:D23) -> 0.045707435 | E24: =AVERAGE(E14:E23) -> 0.91515568 | F24: =AVERAGE(F14:F23) -> 0.17041554 | G24: =AVERAGE(G14:G23) -> 0.10588156 | H24: Updated April 1, 2023
A25: Average: Last 5 years | D25: =AVERAGE(D19:D23) -> 0.043508657 | E25: =AVERAGE(E19:E23) -> 0.89141434 | F25: =AVERAGE(F19:F23) -> 0.18818093 | G25: =AVERAGE(G19:G23) -> 0.1164853 | H25: Updated April 1, 2023
A27: Index at the start of the current quarter = | D27: 4288.05 | E27: Base for normalized Cashflow | J27: Updated at the start of every quarter | M27: Last updated | N27: 43738
A29: Year | B29: Market value of index | C29: Earnings | D29: Dividends | E29: Buybacks | F29: Stock Issuances | G29: Cash to equity | H29: Net Cash to Equity | I29: Dividend yield | J29: Buyback yield | K29: Gross Cash Yield | L29: Net Cash Yield | M29: Book Value of Equity at start of year | N29: Return on Equity | O29: Sales per share | P29: Inflation rate | Q29: Inflation adjusted Earnings
A30: 2001 | B30: 1148.09 | C30: 38.85 | D30: =I30*B30 -> 15.74 | E30: =J30*B30 -> 14.339958 | G30: =D30+E30 -> 30.079958 | I30: 0.013709727 | J30: 0.012490273 | K30: 0.0262 | M30: 325.8 | N30: =C30/M30 -> 0.11924494 | O30: 736.88 | P30: 0.016 | Q30: =C30*(1+P31)*(1+P32)*(1+P33)*(1+P34)*(1+P35)*(1+P36)*(1+P37)*(1+P38)*(1+P39)*(1+P40)*(1+P41)*(1+P42)*(1+P43)*(1+P44)*(1+P45)*(1+P46)*(1+P47)*(1+P48)*(1+P49)*(1+P50)*(1+P51) -> 65.753536
A31: 2002 | B31: 879.82 | C31: 46.04 | D31: =I31*B31 -> 15.96 | E31: =J31*B31 -> 13.865898 | G31: =D31+E31 -> 29.825898 | I31: 0.018140074 | J31: 0.015759926 | K31: 0.0339 | M31: 338.37 | N31: =C31/M31 -> 0.13606407 | O31: 674.59 | P31: 0.0248 | Q31: =C31*(1+P32)*(1+P33)*(1+P34)*(1+P35)*(1+P36)*(1+P37)*(1+P38)*(1+P39)*(1+P40)*(1+P41)*(1+P42)*(1+P43)*(1+P44)*(1+P45)*(1+P46)*(1+P47)*(1+P48)*(1+P49)*(1+P50)*(1+P51) -> 76.03688
A32: 2003 | B32: 1111.91 | C32: 54.69 | D32: =I32*B32 -> 17.88 | E32: =J32*B32 -> 13.698244 | G32: =D32+E32 -> 31.578244 | I32: 0.016080438 | J32: 0.012319562 | K32: 0.0284 | M32: 325.72 | N32: =C32/M32 -> 0.16790495 | O32: 710.81 | P32: 0.0204 | Q32: =C32*(1+P33)*(1+P34)*(1+P35)*(1+P36)*(1+P37)*(1+P38)*(1+P39)*(1+P40)*(1+P41)*(1+P42)*(1+P43)*(1+P44)*(1+P45)*(1+P46)*(1+P47)*(1+P48)*(1+P49)*(1+P50)*(1+P51) -> 88.516951
A33: 2004 | B33: 1211.92 | C33: 67.68 | D33: =I33*B33 -> 19.01 | E33: =J33*B33 -> 21.58932 | G33: =D33+E33 -> 40.59932 | I33: 0.015685854 | J33: 0.017814146 | K33: 0.0335 | M33: 367.17 | N33: =C33/M33 -> 0.18432879 | O33: 788.17 | P33: 0.0334 | Q33: =C33*(1+P34)*(1+P35)*(1+P36)*(1+P37)*(1+P38)*(1+P39)*(1+P40)*(1+P41)*(1+P42)*(1+P43)*(1+P44)*(1+P45)*(1+P46)*(1+P47)*(1+P48)*(1+P49)*(1+P50)*(1+P51) -> 106.00111
A34: 2005 | B34: 1248.29 | C34: 76.45 | D34: =I34*B34 -> 22.344391 | E34: =J34*B34 -> 38.821819 | G34: =D34+E34 -> 61.16621 | I34: 0.0179 | J34: 0.0311 | K34: 0.049 | M34: 414.75 | N34: =C34/M34 -> 0.18432791 | O34: 874.32 | P34: 0.0334 | Q34: =C34*(1+P35)*(1+P36)*(1+P37)*(1+P38)*(1+P39)*(1+P40)*(1+P41)*(1+P42)*(1+P43)*(1+P44)*(1+P45)*(1+P46)*(1+P47)*(1+P48)*(1+P49)*(1+P50)*(1+P51) -> 115.86682
A35: 2006 | B35: 1418.3 | C35: 87.72 | D35: =I35*B35 -> 25.04226 | E35: =J35*B35 -> 48.11568 | G35: =D35+E35 -> 73.15794 | I35: 0.017656532 | J35: 0.033924896 | K35: 0.0516 | M35: 453.06 | N35: =C35/M35 -> 0.19361674 | O35: 952.51 | P35: 0.0252 | Q35: =C35*(1+P36)*(1+P37)*(1+P38)*(1+P39)*(1+P40)*(1+P41)*(1+P42)*(1+P43)*(1+P44)*(1+P45)*(1+P46)*(1+P46)*(1+P47)*(1+P48)*(1+P49)*(1+P50)*(1+P51) -> 132.41583
A36: 2007 | B36: 1468.36 | C36: 82.54 | D36: =I36*B36 -> 28.138242 | E36: =J36*B36 -> 67.224141 | G36: =D36+E36 -> 95.362382 | I36: 0.01916304 | J36: 0.045781784 | K36: =G36/B36 -> 0.064944824 | M36: 504.39 | N36: =C36/M36 -> 0.16364321 | O36: 1025.08 | P36: 0.0411 | Q36: =C36*(1+P37)*(1+P38)*(1+P39)*(1+P40)*(1+P41)*(1+P42)*(1+P43)*(1+P44)*(1+P45)*(1+P46)*(1+P47)*(1+P48)*(1+P49)*(1+P50)*(1+P51) -> 117.2047
A37: 2008 | B37: 903.25 | C37: 49.51 | D37: =F69*E69 -> 28.446853 | E37: =G69*E69 -> 39.070279 | G37: =D37+E37 -> 67.517132 | I37: =D37/B37 -> 0.031493887 | J37: =E37/B37 -> 0.043255222 | K37: =I37+J37 -> 0.074749109 | M37: 529.59 | N37: =C37/M37 -> 0.093487415 | O37: 1042.46 | P37: -0.0002 | Q37: =C37*(1+P38)*(1+P39)*(1+P40)*(1+P41)*(1+P42)*(1+P43)*(1+P44)*(1+P45)*(1+P46)*(1+P47)*(1+P48)*(1+P49)*(1+P50)*(1+P51) -> 70.317004
A38: 2009 | B38: 1115 | C38: 56.86 | D38: =F68*E68 -> 21.96869 | E38: =G68*E68 -> 15.459282 | G38: =D38+E38 -> 37.427971 | I38: =D38/B38 -> 0.019702861 | J38: =E38/B38 -> 0.013864827 | K38: =I38+J38 -> 0.033567687 | M38: 451.37 | N38: =C38/M38 -> 0.12597204 | O38: 908.4 | P38: 0.0281 | Q38: =C38*(1+P39)*(1+P40)*(1+P41)*(1+P42)*(1+P43)*(1+P44)*(1+P45)*(1+P46)*(1+P47)*(1+P48)*(1+P49)*(1+P50)*(1+P51) -> 78.548686
A39: 2010 | B39: 1257.64 | C39: 83.77 | D39: =F67*E67 -> 22.647423 | E39: =G67*E67 -> 32.879089 | G39: =D39+E39 -> 55.526511 | I39: =D39/B39 -> 0.018007874 | J39: =E39/B39 -> 0.026143482 | K39: =I39+J39 -> 0.044151356 | M39: 513.58 | N39: =C39/M39 -> 0.16310993 | O39: 962.71 | P39: 0.0144 | Q39: =C39*(1+P40)*(1+P41)*(1+P42)*(1+P43)*(1+P44)*(1+P45)*(1+P46)*(1+P47)*(1+P48)*(1+P49)*(1+P50)*(1+P51) -> 114.08048
A40: 2011 | B40: 1257.6 | C40: 96.44 | D40: =F66*E66 -> 26.532764 | E40: =G66*E66 -> 44.745596 | G40: =D40+E40 -> 71.27836 | I40: =D40/B40 -> 0.021097936 | J40: =E40/B40 -> 0.035580149 | K40: =I40+J40 -> 0.056678085 | M40: 579.14 | N40: =C40/M40 -> 0.16652278 | O40: 1052.83 | P40: 0.0306 | Q40: =C40*(1+P41)*(1+P42)*(1+P43)*(1+P44)*(1+P45)*(1+P46)*(1+P47)*(1+P48)*(1+P49)*(1+P50)*(1+P51) -> 127.43534
A41: 2012 | B41: 1426.19 | C41: 96.82 | D41: 31.25 | E41: =G65*E65 -> 44.649306 | G41: =D41+E41 -> 75.899306 | I41: =D41/B41 -> 0.021911527 | J41: =E41/B41 -> 0.031306702 | K41: =I41+J41 -> 0.053218229 | M41: 613.14 | N41: =C41/M41 -> 0.15790847 | O41: 1092.37 | P41: 0.0176 | Q41: =C41*(1+P42)*(1+P43)*(1+P44)*(1+P45)*(1+P46)*(1+P47)*(1+P48)*(1+P49)*(1+P50)*(1+P51) -> 125.72472
A42: 2013 | B42: 1848.36 | C42: 104.92 | D42: 34.9 | E42: 53.23 | G42: 88.13 | I42: =D42/B42 -> 0.018881603 | J42: =E42/B42 -> 0.028798502 | K42: =I42+J42 -> 0.047680106 | M42: 666.97 | N42: =C42/M42 -> 0.15730842 | O42: 1116.81 | P42: 0.0151 | Q42: =C42*(1+P43)*(1+P44)*(1+P45)*(1+P46)*(1+P47)*(1+P48)*(1+P49)*(1+P50)*(1+P51) -> 134.21623
...

Sheet Expected growth rate
A1: Top Down Estimates (Yardeni on 11/27/23) | F1: Top-down Estimates (Analyst Consensus on 11/27/23) | K1: Bottom-up Estimates (Factset on 12/22)
A2: Year | B2: Earnings on Index | D2: Source | F2: Year | G2: Earnings on Index | I2: Source | K2: Year | L2: Earnings on Index | N2: Source
A3: 2021 | C3: 208.53 | F3: 2021 | H3: =C3 -> 208.53 | K3: 2021 | M3: 208.49
A4: 2022 | C4: =H4 -> 218.09 | D4: Yardeni | F4: 2022 | H4: 218.09 | I4: Analyst Consensus | K4: 2022E | M4: 220.87 | N4: Analyst Consensus
A5: 2023 | B5: =C5/C4-1 -> 0.031684167 | C5: 225 | D5: Yardeni | F5: 2023 | G5: =H5/H4-1 -> 0.012655326 | H5: 220.85 | I5: Analyst Consensus | K5: 2023 | L5: =M5/M4-1 -> 0.048535338 | M5: 231.59 | N5: Analyst Consensus
A6: 2024 | B6: =C6/C5-1 -> 0.11111111 | C6: 250 | D6: Yardeni | F6: 2024 | G6: =H6/H5-1 -> 0.11378764 | H6: 245.98 | I6: Analyst Consensus | K6: 2024 | L6: =L5-1*(L5-$L$10)/5 -> 0.04749427 | N6: Analyst Consensus
A7: 2025 | B7: =C7/C6-1 -> 0.08 | C7: 270 | F7: 2025 | G7: =H7/H6-1 -> 0.11809903 | H7: 275.03 | I7: Analyst Consensus | K7: 2025 | L7: =L5-2*(L5-$L$10)/5 -> 0.046453203 | N7: Analyst Consensus
A8: 2026 | B8: =(B5+B6+B7)/3-1*((B5+B6+B7)/3-$B10)/3 -> 0.063953395 | F8: 2026 | G8: =(G5+G6+G7)/3-1*((G5+G6+G7)/3-$G10)/3 -> 0.068785999 | K8: 2026 | L8: =L5-3*(L5-$L$10)/5 -> 0.045412135
A9: 2027 | B9: =(B5+B6+B7)/3-2*((B5+B6+B7)/3-$B10)/3 -> 0.053641698 | F9: 2027 | G9: =(G5+G6+G7)/3-2*((G5+G6+G7)/3-$G10)/3 -> 0.056058 | K9: 2027 | L9: =L5-4*(L5-$L$10)/5 -> 0.044371068
A10: 2028 | B10: ='Impl premium calculator'!B9 -> 0.04333 | F10: 2028 | G10: ='Impl premium calculator'!B9 -> 0.04333 | K10: 2028 | L10: =G10 -> 0.04333
A11: Compounded average | B11: =((1+B5)*(1+B6)*(1+B7)*(1+B8)*(1+B9))^(1/5)-1 -> 0.067747869 | F11: CAGR | G11: =((1+G5)*(1+G6)*(1+G7)*(1+G8)*(1+G9))^(1/5)-1 -> 0.073160227 | K11: CAGR: 2021E | L11: =((1+L5)*(1+L6)*(1+L7)*(1+L8)*(1+L9))^(1/5)-1 -> 0.046452167
A13: Sources for top down estimates
A14: Thomson Reuters
A15: Factset
A16: Yardeni
A17: S&P Capital IQ | B17: Used estimated Net Income aggregated across
B18: individual companies for next two years
G25: On 12/31/22
G26: Market Strategists Estimates
G27: FIRM | H27: STRATEGIST | I27: 2022 S&P 500 | J27: 2023 EPS | K27: IMPLIED P/E
G28: Deutsche Bank | H28: Binky Chadha | I28: 4500 | J28: 195 | K28: =I28/J28 -> 23.076923
G29: BMO | H29: Brian Belski | I29: 4300 | J29: 220 | K29: =I29/J29 -> 19.545455
G30: Scotiabank | H30: Hugo Ste-Marie | I30: 4225 | J30: 225 | K30: =I30/J30 -> 18.777778
G31: Jeffries | H31: Sean Darby | I31: 4200 | J31: 232 | K31: =I31/J31 -> 18.103448
G32: JP Morgan | H32: Dubravko Lakos-Bujas | I32: 4200 | J32: 205 | K32: =I32/J32 -> 20.487805
G33: Cantor Fitzgerald | H33: Eric Johnson | I33: 4100 | J33: 212 | K33: =I33/J33 -> 19.339623
G34: RBC Capital Markets | H34: Lori Calvasina | I34: 4100 | J34: 199 | K34: =I34/J34 -> 20.603015
G35: Credit Suisse | H35: Jonathan Golub | I35: 4050 | J35: 230 | K35: =I35/J35 -> 17.608696
G36: Bank of America | H36: Savita Subramaniam | I36: 4000 | J36: 200 | K36: =I36/J36 -> 20
G37: Goldman Sachs | H37: Davis Kostin | I37: 4000 | J37: 224 | K37: =I37/J37 -> 17.857143
G38: HSBC | H38: Max Kettner | I38: 4000 | J38: 225 | K38: =I38/J38 -> 17.777778
G39: Citigroup | H39: Scott Chronert | I39: 3900 | J39: 215 | K39: =I39/J39 -> 18.139535
... G44: BNP Paribas | H44: Greg Boutle | I44: 3400 | J44: 219 | K44: =I44/J44 -> 15.525114
G45: Evercore ISI | H45: Julian Emmanuel | I45: - | J45: 222
G46: Stifel | H46: Barry Bannister | I46: - | J46: 220
G47: Average | J47: =AVERAGE(J28:J46) -> 220.10526
G48: Median | J48: =MEDIAN(J28:J40) -> 220
G49: High | J49: =MAX(J28:J40) -> 314
G50: Low | J50: =MIN(J28:J40) -> 195

Sheet Implied ERP- Annual since 1960
A1: Year | B1: Earnings Yield | C1: Dividend Yield | D1: T.Bond Rate | E1: Implied ERP
A2: 1960 | B2: 0.0534 | C2: 0.0341 | D2: 0.0276
A3: 1961 | B3: 0.0471 | C3: 0.0285 | D3: 0.0235 | E3: 0.0292
A4: 1962 | B4: 0.0581 | C4: 0.034 | D4: 0.0385 | E4: 0.0356
A5: 1963 | B5: 0.0551 | C5: 0.0313 | D5: 0.0414 | E5: 0.0338
A6: 1964 | B6: 0.0562 | C6: 0.0305 | D6: 0.0421 | E6: 0.0331
A7: 1965 | B7: 0.0573 | C7: 0.0306 | D7: 0.0465 | E7: 0.0332
A8: 1966 | B8: 0.0674 | C8: 0.0359 | D8: 0.0464 | E8: 0.0368
A9: 1967 | B9: 0.0566 | C9: 0.0309 | D9: 0.057 | E9: 0.032
A10: 1968 | B10: 0.0551 | C10: 0.0293 | D10: 0.0616 | E10: 0.03
A11: 1969 | B11: 0.0663 | C11: 0.0352 | D11: 0.0788 | E11: 0.0374
A12: 1970 | B12: 0.0598 | C12: 0.0346 | D12: 0.065 | E12: 0.0341
A13: 1971 | B13: 0.0546 | C13: 0.031 | D13: 0.0589 | E13: 0.0309
A14: 1972 | B14: 0.0523 | C14: 0.027 | D14: 0.0641 | E14: 0.0272
... A64: 2022 | B64: 0.057166298 | C64: 0.017799193 | D64: 0.0388 | E64: 0.0594

Sheet Implied ERP (Monthly from 9-08)
A1: Start of month | B1: S&P 500 | C1: T.Bond Rate | D1: Ten-year average CF | E1: CF (Trailing 12 month) | F1: Normalized CF | G1: Expected growth rate | H1: ERP (T12 m with sustainable payout) | I1: ERP (T12m) | J1: ERP (Smoothed) | K1: ERP (Normalized) | L1: ERP (Net Cash Yield) | M1: ERP (Covid Adjusted) | N1: Expected Return | O1: Notes
A2: 38230 | B2: 1252 | C2: 0.0372 | I2: 0.0422 | N2: =Table167[[#This Row],[ERP (T12m)]]+Table167[[#This Row],[T.Bond Rate]] -> 0.0794
A3: 38260 | B3: 1166 | C3: 0.0383 | I3: 0.0451 | N3: =Table167[[#This Row],[ERP (T12m)]]+Table167[[#This Row],[T.Bond Rate]] -> 0.0834
A4: 38291 | B4: 969 | C4: 0.0395 | I4: 0.059 | N4: =Table167[[#This Row],[ERP (T12m)]]+Table167[[#This Row],[T.Bond Rate]] -> 0.0985
A5: 38321 | B5: 896 | C5: 0.0292 | I5: 0.066 | N5: =Table167[[#This Row],[ERP (T12m)]]+Table167[[#This Row],[T.Bond Rate]] -> 0.0952
A6: 38352 | B6: 903 | C6: 0.0221 | E6: 52.58 | G6: 0.04 | I6: 0.0643 | N6: =Table167[[#This Row],[ERP (T12m)]]+Table167[[#This Row],[T.Bond Rate]] -> 0.0864
A7: 38383 | B7: 826 | C7: 0.0287 | E7: 52.58 | G7: 0.04 | I7: 0.0687 | N7: =Table167[[#This Row],[ERP (T12m)]]+Table167[[#This Row],[T.Bond Rate]] -> 0.0974
A8: 38411 | B8: 735 | C8: 0.0302 | E8: 52.58 | G8: 0.04 | I8: 0.0768 | N8: =Table167[[#This Row],[ERP (T12m)]]+Table167[[#This Row],[T.Bond Rate]] -> 0.107
A9: 38442 | B9: 798 | C9: 0.0271 | E9: 51.55 | G9: 0.04 | I9: 0.0701 | N9: =Table167[[#This Row],[ERP (T12m)]]+Table167[[#This Row],[T.Bond Rate]] -> 0.0972
A10: 38472 | B10: 873 | C10: 0.0316 | E10: 51.55 | G10: 0.04 | I10: 0.0632 | N10: =Table167[[#This Row],[ERP (T12m)]]+Table167[[#This Row],[T.Bond Rate]] -> 0.0948
A11: 38503 | B11: 919 | C11: 0.0347 | E11: 51.55 | G11: 0.04 | I11: 0.0594 | N11: =Table167[[#This Row],[ERP (T12m)]]+Table167[[#This Row],[T.Bond Rate]] -> 0.0941
A12: 38533 | B12: 919 | C12: 0.0353 | E12: 50.95 | G12: 0.04 | I12: 0.0586 | N12: =Table167[[#This Row],[ERP (T12m)]]+Table167[[#This Row],[T.Bond Rate]] -> 0.0939
A13: 38564 | B13: 987 | C13: 0.0352 | E13: 50.95 | G13: 0.04 | I13: 0.0546 | N13: =Table167[[#This Row],[ERP (T12m)]]+Table167[[#This Row],[T.Bond Rate]] -> 0.0898
A14: 38595 | B14: 1021 | C14: 0.034 | E14: 50.95 | G14: 0.04 | I14: 0.053 | N14: =Table167[[#This Row],[ERP (T12m)]]+Table167[[#This Row],[T.Bond Rate]] -> 0.087
A15: 38625 | B15: 1057 | C15: 0.033 | E15: 48.52 | G15: 0.04 | I15: 0.0486 | N15: =Table167[[#This Row],[ERP (T12m)]]+Table167[[#This Row],[T.Bond Rate]] -> 0.0816
A16: 38656 | B16: 1036 | C16: 0.0339 | E16: 48.52 | G16: 0.04 | I16: 0.0497 | N16: =Table167[[#This Row],[ERP (T12m)]]+Table167[[#This Row],[T.Bond Rate]] -> 0.0836
A17: 38686 | B17: 1096 | C17: 0.0324 | E17: 48.52 | G17: 0.04 | I17: 0.0473 | N17: =Table167[[#This Row],[ERP (T12m)]]+Table167[[#This Row],[T.Bond Rate]] -> 0.0797
... A28: 39021 | B28: 1183 | C28: 0.026 | E28: 48.2 | G28: 0.0721 | I28: 0.0511 | N28: =Table167[[#This Row],[ERP (T12m)]]+Table167[[#This Row],[T.Bond Rate]] -> 0.0771
A29: 39051 | B29: 1181 | C29: 0.028 | E29: =E28 -> 48.2 | G29: 0.0721 | I29: 0.0508 | N29: =Table167[[#This Row],[ERP (T12m)]]+Table167[[#This Row],[T.Bond Rate]] -> 0.0788
A30: 39082 | B30: 1258 | C30: 0.0329 | E30: 53.9645 | G30: 0.0695 | I30: 0.052 | N30: =Table167[[#This Row],[ERP (T12m)]]+Table167[[#This Row],[T.Bond Rate]] -> 0.0849
A31: 39113 | B31: 1286 | C31: 0.0338 | E31: =E30 -> 53.9645 | G31: 0.0695 | I31: 0.0507 | N31: =Table167[[#This Row],[ERP (T12m)]]+Table167[[#This Row],[T.Bond Rate]] -> 0.0845
A32: 39141 | B32: 1327 | C32: 0.0342 | E32: =E31 -> 53.9645 | G32: =G31 -> 0.0695 | I32: 0.049 | N32: =Table167[[#This Row],[ERP (T12m)]]+Table167[[#This Row],[T.Bond Rate]] -> 0.0832
A33: 39172 | B33: 1326 | C33: 0.0347 | E33: 58.54 | G33: 0.0695 | I33: 0.0531 | N33: =Table167[[#This Row],[ERP (T12m)]]+Table167[[#This Row],[T.Bond Rate]] -> 0.0878
A34: 39202 | B34: 1364 | C34: 0.0329 | E34: 58.15 | G34: 0.0695 | I34: 0.0516 | N34: =Table167[[#This Row],[ERP (T12m)]]+Table167[[#This Row],[T.Bond Rate]] -> 0.0845
A35: 39233 | B35: 1345 | C35: 0.0306 | E35: 58.15 | G35: 0.0695 | I35: 0.0527 | N35: =Table167[[#This Row],[ERP (T12m)]]+Table167[[#This Row],[T.Bond Rate]] -> 0.0833
A36: 39263 | B36: 1321 | C36: 0.0317 | E36: 62.24 | G36: 0.0695 | I36: 0.0572 | N36: =Table167[[#This Row],[ERP (T12m)]]+Table167[[#This Row],[T.Bond Rate]] -> 0.0889
A37: 39294 | B37: 1292 | C37: 0.028 | E37: 62.24 | G37: 0.0695 | I37: 0.0592 | N37: =Table167[[#This Row],[ERP (T12m)]]+Table167[[#This Row],[T.Bond Rate]] -> 0.0872
A38: 39325 | B38: 1219 | C38: 0.0223 | E38: 62.24 | G38: 0.0695 | I38: 0.0639 | N38: =Table167[[#This Row],[ERP (T12m)]]+Table167[[#This Row],[T.Bond Rate]] -> 0.0862
A39: 39355 | B39: 1131 | C39: 0.0192 | E39: 68.65 | G39: 0.0695 | I39: 0.0764 | N39: =Table167[[#This Row],[ERP (T12m)]]+Table167[[#This Row],[T.Bond Rate]] -> 0.0956
A40: 39386 | B40: 1253 | C40: 0.0205 | E40: 68.65 | G40: 0.055 | I40: 0.0649 | N40: =Table167[[#This Row],[ERP (T12m)]]+Table167[[#This Row],[T.Bond Rate]] -> 0.0854
A41: 39416 | B41: 1247 | C41: 0.0207 | E41: 68.65 | G41: 0.055 | I41: 0.0651 | N41: =Table167[[#This Row],[ERP (T12m)]]+Table167[[#This Row],[T.Bond Rate]] -> 0.0858
A42: 39447 | B42: 1258 | C42: 0.0187 | D42: 59.01 | E42: 72.23 | G42: 0.0718 | I42: 0.0732 | J42: 0.0601 | N42: =Table167[[#This Row],[ERP (T12m)]]+Table167[[#This Row],[T.Bond Rate]] -> 0.0919 | O42: Normalized Cash flow = Average CF yield over last 10 years * Index level at start of quarter
A43: 39478 | B43: 1312 | C43: 0.0181 | D43: 59.01 | E43: 72.23 | G43: 0.0718 | I43: 0.0704 | J43: 0.0578 | N43: =Table167[[#This Row],[ERP (T12m)]]+Table167[[#This Row],[T.Bond Rate]] -> 0.0885
A44: 39507 | B44: 1366 | C44: 0.0198 | D44: 59.01 | E44: 72.23 | G44: 0.0718 | I44: 0.0673 | J44: 0.0552 | N44: =Table167[[#This Row],[ERP (T12m)]]+Table167[[#This Row],[T.Bond Rate]] -> 0.0871
A45: 39538 | B45: 1408 | C45: 0.0221 | D45: 66.29 | E45: 74.07 | G45: 0.0718 | I45: 0.0664 | J45: 0.0596 | N45: =Table167[[#This Row],[ERP (T12m)]]+Table167[[#This Row],[T.Bond Rate]] -> 0.0885
A46: 39568 | B46: 1398 | C46: 0.0192 | D46: 66.29 | E46: 74.07 | G46: 0.0718 | I46: 0.0676 | J46: 0.0606 | N46: =Table167[[#This Row],[ERP (T12m)]]+Table167[[#This Row],[T.Bond Rate]] -> 0.0868
A47: 39599 | B47: 1310 | C47: 0.0155 | D47: 66.29 | E47: 74.07 | G47: 0.0718 | I47: 0.0728 | J47: 0.0654 | N47: =Table167[[#This Row],[ERP (T12m)]]+Table167[[#This Row],[T.Bond Rate]] -> 0.0883
A48: 39629 | B48: 1362 | C48: 0.0165 | D48: 64.06 | E48: 71.55 | G48: 0.0656 | I48: 0.0659 | J48: 0.0591 | N48: =Table167[[#This Row],[ERP (T12m)]]+Table167[[#This Row],[T.Bond Rate]] -> 0.0824 | O48: Adjusted cash flows and expected growth rate
A49: 39660 | B49: 1379 | C49: 0.0147 | D49: 64.06 | E49: 71.55 | G49: 0.0656 | I49: 0.0655 | J49: 0.0588 | N49: =Table167[[#This Row],[ERP (T12m)]]+Table167[[#This Row],[T.Bond Rate]] -> 0.0802
A50: 39691 | B50: 1407 | C50: 0.0155 | D50: 64.06 | E50: 71.55 | G50: 0.0656 | I50: 0.0641 | J50: 0.0575 | N50: =Table167[[#This Row],[ERP (T12m)]]+Table167[[#This Row],[T.Bond Rate]] -> 0.0796
...

Sheet Historical ERP
A1: Year | B1: S&P 500 (includes dividends) | C1: 3-month T.Bill | D1: US T. Bond | E1: Baa Corporate Bond | F1: S&P 500 (includes dividends)3 | G1: 3-month T.Bill4 | H1: US T. Bond5 | I1: Baa Corporate Bond6 | J1: Stocks - Bills | K1: Stocks - Bonds | L1: Stocks - Baa Corp Bond | M1: Historical risk premium
A2: 1928 | B2: 0.43811155 | C2: 0.0308 | D2: 0.0083547086 | E2: 0.032195515 | F2: 143.81116 | G2: 103.08 | H2: 100.83547 | I2: 103.21955 | J2: 0.40731155 | K2: 0.42975684 | L2: 0.40591604
A3: 1929 | B3: -0.082979466 | C3: 0.0316 | D3: 0.042038042 | E3: 0.030178562 | F3: 131.87778 | G3: 106.33733 | H3: 105.0744 | I3: 106.33457 | J3: -0.11457947 | K3: -0.12501751 | L3: -0.11315803
A4: 1930 | B4: -0.25123636 | C4: 0.0455 | D4: 0.045409314 | E4: 0.0053978095 | F4: 98.745288 | G4: 111.17568 | H4: 109.84575 | I4: 106.90854 | J4: -0.29673636 | K4: -0.29664568 | L4: -0.25663417
A5: 1931 | B5: -0.43837549 | C5: 0.0231 | D5: -0.02558856 | E5: -0.15680775 | F5: 55.457774 | G5: 113.74383 | H5: 107.03496 | I5: 90.144455 | J5: -0.46147549 | K5: -0.41278693 | L5: -0.28156774
A6: 1932 | B6: -0.086423645 | C6: 0.0107 | D6: 0.08790307 | E6: 0.23589602 | F6: 50.664911 | G6: 114.96089 | H6: 116.44366 | I6: 111.40917 | J6: -0.097123645 | K6: -0.17432672 | L6: -0.32231966
A7: 1933 | B7: 0.49982225 | C7: 0.0096 | D7: 0.018552721 | E7: 0.12966894 | F7: 75.988361 | G7: 116.06452 | H7: 118.60401 | I7: 125.85548 | J7: 0.49022225 | K7: 0.48126953 | L7: 0.37015332
A8: 1934 | B8: -0.011885657 | C8: 0.0027833333 | D8: 0.079634426 | E8: 0.18816429 | F8: 75.085189 | G8: 116.38756 | H8: 128.04897 | I8: 149.53699 | J8: -0.01466899 | K8: -0.091520083 | L8: -0.20004995
A9: 1935 | B9: 0.46740421 | C9: 0.001675 | D9: 0.044720477 | E9: 0.13307732 | F9: 110.18032 | G9: 116.58251 | H9: 133.77538 | I9: 169.43697 | J9: 0.46572921 | K9: 0.42268373 | L9: 0.33432689
A10: 1936 | B10: 0.3194341 | C10: 0.001725 | D10: 0.050178754 | E10: 0.11383816 | F10: 145.37568 | G10: 116.78362 | H10: 140.48806 | I10: 188.72536 | J10: 0.3177091 | K10: 0.26925535 | L10: 0.20559594
A11: 1937 | B11: -0.35336729 | C11: 0.0027583333 | D11: 0.013791461 | E11: -0.044161917 | F11: 94.004668 | G11: 117.10575 | H11: 142.4256 | I11: 180.39089 | J11: -0.35612562 | K11: -0.36715875 | L11: -0.30920537
A12: 1938 | B12: 0.29282654 | C12: 0.00065 | D12: 0.042132485 | E12: 0.092358817 | F12: 121.53173 | G12: 117.18187 | H12: 148.42634 | I12: 197.05158 | J12: 0.29217654 | K12: 0.25069405 | L12: 0.20046772
A13: 1939 | B13: -0.010975647 | C13: 0.00045833333 | D13: 0.044122614 | E13: 0.079831378 | F13: 120.19784 | G13: 117.23557 | H13: 154.9753 | I13: 212.78248 | J13: -0.01143398 | K13: -0.055098261 | L13: -0.090807025
... A33: 1959 | B33: 0.12056457 | C33: 0.033858333 | D33: -0.026466313 | E33: 0.015743431 | F33: 1608.9516 | G33: 149.86009 | H33: 214.55509 | I33: 440.94935 | J33: 0.086706238 | K33: 0.14703088 | L33: 0.10482114
A34: 1960 | B34: 0.0033653531 | C34: 0.028833333 | D34: 0.11639504 | E34: 0.066631872 | F34: 1614.3663 | G34: 154.18106 | H34: 239.52824 | I34: 470.33063 | J34: -0.02546798 | K34: -0.11302968 | L34: -0.063266518 | M34: 0.061119788
A35: 1961 | B35: 0.26637713 | C35: 0.023541667 | D35: 0.020609208 | E35: 0.051 | F35: 2044.3966 | G35: 157.81073 | H35: 244.46473 | I35: 494.31749 | J35: 0.24283546 | K35: 0.24576792 | L35: 0.21537713 | M35: 0.066173592
A36: 1962 | B36: -0.088114605 | C36: 0.027733333 | D36: 0.056935441 | E36: 0.06495328 | F36: 1864.2554 | G36: 162.18735 | H36: 258.38343 | I36: 526.42504 | J36: -0.11584794 | K36: -0.14505005 | L36: -0.15306789 | M36: 0.059683465
A37: 1963 | B37: 0.22611927 | C37: 0.031591667 | D37: 0.016841621 | E37: 0.054644806 | F37: 2285.7995 | G37: 167.31112 | H37: 262.73503 | I37: 555.19143 | J37: 0.1945276 | K37: 0.20927765 | L37: 0.17147447 | M37: 0.063618994
A38: 1964 | B38: 0.16415456 | C38: 0.035466667 | D38: 0.037280649 | E38: 0.051617393 | F38: 2661.0239 | G38: 173.24509 | H38: 272.52996 | I38: 583.84896 | J38: 0.12868789 | K38: 0.12687391 | L38: 0.11253717 | M38: 0.065267777
A39: 1965 | B39: 0.12399242 | C39: 0.039491667 | D39: 0.0071885509 | E39: 0.031900095 | F39: 2990.9707 | G39: 180.08683 | H39: 274.48906 | I39: 602.4738 | J39: 0.084500758 | K39: 0.11680387 | L39: 0.09209233 | M39: 0.066617942
A40: 1966 | B40: -0.099709542 | C40: 0.048625 | D40: 0.029079409 | E40: -0.034453616 | F40: 2692.7424 | G40: 188.84355 | H40: 282.47104 | I40: 581.7164 | J40: -0.14833454 | K40: -0.12878895 | L40: -0.065255926 | M40: 0.06112372
A41: 1967 | B41: 0.23802967 | C41: 0.043066667 | D41: -0.01580621 | E41: 0.0089522661 | F41: 3333.6949 | G41: 196.97641 | H41: 278.00624 | I41: 586.92408 | J41: 0.194963 | K41: 0.25383588 | L41: 0.2290774 | M41: 0.065732839
A42: 1968 | B42: 0.10814863 | C42: 0.053383333 | D42: 0.032746197 | E42: 0.048451462 | F42: 3694.2294 | G42: 207.49167 | H42: 287.10989 | I42: 615.36141 | J42: 0.054765293 | K42: 0.07540243 | L42: 0.059697164 | M42: 0.065966278
A43: 1969 | B43: -0.082413711 | C43: 0.066666667 | D43: -0.050140493 | E43: -0.020251643 | F43: 3389.7743 | G43: 221.32444 | H43: 272.71406 | I43: 602.89933 | J43: -0.14908038 | K43: -0.032273218 | L43: -0.062162068 | M43: 0.063333873
A44: 1970 | B44: 0.035611449 | C44: 0.063916667 | D44: 0.16754737 | E44: 0.056495677 | F44: 3510.4891 | G44: 235.47077 | H44: 318.40658 | I44: 636.96054 | J44: -0.028305218 | K44: -0.13193592 | L44: -0.020884228 | M44: 0.058972567
A45: 1971 | B45: 0.1422115 | C45: 0.043325 | D45: 0.097868966 | E45: 0.14001466 | F45: 4009.721 | G45: 245.67254 | H45: 349.5687 | I45: 726.14435 | J45: 0.098886503 | K45: 0.044342537 | L45: 0.0021968412 | M45: 0.058660637
... A96: 2022 | B96: -0.18008972 | C96: 0.0442 | D96: -0.17828172 | E96: -0.14488298 | F96: 624534.55 | G96: 2175.1358 | H96: 7006.7514 | I96: 46379.532 | J96: -0.22428972 | K96: -0.0018080001 | L96: -0.035206733 | M96: 0.050613437

Sheet S&P 500 Monthly Data (Cap IQ)
A1: This is what I get from S&P Capital IQ, if I use the raw data from individual companies. It does not match up to what S&P itelf reports once every quarter. Use it to look for trend lines.
C2: Aggregate (in US dollars) | K2: In Index Units
A3: Trailing 12 month ending | B3: S&P 500 Index | C3: Market Cap | D3: Dividends | E3: Buybacks | F3: Stock Issues | G3: Net Income | H3: Cash Return | I3: Net Cash Return | J3: Index Units | K3: Market Cap2 | L3: Dividends3 | M3: Buybacks4 | N3: Stock Issues5 | O3: Net Income6 | P3: Cash Return7 | Q3: Net Cash Return8 | R3: Payout Ratio | S3: Dividend Yield | T3: Cash Return/Net Income | U3: Net Cash Return/Net Income
A4: 40755 | B4: 2103.84 | C4: 19712475 | D4: =261181+2627 -> 263808 | E4: 423600 | F4: 75426 | G4: 923972 | H4: =D4+E4 -> 687408 | I4: =D4+E4-F4 -> 611982 | J4: =B4/C4 -> 0.00010672632 | K4: =$J4*C4 -> 2103.84 | L4: =$J4*D4 -> 28.155258 | M4: =$J4*E4 -> 45.209271 | N4: =$J4*F4 -> 8.0499397 | O4: =$J4*G4 -> 98.612135 | P4: =$J4*H4 -> 73.364529 | Q4: =$J4*I4 -> 65.314589 | R4: =L4/O4 -> 0.28551515 | S4: =L4/K4 -> 0.013382794 | T4: =P4/O4 -> 0.7439706 | U4: =Q4/O4 -> 0.66233825
A5: 40816 | B5: 1920.03 | C5: 17981669 | D5: 357140 | E5: 558052 | F5: 99552 | G5: 907379 | H5: =D5+E5 -> 915192 | I5: =D5+E5-F5 -> 815640 | J5: =B5/C5 -> 0.00010677707 | K5: =$J5*C5 -> 1920.03 | L5: =$J5*D5 -> 38.134364 | M5: =$J5*E5 -> 59.58716 | N5: =$J5*F5 -> 10.629871 | O5: =$J5*G5 -> 96.887275 | P5: =$J5*H5 -> 97.721524 | Q5: =$J5*I5 -> 87.091653 | R5: =L5/O5 -> 0.39359518 | S5: =L5/K5 -> 0.019861338 | T5: =P5/O5 -> 1.0086105 | U5: =Q5/O5 -> 0.89889671
A6: 40847 | B6: 2079.36 | C6: 19353110 | D6: =243638+8431 -> 252069 | E6: 416930 | F6: 83536 | G6: 882624 | H6: =D6+E6 -> 668999 | I6: =D6+E6-F6 -> 585463 | J6: =B6/C6 -> 0.0001074432 | K6: =$J6*C6 -> 2079.36 | L6: =$J6*D6 -> 27.0831 | M6: =$J6*E6 -> 44.796293 | N6: =$J6*F6 -> 8.9753751 | O6: =$J6*G6 -> 94.831946 | P6: =$J6*H6 -> 71.879393 | Q6: =$J6*I6 -> 62.904018 | R6: =L6/O6 -> 0.28559047 | S6: =L6/K6 -> 0.013024729 | T6: =P6/O6 -> 0.75796602 | U6: =Q6/O6 -> 0.66332096
A7: 40877 | B7: 2080.41 | C7: 19361440 | D7: =364445+9295 -> 373740 | E7: 567962 | F7: 110058 | G7: 881259 | H7: =D7+E7 -> 941702 | I7: =D7+E7-F7 -> 831644 | J7: =B7/C7 -> 0.0001074512 | K7: =$J7*C7 -> 2080.41 | L7: =$J7*D7 -> 40.158812 | M7: =$J7*E7 -> 61.0282 | N7: =$J7*F7 -> 11.825864 | O7: =$J7*G7 -> 94.692339 | P7: =$J7*H7 -> 101.18701 | Q7: =$J7*I7 -> 89.361147 | R7: =L7/O7 -> 0.4240978 | S7: =L7/K7 -> 0.019303316 | T7: =P7/O7 -> 1.0685871 | U7: =Q7/O7 -> 0.94369987
A8: 40908 | B8: 2043.94 | C8: 19205383 | D8: =363367.4+10105.5 -> 373472.9 | E8: 569620 | F8: 108973 | G8: 882415 | H8: =D8+E8 -> 943092.9 | I8: =D8+E8-F8 -> 834119.9 | J8: =B8/C8 -> 0.00010642537 | K8: =$J8*C8 -> 2043.94 | L8: =$J8*D8 -> 39.746992 | M8: =$J8*E8 -> 60.62202 | N8: =$J8*F8 -> 11.597492 | O8: =$J8*G8 -> 93.911345 | P8: =$J8*H8 -> 100.36901 | Q8: =$J8*I8 -> 88.771521 | R8: =L8/O8 -> 0.42323952 | S8: =L8/K8 -> 0.019446262 | T8: =P8/O8 -> 1.0687635 | U8: =Q8/O8 -> 0.9452694
A9: 40939 | B9: 1940.24 | C9: 17972171 | D9: =267942+9991 -> 277933 | E9: 459600 | F9: 84612 | G9: 827436 | H9: =D9+E9 -> 737533 | I9: =D9+E9-F9 -> 652921 | J9: =B9/C9 -> 0.00010795802 | K9: =$J9*C9 -> 1940.24 | L9: =$J9*D9 -> 30.005097 | M9: =$J9*E9 -> 49.617507 | N9: =$J9*F9 -> 9.1345442 | O9: =$J9*G9 -> 89.328354 | P9: =$J9*H9 -> 79.622604 | Q9: =$J9*I9 -> 70.48806 | R9: =L9/O9 -> 0.33589667 | S9: =L9/K9 -> 0.015464632 | T9: =P9/O9 -> 0.89134749 | U9: =Q9/O9 -> 0.78908943
A10: 40968 | B10: 1932.23 | C10: 17910494 | D10: 345472 | E10: 552312 | F10: 86105 | G10: 842836 | H10: =D10+E10 -> 897784 | I10: =D10+E10-F10 -> 811679 | J10: =B10/C10 -> 0.00010788256 | K10: =$J10*C10 -> 1932.23 | L10: =$J10*D10 -> 37.270405 | M10: =$J10*E10 -> 59.584834 | N10: =$J10*F10 -> 9.2892281 | O10: =$J10*G10 -> 90.927308 | P10: =$J10*H10 -> 96.855239 | Q10: =$J10*I10 -> 87.566011 | R10: =L10/O10 -> 0.40989232 | S10: =L10/K10 -> 0.019288804 | T10: =P10/O10 -> 1.0651942 | U10: =Q10/O10 -> 0.96303314
A11: 40999 | B11: 2059.74 | C11: 19126110 | D11: =361900+9305 -> 371205 | E11: 578442 | F11: 101550 | G11: 845698 | H11: =D11+E11 -> 949647 | I11: =D11+E11-F11 -> 848097 | J11: =B11/C11 -> 0.00010769258 | K11: =$J11*C11 -> 2059.74 | L11: =$J11*D11 -> 39.976023 | M11: =$J11*E11 -> 62.293909 | N11: =$J11*F11 -> 10.936181 | O11: =$J11*G11 -> 91.075396 | P11: =$J11*H11 -> 102.26993 | Q11: =$J11*I11 -> 91.333751 | R11: =L11/O11 -> 0.43893328 | S11: =L11/K11 -> 0.019408286 | T11: =P11/O11 -> 1.122915 | U11: =Q11/O11 -> 1.0028367
A12: 41029 | B12: 2065.3 | C12: 19123581 | D12: =278138+8169 -> 286307 | E12: 470983 | F12: 86635 | G12: 835997 | H12: =D12+E12 -> 757290 | I12: =D12+E12-F12 -> 670655 | J12: =B12/C12 -> 0.00010799756 | K12: =$J12*C12 -> 2065.3 | L12: =$J12*D12 -> 30.920456 | M12: =$J12*E12 -> 50.865013 | N12: =$J12*F12 -> 9.3563682 | O12: =$J12*G12 -> 90.285632 | P12: =$J12*H12 -> 81.785469 | Q12: =$J12*I12 -> 72.429101 | R12: =L12/O12 -> 0.34247372 | S12: =L12/K12 -> 0.014971411 | T12: =P12/O12 -> 0.90585253 | U12: =Q12/O12 -> 0.80222178
A13: 41060 | B13: 2096.96 | C13: 19336209 | D13: =359632+11617 -> 371249 | E13: 594591 | F13: 96361 | G13: 848108 | H13: =D13+E13 -> 965840 | I13: =D13+E13-F13 -> 869479 | J13: =B13/C13 -> 0.00010844732 | K13: =$J13*C13 -> 2096.96 | L13: =$J13*D13 -> 40.260958 | M13: =$J13*E13 -> 64.481799 | N13: =$J13*F13 -> 10.450092 | O13: =$J13*G13 -> 91.975038 | P13: =$J13*H13 -> 104.74276 | Q13: =$J13*I13 -> 94.292665 | R13: =L13/O13 -> 0.43773788 | S13: =L13/K13 -> 0.019199679 | T13: =P13/O13 -> 1.1388172 | U13: =Q13/O13 -> 1.0251984
A14: 41090 | B14: 2098.96 | C14: 19075239 | D14: =359313+14394 -> 373707 | E14: 597633 | F14: 95895 | G14: 848045 | H14: =D14+E14 -> 971340 | I14: =D14+E14-F14 -> 875445 | J14: =B14/C14 -> 0.00011003584 | K14: =$J14*C14 -> 2098.96 | L14: =$J14*D14 -> 41.121165 | M14: =$J14*E14 -> 65.761051 | N14: =$J14*F14 -> 10.551887 | O14: =$J14*G14 -> 93.315346 | P14: =$J14*H14 -> 106.88222 | Q14: =$J14*I14 -> 96.330328 | R14: =L14/O14 -> 0.44066883 | S14: =L14/K14 -> 0.019591209 | T14: =P14/O14 -> 1.1453873 | U14: =Q14/O14 -> 1.0323096
A15: 41152 | B15: 2170.95 | C15: 19933639 | D15: =369218+12150 -> 381368 | E15: 593239.9 | F15: 85132 | G15: 843244 | H15: =D15+E15 -> 974607.9 | I15: =D15+E15-F15 -> 889475.9 | J15: =B15/C15 -> 0.00010890887 | K15: =$J15*C15 -> 2170.95 | L15: =$J15*D15 -> 41.534356 | M15: =$J15*E15 -> 64.609084 | N15: =$J15*F15 -> 9.2716295 | O15: =$J15*G15 -> 91.836747 | P15: =$J15*H15 -> 106.14344 | Q15: =$J15*I15 -> 96.871811 | R15: =L15/O15 -> 0.45226293 | S15: =L15/K15 -> 0.019131881 | T15: =P15/O15 -> 1.155784 | U15: =Q15/O15 -> 1.0548262
A16: 41182 | B16: 2168.27 | C16: 19917170 | D16: 367339 | E16: 588442 | F16: 89369 | G16: 847378 | H16: =D16+E16 -> 955781 | I16: =D16+E16-F16 -> 866412 | J16: =B16/C16 -> 0.00010886436 | K16: =$J16*C16 -> 2168.27 | L16: =$J16*D16 -> 39.990126 | M16: =$J16*E16 -> 64.060363 | N16: =$J16*F16 -> 9.7290991 | O16: =$J16*G16 -> 92.249265 | P16: =$J16*H16 -> 104.05049 | Q16: =$J16*I16 -> 94.321389 | R16: =L16/O16 -> 0.43350075 | S16: =L16/K16 -> 0.018443333 | T16: =P16/O16 -> 1.1279276 | U16: =Q16/O16 -> 1.0224622
A17: 41213 | B17: 2126.41 | C17: 19516057 | D17: 277522 | E17: 451147 | F17: 78524 | G17: 846267 | H17: =D17+E17 -> 728669 | I17: =D17+E17-F17 -> 650145 | J17: =B17/C17 -> 0.00010895695 | K17: =$J17*C17 -> 2126.41 | L17: =$J17*D17 -> 30.23795 | M17: =$J17*E17 -> 49.1556 | N17: =$J17*F17 -> 8.5557354 | O17: =$J17*G17 -> 92.206669 | P17: =$J17*H17 -> 79.39355 | Q17: =$J17*I17 -> 70.837815 | R17: =L17/O17 -> 0.32793669 | S17: =L17/K17 -> 0.014220188 | T17: =P17/O17 -> 0.86103913 | U17: =Q17/O17 -> 0.76825045
A18: 41243 | B18: 2198.81 | C18: 20107276 | D18: =360726.5+8696 -> 369422.5 | E18: 554869.3 | F18: 86206 | G18: 872851 | H18: =D18+E18 -> 924291.8 | I18: =D18+E18-F18 -> 838085.8 | J18: =B18/C18 -> 0.00010935395 | K18: =$J18*C18 -> 2198.81 | L18: =$J18*D18 -> 40.397809 | M18: =$J18*E18 -> 60.677148 | N18: =$J18*F18 -> 9.4269664 | O18: =$J18*G18 -> 95.449702 | P18: =$J18*H18 -> 101.07496 | Q18: =$J18*I18 -> 91.64799 | R18: =L18/O18 -> 0.42323661 | S18: =L18/K18 -> 0.018372578 | T18: =P18/O18 -> 1.0589342 | U18: =Q18/O18 -> 0.96017052
A19: 41274 | B19: 2238.83 | C19: 20443577 | D19: =359942+9238 -> 369180 | E19: 543217 | F19: 85882 | G19: 872102 | H19: =D19+E19 -> 912397 | I19: =D19+E19-F19 -> 826515 | J19: =B19/C19 -> 0.00010951264 | K19: =$J19*C19 -> 2238.83 | L19: =$J19*D19 -> 40.429876 | M19: =$J19*E19 -> 59.489127 | N19: =$J19*F19 -> 9.4051644 | O19: =$J19*G19 -> 95.50619 | P19: =$J19*H19 -> 99.919002 | Q19: =$J19*I19 -> 90.513838 | R19: =L19/O19 -> 0.42332204 | S19: =L19/K19 -> 0.018058484 | T19: =P19/O19 -> 1.0462045 | U19: =Q19/O19 -> 0.94772744
A20: 41305 | B20: 2278.87 | C20: 20818728 | D20: =247097+5399 -> 252496 | E20: 372491 | F20: 87186 | G20: 906789 | H20: =D20+E20 -> 624987 | I20: =D20+E20-F20 -> 537801 | J20: =B20/C20 -> 0.0001094625 | K20: =$J20*C20 -> 2278.87 | L20: =$J20*D20 -> 27.638843 | M20: =$J20*E20 -> 40.773795 | N20: =$J20*F20 -> 9.5435973 | O20: =$J20*G20 -> 99.259389 | P20: =$J20*H20 -> 68.412638 | Q20: =$J20*I20 -> 58.869041 | R20: =L20/O20 -> 0.27845066 | S20: =L20/K20 -> 0.01212831 | T20: =P20/O20 -> 0.6892309 | U20: =Q20/O20 -> 0.59308285
A21: 41333 | I21: =D21+E21-F21 -> 0
A22: 41364 | B22: 2362.72 | C22: 21572562 | D22: =363825.1+10190 -> 374015.1 | E22: 537011 | F22: 89251 | G22: 926091 | H22: =D22+E22 -> 911026.1 | I22: =D22+E22-F22 -> 821775.1 | J22: =B22/C22 -> 0.00010952431 | K22: =$J22*C22 -> 2362.72 | L22: =$J22*D22 -> 40.963746 | M22: =$J22*E22 -> 58.815759 | N22: =$J22*F22 -> 9.7751542 | O22: =$J22*G22 -> 101.42948 | P22: =$J22*H22 -> 99.779505 | Q22: =$J22*I22 -> 90.004351 | R22: =L22/O22 -> 0.40386431 | S22: =L22/K22 -> 0.017337537 | T22: =P22/O22 -> 0.98373281 | U22: =Q22/O22 -> 0.88735891
A23: 41394 | I23: =D23+E23-F23 -> 0
A24: 41425 | B24: 2430.06 | C24: 22209214 | D24: 364899.1 | E24: 508712 | F24: 85032 | G24: 955904 | H24: =D24+E24 -> 873611.1 | I24: =D24+E24-F24 -> 788579.1 | J24: =B24/C24 -> 0.00010941675 | K24: =$J24*C24 -> 2430.06 | L24: =$J24*D24 -> 39.926073 | M24: =$J24*E24 -> 55.661613 | N24: =$J24*F24 -> 9.303925 | O24: =$J24*G24 -> 104.59191 | P24: =$J24*H24 -> 95.587687 | Q24: =$J24*I24 -> 86.283762 | R24: =L24/O24 -> 0.38173195 | S24: =L24/K24 -> 0.016430077 | T24: =P24/O24 -> 0.91391092 | U24: =Q24/O24 -> 0.82495638
A25: 41455 | B25: 2423.41 | C25: 22121324 | D25: =362613+3282 -> 365895 | E25: 509083 | F25: 85031 | G25: 963795 | H25: =D25+E25 -> 874978 | I25: =D25+E25-F25 -> 789947 | J25: =B25/C25 -> 0.00010955086 | K25: =$J25*C25 -> 2423.41 | L25: =$J25*D25 -> 40.084111 | M25: =$J25*E25 -> 55.770479 | N25: =$J25*F25 -> 9.315219 | O25: =$J25*G25 -> 105.58457 | P25: =$J25*H25 -> 95.854591 | Q25: =$J25*I25 -> 86.539372 | R25: =L25/O25 -> 0.37963986 | S25: =L25/K25 -> 0.016540375 | T25: =P25/O25 -> 0.90784659 | U25: =Q25/O25 -> 0.81962139
A26: 41486 | B26: 2470.3 | C26: 22519701 | D26: 289134 | E26: 411244 | F26: 66289 | G26: 989342 | H26: =D26+E26 -> 700378 | I26: =D26+E26-F26 -> 634089 | J26: =B26/C26 -> 0.00010969506 | K26: =$J26*C26 -> 2470.3 | L26: =$J26*D26 -> 31.716572 | M26: =$J26*E26 -> 45.111436 | N26: =$J26*F26 -> 7.2715759 | O26: =$J26*G26 -> 108.52593 | P26: =$J26*H26 -> 76.828008 | Q26: =$J26*I26 -> 69.556432 | R26: =L26/O26 -> 0.29224879 | S26: =L26/K26 -> 0.012839158 | T26: =P26/O26 -> 0.70792304 | U26: =Q26/O26 -> 0.64091992
A27: 41517 | B27: 2417.65 | C27: 22448307 | D27: 371495 | E27: 507930 | F27: 81741 | G27: 987268 | H27: =D27+E27 -> 879425 | I27: =D27+E27-F27 -> 797684 | J27: =B27/C27 -> 0.00010769855 | K27: =$J27*C27 -> 2417.65 | L27: =$J27*D27 -> 40.009472 | M27: =$J27*E27 -> 54.703323 | N27: =$J27*F27 -> 8.8033869 | O27: =$J27*G27 -> 106.32733 | P27: =$J27*H27 -> 94.712795 | Q27: =$J27*I27 -> 85.909408 | R27: =L27/O27 -> 0.37628587 | S27: =L27/K27 -> 0.01654891 | T27: =P27/O27 -> 0.89076624 | U27: =Q27/O27 -> 0.80797109
A28: 41547 | B28: 2519.36 | C28: 22902823 | D28: =370671+3729 -> 374400 | E28: 501871 | F28: 82365 | G28: 989591 | H28: =D28+E28 -> 876271 | I28: =D28+E28-F28 -> 793906 | J28: =B28/C28 -> 0.00011000216 | K28: =$J28*C28 -> 2519.36 | L28: =$J28*D28 -> 41.184809 | M28: =$J28*E28 -> 55.206894 | N28: =$J28*F28 -> 9.0603279 | O28: =$J28*G28 -> 108.85715 | P28: =$J28*H28 -> 96.391703 | Q28: =$J28*I28 -> 87.331375 | R28: =L28/O28 -> 0.37833812 | S28: =L28/K28 -> 0.01634733 | T28: =P28/O28 -> 0.88548805 | U28: =Q28/O28 -> 0.80225669
A29: 41578 | B29: 2575.26 | C29: 23369534 | D29: =285171+5528 -> 290699 | E29: 418418 | F29: 76878 | G29: 982449.5 | H29: =D29+E29 -> 709117 | I29: =D29+E29-F29 -> 632239 | J29: =B29/C29 -> 0.00011019732 | K29: =$J29*C29 -> 2575.26 | L29: =$J29*D29 -> 32.03425 | M29: =$J29*E29 -> 46.108541 | N29: =$J29*F29 -> 8.4717493 | O29: =$J29*G29 -> 108.2633 | P29: =$J29*H29 -> 78.142791 | Q29: =$J29*I29 -> 69.671041 | R29: =L29/O29 -> 0.29589205 | S29: =L29/K29 -> 0.012439229 | T29: =P29/O29 -> 0.72178468 | U29: =Q29/O29 -> 0.64353333
A30: 41608 | B30: 2647.58 | C30: 24029080 | D30: 374193.3 | E30: 523718 | F30: 87041 | G30: 988610 | H30: =D30+E30 -> 897911.3 | I30: =D30+E30-F30 -> 810870.3 | J30: =B30/C30 -> 0.00011018233 | K30: =$J30*C30 -> 2647.58 | L30: =$J30*D30 -> 41.229489 | M30: =$J30*E30 -> 57.704469 | N30: =$J30*F30 -> 9.5903801 | O30: =$J30*G30 -> 108.92735 | P30: =$J30*H30 -> 98.933958 | Q30: =$J30*I30 -> 89.343578 | R30: =L30/O30 -> 0.37850447 | S30: =L30/K30 -> 0.015572519 | T30: =P30/O30 -> 0.90825634 | U30: =Q30/O30 -> 0.82021252
A31: 41639 | B31: 2673.61 | C31: 24376167 | D31: 373252.7 | E31: 520226.1 | F31: 87910.6 | G31: 992869 | H31: =D31+E31 -> 893478.8 | I31: =D31+E31-F31 -> 805568.2 | J31: =B31/C31 -> 0.00010968131 | K31: =$J31*C31 -> 2673.61 | L31: =$J31*D31 -> 40.938847 | M31: =$J31*E31 -> 57.059082 | N31: =$J31*F31 -> 9.6421501 | O31: =$J31*G31 -> 108.89918 | P31: =$J31*H31 -> 97.997929 | Q31: =$J31*I31 -> 88.355779 | R31: =L31/O31 -> 0.37593348 | S31: =L31/K31 -> 0.015312198 | T31: =P31/O31 -> 0.89989596 | U31: =Q31/O31 -> 0.81135397
A32: 41670 | B32: 2823.81 | C32: 25604674 | D32: =298624+5529 -> 304153 | E32: 383309 | F32: 72068 | G32: 918296 | H32: =D32+E32 -> 687462 | I32: =D32+E32-F32 -> 615394 | J32: =B32/C32 -> 0.00011028494 | K32: =$J32*C32 -> 2823.81 | L32: =$J32*D32 -> 33.543496 | M32: =$J32*E32 -> 42.273211 | N32: =$J32*F32 -> 7.9480153 | O32: =$J32*G32 -> 101.27422 | P32: =$J32*H32 -> 75.816707 | Q32: =$J32*I32 -> 67.868692 | R32: =L32/O32 -> 0.33121455 | S32: =L32/K32 -> 0.011878808 | T32: =P32/O32 -> 0.74862789 | U32: =Q32/O32 -> 0.67014775
A33: 41698 | B33: 2713.83 | C33: 24543964 | D33: =329469.6+5103.5 -> 334573.1 | E33: 456528 | F33: 80725 | G33: 1005336 | H33: =D33+E33 -> 791101.1 | I33: =D33+E33-F33 -> 710376.1 | J33: =B33/C33 -> 0.00011057016 | K33: =$J33*C33 -> 2713.83 | L33: =$J33*D33 -> 36.9938 | M33: =$J33*E33 -> 50.478372 | N33: =$J33*F33 -> 8.9257759 | O33: =$J33*G33 -> 111.16016 | P33: =$J33*H33 -> 87.472173 | Q33: =$J33*I33 -> 78.546397 | R33: =L33/O33 -> 0.33279729 | S33: =L33/K33 -> 0.013631583 | T33: =P33/O33 -> 0.78690219 | U33: =Q33/O33 -> 0.70660565
A34: 41729 | B34: 2640.87 | C34: 23909564 | D34: =383383.3+5306.4 -> 388689.7 | E34: 521958 | F34: 85184 | G34: 1012082 | H34: =D34+E34 -> 910647.7 | I34: =D34+E34-F34 -> 825463.7 | J34: =B34/C34 -> 0.00011045245 | K34: =$J34*C34 -> 2640.87 | L34: =$J34*D34 -> 42.931731 | M34: =$J34*E34 -> 57.651542 | N34: =$J34*F34 -> 9.4087818 | O34: =$J34*G34 -> 111.78694 | P34: =$J34*H34 -> 100.58327 | Q34: =$J34*I34 -> 91.174491 | R34: =L34/O34 -> 0.38404961 | S34: =L34/K34 -> 0.016256662 | T34: =P34/O34 -> 0.8997766 | U34: =Q34/O34 -> 0.81560951
A35: 41759 | B35: 2648.05 | C35: 23974382 | D35: =300590.7+4390.6 -> 304981.3 | E35: 428172.4 | F35: 73158 | G35: 1054625.8 | H35: =D35+E35 -> 733153.7 | I35: =D35+E35-F35 -> 659995.7 | J35: =B35/C35 -> 0.00011045331 | K35: =$J35*C35 -> 2648.05 | L35: =$J35*D35 -> 33.686196 | M35: =$J35*E35 -> 47.293061 | N35: =$J35*F35 -> 8.0805436 | O35: =$J35*G35 -> 116.48692 | P35: =$J35*H35 -> 80.979257 | Q35: =$J35*I35 -> 72.898713 | R35: =L35/O35 -> 0.28918437 | S35: =L35/K35 -> 0.012721133 | T35: =P35/O35 -> 0.69517899 | U35: =Q35/O35 -> 0.62581031
A36: 41790 | B36: 2705.27 | C36: 24386059 | D36: =395039.2+2809.3 -> 397848.5 | E36: 570702.5 | F36: 81516.4 | G36: 1055383.8 | H36: =D36+E36 -> 968551 | I36: =D36+E36-F36 -> 887034.6 | J36: =B36/C36 -> 0.00011093511 | K36: =$J36*C36 -> 2705.27 | L36: =$J36*D36 -> 44.135366 | M36: =$J36*E36 -> 63.310942 | N36: =$J36*F36 -> 9.0430305 | O36: =$J36*G36 -> 117.07911 | P36: =$J36*H36 -> 107.44631 | Q36: =$J36*I36 -> 98.403278 | R36: =L36/O36 -> 0.37697044 | S36: =L36/K36 -> 0.016314588 | T36: =P36/O36 -> 0.91772396 | U36: =Q36/O36 -> 0.84048533
A37: 41820 | B37: 2718.37 | C37: 24481041 | D37: 396328.9 | E37: 579623.9 | F37: 81266.5 | G37: 1064656.8 | H37: =D37+E37 -> 975952.8 | I37: =D37+E37-F37 -> 894686.3 | J37: =B37/C37 -> 0.0001110398 | K37: =$J37*C37 -> 2718.37 | L37: =$J37*D37 -> 44.008283 | M37: =$J37*E37 -> 64.361324 | N37: =$J37*F37 -> 9.0238162 | O37: =$J37*G37 -> 118.21928 | P37: =$J37*H37 -> 108.36961 | Q37: =$J37*I37 -> 99.345791 | R37: =L37/O37 -> 0.37225977 | S37: =L37/K37 -> 0.016189217 | T37: =P37/O37 -> 0.91668301 | U37: =Q37/O37 -> 0.84035184
A38: 41851 | B38: 2816.29 | C38: 25354326 | D38: 310655.8 | E38: 547112.6 | F38: 68316.3 | G38: 1116871.5 | H38: =D38+E38 -> 857768.4 | I38: =D38+E38-F38 -> 789452.1 | J38: =B38/C38 -> 0.00011107729 | K38: =$J38*C38 -> 2816.29 | L38: =$J38*D38 -> 34.506806 | M38: =$J38*E38 -> 60.771788 | N38: =$J38*F38 -> 7.5883898 | O38: =$J38*G38 -> 124.05906 | P38: =$J38*H38 -> 95.278593 | Q38: =$J38*I38 -> 87.690204 | R38: =L38/O38 -> 0.2781482 | S38: =L38/K38 -> 0.012252576 | T38: =P38/O38 -> 0.76800993 | U38: =Q38/O38 -> 0.70684237
A39: 41882 | B39: 2901.52 | C39: 26029576 | D39: 394563 | E39: 649949.2 | F39: 80481.8 | G39: 1123218.2 | H39: =D39+E39 -> 1044512.2 | I39: =D39+E39-F39 -> 964030.4 | J39: =B39/C39 -> 0.00011147012 | K39: =$J39*C39 -> 2901.52 | L39: =$J39*D39 -> 43.981985 | M39: =$J39*E39 -> 72.449916 | N39: =$J39*F39 -> 8.971316 | O39: =$J39*G39 -> 125.20527 | P39: =$J39*H39 -> 116.4319 | Q39: =$J39*I39 -> 107.46059 | R39: =L39/O39 -> 0.35127903 | S39: =L39/K39 -> 0.015158257 | T39: =P39/O39 -> 0.92992813 | U39: =Q39/O39 -> 0.85827527
A40: 41912 | B40: 2913.98 | C40: 26107043 | D40: =394437+7041 -> 401478 | E40: 665829.2 | F40: 76770.3 | G40: 1128412.9 | H40: =D40+E40 -> 1067307.2 | I40: =D40+E40-F40 -> 990536.9 | J40: =B40/C40 -> 0.00011161663 | K40: =$J40*C40 -> 2913.98 | L40: =$J40*D40 -> 44.81162 | M40: =$J40*E40 -> 74.317609 | N40: =$J40*F40 -> 8.5688418 | O40: =$J40*G40 -> 125.94964 | P40: =$J40*H40 -> 119.12923 | Q40: =$J40*I40 -> 110.56039 | R40: =L40/O40 -> 0.35578998 | S40: =L40/K40 -> 0.015378149 | T40: =P40/O40 -> 0.9458481 | U40: =Q40/O40 -> 0.87781423
...

Sheet T.Bond vs Nominal growth
A1: Year end | B1: Ten-year T.Bond rate | C1: Inflation rate | D1: Real GDP growth | E1: Fundamental riskfree rate | F1: T. Bond - Fundamental (current) | G1: Next 5 years
A2: 1954 | B2: 0.0251 | C2: -0.0037216 | D2: 0.0278666 | E2: =C2+D2 -> 0.024145 | F2: =B2-E2 -> 0.000955 | G2: =AVERAGE(E2:E6) -> 0.04322808
A3: =A2+1 -> 1955 | B3: 0.0296 | C3: 0.0037355 | D3: 0.0657391 | E3: =C3+D3 -> 0.0694746 | F3: =B3-E3 -> -0.0398746 | G3: =AVERAGE(E3:E7) -> 0.0511191
A4: =A3+1 -> 1956 | B4: 0.0359 | C4: 0.0282843 | D4: 0.018379 | E4: =C4+D4 -> 0.0466633 | F4: =B4-E4 -> -0.0107633 | G4: =AVERAGE(E4:E8) -> 0.04119488
A5: =A4+1 -> 1957 | B5: 0.0321 | C5: 0.0304017 | D5: 0.002711 | E5: =C5+D5 -> 0.0331127 | F5: =B5-E5 -> -0.0010127 | G5: =AVERAGE(E5:E9) -> 0.0457103
A6: =A5+1 -> 1958 | B6: 0.0386 | C6: 0.0175623 | D6: 0.0251825 | E6: =C6+D6 -> 0.0427448 | F6: =B6-E6 -> -0.0041448 | G6: =AVERAGE(E6:E10) -> 0.04979478
A7: =A6+1 -> 1959 | B7: 0.0469 | C7: 0.0151881 | D7: 0.048412 | E7: =C7+D7 -> 0.0636001 | F7: =B7-E7 -> -0.0167001 | G7: =AVERAGE(E7:E11) -> 0.05514464
A8: =A7+1 -> 1960 | B8: 0.0384 | C8: 0.0136008 | D8: 0.0062527 | E8: =C8+D8 -> 0.0198535 | F8: =B8-E8 -> 0.0185465 | G8: =AVERAGE(E8:E12) -> 0.05504722
A9: =A8+1 -> 1961 | B9: 0.0406 | C9: 0.0067092 | D9: 0.0625312 | E9: =C9+D9 -> 0.0692404 | F9: =B9-E9 -> -0.0286404 | G9: =AVERAGE(E9:E13) -> 0.07193606
A10: =A9+1 -> 1962 | B10: 0.0386 | C10: 0.0123292 | D10: 0.0412059 | E10: =C10+D10 -> 0.0535351 | F10: =B10-E10 -> -0.0149351 | G10: =AVERAGE(E10:E14) -> 0.07342878
A11: =A10+1 -> 1963 | B11: 0.0413 | C11: 0.0164582 | D11: 0.0530359 | E11: =C11+D11 -> 0.0694941 | F11: =B11-E11 -> -0.0281941 | G11: =AVERAGE(E11:E15) -> 0.07425066
A12: =A11+1 -> 1964 | B12: 0.0418 | C12: 0.0119819 | D12: 0.0511311 | E12: =C12+D12 -> 0.063113 | F12: =B12-E12 -> -0.021313 | G12: =AVERAGE(E12:E16) -> 0.0796741
A13: =A12+1 -> 1965 | B13: 0.0462 | C13: 0.0192 | D13: 0.0850977 | E13: =C13+D13 -> 0.1042977 | F13: =B13-E13 -> -0.0580977 | G13: =AVERAGE(E13:E17) -> 0.08291662
A14: =A13+1 -> 1966 | B14: 0.0484 | C14: 0.033595 | D14: 0.043109 | E14: =C14+D14 -> 0.076704 | F14: =B14-E14 -> -0.028304 | G14: =AVERAGE(E14:E18) -> 0.07288778
... A55: =A54+1 -> 2007 | B55: 0.041 | C55: 0.0410881 | D55: 0.0220579 | E55: =C55+D55 -> 0.063146 | F55: =B55-E55 -> -0.022146 | G55: =AVERAGE(E55:E59) -> 0.02906108
A56: =A55+1 -> 2008 | B56: 0.0242 | C56: -0.0002223 | D56: -0.0332058 | E56: =C56+D56 -> -0.0334281 | F56: =B56-E56 -> 0.0576281
A57: =A56+1 -> 2009 | B57: 0.0359 | C57: 0.0282264 | D57: -0.0008072 | E57: =C57+D57 -> 0.0274192 | F57: =B57-E57 -> 0.0084808
A58: =A57+1 -> 2010 | B58: 0.0329 | C58: 0.0142755 | D58: 0.0239336 | E58: =C58+D58 -> 0.0382091 | F58: =B58-E58 -> -0.0053091
A59: =A58+1 -> 2011 | B59: 0.0198 | C59: 0.0302493 | D59: 0.0197099 | E59: =C59+D59 -> 0.0499592 | F59: =B59-E59 -> -0.0301592
A60: =A59+1 -> 2012 | B60: 0.0172 | C60: 0.0176105 | D60: 0.0166952 | E60: =C60+D60 -> 0.0343057 | F60: =B60-E60 -> -0.0171057
A61: 1954-2012 | B61: 0.061108475 | C61: 0.037534259 | D61: 0.030815453 | E61: =AVERAGE(E2:E60) -> 0.068349712 | F61: =AVERAGE(F2:F60) -> -0.0072412373
A62: 1954-1980 | B62: 0.058288889 | C62: 0.044865726 | D62: 0.035424285 | E62: =AVERAGE(E2:E28) -> 0.080290011 | F62: =AVERAGE(F2:F28) -> -0.022001122
A63: 1981-2012 | B63: 0.0634875 | C63: 0.031348334 | D63: 0.02692675 | E63: =AVERAGE(E29:E60) -> 0.058275084 | F63: =AVERAGE(F29:F60) -> 0.0052124156

Sheet Answers
A1: Yes/No
A2: Yes
A3: No

Sheet Sheet10

Sheet Sheet11

Sheet Sheet12

Sheet Sheet13

Sheet Sheet14

Sheet Sheet15

Sheet Sheet16
