Workbook

Sheet Results
A1: Linear Regression | ALX1: 0.083252744 | ALY1: 0.080076587 | ALZ1: 0.028157921 | AMA1: 0.080076587 | AMB1: -0.12707306 | AMC1: -0.12347418 | AMD1: -0.063697401 | AME1: -0.12347418 | AMF1: -0.18938968 | AMG1: -0.12347418 | AMH1: -0.0013807866 | AMI1: -0.12347418 | AMJ1: -0.1 To -0.05 | AMK1: 6 | AML1: -0.075 | AMM1: 2.0239887 | AMN1: -0.1 | AMO1: -0.10198025 | AMP1: -0.10198025 | AMQ1: -0.068095692 | AMR1: -0.055094823 | AMS1: -0.055094823 | AMT1: 0.083252744 | AMU1: -0.055094823 | AMV1: 0.080076587
A2: Dependent variable | C2: Return(Stock) | ALX2: 0.041118293 | ALY2: 0.032066081 | ALZ2: 0.077180887 | AMA2: 0.032066081 | AMB2: -0.093266155 | AMC2: -0.092025255 | AMD2: -0.042304595 | AME2: -0.092025255 | AMF2: -0.15988308 | AMG2: -0.092025255 | AMH2: 0.02431233 | AMI2: -0.092025255 | AMJ2: -0.05 To 0 | AMK2: 27 | AML2: -0.025 | AMM2: 3.0668411 | AMN2: -0.091666667 | AMO2: 0.10198025 | AMP2: 0.10198025 | AMQ2: 0.032948626 | AMR2: 0.036062594 | AMS2: 0.036062594 | AMT2: 0.041118293 | AMU2: 0.036062594 | AMV2: 0.032066081
A3: Independent variables | C3: Return(Mkt) | ALX3: 0.030005833 | ALY3: 0.019403881 | ALZ3: 0.052753727 | AMA3: 0.019403881 | AMB3: -0.088051312 | AMC3: -0.087148838 | AMD3: -0.038960264 | AME3: -0.087148838 | AMF3: -0.15534913 | AMG3: -0.087148838 | AMH3: 0.028337556 | AMI3: -0.087148838 | AMJ3: 0 To 0.05 | AMK3: 17 | AML3: 0.025 | AMM3: 4.4820871 | AMN3: -0.083333333 | AMQ3: 0.026081494 | AMR3: 0.022747894 | AMS3: 0.022747894 | AMT3: 0.030005833 | AMU3: 0.022747894 | AMV3: 0.019403881
A4: N | C4: 60 | ALX4: 0.048494271 | ALY4: 0.04047071 | ALZ4: 0.10734272 | AMA4: 0.04047071 | AMB4: -0.083132191 | AMC4: -0.082540573 | AMD4: -0.035790875 | AME4: -0.082540573 | AMF4: -0.15107494 | AMG4: -0.082540573 | AMH4: 0.032151879 | AMI4: -0.082540573 | AMJ4: 0.05 To 0.1 | AMK4: 8 | AML4: 0.075 | AMM4: 6.3179345 | AMN4: -0.075 | AMQ4: 0.053777063 | AMR4: 0.058848446 | AMS4: 0.058848446 | AMT4: 0.048494271 | AMU4: 0.058848446 | AMV4: 0.04047071
ALX5: -0.042724487 | ALY5: -0.063469384 | ALZ5: -0.049464012 | AMA5: -0.063469384 | AMB5: -0.082693748 | AMC5: -0.082129408 | AMD5: -0.035507635 | AME5: -0.082129408 | AMF5: -0.15069408 | AMG5: -0.082129408 | AMH5: 0.032492701 | AMI5: -0.082129408 | AMJ5: 0.1 and over | AMK5: 2 | AML5: 0.125 | AMM5: 8.5896556 | AMN5: -0.066666667 | AMQ5: 0.00091195969 | AMR5: -0.0067395257 | AMS5: -0.0067395257 | AMT5: -0.042724487 | AMU5: -0.0067395257 | AMV5: -0.063469384
ALX6: 0.074793943 | ALY6: 0.070438125 | ALZ6: 0.083117723 | AMA6: 0.070438125 | AMB6: -0.062891835 | AMC6: -0.063469384 | AMD6: -0.022557138 | AME6: -0.063469384 | AMF6: -0.13349584 | AMG6: -0.063469384 | AMH6: 0.04804687 | AMI6: -0.063469384 | AMM6: 11.263729 | AMN6: -0.058333333 | AMQ6: 0.010120008 | AMR6: 0.0083237799 | AMS6: 0.0083237799 | AMT6: 0.074793943 | AMU6: 0.0083237799 | AMV6: 0.070438125
A7: Regression Statistics | ALX7: 0.02559306 | ALY7: 0.014375705 | ALZ7: 0.017243953 | AMA7: 0.014375705 | AMB7: -0.056800461 | AMC7: -0.057684744 | AMD7: -0.018495209 | AME7: -0.057684744 | AMF7: -0.12819915 | AMG7: -0.057684744 | AMH7: 0.052903478 | AMI7: -0.057684744 | AMM7: 14.246049 | AMN7: -0.05 | AMQ7: -0.006405984 | AMR7: -0.0083491071 | AMS7: -0.0083491071 | AMT7: 0.02559306 | AMU7: -0.0083491071 | AMV7: 0.014375705
A8: R | C8: 0.73054969 | D8: R-Squared | F8: 0.53370285 | G8: Adjusted R-Squared | I8: 0.52566324 | ALX8: -0.00095033839 | ALY8: -0.015869427 | ALZ8: 0.015043663 | AMA8: -0.015869427 | AMB8: -0.050563755 | AMC8: -0.05173333 | AMD8: -0.014285886 | AME8: -0.05173333 | AMF8: -0.12276716 | AMG8: -0.05173333 | AMH8: 0.057917518 | AMI8: -0.05173333 | AMM8: 17.378508 | AMN8: -0.041666667 | AMQ8: 0.019803198 | AMR8: 0.015994002 | AMS8: 0.015994002 | AMT8: -0.00095033839 | AMU8: 0.015994002 | AMV8: -0.015869427
A9: MSE | C9: 0.0019548205 | D9: S | F9: 0.044213352 | G9: MAPE | I9: 173.49035 | ALX9: 0.029392667 | ALY9: 0.018705203 | ALZ9: 0.0084868707 | AMA9: 0.018705203 | AMB9: -0.04630066 | AMC9: -0.04764564 | AMD9: -0.011374194 | AME9: -0.04764564 | AMF9: -0.11904653 | AMG9: -0.04764564 | AMH9: 0.061371673 | AMI9: -0.04764564 | AMM9: 20.447318 | AMN9: -0.033333333 | AMQ9: -0.0082555856 | AMR9: -0.020905797 | AMS9: -0.020905797 | AMT9: 0.029392667 | AMU9: -0.020905797 | AMV9: 0.018705203
A10: Durbin-Watson (DW) | C10: 1.9527965 | D10: Log likelihood | F10: 103.00444 | ALX10: 0.031954537 | ALY10: 0.021624351 | ALZ10: 0.031216284 | AMA10: 0.021624351 | AMB10: -0.045098961 | AMC10: -0.046490163 | AMD10: -0.010547779 | AME10: -0.046490163 | AMF10: -0.11799633 | AMG10: -0.046490163 | AMH10: 0.062349593 | AMI10: -0.046490163 | AMM10: 23.204169 | AMN10: -0.025 | AMQ10: 0.0045677215 | AMR10: -0.00073825285 | AMS10: -0.00073825285 | AMT10: 0.031954537 | AMU10: -0.00073825285 | AMV10: 0.021624351
A11: Akaike inf. criterion (AIC) | C11: -3.3668147 | D11: AICc | F11: -3.3656653 | ALX11: 0.044809891 | ALY11: 0.036272508 | ALZ11: 0.059426658 | AMA11: 0.036272508 | AMB11: -0.039096236 | AMC11: -0.040694488 | AMD11: -0.0063778324 | AME11: -0.040694488 | AMF11: -0.11273893 | AMG11: -0.040694488 | AMH11: 0.067264858 | AMI11: -0.040694488 | AMM11: 25.398116 | AMN11: -0.016666667 | AMQ11: 0.017803533 | AMR11: 0.014616767 | AMS11: 0.014616767 | AMT11: 0.044809891 | AMU11: 0.014616767 | AMV11: 0.036272508
A12: Schwarz criterion (BIC) | C12: -3.2970033 | D12: Hannan-Quinn criterion (HQC) | F12: -3.3395076 | ALX12: 0.039372321 | ALY12: 0.030076616 | ALZ12: 0.04174924 | AMA12: 0.030076616 | AMB12: -0.036317463 | AMC12: -0.037996651 | AMD12: -0.0044213135 | AME12: -0.037996651 | AMF12: -0.11029746 | AMG12: -0.037996651 | AMH12: 0.069558685 | AMI12: -0.037996651 | AMM12: 26.812839 | AMN12: -0.0083333333 | AMQ12: 0.006405984 | AMR12: 0.0023769192 | AMS12: 0.0023769192 | AMT12: 0.039372321 | AMU12: 0.0023769192 | AMV12: 0.030076616
A13: PRESS | C13: 0.12150169 | D13: PRESS RMSE | F13: 0.045000314 | G13: Predicted R-Squared | I13: 0.50029899 | ALX13: 0.01260738 | ALY13: -0.00042095376 | ALZ13: 0.079454661 | AMA13: -0.00042095376 | AMB13: -0.028095127 | AMC13: -0.029947597 | AMD13: 0.0014841955 | AME13: -0.029947597 | AMF13: -0.10303535 | AMG13: -0.029947597 | AMH13: 0.076424413 | AMI13: -0.029947597 | AMM13: 27.301713 | AMN13: 0 | AMQ13: 0.057879764 | AMR13: 0.06684728 | AMS13: 0.06684728 | AMT13: 0.01260738 | AMU13: 0.06684728 | AMV13: -0.00042095376
ALX14: -0.059100691 | ALY14: -0.082129408 | ALZ14: -0.045291664 | AMA14: -0.082129408 | AMB14: -0.024657112 | AMC14: -0.026547737 | AMD14: 0.0040136746 | AME14: -0.026547737 | AMF14: -0.099977843 | AMG14: -0.026547737 | AMH14: 0.079334406 | AMI14: -0.026547737 | AMM14: 26.812839 | AMN14: 0.0083333333 | AMQ14: 0.015840258 | AMR14: 0.013809027 | AMS14: 0.013809027 | AMT14: -0.059100691 | AMU14: 0.013809027 | AMV14: -0.082129408
A15: Return(Stock) = 0.013 + 0.8776 * Return(Mkt) | ALX15: -0.095385232 | ALY15: -0.12347418 | ALZ15: -0.026541572 | AMA15: -0.12347418 | AMB15: -0.022541994 | AMC15: -0.024444437 | AMD15: 0.005590306 | AME15: -0.024444437 | AMF15: -0.098089313 | AMG15: -0.024444437 | AMH15: 0.081137624 | AMI15: -0.024444437 | AMM15: 25.398116 | AMN15: 0.016666667 | AMQ15: 0.062563536 | AMR15: 0.068843661 | AMS15: 0.068843661 | AMT15: -0.095385232 | AMU15: 0.068843661 | AMV15: -0.12347418
ALX16: 0.12540323 | ALY16: 0.12810536 | ALZ16: 0.13632617 | AMA16: 0.12810536 | AMB16: -0.019108803 | AMC16: -0.021009551 | AMD16: 0.0081860893 | AME16: -0.021009551 | AMF16: -0.095010058 | AMG16: -0.021009551 | AMH16: 0.084087345 | AMI16: -0.021009551 | AMM16: 23.204169 | AMN16: 0.025 | AMQ16: 0.013908265 | AMR16: 0.010922943 | AMS16: 0.010922943 | AMT16: 0.12540323 | AMU16: 0.010922943 | AMV16: 0.12810536
ALX17: 0.05469027 | ALY17: 0.047530801 | ALZ17: 0.025389208 | AMA17: 0.047530801 | AMB17: -0.014077231 | AMC17: -0.015922955 | AMD17: 0.012082601 | AME17: -0.015922955 | AMF17: -0.090461282 | AMG17: -0.015922955 | AMH17: 0.088466652 | AMI17: -0.015922955 | AMM17: 20.447318 | AMN17: 0.033333333 | AMQ17: -0.021844962 | AMR17: -0.029301062 | AMS17: -0.029301062 | AMT17: 0.05469027 | AMU17: -0.029301062 | AMV17: 0.047530801
ALX18: 0.030417653 | ALY18: 0.019873133 | ALZ18: 0.11055935 | AMA18: 0.019873133 | AMB18: -0.01402464 | AMC18: -0.015869427 | AMD18: 0.012123964 | AME18: -0.015869427 | AMF18: -0.090413485 | AMG18: -0.015869427 | AMH18: 0.088512808 | AMI18: -0.015869427 | AMM18: 17.378508 | AMN18: 0.041666667 | AMQ18: 0.07499196 | AMR18: 0.080141692 | AMS18: 0.080141692 | AMT18: 0.030417653 | AMU18: 0.080141692 | AMV18: 0.019873133
A19: ANOVA | ALX19: 0.06242972 | ALY19: 0.056349592 | ALZ19: 0.0073706452 | AMA19: 0.056349592 | AMB19: -0.0084640508 | AMC19: -0.010162238 | AMD19: 0.016580735 | AME19: -0.010162238 | AMF19: -0.085325815 | AMG19: -0.010162238 | AMH19: 0.093442499 | AMI19: -0.010162238 | AMM19: 14.246049 | AMN19: 0.05 | AMQ19: -0.062563536 | AMR19: -0.055059075 | AMS19: -0.055059075 | AMT19: 0.06242972 | AMU19: -0.055059075 | AMV19: 0.056349592
B20: d.f. | C20: SS | D20: MS | E20: F | F20: p-value | ALX20: 0.076014227 | ALY20: 0.071828589 | ALZ20: 0.10258036 | AMA20: 0.071828589 | AMB20: -0.0053492821 | AMC20: -0.0069201421 | AMD20: 0.019156551 | AME20: -0.0069201421 | AMF20: -0.082443168 | AMG20: -0.0069201421 | AMH20: 0.096250437 | AMI20: -0.0069201421 | AMM20: 11.263729 | AMN20: 0.058333333 | AMQ20: 0.028292155 | AMR20: 0.026566135 | AMS20: 0.026566135 | AMT20: 0.076014227 | AMU20: 0.026566135 | AMV20: 0.071828589
A21: Regression | B21: 1 | C21: 0.1297692 | D21: 0.1297692 | E21: 66.384204 | F21: 3.4658387e-11 | ALX21: -0.020369388 | ALY21: -0.037996651 | ALZ21: -0.067396799 | AMA21: -0.037996651 | AMB21: 0.00078817728 | AMC21: -0.00042095376 | AMD21: 0.024426584 | AME21: -0.00042095376 | AMF21: -0.076680977 | AMG21: -0.00042095376 | AMH21: 0.10189574 | AMI21: -0.00042095376 | AMM21: 8.5896556 | AMN21: 0.066666667 | AMQ21: -0.050098007 | AMR21: -0.047027411 | AMS21: -0.047027411 | AMT21: -0.020369388 | AMU21: -0.047027411 | AMV21: -0.037996651
A22: Residual | B22: 58 | C22: 0.11337959 | D22: 0.0019548205 | ALX22: -0.010321719 | ALY22: -0.026547737 | ALZ22: -0.037369847 | AMA22: -0.026547737 | AMB22: 0.0028444849 | AMC22: 0.0017932844 | AMD22: 0.026256747 | AME22: 0.0017932844 | AMF22: -0.074722844 | AMG22: 0.0017932844 | AMH22: 0.10382408 | AMI22: 0.0017932844 | AMM22: 6.3179345 | AMN22: 0.075 | AMQ22: -0.019803198 | AMR22: -0.027048129 | AMS22: -0.027048129 | AMT22: -0.010321719 | AMU22: -0.027048129 | AMV22: -0.026547737
A23: Total | B23: 59 | C23: 0.24314879 | ALX23: 0.10901308 | ALY23: 0.10942945 | ALZ23: 0.06005828 | AMA23: 0.10942945 | AMB23: 0.0051810159 | AMC23: 0.0043338973 | AMD23: 0.028379545 | AME23: 0.0043338973 | AMF23: -0.072479229 | AMG23: 0.0043338973 | AMH23: 0.10603979 | AMI23: 0.0043338973 | AMM23: 4.4820871 | AMN23: 0.083333333 | AMQ23: -0.053777063 | AMR23: -0.0489548 | AMS23: -0.0489548 | AMT23: 0.10901308 | AMU23: -0.0489548 | AMV23: 0.10942945
ALX24: 0.046667207 | ALY24: 0.038388844 | ALZ24: 0.039005933 | AMA24: 0.038388844 | AMB24: 0.0075739028 | AMC24: 0.0069645438 | AMD24: 0.030604016 | AME24: 0.0069645438 | AMF24: -0.070159647 | AMG24: 0.0069645438 | AMH24: 0.10833757 | AMI24: 0.0069645438 | AMM24: 3.0668411 | AMN24: 0.091666667 | AMQ24: -0.00091195969 | AMR24: -0.0076612743 | AMS24: -0.0076612743 | AMT24: 0.046667207 | AMU24: -0.0076612743 | AMV24: 0.038388844
B25: Coefficients | C25: Std Err | D25: LCL | E25: UCL | F25: t Stat | G25: p-value | H25: H0 (5%) | I25: VIF | J25: TOL | K25: Beta | ALX25: 0.0040583421 | ALY25: -0.010162238 | ALZ25: 0.042891826 | AMA25: -0.010162238 | AMB25: 0.014166217 | AMC25: 0.014375705 | AMD25: 0.037019904 | AME25: 0.014375705 | AMF25: -0.063644207 | AMG25: 0.014375705 | AMH25: 0.11483033 | AMI25: 0.014375705 | AMM25: 2.0239887 | AMN25: 0.1 | AMQ25: 0.035420608 | AMR25: 0.038833484 | AMS25: 0.038833484 | AMT25: 0.0040583421 | AMU25: 0.038833484 | AMV25: -0.010162238
A26: Intercept | B26: 0.012976813 | C26: 0.0058930908 | D26: 0.0011805105 | E26: 0.024773116 | F26: 2.2020386 | G26: 0.031652683 | H26: Rejected | ALX26: 0.037205174 | ALY26: 0.027607239 | ALZ26: 0.0042248664 | AMA26: 0.027607239 | AMB26: 0.015230554 | AMC26: 0.015596273 | AMD26: 0.03809793 | AME26: 0.015596273 | AMF26: -0.062573902 | AMG26: 0.015596273 | AMH26: 0.11590239 | AMI26: 0.015596273 | AMM26: 1.2883405 | AMN26: 0.10833333 | AMQ26: -0.028292155 | AMR26: -0.032980307 | AMS26: -0.032980307 | AMT26: 0.037205174 | AMU26: -0.032980307 | AMV26: 0.027607239
A27: Return(Mkt) | B27: 0.87760896 | C27: 0.10771314 | D27: 0.66199769 | E27: 1.0932202 | F27: 8.1476502 | G27: 3.4658387e-11 | H27: Rejected | I27: 1 | J27: 1 | K27: 0.73054969 | ALX27: 0.051381919 | ALY27: 0.043761068 | ALZ27: 0.014588175 | AMA27: 0.043761068 | AMB27: 0.017914273 | AMC27: 0.018705203 | AMD27: 0.040871062 | AME27: 0.018705203 | AMF27: -0.059851216 | AMG27: 0.018705203 | AMH27: 0.11863655 | AMI27: 0.018705203 | AMM27: 0.79096831 | AMN27: 0.11666667 | AMQ27: -0.038010724 | AMR27: -0.036793744 | AMS27: -0.036793744 | AMT27: 0.051381919 | AMU27: -0.036793744 | AMV27: 0.043761068
A28: T (5%) | B28: 2.0017175 | ALX28: 0.059800864 | ALY28: 0.053354116 | ALZ28: 0.069601731 | AMA28: 0.053354116 | AMB28: 0.018512035 | AMC28: 0.019403881 | AMD28: 0.041499631 | AME28: 0.019403881 | AMF28: -0.059240033 | AMG28: 0.019403881 | AMH28: 0.1192517 | AMI28: 0.019403881 | AMM28: 0.46837456 | AMN28: 0.125 | AMQ28: 0.012002927 | AMR28: 0.0098008667 | AMS28: 0.0098008667 | AMT28: 0.059800864 | AMU28: 0.0098008667 | AMV28: 0.053354116
A29: LCL - Lower limit of the 95% confidence interval | ALX29: 0.019088959 | ALY29: 0.0069645438 | ALZ29: -0.0076929178 | AMA29: 0.0069645438 | AMB29: 0.018912413 | AMC29: 0.019873133 | AMD29: 0.041922893 | AME29: 0.019873133 | AMF29: -0.058829687 | AMG29: 0.019873133 | AMH29: 0.11966499 | AMI29: 0.019873133 | AMM29: 0.26750588 | AMN29: 0.13333333 | AMQ29: -0.017803533 | AMR29: -0.026781877 | AMS29: -0.026781877 | AMT29: 0.019088959 | AMU29: -0.026781877 | AMV29: 0.0069645438
A30: UCL - Upper limit of the 95% confidence interval | ALX30: 0.033446891 | ALY30: 0.023324827 | ALZ30: 0.084988786 | AMA30: 0.023324827 | AMB30: 0.020398874 | AMC30: 0.021624351 | AMD30: 0.043510201 | AME30: 0.021624351 | AMF30: -0.057299317 | AMG30: 0.021624351 | AMH30: 0.12120839 | AMI30: 0.021624351 | AMM30: 0.14735985 | AMN30: 0.14166667 | AMQ30: 0.043638989 | AMR30: 0.051541895 | AMS30: 0.051541895 | AMT30: 0.033446891 | AMU30: 0.051541895 | AMV30: 0.023324827
ALX31: 0.033814745 | ALY31: 0.023743983 | ALZ31: 0.051716501 | AMA31: 0.023743983 | AMB31: 0.021830724 | AMC31: 0.023324827 | AMD31: 0.045063058 | AME31: 0.023324827 | AMF31: -0.055814817 | AMG31: 0.023324827 | AMH31: 0.1227086 | AMI31: 0.023324827 | AMM31: 0.078294418 | AMN31: 0.15 | AMQ31: 0.023935271 | AMR31: 0.017901755 | AMS31: 0.017901755 | AMT31: 0.033814745 | AMU31: 0.017901755 | AMV31: 0.023743983
ALX32: 0.03964305 | ALY32: 0.030385101 | ALZ32: 0.093117125 | AMA32: 0.030385101 | AMB32: 0.022181937 | AMC32: 0.023743983 | AMD32: 0.045447553 | AME32: 0.023743983 | AMF32: -0.05544913 | AMG32: 0.023743983 | AMH32: 0.12307862 | AMI32: 0.023743983 | AMQ32: 0.046741615 | AMR32: 0.053474075 | AMS32: 0.053474075 | AMT32: 0.03964305 | AMU32: 0.053474075 | AMV32: 0.030385101
ALX33: -0.02782337 | ALY33: -0.046490163 | ALZ33: -0.093154915 | AMA33: -0.046490163 | AMB33: 0.025387512 | AMC33: 0.027607239 | AMD33: 0.049022835 | AME33: 0.027607239 | AMF33: -0.052082979 | AMG33: 0.027607239 | AMH33: 0.12649333 | AMI33: 0.027607239 | AMQ33: -0.084487289 | AMR33: -0.065331545 | AMS33: -0.065331545 | AMT33: -0.02782337 | AMU33: -0.065331545 | AMV33: -0.046490163
ALX34: 0.074428193 | ALY34: 0.070021367 | ALZ34: 0.17629115 | AMA34: 0.070021367 | AMB34: 0.027407584 | AMC34: 0.030076616 | AMD34: 0.051337059 | AME34: 0.030076616 | AMF34: -0.049935417 | AMG34: 0.030076616 | AMH34: 0.12868006 | AMI34: 0.030076616 | AMQ34: 0.084487289 | AMR34: 0.10186295 | AMS34: 0.10186295 | AMT34: 0.074428193 | AMU34: 0.10186295 | AMV34: 0.070021367
ALX35: 0.0069036346 | ALY35: -0.0069201421 | ALZ35: -0.0012363549 | AMA35: -0.0069201421 | AMB35: 0.027658404 | AMC35: 0.030385101 | AMD35: 0.051627696 | AME35: 0.030385101 | AMF35: -0.049667358 | AMG35: 0.030385101 | AMH35: 0.12895346 | AMI35: 0.030385101 | AMQ35: -0.0045677215 | AMR35: -0.0081399894 | AMS35: -0.0081399894 | AMT35: 0.0069036346 | AMU35: -0.0081399894 | AMV35: -0.0069201421
ALX36: 0.052224242 | ALY36: 0.044720862 | ALZ36: 0.017332648 | AMA36: 0.044720862 | AMB36: 0.029019311 | AMC36: 0.032066081 | AMD36: 0.053217275 | AME36: 0.032066081 | AMF36: -0.048207529 | AMG36: 0.032066081 | AMH36: 0.13044412 | AMI36: 0.032066081 | AMQ36: -0.035420608 | AMR36: -0.034891595 | AMS36: -0.034891595 | AMT36: 0.052224242 | AMU36: -0.034891595 | AMV36: 0.044720862
ALX37: -0.032424821 | ALY37: -0.05173333 | ALZ37: -0.07534491 | AMA37: -0.05173333 | AMB37: 0.029047194 | AMC37: 0.032100648 | AMD37: 0.053250065 | AME37: 0.032100648 | AMF37: -0.048177525 | AMG37: 0.032100648 | AMH37: 0.13047478 | AMI37: 0.032100648 | AMQ37: -0.043638989 | AMR37: -0.042920089 | AMS37: -0.042920089 | AMT37: -0.032424821 | AMU37: -0.042920089 | AMV37: -0.05173333
ALX38: -0.013305466 | ALY38: -0.029947597 | ALZ38: -0.037204965 | AMA38: -0.029947597 | AMB38: 0.032383017 | AMC38: 0.036272508 | AMD38: 0.057236765 | AME38: 0.036272508 | AMF38: -0.044560934 | AMG38: 0.036272508 | AMH38: 0.13418072 | AMI38: 0.036272508 | AMQ38: -0.015840258 | AMR38: -0.023899499 | AMS38: -0.023899499 | AMT38: -0.013305466 | AMU38: -0.023899499 | AMV38: -0.029947597
ALX39: 0.045511435 | ALY39: 0.037071889 | ALZ39: 0.015127682 | AMA39: 0.037071889 | AMB39: 0.032670942 | AMC39: 0.036635936 | AMD39: 0.057586736 | AME39: 0.036635936 | AMF39: -0.044246305 | AMG39: 0.036635936 | AMH39: 0.13450398 | AMI39: 0.036635936 | AMQ39: -0.023935271 | AMR39: -0.030383753 | AMS39: -0.030383753 | AMT39: 0.045511435 | AMU39: -0.030383753 | AMV39: 0.037071889
ALX40: -0.063505788 | ALY40: -0.087148838 | ALZ40: -0.085028519 | AMA40: -0.087148838 | AMB40: 0.033015777 | AMC40: 0.037071889 | AMD40: 0.058007093 | AME40: 0.037071889 | AMF40: -0.04386898 | AMG40: 0.037071889 | AMH40: 0.13489185 | AMI40: 0.037071889 | AMQ40: -0.012002927 | AMR40: -0.021522731 | AMS40: -0.021522731 | AMT40: -0.063505788 | AMU40: -0.021522731 | AMV40: -0.087148838
...

Sheet Levered & Unlevered Beta
D1: Debt to Capital | E1: Debt to Equity | F1: Levered Beta | G1: Debt effect on Beta
A2: Levered Beta | B2: 0.88 | D2: 0 | E2: =D2/(1-D2) -> 0 | F2: =B10 -> 0.84203277 | G2: =F2-$B$11 -> -0.077348692
A3: Total Debt | B3: ='MSFT Market value of Debt'!B9 -> 95851.87 | D3: =D2+0.1 -> 0.1 | E3: =D3/(1-D3) -> 0.11111111 | F3: =$B$10*(1+(1-$B$6)*E3) -> 0.91220216 | G3: =F3-$B$11 -> -0.0071792949
A4: Cash | B4: 80892 | D4: =D3+0.1 -> 0.2 | E4: =D4/(1-D4) -> 0.25 | F4: =$B$10*(1+(1-$B$6)*E4) -> 0.99991391 | G4: =F4-$B$11 -> 0.080532452
A5: Market Equity | B5: 3023000 | D5: =D4+0.1 -> 0.3 | E5: =D5/(1-D5) -> 0.42857143 | F5: =$B$10*(1+(1-$B$6)*E5) -> 1.1126862 | G5: =F5-$B$11 -> 0.1933047
A6: Marginal tax rate | B6: 0.25 | D6: =D5+0.1 -> 0.4 | E6: =D6/(1-D6) -> 0.66666667 | F6: =$B$10*(1+(1-$B$6)*E6) -> 1.2630491 | G6: =F6-$B$11 -> 0.34366769
D7: =D6+0.1 -> 0.5 | E7: =D7/(1-D7) -> 1 | F7: =$B$10*(1+(1-$B$6)*E7) -> 1.4735573 | G7: =F7-$B$11 -> 0.55417588
A8: Debt to Equity Ratio (2019-2023) | B8: =G24 -> 0.060119963 | D8: =D7+0.1 -> 0.6 | E8: =D8/(1-D8) -> 1.5 | F8: =$B$10*(1+(1-$B$6)*E8) -> 1.7893196 | G8: =F8-$B$11 -> 0.86993817
A9: Cash as % of firm value = | B9: =G26 -> 0.084131229 | D9: =D8+0.1 -> 0.7 | E9: =D9/(1-D9) -> 2.3333333 | F9: =$B$10*(1+(1-$B$6)*E9) -> 2.3155901 | G9: =F9-$B$11 -> 1.3962086
A10: Unlevered beta = | B10: =B2/(1+(1-B6)*B8) -> 0.84203277 | D10: =D9+0.1 -> 0.8 | E10: =D10/(1-D10) -> 4 | F10: =$B$10*(1+(1-$B$6)*E10) -> 3.3681311 | G10: =F10-$B$11 -> 2.4487496
A11: Unlevered beta corrected for cash = | B11: =B10/(1-B9) -> 0.91938146 | D11: =D10+0.1 -> 0.9 | E11: =D11/(1-D11) -> 9 | F11: =$B$10*(1+(1-$B$6)*E11) -> 6.5257539 | G11: =F11-$B$11 -> 5.6063725
A13: Current Debt to Equity | B13: =B3/B5 -> 0.031707532 | D13: =B10*(1+(1-0.25)*(0.1)) -> 0.90518522
A14: Current levered beta = | B14: =B10*(1+(1-0.25)*(B3/B5)) -> 0.86205685
A17: Net Debt to Equity Ratio = | B17: =G25 -> -0.02987117
A18: Unlevered beta (with net debt to equity) = | B18: =B2/(1+(1-B6)*B17) -> 0.90016678
B20: 2019 | C20: 2020 | D20: 2021 | E20: 2022 | F20: 2023 | G20: Average
A21: Market Cap | B21: 816170.07 | C21: 1278120.1 | D21: 1752283 | E21: 2162771 | F21: 1801698.2
A22: Cash | B22: 127673 | C22: 134231 | D22: 131989 | E22: 125348 | F22: 99495
A23: Total Debt | B23: 85483 | C23: 87147 | D23: 82782 | E23: 80353 | F23: 77985
A24: Debt to Equity | B24: =B23/B21 -> 0.10473675 | C24: =C23/C21 -> 0.068183731 | D24: =D23/D21 -> 0.047242369 | E24: =E23/E21 -> 0.037152801 | F24: =F23/F21 -> 0.043284164 | G24: =AVERAGE(B24:F24) -> 0.060119963
A25: Net Debt to Equity | B25: =(B23-B22)/B21 -> -0.051692658 | C25: =(C23-C22)/C21 -> -0.036838477 | D25: =(D23-D22)/D21 -> -0.028081651 | E25: =(E23-E22)/E21 -> -0.020804329 | F25: =(F23-F22)/F21 -> -0.011938736 | G25: =AVERAGE(B25:F25) -> -0.02987117
A26: Cash to Value | B26: =B22/(B21+B23) -> 0.14159881 | C26: =C22/(C21+C23) -> 0.098318487 | D26: =D22/(D21+D23) -> 0.071926063 | E26: =E22/(E21+E23) -> 0.055880995 | F26: =F22/(F21+F23) -> 0.052931792 | G26: =AVERAGE(B26:F26) -> 0.084131229

Sheet MSFT Market value of Debt
A2: Book Debt | B2: 111358
A3: Interest Expense | B3: 2461
A4: Pre-tax cost of debt | B4: ='MSFT Cost of capital'!B7 -> 0.0509
A5: Weighted average Maturity | B5: 5.69
A7: Market Value of Interest = | B7: =B3*(1-(1+B4)^(-B5))/B4 -> 11898.7
A8: Market Value of Face Value = | B8: =B2/(1+B4)^B5 -> 83953.17
A9: Market Value of Debt = | B9: =B7+B8 -> 95851.87
A15: Year | B15: ST Debt | C15: LT Debt | D15: Op Leases
A16: 1 | B16: 27041 | C16: 5887.997 | D16: 1197 | E16: =SUM(B16:D16) -> 34125.997 | F16: =E16/$E$22 -> 0.31478062 | G16: =A16*F16 -> 0.31478062
A17: 2 | C17: 3764.051 | D17: 1753.6237 | E17: =SUM(B17:D17) -> 5517.6746 | F17: =E17/$E$22 -> 0.050895423 | G17: =A17*F17 -> 0.10179085
A18: 3 | C18: 4168.6711 | D18: 1488.1013 | E18: =SUM(B18:D18) -> 5656.7724 | F18: =E18/$E$22 -> 0.052178471 | G18: =A18*F18 -> 0.15653541
A19: 4 | C19: 8643.8497 | D19: 1495.6637 | E19: =SUM(B19:D19) -> 10139.513 | F19: =E19/$E$22 -> 0.093527592 | G19: =A19*F19 -> 0.37411037
A20: 5 | C20: 1501.5455 | D20: 1501.5455 | E20: =SUM(B20:D20) -> 3003.091 | F20: =E20/$E$22 -> 0.027700725 | G20: =A20*F20 -> 0.13850363
A21: 10 | C21: 40337.886 | D21: 9631.0658 | E21: =SUM(B21:D21) -> 49968.952 | F21: =E21/$E$22 -> 0.46091716 | G21: =A21*F21 -> 4.6091716
E22: =SUM(E16:E21) -> 108412 | G22: =SUM(G16:G21) -> 5.6948925

Sheet Book vs Market
B1: Book | C1: Market
A2: Equity | B2: 238268 | C2: ='Levered & Unlevered Beta'!B5 -> 3023000
A3: Total Debt | B3: 111358 | C3: ='MSFT Market value of Debt'!B9 -> 95851.87
A4: Debt to Equity | B4: =B3/B2 -> 0.46736448 | C4: =C3/C2 -> 0.031707532
A5: Debt to Capital | B5: =B3/(B3+B2) -> 0.31850606 | C5: =C3/(C3+C2) -> 0.030733063

Sheet Bottom up beta
C1: Industry Median
B2: Revenues in 2023 | C2: EV/Sales | D2: Unlevered Beta | E2: Value | F2: Weight
A3: Application Software | B3: =69274+54734 -> 124008 | C3: 10.72 | D3: 1.27 | E3: =B3*C3 -> 1329365.8 | F3: =E3/$E$5 -> 0.66847035
A4: Intelligent Cloud | B4: 87907 | C4: 7.5 | D4: 0.85 | E4: =B4*C4 -> 659302.5 | F4: =E4/$E$5 -> 0.33152965
A5: Microsoft operations | B5: 211915 | D5: =F3*D3+F4*D4 -> 1.1307575 | E5: =SUM(E3:E4) -> 1988668.3
A7: Debt to Equity | B7: ='Levered & Unlevered Beta'!B13 -> 0.031707532
A8: Levered Beta | B8: =D5*(1+(1-'Levered & Unlevered Beta'!B6)*'Bottom up beta'!B7) -> 1.1576477

Sheet MSFT + Activisiion
A1: Company | B1: Levered Beta | C1: Unlevered Beta | D1: Debt | E1: Equity | F1: Cash
A2: Microsoft (before) | B2: 1.16 | C2: 1.13 | D2: ='Levered & Unlevered Beta'!B3 -> 95851.87 | E2: ='Levered & Unlevered Beta'!B5 -> 3023000 | F2: ='Levered & Unlevered Beta'!B4 -> 80892
A3: Activision | B3: =C3*(1+(1-0.25)*D3/E3) -> 0.91162597 | C3: 0.87 | D3: 3856 | E3: 60444 | F3: 12041
D4: =SUM(D2:D3) -> 99707.87 | E4: =E2+E3 -> 3083444 | J4: 60444.007
J5: 12041
J6: 3856
A7: Company | B7: Enterprise Value | C7: Weights | D7: Unlevered Beta
A8: =A2 -> Microsoft (before) | B8: =E2+D2-F2 -> 3037959.9 | C8: =B8/B10 -> 0.9830889 | D8: =C2 -> 1.13
A9: =A3 -> Activision | B9: =E3+D3-F3 -> 52259 | C9: =1-C8 -> 0.0169111 | D9: =C3 -> 0.87
A10: Microsft (after) | B10: =B8+B9 -> 3090218.9 | D10: =D8*C8+D9*C9 -> 1.1256031
A12: Total Debt after | B12: =D4 -> 99707.87
A13: Total Equity after | B13: =E4 -> 3083444
A14: D/E | B14: =B12/B13 -> 0.032336527
A16: Levered beta = | B16: =D10*(1+(1-0.25)*B14) -> 1.1529017
A19: Total Debt after | B19: =B12+E3 -> 160151.87
A20: Total Equity after | B20: =E2 -> 3023000
A21: D/E | B21: =B19/B20 -> 0.052977794
A23: Levered beta = | B23: =D10*(1+(1-0.25)*B21) -> 1.1703271

Sheet MSFT Cost of capital
A3: Riskfree Rate = | B3: 0.045
A4: Bond Rating = | B4: AAA
A5: Default spread = | B5: 0.0059
A7: Pre-tax cost of debt | B7: =B3+B5 -> 0.0509
A8: After-tax cost of debt | B8: =B7*(1-'Levered & Unlevered Beta'!B6) -> 0.038175
A9: Levered beta = | B9: ='Bottom up beta'!B8 -> 1.1576477 | D9: =4.5% + 1.2 * 4.25% + 3.1% -> 0.127
A10: Equity Risk Premium = | B10: ='MSFT ERP'!D4 -> 0.054956844
A12: Cost of equity = | B12: =B3+B9*B10 -> 0.10862066
A14: Debt to Capital ratio = | B14: ='Levered & Unlevered Beta'!B3/('Levered & Unlevered Beta'!B3+'Levered & Unlevered Beta'!B5) -> 0.030733063
A16: Cost of Capital | B16: =B7*(1-'Levered & Unlevered Beta'!B6)*'MSFT Cost of capital'!B14+(1-'MSFT Cost of capital'!B14)*'MSFT Cost of capital'!B12 -> 0.10645565

Sheet MSFT ERP
A1: Geographic Regiion | B1: Revenues in 2023 | C1: Weights | D1: ERP in 2024
A2: United States | B2: 106744 | C2: =B2/B4 -> 0.50371139 | D2: 0.0425
A3: Other Countries | B3: 105171 | C3: =1-C2 -> 0.49628861 | D3: =7.11%-0.35% -> 0.0676
A4: Total Revenues | B4: 211915 | D4: =C2*D2+C3*D3 -> 0.054956844
