Workbook

Sheet READ ME 1ST
A1: PRELIMINARY STUFF AND INPUTS
A2: Objective | B2: This spreadsheet allows you to compute the optimal capital structure for a non-financial
B3: service firm
A4: Before you start | B4: Open preferences in excel, go into calculation options and put a check in the iteration box.
B5: If it is already checked, leave it as is.
A6: Inputs | B6: The inputs are primarily in the input sheet. If your company has operating leases,
B7: use the operating lease worksheet to enter your lease or rental commitments.
A8: Units | B8: Enter all numbers in the same units (000s, millions or even billions)
A9: Income inputs | B9: The key income input is the earnings before long term interest expenses and depreciation.
B10: Enter the most updated numbers you have for each (even if they are 12-month trailing
B11: numbers). If the most recent period for which you have data has an operating income that
B12: is abnormal, either because of extraordinary losses/gains or some other occurrence, use
B13: an average operating income over the last few years.
A14: Balance Sheet | B14: Enter the book value of total debt. If you have a market value enter that
B15: number. Alternatively, input the average maturity of the debt and I will estimate the
B16: market value of debt.
A17: Market Data | B17: Enter the current stock price, the current risk free rate, the equity risk
B18: premium you would like to use to estimate your cost of equity and the current rating for
B19: your firm. If you do not have a rating, there is an option for you at the very bottom of
B20: the spreadsheet to compute a synthetic rating.
A21: Tax Rate | B21: Enter a marginal tax rate, if you can find it. Otherwise, use the marginal tax rate of country
A22: Default Spreads | B22: This spreadsheet has interest coverage ratios, ratings and default spreads built into it in
B23: the worksheet. You can choose between two tables, one for large and stable
B24: firms, and the other for small or risky firms. If you want you can change the interest
B25: coverage ratios and ratings in these tables.
A26: READING THE OUTPUT
A27: Summary | B27: The summary provides a picture of your firm's current cost of capital and debt ratio, and
B28: compares it to your firm's optimal debt ratio and the cost of capital at that level. The
B29: firm value is computed at each debt ratio, based upon how the expected operating income
B30: and the cost of capital. The optimal debt ratio is that ratio at which firm value is
B31: maximized. It might not be the same point at which cost of capital is minimized.
A32: Details | B32: The details of the calculation at each debt ratio are below the summary.
A34: References
A35: Corporate Finance: Theory and Practice, Chapter 18
A36: Applied Corporate Finance: Chapter 8

Sheet FAQs
A1: Question | B1: Answer
A2: Q1: What do I do excel says there are circular references? | B2: Go into preferences, choose calculation options and make sure the iteration box has a check in it.
A3: Q2: My spreadsheet has gone crazy. I get errors all over. What did I do wrong? | B3: I am sorry to say this, but you probably just made an input error. While you might have fixed it, the iterations in the spreadsheet make it very sensitive and the errors will not go away. The only fix (Sorry, sorry…) is to copy the inputs into a fresh version of the spreadsheet.
A6: Q3: I am entering the inputs for my company but the optimal numbers do not seem to change from the originals. | B6: You probably forgot to check the iteration box (see Q1)
A9: Q4: I am getting an optimal debt ratio of 0%. This can't be right. Can it? | B9: Sure. If your operating income is either negative or very low, relative to your firm value,
B10: you can end up at an optimal debt ratio of 0%. For instance, if you have EBIT of 100 on a
B11: firm value of 10000, a 10% debt ratio would probably push you into a C rating and give
B12: you a very high cost of capital.
A13: Q5: My cost of capital at my optimal debt ratio is higher | B13: Generally, you are right. However, I would suggest that you look at three factors:
A14: than the current cost of capital. I thought it was supposed | B14: - If your optimal is just slightly higher or lower than your current debt ratio, it is possible that you
A15: to be lower. | B15: are closer to the optimal than the stated optimal. Let me explain. Assume that you are at a 24% debt ratio
B16: and the optimal comes out to 30%. The true optimal is really somewhere around 30% since
B17: I am constrained to work in 10% increments of the debt ratio. If the true optimal were
B18: 26%, your current debt ratio of 24% is closer to the optimal.
B19: - Rating Differences: One of the costs of rating a company based only on the interest
B20: coverage ratio is that the rating might be very different from the actual rating. Thus, your
B21: current cost of capital is based upon your current rating, and the optimal is based upon
B22: the synthetic ratings, and the two don't match, the current and the optimal cost of capital
B23: can be mismatched. You can get around this by switching to a synthetic rating for computing
B24: the current cost of capital (in the input sheet).
B25: - Existing debt at low rates: I assume in the spreadsheet that existing debt gets refinanced at
B26: the new pre-tax cost of debt at each debt ratio. Consequently, if you have a lot of old debt on
B27: your books at much lower rates, the interest expense that I report will be much higher than
... B29: This, too, you can fix by locking in debt at current rates in the input sheet.
A30: Q6: I am getting an optimal debt ratio at a mix where my cost | B30: Not necessarily. If you chose to build in indirect bankruptcy costs (an option on the input page),
A31: of capital is not minimized? Is something wrong? | B31: your operating income also changes as your debt ratio changes. Since the objective ultimately is to
B32: maximize firm value, it is possible that the net effect (lower cost of capital is good but it could be offset
B33: by lower operating income) is resulting in an optimal at a higher debt ratio.

Sheet Inputs
A1: In December 2017, Congress passed a major tax reform that not only lowered the tax rate for US companies but alao imposed limits on interst tax deductions for tax purposes. Starting in 2018, interest will be deductible, for tax purposes, only if it is less than 30% of taxable income. However, Congress in its wisdom has defined EBITDA as taxable income until 2022 and EBIT thereafter. I have added an option to the spreadsheet to allow you to incorporate this limit. If you are working with a company outside the US, just set the option to constrain interest expenses to no and you should be ready to go. | J1: Input Cell
J2: Calculated/Output Cell
A5: Important: This spreadsheet includes circular references, by design. Please go into calculation options and check the iteration box.
A6: Inputs
A7: Please enter the name of the company you are analyzing: | B7: Disney
A8: Country of incorporatiion | B8: United States
A9: Please enter the date that you are doing this analysis | B9: 43951
A10: Financial Information | F10: Output Summary
A11: Earnings before interest expenses, depreciation & amortization (EBITDA) | B11: =9332+3626+1743 -> 14701 | G11: Current | H11: Optimal
A12: Depreciation and Amortization: | B12: =3626+1743 -> 5369 | F12: Debt to Capital | G12: ='Optimal CS Worksheet'!E12 -> 0.21530799 | H12: ='Optimal CS Worksheet'!F12 -> 0.3
A13: Capital Spending: | B13: 4969 | F13: Debt to EBITDA | G13: =('Optimal CS Worksheet'!C5+'Optimal CS Worksheet'!C7)/'Optimal CS Worksheet'!I4 -> 3.1563217 | H13: ='Optimal CS Worksheet'!F13/Inputs!B11 -> 4.5389765
A14: Interest expense on debt: | B14: 1973 | F14: Interest Coverage | G14: =('Optimal CS Worksheet'!I4-'Optimal CS Worksheet'!I5)/'Optimal CS Worksheet'!I8 -> 4.6182745 | H14: =HLOOKUP('Optimal CS Worksheet'!F12,'Optimal CS Worksheet'!B62:K63,2,FALSE) -> 3.2427407
A15: Marginal tax rate to use for pre-tax cost of debt | B15: =VLOOKUP(B8,Table132[#All],2,FALSE) -> 0.25 | C15: (See marginal tax rate worksheet) | F15: Cost of capital | G15: ='Optimal CS Worksheet'!E19 -> 0.087345361 | H15: ='Optimal CS Worksheet'!F19 -> 0.086203093
A16: Current Bond Rating on debt (if available): | B16: A3/A- | F16: Enterprise value | G16: ='Optimal CS Worksheet'!J14 -> 222424.98 | H16: ='Optimal CS Worksheet'!F21 -> 228591.24
A17: Enter the current pre-tax cost of debt for your company | B17: 0.0571 | F17: Value per share | G17: ='Optimal CS Worksheet'!E22 -> 100.3 | H17: ='Optimal CS Worksheet'!F22 -> 103.6677
A18: Market Information & information on debt | F18: For details, check "Optimal Capital Structure" worksheet
A19: Number of shares outstanding: | B19: 1831
A20: Market price per share: | B20: 100.3
A21: Beta of the stock: | B21: =0.96*(1+(1-B15)*('Optimal CS Worksheet'!C5/'Optimal CS Worksheet'!C4)) -> 1.1420335 | F21: Circular Reasoning/ IterationI: When you open this spreadsheet, you may be warned that there is circular reasoning. That is a feature, not a bug, since I need to use circular reasoning to get to the interest rate at each level of debt. To get the spreadsheet working properly, go to Calculation options in Excel and make sure the iteraion box is checked.
A22: Cash and marketable securities = | B22: 11615
A23: Book value of debt: | B23: =42101+1476+2854 -> 46431
A24: Can you estimate the market value of the interest bearing debt? | B24: No
A25: If so, enter the market value of "interest bearing" debt:
A26: Do you want me to try and estimate market value of debt? | B26: No
A27: If yes, enter the weighted average maturity of outstanding debt? | B27: 4.2
A28: Do you have any operating leases? | B28: Yes
A29: Interest deduction constraints
A30: Are there any restrictions on interest deductions for tax purposes? | B30: No
A31: If yes, what earnings or operating measure is the restriction tied to? | B31: EBITDA
A32: Enter the maximum percentage of that measure that is deductible | B32: 0.3
A33: Indirect bankruptcy costs & ratings constraints (if any)
A34: Do you want to incorporate indirect bankruptcy costs into your optimal? | B34: No
A35: If yes, specify the magnitude of your indirect bankruptcy costs | B35: Medium
A36: General Market Data
A37: Current riskfree rate in the currency of analysis = | B37: 0.045
A38: Risk premium (for use in the CAPM) | B38: ='ERP Calculator'!E29 -> 0.047775391
A39: Country Default spread (for cost of debt) | B39: 0 | C39: (I use the country of incorporation. If you want to override it, you can)
A41: General Data
A42: Which spread/ratio table would you like to use for your anlaysis? | B42: 1
A43: Do you want to assume that existing debt is refinanced at the 'new' rate? | B43: No | C43: (Yes or No)
...

Sheet Optimal CS Worksheet
A1: =Inputs!B7 -> Disney
A2: =Inputs!B9 -> 43951 | K2: Drivers of the optimal debt ratio
A3: Capital Structure | D3: Financial Market | G3: Income Statement | K3: Marginal tax rate = | M3: =I6 -> 0.25
A4: Current MV of Equity = | C4: =Inputs!B19*Inputs!B20 -> 183649.3 | D4: Current Beta for Stock = | F4: =Inputs!B21 -> 1.1420335 | G4: Current EBITDA = | I4: =IF(Inputs!B28="Yes",'Operating leases'!F36+'Operating leases'!F38,Inputs!B11) -> 15965 | K4: EBITDA/ Enterprise value = | M4: =I4/J14 -> 0.071777011
A5: Market Value of interest-bearing debt = | C5: =IF(Inputs!B24="Yes",Inputs!B25,IF(Inputs!B26="Yes",Inputs!B14*(1-(1+Inputs!B17)^(0-Inputs!B27))/Inputs!B17+Inputs!B23/(1+Inputs!B17)^Inputs!B27,Inputs!B23)) -> 46431 | D5: Current Bond Rating = | F5: =Inputs!B16 -> A3/A- | G5: Current Depreciation = | I5: =IF(Inputs!B28="Yes",'Operating leases'!F38,Inputs!B12) -> 5808.964 | K5: EBIT/ Enterprise value = | M5: =(I4-I5)/J14 -> 0.045660502
A6: # of Shares Outstanding = | C6: =Inputs!B19 -> 1831 | D6: Summary of Inputs | G6: Current Tax Rate = | I6: =Inputs!B15 -> 0.25 | K6: Unlevered beta = | M6: =B50 -> 0.94712546
A7: Debt Value of Operating leases = | C7: =IF(Inputs!B28="Yes",'Operating leases'!C33,0) -> 3959.6761 | D7: Riskfree Rate = | F7: =Inputs!B37 -> 0.045 | G7: Current Capital Spending= | I7: =Inputs!B13 -> 4969
A8: Equity Risk Premium = | C8: =Inputs!B38 -> 0.047775391 | D8: Pre-tax cost of debt = | F8: =Inputs!B17 -> 0.0571 | G8: Current Interest Expense = | I8: =IF(Inputs!B28="Yes",'Operating leases'!F37,Inputs!B14) -> 2199.0975
C10: RESULTS FROM ANALYSIS
E11: Current | F11: Optimal | G11: Change
C12: D/(D+E) Ratio = | E12: =(C5+C7)/(C5+C7+C4) -> 0.21530799 | F12: =B77*B71+C77*C71+D77*D71+E77*E71+F77*F71+G77*G71+H77*H71+I77*I71+J77*J71+K77*K71 -> 0.3 | G12: =F12-E12 -> 0.084692013
C13: Total Debt = | E13: =C5+C7 -> 50390.676 | F13: =HLOOKUP(F12,A47:K56,3,FALSE) -> 66727.493 | G13: =F13-E13 -> 16336.817 | I13: Implied Growth Rate Calculation
C14: Beta for the Stock = | E14: =F4 -> 1.1420335 | F14: =HLOOKUP(F12,A47:K56,4,FALSE) -> 1.2515587 | G14: =F14-E14 -> 0.10952518 | I14: Enterprise value = | J14: =C4+C5+C7-Inputs!B22 -> 222424.98
C15: Cost of Equity = | E15: =F7+F4*C8 -> 0.099561096 | F15: =HLOOKUP(F12,A47:K56,5,FALSE) -> 0.1047937 | G15: =F15-E15 -> 0.0052326081 | I15: Current WACC = | J15: =E19 -> 0.087345361
C16: Rating on Debt | E16: =F5 -> A3/A- | I16: Current FCFF = | J16: =(I4-I5)*(1-I6)+I5-I7 -> 8456.991 | K16: ! I am ignoring working capital
C17: After-tax cost of Debt = | E17: =IF(Inputs!B44="Yes",K27*(1-I6),F8*(1-I6)) -> 0.042825 | F17: =HLOOKUP(F12,B71:K78,5,FALSE) -> 0.042825 | G17: =F17-E17 -> 0 | I17: Implied Growth Rate = | J17: =IF(J16>0,(J14*J15-J16)/(J14+J16),"NA") -> 0.047516915
I18: If this number is >your riskfree rate, I use the riskfree rate as a perpetual growth rate.
C19: WACC | E19: =E15*(1-E12)+E17*E12 -> 0.087345361 | F19: =HLOOKUP(F12,B71:K78,6,FALSE) -> 0.086203093 | G19: =F19-E19 -> -0.0011422685
C20: Implied Growth Rate = | E20: =IF(J17="NA",F7,IF(J17>F7,F7,J17)) -> 0.045
A21: Assumes perpeutal growth | C21: Enterprise value | E21: =J14 -> 222424.98 | F21: =HLOOKUP(F12,B71:K78,8,FALSE) -> 228591.24 | G21: =F21-E21 -> 6166.2614
C22: Value/share (Perpetual Growth) = | E22: =(E21+Inputs!B22-C5-C7)/C6 -> 100.3 | F22: =(F21-E21)/C6+E22 -> 103.6677 | G22: =F22-E22 -> 3.3677015
A24: We use the following default spreads in our analysis. Change them in the input sheet if necessary: | H24: Ratings comparison at current debt ratio
C25: Rating | D25: Coverage gt | E25: and lt | F25: Spread | G25: Drop in EBITDA | H25: Current Interest coverage ratio = | K25: =IF(I8>0,(F43-J42)/I8,10000000) -> 4.6182745
C26: AAA | D26: =IF(Inputs!$B$42=1,'Default Spreads and Ratios'!A29,IF(Inputs!$B$42=2,'Default Spreads and Ratios'!A48,'Default Spreads and Ratios'!A66)) -> 8.5 | E26: =IF(Inputs!$B$42=1,'Default Spreads and Ratios'!B29,IF(Inputs!$B$42=2,'Default Spreads and Ratios'!B48,'Default Spreads and Ratios'!B66)) -> 100000 | F26: =IF(Inputs!$B$42=1,'Default Spreads and Ratios'!D29,'Default Spreads and Ratios'!D48) -> 0.0059 | G26: =IF(Inputs!$B$42=1,'Default Spreads and Ratios'!E29,'Default Spreads and Ratios'!E48) -> 0 | H26: Rating based upon coverage = | K26: =VLOOKUP(K25,D83:G97,3) -> A2/A
C27: AA | D27: =IF(Inputs!$B$42=1,'Default Spreads and Ratios'!A28,IF(Inputs!$B$42=2,'Default Spreads and Ratios'!A47,'Default Spreads and Ratios'!A65)) -> 6.5 | E27: =IF(Inputs!$B$42=1,'Default Spreads and Ratios'!B28,IF(Inputs!$B$42=2,'Default Spreads and Ratios'!B47,'Default Spreads and Ratios'!B65)) -> 8.499999 | F27: =IF(Inputs!$B$42=1,'Default Spreads and Ratios'!D28,'Default Spreads and Ratios'!D47) -> 0.007 | G27: =IF(Inputs!$B$42=1,'Default Spreads and Ratios'!E28,'Default Spreads and Ratios'!E47) -> 0 | H27: Interest rate based upon coverage = | K27: =VLOOKUP(K25,D83:G97,4) -> 0.0557
C28: A+ | D28: =IF(Inputs!$B$42=1,'Default Spreads and Ratios'!A27,IF(Inputs!$B$42=2,'Default Spreads and Ratios'!A46,'Default Spreads and Ratios'!A64)) -> 5.5 | E28: =IF(Inputs!$B$42=1,'Default Spreads and Ratios'!B27,IF(Inputs!$B$42=2,'Default Spreads and Ratios'!B46,'Default Spreads and Ratios'!B64)) -> 6.499999 | F28: =IF(Inputs!$B$42=1,'Default Spreads and Ratios'!D27,'Default Spreads and Ratios'!D46) -> 0.0092 | G28: =IF(Inputs!$B$42=1,'Default Spreads and Ratios'!E27,'Default Spreads and Ratios'!E46) -> 0 | H28: Current rating for company = | K28: =F5 -> A3/A-
C29: A | D29: =IF(Inputs!$B$42=1,'Default Spreads and Ratios'!A26,IF(Inputs!$B$42=2,'Default Spreads and Ratios'!A45,'Default Spreads and Ratios'!A63)) -> 4.25 | E29: =IF(Inputs!$B$42=1,'Default Spreads and Ratios'!B26,IF(Inputs!$B$42=2,'Default Spreads and Ratios'!B45,'Default Spreads and Ratios'!B63)) -> 5.499999 | F29: =IF(Inputs!$B$42=1,'Default Spreads and Ratios'!D26,'Default Spreads and Ratios'!D45) -> 0.0107 | G29: =IF(Inputs!$B$42=1,'Default Spreads and Ratios'!E26,'Default Spreads and Ratios'!E45) -> 0 | H29: Current interest rate on debt = | K29: =F8 -> 0.0571
C30: A- | D30: =IF(Inputs!$B$42=1,'Default Spreads and Ratios'!A25,IF(Inputs!$B$42=2,'Default Spreads and Ratios'!A44,'Default Spreads and Ratios'!A62)) -> 3 | E30: =IF(Inputs!$B$42=1,'Default Spreads and Ratios'!B25,IF(Inputs!$B$42=2,'Default Spreads and Ratios'!B44,'Default Spreads and Ratios'!B62)) -> 4.249999 | F30: =IF(Inputs!$B$42=1,'Default Spreads and Ratios'!D25,'Default Spreads and Ratios'!D44) -> 0.0121 | G30: =IF(Inputs!$B$42=1,'Default Spreads and Ratios'!E25,'Default Spreads and Ratios'!E44) -> -0.02 | H30: Drop in operating income based on current rating | K30: =VLOOKUP(K25,D83:H97,5) -> 0
C31: BBB | D31: =IF(Inputs!$B$42=1,'Default Spreads and Ratios'!A24,IF(Inputs!$B$42=2,'Default Spreads and Ratios'!A43,'Default Spreads and Ratios'!A61)) -> 2.5 | E31: =IF(Inputs!$B$42=1,'Default Spreads and Ratios'!B24,IF(Inputs!$B$42=2,'Default Spreads and Ratios'!B43,'Default Spreads and Ratios'!B61)) -> 2.999999 | F31: =IF(Inputs!$B$42=1,'Default Spreads and Ratios'!D24,'Default Spreads and Ratios'!D43) -> 0.0147 | G31: =IF(Inputs!$B$42=1,'Default Spreads and Ratios'!E24,'Default Spreads and Ratios'!E43) -> -0.1
C32: BB+ | D32: =IF(Inputs!$B$42=1,'Default Spreads and Ratios'!A23,IF(Inputs!$B$42=2,'Default Spreads and Ratios'!A42,'Default Spreads and Ratios'!A60)) -> 2.25 | E32: =IF(Inputs!$B$42=1,'Default Spreads and Ratios'!B23,IF(Inputs!$B$42=2,'Default Spreads and Ratios'!B42,'Default Spreads and Ratios'!B60)) -> 2.49999 | F32: =IF(Inputs!$B$42=1,'Default Spreads and Ratios'!D23,'Default Spreads and Ratios'!D42) -> 0.0174 | G32: =IF(Inputs!$B$42=1,'Default Spreads and Ratios'!E23,'Default Spreads and Ratios'!E42) -> -0.2
C33: BB | D33: =IF(Inputs!$B$42=1,'Default Spreads and Ratios'!A22,IF(Inputs!$B$42=2,'Default Spreads and Ratios'!A41,'Default Spreads and Ratios'!A59)) -> 2 | E33: =IF(Inputs!$B$42=1,'Default Spreads and Ratios'!B22,IF(Inputs!$B$42=2,'Default Spreads and Ratios'!B41,'Default Spreads and Ratios'!B59)) -> 2.2499999 | F33: =IF(Inputs!$B$42=1,'Default Spreads and Ratios'!D22,'Default Spreads and Ratios'!D41) -> 0.0221 | G33: =IF(Inputs!$B$42=1,'Default Spreads and Ratios'!E22,'Default Spreads and Ratios'!E41) -> -0.2
C34: B+ | D34: =IF(Inputs!$B$42=1,'Default Spreads and Ratios'!A21,IF(Inputs!$B$42=2,'Default Spreads and Ratios'!A40,'Default Spreads and Ratios'!A58)) -> 1.75 | E34: =IF(Inputs!$B$42=1,'Default Spreads and Ratios'!B21,IF(Inputs!$B$42=2,'Default Spreads and Ratios'!B40,'Default Spreads and Ratios'!B58)) -> 1.999999 | F34: =IF(Inputs!$B$42=1,'Default Spreads and Ratios'!D21,'Default Spreads and Ratios'!D40) -> 0.0314 | G34: =IF(Inputs!$B$42=1,'Default Spreads and Ratios'!E21,'Default Spreads and Ratios'!E40) -> -0.2
C35: B | D35: =IF(Inputs!$B$42=1,'Default Spreads and Ratios'!A20,IF(Inputs!$B$42=2,'Default Spreads and Ratios'!A39,'Default Spreads and Ratios'!A57)) -> 1.5 | E35: =IF(Inputs!$B$42=1,'Default Spreads and Ratios'!B20,IF(Inputs!$B$42=2,'Default Spreads and Ratios'!B39,'Default Spreads and Ratios'!B57)) -> 1.749999 | F35: =IF(Inputs!$B$42=1,'Default Spreads and Ratios'!D20,'Default Spreads and Ratios'!D39) -> 0.0361 | G35: =IF(Inputs!$B$42=1,'Default Spreads and Ratios'!E20,'Default Spreads and Ratios'!E39) -> -0.2
C36: B- | D36: =IF(Inputs!$B$42=1,'Default Spreads and Ratios'!A19,IF(Inputs!$B$42=2,'Default Spreads and Ratios'!A38,'Default Spreads and Ratios'!A56)) -> 1.25 | E36: =IF(Inputs!$B$42=1,'Default Spreads and Ratios'!B19,IF(Inputs!$B$42=2,'Default Spreads and Ratios'!B38,'Default Spreads and Ratios'!B56)) -> 1.499999 | F36: =IF(Inputs!$B$42=1,'Default Spreads and Ratios'!D19,'Default Spreads and Ratios'!D38) -> 0.0524 | G36: =IF(Inputs!$B$42=1,'Default Spreads and Ratios'!E19,'Default Spreads and Ratios'!E38) -> -0.25
C37: CCC | D37: =IF(Inputs!$B$42=1,'Default Spreads and Ratios'!A18,IF(Inputs!$B$42=2,'Default Spreads and Ratios'!A37,'Default Spreads and Ratios'!A55)) -> 0.8 | E37: =IF(Inputs!$B$42=1,'Default Spreads and Ratios'!B18,IF(Inputs!$B$42=2,'Default Spreads and Ratios'!B37,'Default Spreads and Ratios'!B55)) -> 1.249999 | F37: =IF(Inputs!$B$42=1,'Default Spreads and Ratios'!D18,'Default Spreads and Ratios'!D37) -> 0.0851 | G37: =IF(Inputs!$B$42=1,'Default Spreads and Ratios'!E18,'Default Spreads and Ratios'!E37) -> -0.4
C38: CC | D38: =IF(Inputs!$B$42=1,'Default Spreads and Ratios'!A17,IF(Inputs!$B$42=2,'Default Spreads and Ratios'!A36,'Default Spreads and Ratios'!A54)) -> 0.65 | E38: =IF(Inputs!$B$42=1,'Default Spreads and Ratios'!B17,IF(Inputs!$B$42=2,'Default Spreads and Ratios'!B36,'Default Spreads and Ratios'!B54)) -> 0.799999 | F38: =IF(Inputs!$B$42=1,'Default Spreads and Ratios'!D17,'Default Spreads and Ratios'!D36) -> 0.1178 | G38: =IF(Inputs!$B$42=1,'Default Spreads and Ratios'!E17,'Default Spreads and Ratios'!E36) -> -0.4
C39: C | D39: =IF(Inputs!$B$42=1,'Default Spreads and Ratios'!A16,IF(Inputs!$B$42=2,'Default Spreads and Ratios'!A35,'Default Spreads and Ratios'!A53)) -> 0.2 | E39: =IF(Inputs!$B$42=1,'Default Spreads and Ratios'!B16,IF(Inputs!$B$42=2,'Default Spreads and Ratios'!B35,'Default Spreads and Ratios'!B53)) -> 0.649999 | F39: =IF(Inputs!$B$42=1,'Default Spreads and Ratios'!D16,'Default Spreads and Ratios'!D35) -> 0.17 | G39: =IF(Inputs!$B$42=1,'Default Spreads and Ratios'!E16,'Default Spreads and Ratios'!E35) -> -0.4
C40: D | D40: =D83 -> -100000 | E40: =IF(Inputs!$B$42=1,'Default Spreads and Ratios'!B15,IF(Inputs!$B$42=2,'Default Spreads and Ratios'!B34,'Default Spreads and Ratios'!B52)) -> 0.199999 | F40: =IF(Inputs!$B$42=1,'Default Spreads and Ratios'!D15,'Default Spreads and Ratios'!D34) -> 0.2 | G40: =IF(Inputs!$B$42=1,'Default Spreads and Ratios'!E15,'Default Spreads and Ratios'!E34) -> -0.5
A42: Current beta= | B42: =F4 -> 1.1420335 | D42: Current Equity= | F42: =C4 -> 183649.3 | H42: Current Depreciation= | J42: =I5 -> 5808.964
A43: Current Debt= | B43: =C5+C7 -> 50390.676 | D43: Current EBITDA= | F43: =I4 -> 15965 | H43: Current Interest rate (Company)= | J43: =IF(Inputs!B44="Yes",K27,F8) -> 0.0571
...

Sheet Marginal tax rate by country
A1: Country | B1: 2023
A2: Abu Dhabi | B2: 0.15
A3: Albania | B3: 0.15
A4: Algeria | B4: 0.26
A5: Andorra (Principality of) | B5: 0.1898
A6: Angola | B6: 0.25
A7: Anguilla | B7: 0.27245611
A8: Antigua & Barbuda | B8: 0.27245611
A9: Argentina | B9: 0.35
A10: Armenia | B10: 0.18
A11: Aruba | B11: 0.25
A12: Australia | B12: 0.3
A13: Austria | B13: 0.24
... A192: Zimbabwe | B192: 0.25

Sheet Operating leases
A1: Operating Lease Converter
A2: Operating lease expenses are really financial expenses, and should be treated as such. Accounting standards allow them to
A3: be treated as operating expenses. This program will convert commitments to make operating leases into debt and
A4: adjust the operating income accordingly, by adding back the imputed interest expense on this debt.
A6: Inputs
A7: Operating lease expense in current year = | E7: 1264
A8: Operating Lease Commitments (From footnote to financials)
A9: Year | B9: Commitment | C9: ! Year 1 is next year, ….
A10: 1 | B10: 824
A11: 2 | B11: 792
A12: 3 | B12: 504
A13: 4 | B13: 384
A14: 5 | B14: 318
A15: 6 and beyond | B15: 2265
A17: Pre-tax Cost of Debt = | C17: =IF(Inputs!B44="Yes",'Default Spreads and Ratios'!D10,Inputs!B17) -> 0.0571 | D17: ! If you do not have a cost of debt, use the attached ratings estimator
A19: From the current financial statements, enter the following
A20: Reported Operating Income (EBIT) = | D20: =Inputs!B11-Inputs!B12 -> 9332 | E20: ! This is the EBIT reported in the current income statement
A21: Reported Interest Expenses = | D21: =Inputs!B14 -> 1973
A22: Output
A23: Number of years embedded in yr 6 estimate = | D23: =ROUND(B15/AVERAGE(B10:B14),0) -> 4 | E23: ! I use the average lease expense over the first five years
E24: to estimate the number of years of expenses in yr 6
A25: Converting Operating Leases into debt
A26: Year | B26: Commitment | C26: Present Value
A27: =A10 -> 1 | B27: =B10 -> 824 | C27: =B27/(1+$C$17)^A27 -> 779.49106
A28: =A11 -> 2 | B28: =B11 -> 792 | C28: =B28/(1+$C$17)^A28 -> 708.74994
A29: =A12 -> 3 | B29: =B12 -> 504 | C29: =B29/(1+$C$17)^A29 -> 426.66038
A30: =A13 -> 4 | B30: =B13 -> 384 | C30: =B30/(1+$C$17)^A30 -> 307.51544
A31: =A14 -> 5 | B31: =B14 -> 318 | C31: =B31/(1+$C$17)^A31 -> 240.90552
A32: =A15 -> 6 and beyond | B32: =IF(B15>0,IF(D23>0,B15/D23,B15),0) -> 566.25 | C32: =IF(D23>0,(B32*(1-(1+C17)^(-D23))/C17)/(1+$C$17)^5,B15/(1+C17)^6) -> 1496.3537 | D32: ! Commitment beyond year 6 converted into an annuity for ten years
A33: Debt Value of leases = | C33: =SUM(C27:C32) -> 3959.6761
A35: Restated Financials
A36: Operating Income with Operating leases reclassified as debt = | F36: =D20+E7-C33/(5+D23) -> 10156.036
A37: Interest expenses with Operating leases classified as debt = | F37: =D21+C33*C17 -> 2199.0975
A38: Depreciation with operating leases classified as debt = | F38: =Inputs!B12+'Operating leases'!C33/(5+'Operating leases'!D23) -> 5808.964

Sheet Default Spreads and Ratios
A1: Inputs for synthetic rating estimation
A2: Enter the type of firm = | C2: =Inputs!B42 -> 1 | D2: (Enter 1 if safe & large market cap firm, 2 if risky or small market cap firm, 3 I inflrastructure company or utility)
A3: Earnings before interest and taxes (EBIT) = | F3: =IF(Inputs!B28="Yes",'Operating leases'!F36,Inputs!B11-Inputs!B12) -> 10156.036 | G3: (Add back only long term interest expense for financial firms)
A4: Current interest expenses = | F4: =IF(Inputs!B28="Yes",Inputs!B14+'Operating leases'!$C$33*'Operating leases'!$C$17,Inputs!B14) -> 2199.0975 | G4: (Use only long term interest expense for financial firms)
A5: Current riskfree rate = | F5: =Inputs!B37 -> 0.045
A6: Output
A7: Interest coverage ratio = | D7: =IF(F4>0,F3/F4,10000000) -> 4.6182745
A8: Estimated Bond Rating = | D8: =IF(C2=1,VLOOKUP(D7,A15:D29,3),(IF(C2=2,VLOOKUP(D7,A34:D48,3),VLOOKUP(D7,A52:D66,3)))) -> A2/A
A9: Estimated Default Spread = | D9: =IF(C2=1,VLOOKUP(D7,A15:D29,4),(IF(C2=2,VLOOKUP(D7,A34:D48,4),VLOOKUP(D7,A52:D66,4))))+Inputs!B39 -> 0.0107
A10: Estimated Cost of Debt = | D10: =F5+D9 -> 0.0557
A12: For large non-financial service firms
A13: If interest coverage ratio is
A14: > | B14: ≤ to | C14: Rating is | D14: Spread is | E14: Drop in EBITDA | G14: Rating is | H14: Spread is
A15: -100000 | B15: 0.199999 | C15: D2/D | D15: 0.2 | E15: -0.5 | G15: A1/A+ | H15: 0.0092
A16: 0.2 | B16: 0.649999 | C16: C2/C | D16: 0.17 | E16: -0.4 | G16: A2/A | H16: 0.0107
A17: 0.65 | B17: 0.799999 | C17: Ca2/CC | D17: 0.1178 | E17: -0.4 | G17: A3/A- | H17: 0.0121
A18: 0.8 | B18: 1.249999 | C18: Caa/CCC | D18: 0.0851 | E18: -0.4 | G18: Aa2/AA | H18: 0.007
A19: 1.25 | B19: 1.499999 | C19: B3/B- | D19: 0.0524 | E19: -0.25 | G19: Aaa/AAA | H19: 0.0059
A20: 1.5 | B20: 1.749999 | C20: B2/B | D20: 0.0361 | E20: -0.2 | G20: B1/B+ | H20: 0.0314
A21: 1.75 | B21: 1.999999 | C21: B1/B+ | D21: 0.0314 | E21: -0.2 | G21: B2/B | H21: 0.0361
A22: 2 | B22: 2.2499999 | C22: Ba2/BB | D22: 0.0221 | E22: -0.2 | G22: B3/B- | H22: 0.0524
A23: 2.25 | B23: 2.49999 | C23: Ba1/BB+ | D23: 0.0174 | E23: -0.2 | G23: Ba1/BB+ | H23: 0.0174
A24: 2.5 | B24: 2.999999 | C24: Baa2/BBB | D24: 0.0147 | E24: -0.1 | G24: Ba2/BB | H24: 0.0221
A25: 3 | B25: 4.249999 | C25: A3/A- | D25: 0.0121 | E25: -0.02 | G25: Baa2/BBB | H25: 0.0147
A26: 4.25 | B26: 5.499999 | C26: A2/A | D26: 0.0107 | E26: 0 | G26: C2/C | H26: 0.17
... A29: 8.5 | B29: 100000 | C29: Aaa/AAA | D29: 0.0059 | E29: 0 | G29: D2/D | H29: 0.2
A31: For smaller and riskier non-financial service firms
A32: If interest coverage ratio is
A33: greater than | B33: ≤ to | C33: Rating is | D33: Spread is | E33: Drop in EBITDA
A34: -100000 | B34: 0.499999 | C34: D2/D | D34: 0.2 | E34: =E15 -> -0.5
A35: 0.5 | B35: 0.799999 | C35: C2/C | D35: 0.17 | E35: =E16 -> -0.4
A36: 0.8 | B36: 1.249999 | C36: Ca2/CC | D36: 0.1178 | E36: =E17 -> -0.4
A37: 1.25 | B37: 1.499999 | C37: Caa/CCC | D37: 0.0851 | E37: =E18 -> -0.4
A38: 1.5 | B38: 1.999999 | C38: B3/B- | D38: 0.0524 | E38: =E19 -> -0.25
A39: 2 | B39: 2.499999 | C39: B2/B | D39: 0.0361 | E39: =E20 -> -0.2
A40: 2.5 | B40: 2.999999 | C40: B1/B+ | D40: 0.0314 | E40: =E21 -> -0.2
A41: 3 | B41: 3.499999 | C41: Ba2/BB | D41: 0.0221 | E41: =E22 -> -0.2
A42: 3.5 | B42: 3.9999999 | C42: Ba1/BB+ | D42: 0.0174 | E42: =E23 -> -0.2
A43: 4 | B43: 4.499999 | C43: Baa2/BBB | D43: 0.0147 | E43: =E24 -> -0.1
A44: 4.5 | B44: 5.999999 | C44: A3/A- | D44: 0.0121 | E44: =E25 -> -0.02
...

Sheet ERP Calculator
A1: If you are a multinational company and have a breakdown by country, you can use this table (for up to 10 countries)
A2: Country | B2: Revenues | C2: ERP | D2: Weight | E2: Weighted ERP
A3: China | B3: 800 | C3: =IF(B3=0,0,VLOOKUP(A3,'Country ERP '!$A$5:$D$181,4)) -> 0.056313534 | D3: =IF(B3>0,B3/$B$15,) -> 0.61538462 | E3: =C3*D3 -> 0.034654483 | H3: The last two rows in each of country/regiion risk premium tables is set aside for your input to provide you with flexibility to enter some numbers directly. For instance, assume that you have a company that breaks its revenues down into three countries and then puts the rest into "Rest of the World". You can enter the "Rest of the World" in one of these two rows and enter an equity risk premium for the rest of the world. The easiest way to do that is to go into the country equity risk premium worksheet and change the GDP for the three countries that you have data for to zero and compute the global weighted average ERP for the remaining countries. With the regional worksheet, you can use the last two rows to enter the data for an individual country (usually the domestic country) that might be broken out though the rest of the revenues are broken down by region. You can look up the ERP for the country in the country ERP worksheet.
A4: India | B4: 500 | C4: =IF(B4=0,0,VLOOKUP(A4,'Country ERP '!$A$5:$D$181,4)) -> 0.078143849 | D4: =IF(B4>0,B4/$B$15,) -> 0.38461538 | E4: =C4*D4 -> 0.030055326
C5: =IF(B5=0,0,VLOOKUP(A5,'Country ERP '!$A$5:$D$181,4)) -> 0 | D5: =IF(B5>0,B5/$B$15,) -> 0 | E5: =C5*D5 -> 0
C6: =IF(B6=0,0,VLOOKUP(A6,'Country ERP '!$A$5:$D$181,4)) -> 0 | D6: =IF(B6>0,B6/$B$15,) -> 0 | E6: =C6*D6 -> 0
C7: =IF(B7=0,0,VLOOKUP(A7,'Country ERP '!$A$5:$D$181,4)) -> 0 | D7: =IF(B7>0,B7/$B$15,) -> 0 | E7: =C7*D7 -> 0
C8: =IF(B8=0,0,VLOOKUP(A8,'Country ERP '!$A$5:$D$181,4)) -> 0 | D8: =IF(B8>0,B8/$B$15,) -> 0 | E8: =C8*D8 -> 0
C9: =IF(B9=0,0,VLOOKUP(A9,'Country ERP '!$A$5:$D$181,4)) -> 0 | D9: =IF(B9>0,B9/$B$15,) -> 0 | E9: =C9*D9 -> 0
C10: =IF(B10=0,0,VLOOKUP(A10,'Country ERP '!$A$5:$D$181,4)) -> 0 | D10: =IF(B10>0,B10/$B$15,) -> 0 | E10: =C10*D10 -> 0
C11: =IF(B11=0,0,VLOOKUP(A11,'Country ERP '!$A$5:$D$181,4)) -> 0 | D11: =IF(B11>0,B11/$B$15,) -> 0 | E11: =C11*D11 -> 0
C12: =IF(B12=0,0,VLOOKUP(A12,'Country ERP '!$A$5:$D$181,4)) -> 0 | D12: =IF(B12>0,B12/$B$15,) -> 0 | E12: =C12*D12 -> 0
D13: =IF(B13>0,B13/$B$15,) -> 0 | E13: =C13*D13 -> 0
D14: =IF(B14>0,B14/$B$15,) -> 0 | E14: =C14*D14 -> 0
A15: Total | B15: =SUM(B3:B14) -> 1300 | D15: =SUM(D3:D14) -> 1 | E15: =SUM(E3:E14) -> 0.064709809
A16: If you are a multinational company and have a breakdown only by region, you can use this table instead
A17: Region | B17: Revenues | C17: ERP | D17: Weight | E17: Weighted ERP
A18: ='Country ERP '!A201 -> Africa | C18: ='Country ERP '!B201 -> 0.13763852 | D18: =B18/$B$29 -> 0 | E18: =C18*D18 -> 0
A19: ='Country ERP '!A202 -> Asia | B19: 10244 | C19: ='Country ERP '!B202 -> 0.062805405 | D19: =B19/$B$29 -> 0.060721018 | E19: =C19*D19 -> 0.0038136081
A20: ='Country ERP '!A203 -> Australia & New Zealand | C20: ='Country ERP '!B203 -> 0.046047924 | D20: =B20/$B$29 -> 0 | E20: =C20*D20 -> 0
A21: ='Country ERP '!A204 -> Caribbean | C21: ='Country ERP '!B204 -> 0.18753488 | D21: =B21/$B$29 -> 0 | E21: =C21*D21 -> 0
A22: ='Country ERP '!A205 -> Central and South America | C22: ='Country ERP '!B205 -> 0.10361091 | D22: =B22/$B$29 -> 0 | E22: =C22*D22 -> 0
A23: ='Country ERP '!A206 -> Eastern Europe & Russia | C23: ='Country ERP '!B206 -> 0.096579383 | D23: =B23/$B$29 -> 0 | E23: =C23*D23 -> 0
A24: ='Country ERP '!A207 -> Middle East | C24: ='Country ERP '!B207 -> 0.067589991 | D24: =B24/$B$29 -> 0 | E24: =C24*D24 -> 0
A25: ='Country ERP '!A208 -> North America | B25: 148567 | C25: ='Country ERP '!B208 -> 0.046 | D25: =B25/$B$29 -> 0.88062665 | E25: =C25*D25 -> 0.040508826
A26: ='Country ERP '!A209 -> Western Europe | B26: 9895 | C26: ='Country ERP '!B209 -> 0.058871606 | D26: =B26/$B$29 -> 0.05865233 | E26: =C26*D26 -> 0.0034529569
D27: =B27/$B$29 -> 0 | E27: =C27*D27 -> 0
D28: =B28/$B$29 -> 0 | E28: =C28*D28 -> 0
A29: Total | B29: =SUM(B18:B28) -> 168706 | D29: =B29/$B$29 -> 1 | E29: =SUM(E18:E28) -> 0.047775391

Sheet Country ERP 
A1: Mature Market ERP + | B1: 0.046 | C1: Updated January 1, 2024
A2: Changing this number will update all your country equity risk premiums.
A4: Country | B4: Moody's rating | C4: Adj. Default Spread | D4: Equity Risk Premium | E4: Country Risk Premium | F4: Corporate Tax Rate
A5: Abu Dhabi | B5: Aa2 | C5: 0.0053778763 | D5: =$B$1+E5 -> 0.053219474 | E5: 0.007219474 | F5: 0.15
A6: Albania | B6: B1 | C6: 0.04904111 | D6: =$B$1+E6 -> 0.11183473 | E6: 0.065834727 | F6: 0.15
A7: Algeria | B7: NR | C7: 0.04904111 | D7: =$B$1+E7 -> 0.11183473 | E7: 0.065834727 | F7: 0.26
A8: Andorra (Principality of) | B8: Baa2 | C8: 0.020743237 | D8: =$B$1+E8 -> 0.073846543 | E8: 0.027846543 | F8: 0.1898
A9: Angola | B9: B3 | C9: 0.070808704 | D9: =$B$1+E9 -> 0.14105641 | E9: 0.095056408 | F9: 0.25
A10: Anguilla | B10: NR | C10: 0.1054311 | D10: =$B$1+E10 -> 0.23353488 | E10: 0.18753488 | F10: 0.27245611
A11: Antigua & Barbuda | B11: NR | C11: 0.1054311 | D11: =$B$1+E11 -> 0.23353488 | E11: 0.18753488 | F11: 0.27245611
A12: Argentina | B12: Ca | C12: 0.13073361 | D12: =$B$1+E12 -> 0.22150198 | E12: 0.17550198 | F12: 0.35
A13: Armenia | B13: Ba3 | C13: 0.03918167 | D13: =$B$1+E13 -> 0.098599025 | E13: 0.052599025 | F13: 0.18
A14: Aruba | B14: Baa2 | C14: 0.020743237 | D14: =$B$1+E14 -> 0.073846543 | E14: 0.027846543 | F14: 0.25
A15: Australia | B15: Aaa | C15: 0 | D15: =$B$1+E15 -> 0.046 | E15: 0 | F15: 0.3
A16: Austria | B16: Aa1 | C16: 0.0043535189 | D16: =$B$1+E16 -> 0.051844336 | E16: 0.0058443361 | F16: 0.24
... A71: Greece | B71: Ba1 | C71: 0.027273515 | D71: =$B$1+E71 -> 0.082613047 | E71: 0.036613047 | F71: 0.22
A72: Greenland | B72: NR | C72: =J72 -> 0 | D72: =$B$1+E72 -> 0.046 | E72: =H72 -> 0 | F72: =K72 -> 0
A73: Guatemala | B73: Ba1 | C73: 0.027273515 | D73: =$B$1+E73 -> 0.082613047 | E73: 0.036613047 | F73: 0.25
A74: Guernsey (States of) | B74: A1 | C74: 0.0076826804 | D74: =$B$1+E74 -> 0.056313534 | E74: 0.010313534 | F74: 0
A75: Guinea | B75: NR | C75: 0.09808222 | D75: =$B$1+E75 -> 0.17766945 | E75: 0.13166945 | F75: 0.2915
A76: Guinea-Bissau | B76: NR | C76: 0.059924907 | D76: =$B$1+E76 -> 0.12644557 | E76: 0.080445567 | F76: 0.2915
A77: Guyana | B77: NR | C77: 0.017414076 | D77: =$B$1+E77 -> 0.069377344 | E77: 0.023377344 | F77: 0.1864
A78: Haiti | B78: NR | C78: 0.10896602 | D78: =$B$1+E78 -> 0.19228029 | E78: 0.14628029 | F78: 0.1864
A79: Honduras | B79: B1 | C79: 0.04904111 | D79: =$B$1+E79 -> 0.11183473 | E79: 0.065834727 | F79: 0.25
A80: Hong Kong | B80: Aa3 | C80: 0.0065302783 | D80: =$B$1+E80 -> 0.054766504 | E80: 0.0087665041 | F80: 0.165
A81: Hungary | B81: Baa2 | C81: 0.020743237 | D81: =$B$1+E81 -> 0.073846543 | E81: 0.027846543 | F81: 0.09
A82: Iceland | B82: A2 | C82: 0.0092192165 | D82: =$B$1+E82 -> 0.058376241 | E82: 0.012376241 | F82: 0.2
A83: India | B83: Baa3 | C83: 0.023944354 | D83: =$B$1+E83 -> 0.078143849 | E83: 0.032143849 | F83: 0.3
A84: Indonesia | B84: Baa2 | C84: 0.020743237 | D84: =$B$1+E84 -> 0.073846543 | E84: 0.027846543 | F84: 0.22
... A116: Malta | B116: A2 | C116: 0.0092192165 | D116: =$B$1+E116 -> 0.058376241 | E116: 0.012376241 | F116: 0.35
A117: Martinique | B117: NR | C117: =J117 -> 0 | D117: =$B$1+E117 -> 0.046 | E117: =H117 -> 0 | F117: =K117 -> 0
A118: Mauritius | B118: Baa3 | C118: 0.023944354 | D118: =$B$1+E118 -> 0.078143849 | E118: 0.032143849 | F118: 0.15
A119: Mexico | B119: Baa2 | C119: 0.020743237 | D119: =$B$1+E119 -> 0.073846543 | E119: 0.027846543 | F119: 0.3
A120: Monaco | B120: NR | C120: 0.0095882201 | D120: =$B$1+E120 -> 0.10487161 | E120: 0.058871606 | F120: 0.2470735
A121: Moldova | B121: B3 | C121: 0.070808704 | D121: =$B$1+E121 -> 0.14105641 | E121: 0.095056408 | F121: 0.12
A122: Mongolia | B122: B3 | C122: 0.070808704 | D122: =$B$1+E122 -> 0.14105641 | E122: 0.095056408 | F122: 0.25
A123: Montenegro | B123: B1 | C123: 0.04904111 | D123: =$B$1+E123 -> 0.11183473 | E123: 0.065834727 | F123: 0.15
A124: Montserrat | B124: Baa3 | C124: 0.023944354 | D124: =$B$1+E124 -> 0.078143849 | E124: 0.032143849 | F124: 0.2853
A125: Morocco | B125: Ba1 | C125: 0.027273515 | D125: =$B$1+E125 -> 0.082613047 | E125: 0.036613047 | F125: 0.32
A126: Mozambique | B126: Caa2 | C126: 0.09808222 | D126: =$B$1+E126 -> 0.17766945 | E126: 0.13166945 | F126: 0.32
...

Sheet Repurchase price Worksheet
A1: Stock price buyback effect
A2: Current Stock price = | B2: ='Optimal CS Worksheet'!E22 -> 100.3
A3: # Shares outstanding before buyback = | B3: =Inputs!B19 -> 1831
A4: Expected buyback price = | B4: 67.71 | C4: Enter this number
A6: Current Debt = | B6: ='Optimal CS Worksheet'!B43 -> 50390.676
A7: Debt at Optimal = | B7: ='Optimal CS Worksheet'!F12*('Optimal CS Worksheet'!B43+'Optimal CS Worksheet'!F42) -> 70211.993
A8: New Debt issued = | B8: =B7-B6 -> 19821.317
A9: # Shares bought back = | B9: =B8/B4 -> 292.7384
A10: Shares outstanding after buyback = | B10: =B3-B9 -> 1538.2616
A12: Enterprise value after buyback = | B12: ='Optimal CS Worksheet'!F21 -> 228591.24
A13: + Cash | B13: =Inputs!B22 -> 11615
A14: - Debt | B14: =B7 -> 70211.993
A15: Equity value after buyback | B15: =B12+B13-B14 -> 169994.24
A16: / Number of shares after buyback | B16: =B10 -> 1538.2616
A17: Value per share for remaining shares | B17: =B15/B16 -> 110.51062

Sheet Summary Table
A1: Debt Ratio | B1: Beta | C1: Cost of Equity | D1: Bond Rating | E1: Interest rate on debt | F1: Tax Rate | G1: Cost of Debt (after-tax) | H1: Cost of Capital | I1: Enterprise Value
A2: 0 | B2: ='Optimal CS Worksheet'!B50 -> 0.94712546 | C2: ='Optimal CS Worksheet'!B74 -> 0.090249289 | D2: ='Optimal CS Worksheet'!B65 -> Aaa/AAA | E2: ='Optimal CS Worksheet'!B66 -> 0.0509 | F2: ='Optimal CS Worksheet'!B68 -> 0.25 | G2: =E2*(1-F2) -> 0.038175 | H2: =C2*(1-A2)+G2*A2 -> 0.090249289 | I2: ='Optimal CS Worksheet'!B78 -> 208150.58
A3: 0.1 | B3: ='Optimal CS Worksheet'!C50 -> 1.0260526 | C3: ='Optimal CS Worksheet'!C74 -> 0.094020064 | D3: ='Optimal CS Worksheet'!C65 -> Aaa/AAA | E3: ='Optimal CS Worksheet'!C66 -> 0.0509 | F3: ='Optimal CS Worksheet'!C68 -> 0.25 | G3: =E3*(1-F3) -> 0.038175 | H3: =C3*(1-A3)+G3*A3 -> 0.088435557 | I3: ='Optimal CS Worksheet'!C78 -> 216842.3
A4: 0.2 | B4: ='Optimal CS Worksheet'!D50 -> 1.1247115 | C4: ='Optimal CS Worksheet'!D74 -> 0.098733531 | D4: ='Optimal CS Worksheet'!D65 -> A2/A | E4: ='Optimal CS Worksheet'!D66 -> 0.0557 | F4: ='Optimal CS Worksheet'!D68 -> 0.25 | G4: =E4*(1-F4) -> 0.041775 | H4: =C4*(1-A4)+G4*A4 -> 0.087341825 | I4: ='Optimal CS Worksheet'!D78 -> 222443.55
A5: 0.3 | B5: ='Optimal CS Worksheet'!E50 -> 1.2515587 | C5: ='Optimal CS Worksheet'!E74 -> 0.1047937 | D5: ='Optimal CS Worksheet'!E65 -> A3/A- | E5: ='Optimal CS Worksheet'!E66 -> 0.0571 | F5: ='Optimal CS Worksheet'!E68 -> 0.25 | G5: =E5*(1-F5) -> 0.042825 | H5: =C5*(1-A5)+G5*A5 -> 0.086203093 | I5: ='Optimal CS Worksheet'!E78 -> 228591.24
A6: 0.4 | B6: ='Optimal CS Worksheet'!F50 -> 1.4206882 | C6: ='Optimal CS Worksheet'!F74 -> 0.11287393 | D6: ='Optimal CS Worksheet'!F65 -> B1/B+ | E6: ='Optimal CS Worksheet'!F66 -> 0.0764 | F6: ='Optimal CS Worksheet'!F68 -> 0.25 | G6: =E6*(1-F6) -> 0.0573 | H6: =C6*(1-A6)+G6*A6 -> 0.09064436 | I6: ='Optimal CS Worksheet'!F78 -> 206348.95
A7: 0.5 | B7: ='Optimal CS Worksheet'!G50 -> 1.7430179 | C7: ='Optimal CS Worksheet'!G74 -> 0.12827336 | D7: ='Optimal CS Worksheet'!G65 -> C2/C | E7: ='Optimal CS Worksheet'!G66 -> 0.215 | F7: ='Optimal CS Worksheet'!G68 -> 0.15967586 | G7: =E7*(1-F7) -> 0.18066969 | H7: =C7*(1-A7)+G7*A7 -> 0.15447153 | I7: ='Optimal CS Worksheet'!G78 -> 86037.588
A8: 0.6 | B8: ='Optimal CS Worksheet'!H50 -> 2.1934138 | C8: ='Optimal CS Worksheet'!H74 -> 0.1497912 | D8: ='Optimal CS Worksheet'!H65 -> C2/C | E8: ='Optimal CS Worksheet'!H66 -> 0.215 | F8: ='Optimal CS Worksheet'!H68 -> 0.12275732 | G8: =E8*(1-F8) -> 0.18860718 | H8: =C8*(1-A8)+G8*A8 -> 0.17308079 | I8: ='Optimal CS Worksheet'!H78 -> 73536.916
A9: 0.7 | B9: ='Optimal CS Worksheet'!I50 -> 2.9367416 | C9: ='Optimal CS Worksheet'!I74 -> 0.18530398 | D9: ='Optimal CS Worksheet'!I65 -> C2/C | E9: ='Optimal CS Worksheet'!I66 -> 0.215 | F9: ='Optimal CS Worksheet'!I68 -> 0.099704681 | G9: =E9*(1-F9) -> 0.19356349 | H9: =C9*(1-A9)+G9*A9 -> 0.19108564 | I9: ='Optimal CS Worksheet'!I78 -> 64473.593
A10: 0.8 | B10: ='Optimal CS Worksheet'!J50 -> 4.4176155 | C10: ='Optimal CS Worksheet'!J74 -> 0.25605331 | D10: ='Optimal CS Worksheet'!J65 -> C2/C | E10: ='Optimal CS Worksheet'!J66 -> 0.215 | F10: ='Optimal CS Worksheet'!J68 -> 0.083941311 | G10: =E10*(1-F10) -> 0.19695262 | H10: =C10*(1-A10)+G10*A10 -> 0.20877276 | I10: ='Optimal CS Worksheet'!J78 -> 57510.578
A11: 0.9 | B11: ='Optimal CS Worksheet'!K50 -> 8.8534097 | C11: ='Optimal CS Worksheet'!K74 -> 0.46797511 | D11: ='Optimal CS Worksheet'!K65 -> C2/C | E11: ='Optimal CS Worksheet'!K66 -> 0.215 | F11: ='Optimal CS Worksheet'!K68 -> 0.072481882 | G11: =E11*(1-F11) -> 0.1994164 | H11: =C11*(1-A11)+G11*A11 -> 0.22627227 | I11: ='Optimal CS Worksheet'!K78 -> 51958.67
A14: Debt Ratio | B14: $ Debt | C14: Interest Expense | D14: Interest Coverage Ratio | E14: Bond Rating | F14: Pre-tax cost of debt | G14: Tax rate | H14: After-tax cost of debt
A15: =A2 -> 0 | B15: ='Optimal CS Worksheet'!B49 -> 0 | C15: ='Optimal CS Worksheet'!B56 -> 0 | D15: ='Optimal CS Worksheet'!B63 -> ∞ | E15: =D2 -> Aaa/AAA | F15: =E2 -> 0.0509 | G15: =F2 -> 0.25 | H15: =G2 -> 0.038175
A16: =A3 -> 0.1 | B16: ='Optimal CS Worksheet'!C49 -> 22242.498 | C16: ='Optimal CS Worksheet'!C56 -> 945.15405 | D16: ='Optimal CS Worksheet'!C63 -> 10.745376 | E16: =D3 -> Aaa/AAA | F16: =E3 -> 0.0509 | G16: =F3 -> 0.25 | H16: =G3 -> 0.038175
A17: =A4 -> 0.2 | B17: ='Optimal CS Worksheet'!D49 -> 44484.995 | C17: ='Optimal CS Worksheet'!D56 -> 1890.3081 | D17: ='Optimal CS Worksheet'!D63 -> 5.3726882 | E17: =D4 -> A2/A | F17: =E4 -> 0.0557 | G17: =F4 -> 0.25 | H17: =G4 -> 0.041775
A18: =A5 -> 0.3 | B18: ='Optimal CS Worksheet'!E49 -> 66727.493 | C18: ='Optimal CS Worksheet'!E56 -> 3131.9297 | D18: ='Optimal CS Worksheet'!E63 -> 3.2427407 | E18: =D5 -> A3/A- | F18: =E5 -> 0.0571 | G18: =F5 -> 0.25 | H18: =G5 -> 0.042825
A19: =A6 -> 0.4 | B19: ='Optimal CS Worksheet'!F49 -> 88969.99 | C19: ='Optimal CS Worksheet'!F56 -> 5222.9789 | D19: ='Optimal CS Worksheet'!F63 -> 1.9444911 | E19: =D6 -> B1/B+ | F19: =E6 -> 0.0764 | G19: =F6 -> 0.25 | H19: =G6 -> 0.0573
A20: =A7 -> 0.5 | B20: ='Optimal CS Worksheet'!G49 -> 111212.49 | C20: ='Optimal CS Worksheet'!G56 -> 15901.02 | D20: ='Optimal CS Worksheet'!G63 -> 0.63870343 | E20: =D7 -> C2/C | F20: =E7 -> 0.215 | G20: =F7 -> 0.15967586 | H20: =G7 -> 0.18066969
A21: =A8 -> 0.6 | B21: ='Optimal CS Worksheet'!H49 -> 133454.99 | C21: ='Optimal CS Worksheet'!H56 -> 20683.157 | D21: ='Optimal CS Worksheet'!H63 -> 0.4910293 | E21: =D8 -> C2/C | F21: =E8 -> 0.215 | G21: =F8 -> 0.12275732 | H21: =G8 -> 0.18860718
A22: =A9 -> 0.7 | B22: ='Optimal CS Worksheet'!I49 -> 155697.48 | C22: ='Optimal CS Worksheet'!I56 -> 25465.294 | D22: ='Optimal CS Worksheet'!I63 -> 0.39881872 | E22: =D9 -> C2/C | F22: =E9 -> 0.215 | G22: =F9 -> 0.099704681 | H22: =G9 -> 0.19356349
A23: =A10 -> 0.8 | B23: ='Optimal CS Worksheet'!J49 -> 177939.98 | C23: ='Optimal CS Worksheet'!J56 -> 30247.431 | D23: ='Optimal CS Worksheet'!J63 -> 0.33576524 | E23: =D10 -> C2/C | F23: =E10 -> 0.215 | G23: =F10 -> 0.083941311 | H23: =G10 -> 0.19695262
A24: =A11 -> 0.9 | B24: ='Optimal CS Worksheet'!K49 -> 200182.48 | C24: ='Optimal CS Worksheet'!K56 -> 35029.568 | D24: ='Optimal CS Worksheet'!K63 -> 0.28992753 | E24: =D11 -> C2/C | F24: =E11 -> 0.215 | G24: =F11 -> 0.072481882 | H24: =G11 -> 0.1994164
A28: =A1 -> Debt Ratio | B28: Cost of Capital | C28: Enterprise Value
A29: =A2 -> 0 | B29: =H2 -> 0.090249289 | C29: =I2 -> 208150.58
A30: =A3 -> 0.1 | B30: =H3 -> 0.088435557 | C30: =I3 -> 216842.3
A31: =A4 -> 0.2 | B31: =H4 -> 0.087341825 | C31: =I4 -> 222443.55
A32: =A5 -> 0.3 | B32: =H5 -> 0.086203093 | C32: =I5 -> 228591.24
A33: =A6 -> 0.4 | B33: =H6 -> 0.09064436 | C33: =I6 -> 206348.95
A34: =A7 -> 0.5 | B34: =H7 -> 0.15447153 | C34: =I7 -> 86037.588
A35: =A8 -> 0.6 | B35: =H8 -> 0.17308079 | C35: =I8 -> 73536.916
A36: =A9 -> 0.7 | B36: =H9 -> 0.19108564 | C36: =I9 -> 64473.593
A37: =A10 -> 0.8 | B37: =H10 -> 0.20877276 | C37: =I10 -> 57510.578
A38: =A11 -> 0.9 | B38: =H11 -> 0.22627227 | C38: =I11 -> 51958.67

Sheet Input choices page
A1: Rating is | F1: Yes/No | G1: IBC | H1: Type of firm | I1: Earnings/Operating Measure
A2: Aaa/AAA | F2: Yes | G2: High | H2: 1
A3: Aa2/AA | F3: No | G3: Medium | H3: 2 | I3: EBITDA
A4: A1/A+ | G4: Low | H4: 3 | I4: EBIT
A5: A2/A
A6: A3/A-
A7: Baa2/BBB
A8: Ba1/BB+
A9: Ba2/BB
A10: B1/B+
A11: B2/B
A12: B3/B-
A13: Caa/CCC
A14: Ca2/CC
A15: C2/C
A16: D2/D
A17: Not rated
A19: Rating is | B19: Low IBC | C19: Medium | D19: High IBC
A20: D2/D | B20: -0.3 | C20: -0.5 | D20: -1
A21: Caa/CCC | B21: -0.25 | C21: -0.4 | D21: -0.5
A22: Ca2/CC | B22: -0.25 | C22: -0.4 | D22: -0.5
A23: C2/C | B23: -0.25 | C23: -0.4 | D23: -0.5
A24: B3/B- | B24: -0.15 | C24: -0.25 | D24: -0.3
A25: B2/B | B25: -0.1 | C25: -0.2 | D25: -0.25
A26: B1/B+ | B26: -0.1 | C26: -0.2 | D26: -0.25
A27: Ba2/BB | B27: -0.1 | C27: -0.2 | D27: -0.25
A28: Ba1/BB+ | B28: -0.1 | C28: -0.2 | D28: -0.25
A29: Baa2/BBB | B29: -0.05 | C29: -0.1 | D29: -0.15
A30: A3/A- | B30: 0 | C30: -0.02 | D30: -0.05
A31: A2/A | B31: 0 | C31: 0 | D31: -0.02
... A34: Aaa/AAA | B34: 0 | C34: 0 | D34: 0

Sheet Sheet1
