Workbook

Sheet Read me first
A1: FCFE Discount Model
A2: Assumptions | B2: 1. The firm is expected to grow at a higher growth rate in the first period.
B3: 2. The growth rate will drop at the end of the first period to the stable growth rate.
B4: 3. The dividend payout ratio is consistent with the expected growth rate.
A5: Inputs needed | B5: 1. Length of high growth period
B6: 2. Expected growth rate in earnings during the high growth period.
B7: 3. Dividend payout ratio during the high growth period.
B8: 4. Expected growth rate in earnings during the stable growth period.
B9: 5. Expected payout ratio during the stable growth period.
B10: 6. Current Earnings per share
B11: 7. Inputs for the Cost of Equity
A12: How the model works | B12: The expected dividends are estimated for the high growth period, using the payout
B13: ratio for the high growth period and the expected growth rate in earnings per share.
B14: The expected growth rate is estimated either using fundamentals:
B15: Expected growth = Retention Ratio * Return on Equity
B16: Alternatively, you can input the expected growth rate.
B17: At the end of the high growth phase, the expected terminal price is estimated using
B18: dividends per share one year after the high growth period, using the growth rate
B19: in stable growth, the payout ratio in stable growth and the cost of equity in stable
B20: growth.
B21: The dividends per share and the terminal price are discounted back to the present at
B22: the cost of equity changes.
B23: If your cost of equity in stable growth is different from your cost of equity in high
B24: growth, the cost of equity in the second half of the stable growth period will be
... B26: equity.
A27: Options Available | B27: You can make this model into a three stage model by answering yes to the question
B28: of whether you want me to adjust the inputs in the second half of the high growth
B29: period. If you do, I will adjust the growth rate, the payout ratio and the cost of
B30: equity from high-growth levels to stable growth levels gradually.
B31: You can also make this a stable growth model by setting the high
B32: growth period to zero.

Sheet Inputs
A1: Company details
A2: Company name | B2: Levi Strauss
A3: Date of valuation | B3: 43973
A5: Inputs from current financials
A6: Net Income = | B6: 249.6 | D6: (in currency)
A7: Interest income from cash and marketable securities (after-tax) = | B7: =(429.6+70.6)*0.04 -> 20.008
A8: Do you want to capitalize R&D expenses? | B8: No
A9: Book Value of Equity = | B9: 2046.4 | C9: 1903.7 | D9: (in currency)
A10: Cash and Marketable Securities | B10: 398.8 | C10: =429.6+70.6 -> 500.2
A11: Market Value of Equity = | B11: 8670
A12: Number of shares outstanding = | B12: 398.03
A13: Current Capital Expenditures = | B13: 315.5
A14: Current Depreciation = | B14: =165.3+90.2 -> 255.5
A15: Change in non-cash Working capital in most recent year = | B15: =((2673.6-398.8)-(1787.5-245.5))-((2872.9-70.6-429.6)-(1981.6-235.7)) -> 106
A16: Net Debt Issued (Paid) during the year = | B16: =(1009.4+245.5)-(984.5+235.7) -> 34.7
A17: Do you want to normalize the net income/earnings per share? | B17: Yes
A18: Do you want to normalize your reinvestment needs? | B18: No
A19: If yes, these will be your normalized values
A20: Normalized Net Income = | B20: =IF('Normalized Earnings'!B2=1,'Normalized Earnings'!G5,'Normalized Earnings'!B8*Inputs!B9) -> 457.41333
A21: Normalized Net Capital Expenditures = | B21: =IF('Normalized Reinvestment'!B2=0,Inputs!B13-Inputs!B14,IF('Normalized Reinvestment'!B2=1,'Normalized Reinvestment'!G7*'Normalized Reinvestment'!F6,'Normalized Reinvestment'!B9*'Normalized Reinvestment'!F6)) -> 4242.6098
A22: Normalized Working Capital Change = | B22: =IF('Normalized Reinvestment'!B12=0,Inputs!B15,IF('Normalized Reinvestment'!B12=1,('Normalized Reinvestment'!B14/'Normalized Reinvestment'!B15)*('Normalized Reinvestment'!B15-'Normalized Reinvestment'!B16),'Normalized Reinvestment'!B19*('Normalized Reinvestment'!B15-'Normalized Reinvestment'!B16))) -> 336.30538
A23: Normalized Net Debt issued = | B23: =IF('Normalized Reinvestment'!B22=0,Inputs!B16,IF('Normalized Reinvestment'!B22=1,('Normalized Reinvestment'!B24/('Normalized Reinvestment'!B24+Inputs!B9))*(Inputs!B21+Inputs!B22),(IF('Normalized Reinvestment'!B22=2,('Normalized Reinvestment'!B24/('Normalized Reinvestment'!B24+Inputs!B11))*(Inputs!B21+Inputs!B22),'Normalized Reinvestment'!B27*(Inputs!B21+Inputs!B22))))) -> 3672.6448
A25: Inputs for Discount Rate
A26: Beta of the stock = | B26: 1.03
A27: Riskfree rate= | B27: 0.045 | C27: (in percent)
A28: Equity Risk Premium | B28: ='ERP calculator'!E29 -> 0.04966158 | C28: (in percent)
A30: Inputs for High Growth Period
A31: Length of high growth period | B31: 10
A33: Do you want to calculate the growth rate from fundamentals? | B33: Yes | C33: (Yes or No)
A34: If no, enter the expected growth rate in earnings in high growth period=
A35: If yes, the following will be the inputs to the fundamental growth formulation:
A36: Adjusted Net Income = | B36: =IF(B17="Yes",IF(B8="Yes",B20+'R&D converter'!D39,Inputs!B20),IF(Inputs!B8="Yes",(Inputs!B6-Inputs!B7+'R&D converter'!D39),Inputs!B6-Inputs!B7)) -> 457.41333
A37: Non-cash ROE = | B37: =B36/(C9-C10) -> 0.32590904 | C37: (in percent)
A38: Equity Reinvestment Rate = | B38: =IF(B18="Yes",(B21+B22-B23)/(B6-B7),(Inputs!B13-Inputs!B14+Inputs!B15-B16)/(B36-B7)) -> 0.30017924 | C38: (in percent)
A39: Do you want to change any of these inputs for the high growth period? | B39: No
A40: If yes, specify the values for these inputs (Please enter all variables)
A41: Non-cash ROE = | B41: 0.15 | C41: (in percent)
A42: Equity Reinvestment Rate = | B42: =B38 -> 0.30017924 | C42: (in percent)
A43: Do you want to change any of these inputs for the stable growth period? | B43: Yes
A44: If yes, specify the values for these inputs
...

Sheet Input summary
B1: High growth | C1: Transition period | D1: Stable growth
A2: Non-cash ROE | B2: ='FCFE Valuation'!D7 -> 0.32590904 | C2: adjusts to | D2: ='FCFE Valuation'!D22 -> 0.1
A3: Equity Reinvestment Rate | B3: ='FCFE Valuation'!D8 -> 0.30017924 | C3: adjusts to | D3: ='FCFE Valuation'!D23 -> 0.4
A4: Expected Growth Rate | B4: ='FCFE Valuation'!D6 -> 0.097831127 | C4: adjusts to | D4: ='FCFE Valuation'!D21 -> 0.04
A5: Beta | B5: =Inputs!B26 -> 1.03 | C5: Unchanged | D5: =IF(Inputs!B56="No",Inputs!B26,Inputs!B57) -> 1.03
A6: Cost of Equity | B6: ='FCFE Valuation'!D3 -> 0.096151427 | C6: Unchanged | D6: ='FCFE Valuation'!D24 -> 0.096151427

Sheet FCFE Valuation
B2: Output from the program
B3: Cost of Equity = | D3: =Inputs!B27+Inputs!B26*Inputs!B28 -> 0.096151427
B4: Net Income = | D4: =IF(Inputs!B17="No",Inputs!B6,IF('Normalized Earnings'!B2=1,'Normalized Earnings'!G5,'Normalized Earnings'!B8*Inputs!C9)) -> 457.41333
B5: Net Income without interest income from cash= | D5: =D4-Inputs!B7 -> 437.40533
B6: Growth rate in Net Income = | D6: =IF(Inputs!B33="Yes",IF(Inputs!B39="Yes",Inputs!B41*Inputs!B42,Inputs!B37*Inputs!B38),Inputs!B34) -> 0.097831127
B7: Non-cash Return on Equity | D7: =IF(Inputs!B39="No",Inputs!B37,Inputs!B41) -> 0.32590904
B8: Equity Reinvestment Rate for high growth phase= | D8: =IF(Inputs!B39="Yes",Inputs!B42,Inputs!B38) -> 0.30017924
B10: The dividends for the high growth phase are shown below (upto 10 years)
C11: =IF(Inputs!B31=0," ",1) -> 1 | D11: =IF(Inputs!B31<2," ",2) -> 2 | E11: =IF(Inputs!B31<3," ",3) -> 3 | F11: =IF(Inputs!B31<4," ",4) -> 4 | G11: =IF(Inputs!B31<5," ",5) -> 5 | H11: =IF(Inputs!B31<6," ",6) -> 6 | I11: =IF(Inputs!B31<7," ",7) -> 7 | J11: =IF(Inputs!B31<8," ",8) -> 8 | K11: =IF(Inputs!B31<9," ",9) -> 9 | L11: =IF(Inputs!B31<10," ",10) -> 10 | M11: =IF(Inputs!B31<11," ",11) | N11: =IF(Inputs!B31<12," ",12) | O11: =IF(Inputs!B31<13," ",13) | P11: =IF(Inputs!B31<14," ",14) | Q11: =IF(Inputs!B31<15," ",15)
B12: Expected Growth Rate | C12: =IF(Inputs!$B$31<C11," ",IF(Inputs!$B$47="Yes",IF(C11<(Inputs!$B$31/2),$D$6,$D$21+(($D$6-$D$21)/(Inputs!$B$31/2))*(Inputs!$B$31-C11)),$D$6)) -> 0.097831127 | D12: =IF(Inputs!$B$31<D11," ",IF(Inputs!$B$47="Yes",IF(D11<(Inputs!$B$31/2),$D$6,$D$21+(($D$6-$D$21)/(Inputs!$B$31/2))*(Inputs!$B$31-D11)),$D$6)) -> 0.097831127 | E12: =IF(Inputs!$B$31<E11," ",IF(Inputs!$B$47="Yes",IF(E11<(Inputs!$B$31/2),$D$6,$D$21+(($D$6-$D$21)/(Inputs!$B$31/2))*(Inputs!$B$31-E11)),$D$6)) -> 0.097831127 | F12: =IF(Inputs!$B$31<F11," ",IF(Inputs!$B$47="Yes",IF(F11<(Inputs!$B$31/2),$D$6,$D$21+(($D$6-$D$21)/(Inputs!$B$31/2))*(Inputs!$B$31-F11)),$D$6)) -> 0.097831127 | G12: =IF(Inputs!$B$31<G11," ",IF(Inputs!$B$47="Yes",IF(G11<(Inputs!$B$31/2),$D$6,$D$21+(($D$6-$D$21)/(Inputs!$B$31/2))*(Inputs!$B$31-G11)),$D$6)) -> 0.097831127 | H12: =IF(Inputs!$B$31<H11," ",IF(Inputs!$B$47="Yes",IF(H11<(Inputs!$B$31/2),$D$6,$D$21+(($D$6-$D$21)/(Inputs!$B$31/2))*(Inputs!$B$31-H11)),$D$6)) -> 0.086264901 | I12: =IF(Inputs!$B$31<I11," ",IF(Inputs!$B$47="Yes",IF(I11<(Inputs!$B$31/2),$D$6,$D$21+(($D$6-$D$21)/(Inputs!$B$31/2))*(Inputs!$B$31-I11)),$D$6)) -> 0.074698676 | J12: =IF(Inputs!$B$31<J11," ",IF(Inputs!$B$47="Yes",IF(J11<(Inputs!$B$31/2),$D$6,$D$21+(($D$6-$D$21)/(Inputs!$B$31/2))*(Inputs!$B$31-J11)),$D$6)) -> 0.063132451 | ... Q12: =IF(Inputs!$B$31<Q11," ",IF(Inputs!$B$47="Yes",IF(Q11<(Inputs!$B$31/2),$D$6,$D$21+(($D$6-$D$21)/(Inputs!$B$31/2))*(Inputs!$B$31-Q11)),$D$6))
B13: Non-cash ROE | C13: =IF(Inputs!$B$31<C11," ",IF(Inputs!$B$47="Yes",IF(C11<(Inputs!$B$31/2),$D$7,$D$22+(($D$7-$D$22)/(Inputs!$B$31/2))*(Inputs!$B$31-C11)),$D$8)) -> 0.32590904 | D13: =IF(Inputs!$B$31<D11," ",IF(Inputs!$B$47="Yes",IF(D11<(Inputs!$B$31/2),$D$7,$D$22+(($D$7-$D$22)/(Inputs!$B$31/2))*(Inputs!$B$31-D11)),$D$8)) -> 0.32590904 | E13: =IF(Inputs!$B$31<E11," ",IF(Inputs!$B$47="Yes",IF(E11<(Inputs!$B$31/2),$D$7,$D$22+(($D$7-$D$22)/(Inputs!$B$31/2))*(Inputs!$B$31-E11)),$D$8)) -> 0.32590904 | F13: =IF(Inputs!$B$31<F11," ",IF(Inputs!$B$47="Yes",IF(F11<(Inputs!$B$31/2),$D$7,$D$22+(($D$7-$D$22)/(Inputs!$B$31/2))*(Inputs!$B$31-F11)),$D$8)) -> 0.32590904 | G13: =IF(Inputs!$B$31<G11," ",IF(Inputs!$B$47="Yes",IF(G11<(Inputs!$B$31/2),$D$7,$D$22+(($D$7-$D$22)/(Inputs!$B$31/2))*(Inputs!$B$31-G11)),$D$8)) -> 0.32590904 | H13: =IF(Inputs!$B$31<H11," ",IF(Inputs!$B$47="Yes",IF(H11<(Inputs!$B$31/2),$D$7,$D$22+(($D$7-$D$22)/(Inputs!$B$31/2))*(Inputs!$B$31-H11)),$D$8)) -> 0.28072723 | I13: =IF(Inputs!$B$31<I11," ",IF(Inputs!$B$47="Yes",IF(I11<(Inputs!$B$31/2),$D$7,$D$22+(($D$7-$D$22)/(Inputs!$B$31/2))*(Inputs!$B$31-I11)),$D$8)) -> 0.23554542 | J13: =IF(Inputs!$B$31<J11," ",IF(Inputs!$B$47="Yes",IF(J11<(Inputs!$B$31/2),$D$7,$D$22+(($D$7-$D$22)/(Inputs!$B$31/2))*(Inputs!$B$31-J11)),$D$8)) -> 0.19036361 | ... Q13: =IF(Inputs!$B$31<Q11," ",IF(Inputs!$B$47="Yes",IF(Q11<(Inputs!$B$31/2),$D$7,$D$22+(($D$7-$D$22)/(Inputs!$B$31/2))*(Inputs!$B$31-Q11)),$D$8))
B14: Net Income | C14: =IF(Inputs!$B$31<C11," ",D5*(1+D12)) -> 480.19719 | D14: =IF(Inputs!$B$31<D11," ",C14*(1+D12)) -> 527.17542 | E14: =IF(Inputs!$B$31<E11," ",D14*(1+E12)) -> 578.74959 | F14: =IF(Inputs!$B$31<F11," ",E14*(1+F12)) -> 635.36931 | G14: =IF(Inputs!$B$31<G11," ",F14*(1+G12)) -> 697.52821 | H14: =IF(Inputs!$B$31<H11," ",G14*(1+H12)) -> 757.70041 | I14: =IF(Inputs!$B$31<I11," ",H14*(1+I12)) -> 814.29963 | J14: =IF(Inputs!$B$31<J11," ",I14*(1+J12)) -> 865.70836 | K14: =IF(Inputs!$B$31<K11," ",J14*(1+K12)) -> 910.34967 | ... Q14: =IF(Inputs!$B$31<Q11," ",P14*(1+Q12))
B15: Equity Reinvestment Rate | C15: =IF(Inputs!$B$31<C11," ",IF(Inputs!$B$47="Yes",IF(C11<(Inputs!$B$31/2),$D$8,$D$23+(($D$8-$D$23)/(Inputs!$B$31/2))*(Inputs!$B$31-C11)),$D$8)) -> 0.30017924 | D15: =IF(Inputs!$B$31<D11," ",IF(Inputs!$B$47="Yes",IF(D11<(Inputs!$B$31/2),$D$8,$D$23+(($D$8-$D$23)/(Inputs!$B$31/2))*(Inputs!$B$31-D11)),$D$8)) -> 0.30017924 | E15: =IF(Inputs!$B$31<E11," ",IF(Inputs!$B$47="Yes",IF(E11<(Inputs!$B$31/2),$D$8,$D$23+(($D$8-$D$23)/(Inputs!$B$31/2))*(Inputs!$B$31-E11)),$D$8)) -> 0.30017924 | F15: =IF(Inputs!$B$31<F11," ",IF(Inputs!$B$47="Yes",IF(F11<(Inputs!$B$31/2),$D$8,$D$23+(($D$8-$D$23)/(Inputs!$B$31/2))*(Inputs!$B$31-F11)),$D$8)) -> 0.30017924 | G15: =IF(Inputs!$B$31<G11," ",IF(Inputs!$B$47="Yes",IF(G11<(Inputs!$B$31/2),$D$8,$D$23+(($D$8-$D$23)/(Inputs!$B$31/2))*(Inputs!$B$31-G11)),$D$8)) -> 0.30017924 | H15: =IF(Inputs!$B$31<H11," ",IF(Inputs!$B$47="Yes",IF(H11<(Inputs!$B$31/2),$D$8,$D$23+(($D$8-$D$23)/(Inputs!$B$31/2))*(Inputs!$B$31-H11)),$D$8)) -> 0.32014339 | I15: =IF(Inputs!$B$31<I11," ",IF(Inputs!$B$47="Yes",IF(I11<(Inputs!$B$31/2),$D$8,$D$23+(($D$8-$D$23)/(Inputs!$B$31/2))*(Inputs!$B$31-I11)),$D$8)) -> 0.34010754 | J15: =IF(Inputs!$B$31<J11," ",IF(Inputs!$B$47="Yes",IF(J11<(Inputs!$B$31/2),$D$8,$D$23+(($D$8-$D$23)/(Inputs!$B$31/2))*(Inputs!$B$31-J11)),$D$8)) -> 0.3600717 | ... Q15: =IF(Inputs!$B$31<Q11," ",IF(Inputs!$B$47="Yes",IF(Q11<(Inputs!$B$31/2),$D$8,$D$23+(($D$8-$D$23)/(Inputs!$B$31/2))*(Inputs!$B$31-Q11)),$D$8))
B16: FCFE | C16: =IF(Inputs!$B$31<C11," ",C14*(1-C15)) -> 336.05196 | D16: =IF(Inputs!$B$31<D11," ",D14*(1-D15)) -> 368.92831 | E16: =IF(Inputs!$B$31<E11," ",E14*(1-E15)) -> 405.02098 | F16: =IF(Inputs!$B$31<F11," ",F14*(1-F15)) -> 444.64464 | G16: =IF(Inputs!$B$31<G11," ",G14*(1-G15)) -> 488.14472 | H16: =IF(Inputs!$B$31<H11," ",H14*(1-H15)) -> 515.12763 | I16: =IF(Inputs!$B$31<I11," ",I14*(1-I15)) -> 537.35018 | J16: =IF(Inputs!$B$31<J11," ",J14*(1-J15)) -> 553.99128 | ... L16: =IF(Inputs!$B$31<L11," ",L14*(1-L15)) -> 568.05819 | M16: =IF(Inputs!$B$31<M11," ",M14*M15) | N16: =IF(Inputs!$B$31<N11," ",N14*N15) | O16: =IF(Inputs!$B$31<O11," ",O14*O15) | P16: =IF(Inputs!$B$31<P11," ",P14*P15) | Q16: =IF(Inputs!$B$31<Q11," ",Q14*Q15)
B17: Cost of Equity | C17: =IF(Inputs!$B$31<C11," ",IF(Inputs!$B$47="Yes",IF(C11<(Inputs!$B$31/2),$D$3,$D$24+(($D$3-$D$24)/(Inputs!$B$31/2))*(Inputs!$B$31-C11)),$D$3)) -> 0.096151427 | D17: =IF(Inputs!$B$31<D11," ",IF(Inputs!$B$47="Yes",IF(D11<(Inputs!$B$31/2),$D$3,$D$24+(($D$3-$D$24)/(Inputs!$B$31/2))*(Inputs!$B$31-D11)),$D$3)) -> 0.096151427 | E17: =IF(Inputs!$B$31<E11," ",IF(Inputs!$B$47="Yes",IF(E11<(Inputs!$B$31/2),$D$3,$D$24+(($D$3-$D$24)/(Inputs!$B$31/2))*(Inputs!$B$31-E11)),$D$3)) -> 0.096151427 | F17: =IF(Inputs!$B$31<F11," ",IF(Inputs!$B$47="Yes",IF(F11<(Inputs!$B$31/2),$D$3,$D$24+(($D$3-$D$24)/(Inputs!$B$31/2))*(Inputs!$B$31-F11)),$D$3)) -> 0.096151427 | G17: =IF(Inputs!$B$31<G11," ",IF(Inputs!$B$47="Yes",IF(G11<(Inputs!$B$31/2),$D$3,$D$24+(($D$3-$D$24)/(Inputs!$B$31/2))*(Inputs!$B$31-G11)),$D$3)) -> 0.096151427 | H17: =IF(Inputs!$B$31<H11," ",IF(Inputs!$B$47="Yes",IF(H11<(Inputs!$B$31/2),$D$3,$D$24+(($D$3-$D$24)/(Inputs!$B$31/2))*(Inputs!$B$31-H11)),$D$3)) -> 0.096151427 | I17: =IF(Inputs!$B$31<I11," ",IF(Inputs!$B$47="Yes",IF(I11<(Inputs!$B$31/2),$D$3,$D$24+(($D$3-$D$24)/(Inputs!$B$31/2))*(Inputs!$B$31-I11)),$D$3)) -> 0.096151427 | J17: =IF(Inputs!$B$31<J11," ",IF(Inputs!$B$47="Yes",IF(J11<(Inputs!$B$31/2),$D$3,$D$24+(($D$3-$D$24)/(Inputs!$B$31/2))*(Inputs!$B$31-J11)),$D$3)) -> 0.096151427 | ... Q17: =IF(Inputs!$B$31<Q11," ",IF(Inputs!$B$47="Yes",IF(Q11<(Inputs!$B$31/2),$D$3,$D$24+(($D$3-$D$24)/(Inputs!$B$31/2))*(Inputs!$B$31-Q11)),$D$3))
B18: Cumulative Cost of Equity | C18: =IF(Inputs!$B$31<C11," ",(1+C17)) -> 1.0961514 | D18: =IF(Inputs!$B$31<D11," ",(1+C17)*(1+D17)) -> 1.201548 | E18: =IF(Inputs!$B$31<E11," ",(1+C17)*(1+D17)*(1+E17)) -> 1.3170785 | F18: =IF(Inputs!$B$31<F11," ",(1+C17)*(1+D17)*(1+E17)*(1+F17)) -> 1.4437175 | G18: =IF(Inputs!$B$31<G11," ",(1+C17)*(1+D17)*(1+E17)*(1+F17)*(1+G17)) -> 1.582533 | H18: =IF(Inputs!$B$31<H11," ",(1+C17)*(1+D17)*(1+E17)*(1+F17)*(1+G17)*(1+H17)) -> 1.7346958 | I18: =IF(Inputs!$B$31<I11," ",(1+C17)*(1+D17)*(1+E17)*(1+F17)*(1+G17)*(1+H17)*(1+I17)) -> 1.9014893 | J18: =IF(Inputs!$B$31<J11," ",(1+C17)*(1+D17)*(1+E17)*(1+F17)*(1+G17)*(1+H17)*(1+I17)*(1+J17)) -> 2.0843202 | K18: =IF(Inputs!$B$31<K11," ",(1+C17)*(1+D17)*(1+E17)*(1+F17)*(1+G17)*(1+H17)*(1+I17)*(1+J17)*(1+K17)) -> 2.2847305 | L18: =IF(Inputs!$B$31<L11," ",(1+C17)*(1+D17)*(1+E17)*(1+F17)*(1+G17)*(1+H17)*(1+I17)*(1+J17)*(1+K17)*(1+L17)) -> 2.5044106 | M18: =IF(Inputs!$B$31<M11," ",(1+C17)*(1+D17)*(1+E17)*(1+F17)*(1+G17)*(1+H17)*(1+I17)*(1+J17)*(1+K17)*(1+L17)*(1+M17)) | N18: =IF(Inputs!$B$31<N11," ",(1+C17)*(1+D17)*(1+E17)*(1+F17)*(1+G17)*(1+H17)*(1+I17)*(1+J17)*(1+K17)*(1+L17)*(1+M17)*(1+N17)) | O18: =IF(Inputs!$B$31<O11," ",(1+C17)*(1+D17)*(1+E17)*(1+F17)*(1+G17)*(1+H17)*(1+I17)*(1+J17)*(1+K17)*(1+L17)*(1+M17)*(1+N17)*(1+O17)) | P18: =IF(Inputs!$B$31<P11," ",(1+C17)*(1+D17)*(1+E17)*(1+F17)*(1+G17)*(1+H17)*(1+I17)*(1+J17)*(1+K17)*(1+L17)*(1+M17)*(1+N17)*(1+O17)*(1+P17)) | Q18: =IF(Inputs!$B$31<Q11," ",(1+C17)*(1+D17)*(1+E17)*(1+F17)*(1+G17)*(1+H17)*(1+I17)*(1+J17)*(1+K17)*(1+L17)*(1+M17)*(1+N17)*(1+O17)*(1+P17)*(1+Q17))
B19: Present Value | C19: =IF(Inputs!$B$31<C11," ",C16/C18) -> 306.5744 | D19: =IF(Inputs!$B$31<D11," ",D16/D18) -> 307.04418 | E19: =IF(Inputs!$B$31<E11," ",E16/E18) -> 307.51468 | F19: =IF(Inputs!$B$31<F11," ",F16/F18) -> 307.98591 | G19: =IF(Inputs!$B$31<G11," ",G16/G18) -> 308.45785 | H19: =IF(Inputs!$B$31<H11," ",H16/H18) -> 296.9556 | I19: =IF(Inputs!$B$31<I11," ",I16/I18) -> 282.59438 | J19: =IF(Inputs!$B$31<J11," ",J16/J18) -> 265.78992 | ... Q19: =IF(Inputs!$B$31<Q11," ",Q16/Q18)
B21: Growth Rate in Stable Phase = | D21: =Inputs!B50 -> 0.04
B22: No-cash Return on Equity in Stable Phase = | D22: =IF(Inputs!B43="Yes",Inputs!B45,'FCFE Valuation'!D7) -> 0.1
B23: Equity Reinvestment rate inn st | D23: =IF(Inputs!B53="No",Inputs!B52,Inputs!B54) -> 0.4
B24: Cost of Equity in Stable Phase = | D24: =IF(Inputs!B56="No",Inputs!B27+Inputs!B26*Inputs!B28,Inputs!B27+Inputs!B57*Inputs!B28) -> 0.096151427
B25: Price at the end of growth phase = | D25: =IF(Inputs!B31=0,D5*(1-D23)*(1+D21)/(D24-D21),MAX(C14:Q14)*(1+D21)*(1-D23)/(D24-D21)) -> 10521.202
B27: Present Value of FCFEs in high growth phase = | E27: =SUM(C19:Q19) -> 2856.7644
B28: Present Value of Terminal Equity Value = | E28: =IF(Inputs!B31=0,'FCFE Valuation'!D25,D25/MAX(C18:Q18)) -> 4201.0692
B29: Value of equity in operating assets = | E29: =E27+E28 -> 7057.8336
B30: Value of Cash and Marketable Securities = | E30: =Inputs!B10 -> 398.8
B31: Value of equity in firm = | E31: =E29+E30 -> 7456.6336
B32: Value per share = | E32: =E31/Inputs!B12 -> 18.733848

Sheet Normalized Earnings
A1: Normalized Earnings Calculation
A2: Choose the approach to normalized earnings | B2: 1
A3: Approach 1: Average Net Income over last 5 years
B4: -5 | C4: -4 | D4: -3 | E4: -2 | F4: Current | G4: Average
A5: Net Income | D5: 553.54 | E5: 569.1 | F5: 249.6 | G5: =AVERAGE(B5:F5) -> 457.41333
A7: Approach 2: Normalized return on equity
A8: Normalized ROE = | B8: 0.22

Sheet Normalized Reinvestment
A1: Normalizing Net Cap Ex
A2: Choose the approach to normalized earnings | B2: 1
A3: Approach 1: Average Net Cap Ex over last 5 years
B4: -5 | C4: -4 | D4: -3 | E4: -2 | F4: Current | G4: Average
A5: Net Cap Ex | C5: =9989-7848 -> 2141 | D5: =11437-8310 -> 3127 | E5: =12859-9047 -> 3812 | F5: =11986-9767 -> 2219 | G5: =AVERAGE(B5:F5) -> 2824.75
A6: EBIT | C6: 21510 | D6: 14970 | E6: 23183 | F6: 35872 | G6: =AVERAGE(B6:F6) -> 23883.75
G7: =G5/G6 -> 0.11827079
A8: Approach 2: Industry average
A9: Industry average net cap ex/ EBIT | B9: 0.22
A11: Normalizing Non-cash Working Capital
A12: Choose the approach to normalized earnings | B12: 1
A13: Approach 1: Average Net Income over last 5 years
A14: Total non-cash working capital current year= | B14: =(24309+8968+2068-15334-18263) -> 1748
A15: Revenues in current year = | B15: 263989
A16: Revenues last year = | B16: 213199
A18: Approach 2: Industry average
A19: Industry average non-cash WC/ Revenues | B19: 0.22
A21: Normalizing Net Debt Issued
A22: Choose the approach to normalized earnings | B22: 1
A23: Approaches 1 or 2: Current Book or Market Debt Ratio
A24: Book value of debt in current year = | B24: =3280+5013 -> 8293
A26: Approach 2: Industry average
A27: Industry average debt to capital ratio = | B27: 0.15

Sheet R&D converter
A1: R & D Converter
A2: This spreadsheet converts R&D expenses from operating to capital expenses. It makes the appropriate adjustments to operating income, net
A3: income, the book value of assets and the book value of equity.
A5: Inputs
A6: Over how many years do you want to amortize R&D expenses | F6: 5 | G6: ! If in doubt, use the lookup table below
A7: Enter the current year's R&D expense = | F7: 9000 | G7: The maximum allowed is ten years
A8: Enter R& D expenses for past years: the number of years that you will need to enter will be determined by the amortization period
A9: Do not input numbers in the first column (Year). It will get automatically updated based on the input above.
A10: Year | B10: R& D Expenses
A11: -1 | B11: 8000 | C11: ! Year -1 is the year prior to the current year
A12: =IF((0-A11)<$F$6,IF(A11>-1,,A11-1),) -> -2 | B12: 7500 | C12: ! Year -2 is the two years prior to the current year
A13: =IF((0-A12)<$F$6,IF(A12>-1,,A12-1),) -> -3 | B13: 7000
A14: =IF((0-A13)<$F$6,IF(A13>-1,,A13-1),) -> -4 | B14: 6500
A15: =IF((0-A14)<$F$6,IF(A14>-1,,A14-1),) -> -5 | B15: 6000
A16: =IF((0-A15)<$F$6,IF(A15>-1,,A15-1),) -> 0
A17: =IF((0-A16)<$F$6,IF(A16>-1,,A16-1),) -> 0
A18: =IF((0-A17)<$F$6,IF(A17>-1,,A17-1),) -> 0
A19: =IF((0-A18)<$F$6,IF(A18>-1,,A18-1),) -> 0
A20: =IF((0-A19)<$F$6,IF(A19>-1,,A19-1),) -> 0
A22: Output
A23: Year | B23: R&D Expense | C23: Unamortized portion | E23: Amortization this year
A24: Current | B24: =F7 -> 9000 | C24: =1 -> 1 | D24: =B24*C24 -> 9000
A25: =A11 -> -1 | B25: =B11 -> 8000 | C25: =IF(A25<0,($F$6+A25)/$F$6,0) -> 0.8 | D25: =B25*C25 -> 6400 | E25: =IF(A25<0,B25/$F$6,0) -> 1600
A26: =A12 -> -2 | B26: =B12 -> 7500 | C26: =IF(A26<0,($F$6+A26)/$F$6,0) -> 0.6 | D26: =B26*C26 -> 4500 | E26: =IF(A26<0,B26/$F$6,0) -> 1500
A27: =A13 -> -3 | B27: =B13 -> 7000 | C27: =IF(A27<0,($F$6+A27)/$F$6,0) -> 0.4 | D27: =B27*C27 -> 2800 | E27: =IF(A27<0,B27/$F$6,0) -> 1400
A28: =A14 -> -4 | B28: =B14 -> 6500 | C28: =IF(A28<0,($F$6+A28)/$F$6,0) -> 0.2 | D28: =B28*C28 -> 1300 | E28: =IF(A28<0,B28/$F$6,0) -> 1300
A29: =A15 -> -5 | B29: =B15 -> 6000 | C29: =IF(A29<0,($F$6+A29)/$F$6,0) -> 0 | D29: =B29*C29 -> 0 | E29: =IF(A29<0,B29/$F$6,0) -> 1200
A30: =A16 -> 0 | B30: =B16 -> 0 | C30: =IF(A30<0,($F$6+A30)/$F$6,0) -> 0 | D30: =B30*C30 -> 0 | E30: =IF(A30<0,B30/$F$6,0) -> 0
A31: =A17 -> 0 | B31: =B17 -> 0 | C31: =IF(A31<0,($F$6+A31)/$F$6,0) -> 0 | D31: =B31*C31 -> 0 | E31: =IF(A31<0,B31/$F$6,0) -> 0
A32: =A18 -> 0 | B32: =B18 -> 0 | C32: =IF(A32<0,($F$6+A32)/$F$6,0) -> 0 | D32: =B32*C32 -> 0 | E32: =IF(A32<0,B32/$F$6,0) -> 0
A33: =A19 -> 0 | B33: =B19 -> 0 | C33: =IF(A33<0,($F$6+A33)/$F$6,0) -> 0 | D33: =B33*C33 -> 0 | E33: =IF(A33<0,B33/$F$6,0) -> 0
A34: =A20 -> 0 | B34: =B20 -> 0 | C34: =IF(A34<0,($F$6+A34)/$F$6,0) -> 0 | D34: =B34*C34 -> 0 | E34: =IF(A34<0,B34/$F$6,0) -> 0
A35: Value of Research Asset = | D35: =SUM(D24:D34) -> 24000 | E35: =SUM(E25:E34) -> 7000
A37: Amortization of asset for current year = | D37: =E35 -> 7000
A39: Adjustment to Operating Income = | D39: =F7-D37 -> 2000 | E39: ! A positive number indicates an increase in operating income (add to reported EBIT)
A40: Tax Effect of R&D Expensing | D40: 500

Sheet Beta calculator
A1: If you are a multi-business company, you can input the following
A2: Business | B2: Revenues | C2: EV/Sales | D2: Estimated Value | E2: Unlevered Beta
A3: Apparel | B3: 6179 | C3: =VLOOKUP(A3,'Industry averages'!A$1:$S$95,15) -> 1.2013804 | D3: =B3*C3 -> 7423.3292 | E3: =IF(A3=0,,VLOOKUP(A3,'Industry averages'!A$1:$S$95,7)) -> 0.92957565
C4: =IF(A4=0,,VLOOKUP(A4,'Industry averages'!A$1:$S$95,15)) -> 0 | D4: =B4*C4 -> 0 | E4: =IF(A4=0,,VLOOKUP(A4,'Industry averages'!A$1:$S$95,7)) -> 0
C5: =IF(A5=0,,VLOOKUP(A5,'Industry averages'!A$1:$S$95,15)) -> 0 | D5: =B5*C5 -> 0 | E5: =IF(A5=0,,VLOOKUP(A5,'Industry averages'!A$1:$S$95,7)) -> 0
C6: =IF(A6=0,,VLOOKUP(A6,'Industry averages'!A$1:$S$95,15)) -> 0 | D6: =B6*C6 -> 0 | E6: =IF(A6=0,,VLOOKUP(A6,'Industry averages'!A$1:$S$95,7)) -> 0
C7: =IF(A7=0,,VLOOKUP(A7,'Industry averages'!A$1:$S$95,15)) -> 0 | D7: =B7*C7 -> 0 | E7: =IF(A7=0,,VLOOKUP(A7,'Industry averages'!A$1:$S$95,7)) -> 0
C8: =IF(A8=0,,VLOOKUP(A8,'Industry averages'!A$1:$S$95,15)) -> 0 | D8: =B8*C8 -> 0 | E8: =IF(A8=0,,VLOOKUP(A8,'Industry averages'!A$1:$S$95,7)) -> 0
C9: =IF(A9=0,,VLOOKUP(A9,'Industry averages'!A$1:$S$95,15)) -> 0 | D9: =B9*C9 -> 0 | E9: =IF(A9=0,,VLOOKUP(A9,'Industry averages'!A$1:$S$95,7)) -> 0
C10: =IF(A10=0,,VLOOKUP(A10,'Industry averages'!A$1:$S$95,15)) -> 0 | D10: =B10*C10 -> 0 | E10: =IF(A10=0,,VLOOKUP(A10,'Industry averages'!A$1:$S$95,7)) -> 0
C11: =IF(A11=0,,VLOOKUP(A11,'Industry averages'!A$1:$S$95,15)) -> 0 | D11: =B11*C11 -> 0 | E11: =IF(A11=0,,VLOOKUP(A11,'Industry averages'!A$1:$S$95,7)) -> 0
C12: =IF(A12=0,,VLOOKUP(A12,'Industry averages'!A$1:$S$95,15)) -> 0 | D12: =B12*C12 -> 0 | E12: =IF(A12=0,,VLOOKUP(A12,'Industry averages'!A$1:$S$95,7)) -> 0
C13: =IF(A13=0,,VLOOKUP(A13,'Industry averages'!A$1:$S$95,15)) -> 0 | D13: =B13*C13 -> 0 | E13: =IF(A13=0,,VLOOKUP(A13,'Industry averages'!A$1:$S$95,7)) -> 0
C14: =IF(A14=0,,VLOOKUP(A14,'Industry averages'!A$1:$S$95,15)) -> 0 | D14: =B14*C14 -> 0 | E14: =IF(A14=0,,VLOOKUP(A14,'Industry averages'!A$1:$S$95,7)) -> 0
A15: Company | B15: =SUM(B3:B14) -> 6179 | D15: =SUM(D3:D14) -> 7423.3292 | E15: =E3*(D3/D15)+E4*D4/D15+E5*D5/D15+E6*D6/D15+E7*D7/D15+E8*D8/D15+E9*D9/D15+E10*D10/D15+E11*D11/D15+E12*D12/D15+E13*D13/D15+E14*D14/D15 -> 0.92957565

Sheet ERP calculator
A1: If you are a multinational company and have a breakdown by country, you can use this table (for up to 10 countries)
A2: Country | B2: Revenues | C2: ERP | D2: Weight | E2: Weighted ERP
A3: United States | B3: 800 | C3: =IF(B3=0,0,VLOOKUP(A3,'Country ERP'!$A$5:$F$195,4)) -> 0.043 | D3: =IF(B3>0,B3/$B$15,) -> 1 | E3: =C3*D3 -> 0.043 | H3: The last two rows in each of country/regiion risk premium tables is set aside for your input to provide you with flexibility to enter some numbers directly. For instance, assume that you have a company that breaks its revenues down into three countries and then puts the rest into "Rest of the World". You can enter the "Rest of the World" in one of these two rows and enter an equity risk premium for the rest of the world. The easiest way to do that is to go into the country equity risk premium worksheet and change the GDP for the three countries that you have data for to zero and compute the global weighted average ERP for the remaining countries. With the regional worksheet, you can use the last two rows to enter the data for an individual country (usually the domestic country) that might be broken out though the rest of the revenues are broken down by region. You can look up the ERP for the country in the country ERP worksheet.
C4: =IF(B4=0,0,VLOOKUP(A4,'Country ERP'!$A$5:$F$195,4)) -> 0 | D4: =IF(B4>0,B4/$B$15,) -> 0 | E4: =C4*D4 -> 0
C5: =IF(B5=0,0,VLOOKUP(A5,'Country ERP'!$A$5:$F$195,4)) -> 0 | D5: =IF(B5>0,B5/$B$15,) -> 0 | E5: =C5*D5 -> 0
C6: =IF(B6=0,0,VLOOKUP(A6,'Country ERP'!$A$5:$F$195,4)) -> 0 | D6: =IF(B6>0,B6/$B$15,) -> 0 | E6: =C6*D6 -> 0
C7: =IF(B7=0,0,VLOOKUP(A7,'Country ERP'!$A$5:$F$195,4)) -> 0 | D7: =IF(B7>0,B7/$B$15,) -> 0 | E7: =C7*D7 -> 0
C8: =IF(B8=0,0,VLOOKUP(A8,'Country ERP'!$A$5:$F$195,4)) -> 0 | D8: =IF(B8>0,B8/$B$15,) -> 0 | E8: =C8*D8 -> 0
C9: =IF(B9=0,0,VLOOKUP(A9,'Country ERP'!$A$5:$F$195,4)) -> 0 | D9: =IF(B9>0,B9/$B$15,) -> 0 | E9: =C9*D9 -> 0
C10: =IF(B10=0,0,VLOOKUP(A10,'Country ERP'!$A$5:$F$195,4)) -> 0 | D10: =IF(B10>0,B10/$B$15,) -> 0 | E10: =C10*D10 -> 0
C11: =IF(B11=0,0,VLOOKUP(A11,'Country ERP'!$A$5:$F$195,4)) -> 0 | D11: =IF(B11>0,B11/$B$15,) -> 0 | E11: =C11*D11 -> 0
C12: =IF(B12=0,0,VLOOKUP(A12,'Country ERP'!$A$5:$F$195,4)) -> 0 | D12: =IF(B12>0,B12/$B$15,) -> 0 | E12: =C12*D12 -> 0
D13: =IF(B13>0,B13/$B$15,) -> 0 | E13: =C13*D13 -> 0
D14: =IF(B14>0,B14/$B$15,) -> 0 | E14: =C14*D14 -> 0
A15: Total | B15: =SUM(B3:B14) -> 800 | D15: =SUM(D3:D14) -> 1 | E15: =SUM(E3:E14) -> 0.043
A16: If you are a multinational company and have a breakdown only by region, you can use this table instead
A17: Region | B17: Revenues | C17: ERP | D17: Weight | E17: Weighted ERP
A18: ='Country ERP'!A201 -> Africa | B18: 0 | C18: ='Country ERP'!B201 -> 0.13463852 | D18: =B18/$B$29 -> 0 | E18: =C18*D18 -> 0
A19: ='Country ERP'!A202 -> Asia | B19: 1060 | C19: ='Country ERP'!B202 -> 0.059805405 | D19: =B19/$B$29 -> 0.18508818 | E19: =C19*D19 -> 0.011069273
A20: ='Country ERP'!A203 -> Australia & New Zealand | C20: ='Country ERP'!B203 -> 0.043047924 | D20: =B20/$B$29 -> 0 | E20: =C20*D20 -> 0
A21: ='Country ERP'!A204 -> Caribbean | C21: ='Country ERP'!B204 -> 0.18453488 | D21: =B21/$B$29 -> 0 | E21: =C21*D21 -> 0
A22: ='Country ERP'!A205 -> Central and South America | C22: ='Country ERP'!B205 -> 0.10061091 | D22: =B22/$B$29 -> 0 | E22: =C22*D22 -> 0
A23: ='Country ERP'!A206 -> Eastern Europe & Russia | C23: ='Country ERP'!B206 -> 0.093579383 | D23: =B23/$B$29 -> 0 | E23: =C23*D23 -> 0
A24: ='Country ERP'!A207 -> Middle East | C24: ='Country ERP'!B207 -> 0.064589991 | D24: =B24/$B$29 -> 0 | E24: =C24*D24 -> 0
A25: ='Country ERP'!A208 -> North America | B25: 3087 | C25: ='Country ERP'!B208 -> 0.043 | D25: =B25/$B$29 -> 0.53902567 | E25: =C25*D25 -> 0.023178104
A26: ='Country ERP'!A209 -> Western Europe | B26: 1580 | C26: ='Country ERP'!B209 -> 0.055871606 | D26: =B26/$B$29 -> 0.27588615 | E26: =C26*D26 -> 0.015414203
D27: =B27/$B$29 -> 0 | E27: =C27*D27 -> 0
D28: =B28/$B$29 -> 0 | E28: =C28*D28 -> 0
A29: Total | B29: =SUM(B18:B28) -> 5727 | D29: =B29/$B$29 -> 1 | E29: =SUM(E18:E28) -> 0.04966158

Sheet Industry averages
A1: Industry Name | B1: Number of firms | C1: Annual Average Revenue growth - Last 5 years | D1: Pre-tax Operating Margin (Unadjusted) | E1: After-tax ROC | F1: Average effective tax rate | G1: Unlevered Beta | H1: Equity (Levered) Beta | I1: Cost of equity | J1: Std deviation in stock prices | K1: Pre-tax cost of debt | L1: Market Debt/Capital | M1: Cost of capital | N1: Sales/Capital | O1: EV/Sales | P1: EV/EBITDA | Q1: EV/EBIT | R1: Price/Book | S1: Trailing PE | T1: Non-cash WC as % of Revenues | U1: Cap Ex as % of Revenues | V1: Net Cap Ex as % of Revenues | W1: Reinvestment Rate | X1: ROE | Y1: Dividend Payout Ratio | Z1: Equity Reinvestment Rate | AA1: Pre-tax Operating Margin (Lease & R&D adjusted)
A2: Advertising | B2: 57 | C2: 0.115684 | D2: 0.096130213 | E2: 0.31515111 | F2: 0.20554353 | G2: 1.1806104 | H2: 1.3723256 | I2: 0.10192698 | J2: 0.56414425 | K2: 0.053524 | L2: 0.25241808 | M2: 0.086331585 | N2: 3.283403 | O2: 2.2595129 | P2: 12.940313 | Q2: 22.238594 | R2: 5.7632981 | S2: 175.7347 | T2: 0.012534141 | U2: 0.018346747 | V2: -0.016886086 | W2: -0.00993406 | X2: 0.032541006 | Y2: 2.8284446 | Z2: 2.8284446 | AA2: 0.10140072
A3: Aerospace/Defense | B3: 70 | C3: 0.075882564 | D3: 0.085393847 | E3: 0.16167718 | F3: 0.15449878 | G3: 0.93085354 | H3: 1.076405 | I3: 0.088314631 | J3: 0.3640215 | K3: 0.050855 | L3: 0.20291778 | M3: 0.07813356 | N3: 1.9843396 | O3: 2.4783142 | P3: 18.488712 | Q3: 28.310279 | R3: 5.0771569 | S3: 32.517251 | T3: 0.45042764 | U3: 0.028342847 | V3: 0.022829232 | W3: 0.39247743 | X3: 0.13191484 | Y3: 0.53694697 | Z3: 0.53694697 | AA3: 0.087701154
A4: Air Transport | B4: 25 | C4: 0.029028333 | D4: 0.068956115 | E4: 0.10923252 | F4: 0.23528768 | G4: 0.64018805 | H4: 1.2668402 | I4: 0.097074648 | J4: 0.44650999 | K4: 0.050855 | L4: 0.61854039 | M4: 0.060621961 | N4: 1.77732 | O4: 0.9057918 | P4: 6.1674965 | Q4: 13.024538 | R4: 2.235942 | S4: 12.658954 | T4: 0.010944385 | U4: 0.11159926 | V4: 0.067202755 | W4: 1.1858967 | X4: 0.21936354 | Y4: 0.078632719 | Z4: 0.078632719 | AA4: 0.067227109
A5: Apparel | B5: 38 | C5: 0.057186 | D5: 0.087577812 | E5: 0.15293488 | F5: 0.32165919 | G5: 0.92957565 | H5: 1.1946999 | I5: 0.093756194 | J5: 0.3703551 | K5: 0.050855 | L5: 0.3277875 | M5: 0.075526311 | N5: 1.7730762 | O5: 1.2013804 | P5: 7.9181162 | Q5: 12.388401 | R5: 2.5581526 | S5: 18.688545 | T5: 0.24650262 | U5: 0.02417273 | V5: 0.0053650839 | W5: -0.072858763 | X5: 0.092041716 | Y5: 0.74982998 | Z5: 0.74982998 | AA5: 0.096042065
A6: Auto & Truck | B6: 34 | C6: 0.21942111 | D6: 0.04819732 | E6: 0.051866325 | F6: 0.13206978 | G6: 1.3040309 | H6: 1.5223779 | I6: 0.10882938 | J6: 0.59698514 | K6: 0.053524 | L6: 0.23675434 | M6: 0.092567584 | N6: 1.0487317 | O6: 2.4924482 | P6: 21.649291 | Q6: 49.578166 | R6: 4.5988812 | S6: 21.120153 | T6: -0.021993841 | U6: 0.064092755 | V6: 0.026576673 | W6: 0.81471032 | X6: 0.093709081 | Y6: 0.35459225 | Z6: 0.35459225 | AA6: 0.050979542
A7: Auto Parts | B7: 39 | C7: 0.062846957 | D7: 0.053068985 | E7: 0.10156047 | F7: 0.2795041 | G7: 1.1211039 | H7: 1.3444266 | I7: 0.10064362 | J7: 0.37071964 | K7: 0.050855 | L7: 0.27766272 | M7: 0.083289044 | N7: 2.004791 | O7: 0.81660916 | P7: 7.055527 | Q7: 14.116436 | R7: 1.9975303 | S7: 39.033425 | T7: 0.15450925 | U7: 0.037078148 | V7: 0.031693604 | W7: 0.95183325 | X7: 0.057236137 | Y7: 0.45365553 | Z7: 0.45365553 | AA7: 0.058520549
A8: Bank (Money Center) | B8: 15 | C8: 0.072753846 | D8: 0 | E8: 0.00017809966 | F8: 0.15860164 | G8: 0.64400512 | H8: 1.0613762 | I8: 0.087623304 | J8: 0.22510527 | K8: 0.045043 | L8: 0.68370661 | M8: 0.05081182 | N8: 0.266457 | O8: 5.2658799 | P8: NA | Q8: NA | R8: 1.0492602 | S8: 8.5473587 | T8: NA | U8: 0.019731137 | V8: 0.012953142 | W8: 55.728776 | X8: 0.14874035 | Y8: 0.2433797 | Z8: 0.2433797 | AA8: 0.00081200893
A9: Banks (Regional) | B9: 625 | C9: 0.092156242 | D9: 3.6415349e-08 | E9: -0.00053374958 | F9: 0.20724129 | G9: 0.33336661 | H9: 0.46115813 | I9: 0.060013274 | J9: 0.18677353 | K9: 0.045043 | L9: 0.50481829 | M9: 0.046771373 | N9: 0.36719246 | O9: 4.4737565 | P9: NA | Q9: NA | R9: 1.0188589 | S9: 35.966292 | T9: NA | U9: 0.02733682 | V9: -0.10087905 | W9: NA | X9: 0.12142592 | Y9: 0.32014618 | Z9: 0.32014618 | AA9: -0.0017660881
A10: Beverage (Alcoholic) | B10: 19 | C10: 0.12062222 | D10: 0.20626606 | E10: 0.16670847 | F10: 0.25595532 | G10: 0.97026335 | H10: 1.1318349 | I10: 0.090864406 | J10: 0.4970414 | K10: 0.050855 | L10: 0.19656022 | M10: 0.080501131 | N10: 0.89682312 | O10: 3.8916687 | P10: 14.84353 | Q10: 18.678841 | R10: 3.0993349 | S10: 35.375901 | T10: 0.17116248 | U10: 0.076631776 | V10: 0.093903058 | W10: 0.90812969 | X10: 0.086990898 | Y10: 0.54634665 | Z10: 0.54634665 | AA10: 0.20751043
A11: Beverage (Soft) | B11: 29 | C11: 0.28579077 | D11: 0.19303403 | E11: 0.3065163 | F11: 0.18728623 | G11: 0.70183335 | H11: 0.76414588 | I11: 0.07395071 | J11: 0.42961071 | K11: 0.050855 | L11: 0.14615788 | M11: 0.068716876 | N11: 1.6931991 | O11: 4.1646256 | P11: 18.067517 | Q11: 21.467254 | R11: 7.4226028 | S11: 33.673065 | T11: -0.071416169 | U11: 0.046538313 | V11: 0.023869928 | W11: 0.25676456 | X11: 0.30557354 | Y11: 0.66389669 | Z11: 0.66389669 | AA11: 0.19397268
A12: Broadcasting | B12: 22 | C12: 0.054847059 | D12: 0.11778498 | E12: 0.12063889 | F12: 0.2627115 | G12: 0.49975667 | H12: 1.0609244 | I12: 0.087602522 | J12: 0.38457134 | K12: 0.050855 | L12: 0.63820799 | M12: 0.056035943 | N12: 1.1159894 | O12: 1.253302 | P12: 7.3098296 | Q12: 10.673058 | R12: 0.80101351 | S12: 7.8167812 | T12: 0.10922957 | U12: 0.025150013 | V12: -0.020612152 | W12: 2.1143669 | X12: -0.021565149 | Y12: 0.002195876 | Z12: 0.002195876 | AA12: 0.11731512
A13: Brokerage & Investment Banking | B13: 27 | C13: 0.12787474 | D13: 0.0077058531 | E13: 0.0013074469 | F13: 0.21046665 | G13: 0.55077822 | H13: 1.1203262 | I13: 0.090335005 | J13: 0.25213732 | K13: 0.050855 | L13: 0.69330766 | M13: 0.054148675 | N13: 0.27949922 | O13: 5.6097535 | P13: NA | Q13: NA | R13: 1.6565413 | S13: 222.18515 | T13: NA | U13: 0.034125848 | V13: 0.016766163 | W13: 56.433656 | X13: 0.10413111 | Y13: 0.43525111 | Z13: 0.43525111 | AA13: 0.0057932474
A14: Building Materials | B14: 44 | C14: 0.064077647 | D14: 0.13549669 | E14: 0.25267057 | F14: 0.24749104 | G14: 1.2090472 | H14: 1.3177985 | I14: 0.099418732 | J14: 0.2871588 | K14: 0.050855 | L14: 0.15361123 | M14: 0.090005823 | N14: 2.2882187 | O14: 2.1109365 | P14: 12.010469 | Q14: 15.394244 | R14: 4.7352003 | S14: 24.847889 | T14: 0.18356211 | U14: 0.032512734 | V14: 0.024513126 | W14: -0.0076166545 | X14: 0.21354651 | Y14: 0.29019406 | Z14: 0.29019406 | AA14: 0.13773259
A15: Business & Consumer Services | B15: 162 | C15: 0.06692427 | D15: 0.11098788 | E15: 0.2745236 | F15: 0.24242513 | G15: 0.92964266 | H15: 1.0221017 | I15: 0.085816679 | J15: 0.41290055 | K15: 0.050855 | L15: 0.15210607 | M15: 0.078564957 | N15: 2.7218927 | O15: 2.6819988 | P15: 16.123378 | Q15: 23.49344 | R15: 5.5355121 | S15: 86.899382 | T15: 0.13484425 | U15: 0.029848449 | V15: 0.016940121 | W15: 0.25446821 | X15: 0.13997547 | Y15: 0.59783008 | Z15: 0.59783008 | AA15: 0.11307359
A16: Cable TV | B16: 10 | C16: 0.16231667 | D16: 0.19465082 | E16: 0.11311872 | F16: 0.25555177 | G16: 0.73562954 | H16: 1.2767983 | I16: 0.097532723 | J16: 0.33005304 | K16: 0.050855 | L16: 0.50426003 | M16: 0.067583977 | N16: 0.77672237 | O16: 2.5465854 | P16: 7.8008724 | Q16: 13.348956 | R16: 2.0630945 | S16: 16.12066 | T16: -0.00097741192 | U16: 0.14079354 | V16: 0.016512641 | W16: 0.15767367 | X16: 0.19466771 | Y16: 0.21927067 | Z16: 0.21927067 | AA16: 0.19087795
A17: Chemical (Basic) | B17: 32 | C17: 0.113161 | D17: 0.078809382 | E17: 0.11808932 | F17: 0.23971308 | G17: 0.87469078 | H17: 1.0962671 | I17: 0.089228286 | J17: 0.38924524 | K17: 0.050855 | L17: 0.31354658 | M17: 0.07321012 | N17: 1.6175128 | O17: 1.1499986 | P17: 8.0995323 | Q17: 14.056068 | R17: 1.9757813 | S17: 12.407994 | T17: 0.14739172 | U17: 0.055075324 | V17: 0.030793498 | W17: 0.173667 | X17: 0.088946042 | Y17: 1.3126657 | Z17: 1.3126657 | AA17: 0.080172536
A18: Chemical (Diversified) | B18: 4 | C18: -0.00755 | D18: 0.015232689 | E18: 0.015720853 | F18: 0.44293366 | G18: 0.81346086 | H18: 1.1332797 | I18: 0.090930868 | J18: 0.37242278 | K18: 0.050855 | L18: 0.41012862 | M18: 0.069280335 | N18: 1.2786447 | O18: 1.1597139 | P18: 15.396064 | Q18: 73.615159 | R18: 1.9746043 | S18: 30.52773 | T18: 0.17621389 | U18: 0.04511777 | V18: -0.0057903354 | W18: -5.5565142 | X18: -0.023605004 | Y18: 0.01037037 | Z18: 0.01037037 | AA18: 0.014639497
A19: Chemical (Specialty) | B19: 68 | C19: 0.07331875 | D19: 0.13090391 | E19: 0.13505276 | F19: 0.182667 | G19: 0.93813574 | H19: 1.0873833 | I19: 0.088819631 | J19: 0.36600539 | K19: 0.050855 | L19: 0.21148852 | M19: 0.078101735 | N19: 1.1573241 | O19: 2.6791416 | P19: 12.849678 | Q19: 19.995555 | R19: 2.6727607 | S19: 60.901134 | T19: 0.22747766 | U19: 0.084587825 | V19: 0.098115173 | W19: 1.0348497 | X19: 0.14943273 | Y19: 0.33249927 | Z19: 0.33249927 | AA19: 0.13047366
A20: Coal & Related Energy | B20: 18 | C20: 0.0556 | D20: 0.20509759 | E20: 0.29497551 | F20: 0.13126064 | G20: 1.242725 | H20: 1.2707581 | I20: 0.097254872 | J20: 0.5569226 | K20: 0.053524 | L20: 0.18396816 | M20: 0.086748106 | N20: 1.4739521 | O20: 1.3292639 | P20: 2.7528991 | Q20: 4.0368282 | R20: 1.790144 | S20: 91.912423 | T20: 0.061300783 | U20: 0.09304612 | V20: 0.01594012 | W20: 0.13283665 | X20: 0.29069216 | Y20: 0.15155666 | Z20: 0.15155666 | AA20: 0.20552884
A21: Computer Services | B21: 72 | C21: 0.10926474 | D21: 0.069781751 | E21: 0.24167411 | F21: 0.18859681 | G21: 0.85869751 | H21: 0.99732354 | I21: 0.084676883 | J21: 0.49612773 | K21: 0.050855 | L21: 0.22566036 | M21: 0.074175635 | N21: 3.5867521 | O21: 1.3742207 | P21: 12.610911 | Q21: 18.862943 | R21: 4.374578 | S21: 76.1322 | T21: 0.13853122 | U21: 0.01232575 | V21: 0.008234391 | W21: 0.23795589 | X21: 0.18772571 | Y21: 0.57072644 | Z21: 0.57072644 | AA21: 0.073034387
A22: Computers/Peripherals | B22: 36 | C22: 0.023118148 | D22: 0.210639 | E22: 0.37798197 | F22: 0.14611861 | G22: 1.1003544 | H22: 1.1329224 | I22: 0.090914429 | J22: 0.38898165 | K22: 0.050855 | L22: 0.057417447 | M22: 0.087884328 | N22: 1.9227871 | O22: 5.5117306 | P22: 21.831632 | Q22: 25.971419 | R22: 30.98288 | S22: 31.833391 | T22: -0.098693445 | U22: 0.03059766 | V22: 0.0090047013 | W22: 0.092441187 | X22: -1.234289e-05 | Y22: 0.17443899 | Z22: 0.17443899 | AA22: 0.21483117
A23: Construction Supplies | B23: 11 | C23: 0.093214286 | D23: 0.19042806 | E23: 0.16917185 | F23: 0.20587655 | G23: 0.85045702 | H23: 0.93781622 | I23: 0.081939546 | J23: 0.30297084 | K23: 0.050855 | L23: 0.13984163 | M23: 0.075814721 | N23: 1.0504345 | O23: 4.0960652 | P23: 14.937132 | Q23: 21.86743 | R23: 3.7678129 | S23: 63.097849 | T23: 0.22904316 | U23: 0.094668418 | V23: 0.034544526 | W23: 0.39648111 | X23: 0.17203971 | Y23: 0.1519331 | Z23: 0.1519331 | AA23: 0.18714102
A24: Diversified | B24: 23 | C24: 0.069406364 | D24: 0.22931749 | E24: 0.20395198 | F24: 0.17651836 | G24: 1.0923486 | H24: 1.1948544 | I24: 0.093763304 | J24: 0.52250503 | K24: 0.053524 | L24: 0.16074208 | M24: 0.085144265 | N24: 0.93313862 | O24: 2.4285334 | P24: 8.9346372 | Q24: 10.510497 | R24: 1.8732586 | S24: 13.800009 | T24: 0.050020771 | U24: 0.044830249 | V24: 0.04610103 | W24: 0.25080421 | X24: 0.15867711 | Y24: 0.081605407 | Z24: 0.081605407 | AA24: 0.23068357
A25: Drugs (Biotechnology) | B25: 572 | C25: 0.18950851 | D25: 0.010772126 | E25: 0.015551579 | F25: 0.16414119 | G25: 1.0890965 | H25: 1.1233547 | I25: 0.090474318 | J25: 0.61980948 | K25: 0.053524 | L25: 0.14082268 | M25: 0.083386527 | N25: 0.40681193 | O25: 6.888047 | P25: 13.519817 | Q25: NA | R25: 6.1352917 | S25: 30.391605 | T25: 0.099810417 | U25: 0.038231005 | V25: 0.03468872 | W25: NA | X25: -0.1159004 | Y25: 0.00088496674 | Z25: 0.00088496674 | AA25: 0.038302994
A26: Drugs (Pharmaceutical) | B26: 245 | C26: 0.41537667 | D26: 0.18160472 | E26: 0.13375271 | F26: 0.14924679 | G26: 0.94399769 | H26: 1.026962 | I26: 0.08604025 | J26: 0.65303414 | K26: 0.060879 | L26: 0.13828828 | M26: 0.080456031 | N26: 0.64296182 | O26: 5.0792398 | P26: 16.617974 | Q26: 27.42848 | R26: 5.1951083 | S26: 57.625877 | T26: 0.22369121 | U26: 0.053053464 | V26: 0.12973516 | W26: 0.85392632 | X26: 0.17320808 | Y26: 0.69958362 | Z26: 0.69958362 | AA26: 0.21327301
A27: Education | B27: 31 | C27: 0.041181875 | D27: 0.058152138 | E27: 0.059280308 | F27: 0.32156187 | G27: 1.1467394 | H27: 1.2251856 | I27: 0.095158535 | J27: 0.43781301 | K27: 0.050855 | L27: 0.1638311 | M27: 0.085817331 | N27: 1.2894169 | O27: 2.3038717 | P27: 10.798855 | Q27: 31.741208 | R27: 2.7160288 | S27: 34.57347 | T27: 0.090768336 | U27: 0.029240502 | V27: 0.0033245289 | W27: 0.9750398 | X27: 0.016746881 | Y27: 0.38078808 | Z27: 0.38078808 | AA27: 0.05162999
A28: Electrical Equipment | B28: 103 | C28: 0.1490783 | D28: 0.090010628 | E28: 0.13265964 | F28: 0.21670554 | G28: 1.1458435 | H28: 1.2410544 | I28: 0.095888501 | J28: 0.54423899 | K28: 0.053524 | L28: 0.17619595 | M28: 0.086066369 | N28: 1.4659763 | O28: 2.975718 | P28: 14.654555 | Q28: 28.892016 | R28: 2.923649 | S28: 24.688706 | T28: 0.28273149 | U28: 0.06163253 | V28: 0.098179239 | W28: 2.1463998 | X28: 0.23703236 | Y28: 0.17177866 | Z28: 0.17177866 | AA28: 0.095714676
A29: Electronics (Consumer & Office) | B29: 13 | C29: -0.06321 | D29: -0.00076434016 | E29: 0.0095426355 | F29: 0.69442344 | G29: 1.3029636 | H29: 1.2951788 | I29: 0.098378224 | J29: 0.39424155 | K29: 0.050855 | L29: 0.15486982 | M29: 0.089049334 | N29: 1.6732154 | O29: 0.84607344 | P29: 19.143942 | Q29: NA | R29: 1.903149 | S29: 38.632883 | T29: 0.15533543 | U29: 0.015568093 | V29: -0.0022079528 | W29: NA | X29: -0.066268001 | Y29: 0 | Z29: 0 | AA29: 0.0056724355
A30: Electronics (General) | B30: 129 | C30: 0.15823965 | D30: 0.094816606 | E30: 0.15114384 | F30: 0.22613288 | G30: 0.87720517 | H30: 0.9339546 | I30: 0.081761912 | J30: 0.42942644 | K30: 0.050855 | L30: 0.14673841 | M30: 0.075361085 | N30: 1.6768879 | O30: 2.1770119 | P30: 13.5896 | Q30: 22.109356 | R30: 3.2790177 | S30: 102.26028 | T30: 0.24013987 | U30: 0.040634673 | V30: 0.04116814 | W30: 0.70431641 | X30: 0.087976601 | Y30: 0.28526884 | Z30: 0.28526884 | AA30: 0.097970185
A31: Engineering/Construction | B31: 77 | C31: 0.065536667 | D31: 0.10360185 | E31: 0.18528356 | F31: 0.23687332 | G31: 0.92403959 | H31: 1.0580761 | I31: 0.087471502 | J31: 0.36589094 | K31: 0.050855 | L31: 0.21102554 | M31: 0.077061559 | N31: 2.0378501 | O31: 1.5719288 | P31: 11.036891 | Q31: 14.820564 | R31: 3.7460429 | S31: 36.142453 | T31: 0.18944889 | U31: 0.037420769 | V31: 0.028433402 | W31: 0.66623551 | X31: 0.21241763 | Y31: 0.2474936 | Z31: 0.2474936 | AA31: 0.10638181
A32: Entertainment | B32: 98 | C32: 0.15469138 | D32: 0.070067936 | E32: 0.075578912 | F32: 0.1999716 | G32: 0.86571919 | H32: 0.99455943 | I32: 0.084549734 | J32: 0.6118583 | K32: 0.053524 | L32: 0.22327359 | M32: 0.074634883 | N32: 1.1059341 | O32: 3.0674273 | P32: 16.372327 | Q32: 42.533399 | R32: 2.5929692 | S32: 31.168325 | T32: 0.038054347 | U32: 0.043745016 | V32: -0.022575917 | W32: -0.20650613 | X32: -0.0027275544 | Y32: 0.0034346523 | Z32: 0.0034346523 | AA32: 0.070525654
A33: Environmental & Waste Services | B33: 57 | C33: 0.13381231 | D33: 0.13553472 | E33: 0.29942484 | F33: 0.24029481 | G33: 0.7857302 | H33: 0.90699903 | I33: 0.080521956 | J33: 0.46066419 | K33: 0.050855 | L33: 0.17996903 | M33: 0.072894741 | N33: 2.2902045 | O33: 3.3833884 | P33: 15.000346 | Q33: 24.256339 | R33: 6.2476402 | S33: 31.275191 | T33: 0.10180592 | U33: 0.078381742 | V33: 0.064845914 | W33: 0.70099824 | X33: 0.21011635 | Y33: 0.36342219 | Z33: 0.36342219 | AA33: 0.13822317
A34: Farming/Agriculture | B34: 42 | C34: 0.2138381 | D34: 0.10178672 | E34: 0.17930588 | F34: 0.20906219 | G34: 0.76921334 | H34: 0.99162451 | I34: 0.084414727 | J34: 0.54139722 | K34: 0.053524 | L34: 0.31178335 | M34: 0.07061154 | N34: 1.8306605 | O34: 1.1055364 | P34: 8.9728446 | Q34: 10.56471 | R34: 2.7330368 | S34: 21.611875 | T34: 0.147225 | U34: 0.033959386 | V34: 0.02698979 | W34: 0.53012036 | X34: 0.27512097 | Y34: 0.17330467 | Z34: 0.17330467 | AA34: 0.10487455
A35: Financial Svcs. (Non-bank & Insurance) | B35: 192 | C35: 0.19123908 | D35: 0.15992934 | E35: 0.0096330086 | F35: 0.18997827 | G35: 0.3285147 | H35: 1.1400491 | I35: 0.091242258 | J35: 0.38102135 | K35: 0.050855 | L35: 0.77415085 | M35: 0.050134067 | N35: 0.06711915 | O35: 18.642987 | P35: 57.680539 | Q35: 77.494582 | R35: 3.3808152 | S35: 25.806044 | T35: 12.604429 | U35: 0.028409763 | V35: 0.027841238 | W35: 0.20105977 | X35: 0.21311644 | Y35: 0.31700384 | Z35: 0.31700384 | AA35: 0.16014177
A36: Food Processing | B36: 93 | C36: 0.064526667 | D36: 0.1049105 | E36: 0.16632788 | F36: 0.22335962 | G36: 0.56908998 | H36: 0.70750534 | I36: 0.071345245 | J36: 0.35521017 | K36: 0.050855 | L36: 0.26892857 | M36: 0.062415742 | N36: 1.7135539 | O36: 1.7282134 | P36: 11.437949 | Q36: 16.118698 | R36: 2.3044997 | S36: 30.031722 | T36: 0.077500137 | U36: 0.044694927 | V36: 0.033044851 | W36: 0.464556 | X36: 0.089774903 | Y36: 0.76422138 | Z36: 0.76422138 | AA36: 0.10671026
A37: Food Wholesalers | B37: 14 | C37: 0.18654 | D37: 0.022317778 | E37: 0.14961754 | F37: 0.244019 | G37: 0.73507045 | H37: 0.96571097 | I37: 0.083222705 | J37: 0.27303412 | K37: 0.050855 | L37: 0.30860321 | M37: 0.069310423 | N37: 8.019146 | O37: 0.4004885 | P37: 11.256367 | Q37: 18.051542 | R37: 4.102757 | S37: 26.104224 | T37: 0.057756763 | U37: 0.009305648 | V37: 0.0089900829 | W37: 0.47194526 | X37: 0.21114375 | Y37: 0.38161391 | Z37: 0.38161391 | AA37: 0.022183645
A38: Furn/Home Furnishings | B38: 31 | C38: 0.031330476 | D38: 0.058633421 | E38: 0.10314616 | F38: 0.34491478 | G38: 0.86118749 | H38: 1.1071062 | I38: 0.089726887 | J38: 0.4665248 | K38: 0.050855 | L38: 0.32226062 | M38: 0.073102868 | N38: 1.9608741 | O38: 1.0479459 | P38: 9.3651533 | Q38: 16.699225 | R38: 2.2525462 | S38: 19.580017 | T38: 0.1397377 | U38: 0.032449168 | V38: 0.072155188 | W38: 0.97314551 | X38: -0.065262791 | Y38: 0.0085617108 | Z38: 0.0085617108 | AA38: 0.061113859
A39: Green & Renewable Energy | B39: 17 | C39: 0.03735 | D39: 0.23439692 | E39: 0.041502731 | F39: 0.070572558 | G39: 0.55608602 | H39: 1.1067077 | I39: 0.089708555 | J39: 0.57336205 | K39: 0.053524 | L39: 0.58576062 | M39: 0.060675005 | N39: 0.19933189 | O39: 7.4719646 | P39: 12.631995 | Q39: 33.578775 | R39: 0.85442229 | S39: 39.872418 | T39: -0.27981625 | U39: 0.44316772 | V39: 0.20460876 | W39: 1.1590198 | X39: 0.10675101 | Y39: 0.25595302 | Z39: 0.25595302 | AA39: 0.21775571
A40: Healthcare Products | B40: 230 | C40: 0.179484 | D40: 0.13294968 | E40: 0.13081182 | F40: 0.20580163 | G40: 1.0054181 | H40: 1.0620799 | I40: 0.087655675 | J40: 0.52205535 | K40: 0.053524 | L40: 0.1123973 | M40: 0.082315379 | N40: 0.99169607 | O40: 5.1610657 | P40: 21.511373 | Q40: 36.992221 | R40: 4.629147 | S40: 61.891562 | T40: 0.25574202 | U40: 0.049018238 | V40: 0.020771729 | W40: 0.49512455 | X40: 0.083057979 | Y40: 0.41765479 | Z40: 0.41765479 | AA40: 0.1383574
...

Sheet Country ERP
A1: Mature Market ERP + | B1: 0.043 | C1: Updated May 1, 2024
A2: Changing this number will update all your country equity risk premiums.
A4: Country | B4: Moody's rating | C4: Adj. Default Spread | D4: Equity Risk Premium | E4: Country Risk Premium | F4: Corporate Tax Rate
A5: Abu Dhabi | B5: Aa2 | C5: 0.0053778763 | D5: =$B$1+E5 -> 0.050219474 | E5: 0.007219474 | F5: 0.15
A6: Albania | B6: B1 | C6: 0.04904111 | D6: =$B$1+E6 -> 0.10883473 | E6: 0.065834727 | F6: 0.15
A7: Algeria | B7: NR | C7: 0.04904111 | D7: =$B$1+E7 -> 0.10883473 | E7: 0.065834727 | F7: 0.26
A8: Andorra (Principality of) | B8: Baa2 | C8: 0.020743237 | D8: =$B$1+E8 -> 0.070846543 | E8: 0.027846543 | F8: 0.1898
A9: Angola | B9: B3 | C9: 0.070808704 | D9: =$B$1+E9 -> 0.13805641 | E9: 0.095056408 | F9: 0.25
A10: Anguilla | B10: NR | C10: 0.1054311 | D10: =$B$1+E10 -> 0.23053488 | E10: 0.18753488 | F10: 0.27245611
A11: Antigua & Barbuda | B11: NR | C11: 0.1054311 | D11: =$B$1+E11 -> 0.23053488 | E11: 0.18753488 | F11: 0.27245611
A12: Argentina | B12: Ca | C12: 0.13073361 | D12: =$B$1+E12 -> 0.21850198 | E12: 0.17550198 | F12: 0.35
A13: Armenia | B13: Ba3 | C13: 0.03918167 | D13: =$B$1+E13 -> 0.095599025 | E13: 0.052599025 | F13: 0.18
A14: Aruba | B14: Baa2 | C14: 0.020743237 | D14: =$B$1+E14 -> 0.070846543 | E14: 0.027846543 | F14: 0.25
A15: Australia | B15: Aaa | C15: 0 | D15: =$B$1+E15 -> 0.043 | E15: 0 | F15: 0.3
A16: Austria | B16: Aa1 | C16: 0.0043535189 | D16: =$B$1+E16 -> 0.048844336 | E16: 0.0058443361 | F16: 0.24
... A71: Greece | B71: Ba1 | C71: 0.027273515 | D71: =$B$1+E71 -> 0.079613047 | E71: 0.036613047 | F71: 0.22
A72: Greenland | B72: NR | C72: =J72 -> 0 | D72: =$B$1+E72 -> 0.043 | E72: =H72 -> 0 | F72: =K72 -> 0
A73: Guatemala | B73: Ba1 | C73: 0.027273515 | D73: =$B$1+E73 -> 0.079613047 | E73: 0.036613047 | F73: 0.25
A74: Guernsey (States of) | B74: A1 | C74: 0.0076826804 | D74: =$B$1+E74 -> 0.053313534 | E74: 0.010313534 | F74: 0
A75: Guinea | B75: NR | C75: 0.09808222 | D75: =$B$1+E75 -> 0.17466945 | E75: 0.13166945 | F75: 0.2915
A76: Guinea-Bissau | B76: NR | C76: 0.059924907 | D76: =$B$1+E76 -> 0.12344557 | E76: 0.080445567 | F76: 0.2915
A77: Guyana | B77: NR | C77: 0.017414076 | D77: =$B$1+E77 -> 0.066377344 | E77: 0.023377344 | F77: 0.1864
A78: Haiti | B78: NR | C78: 0.10896602 | D78: =$B$1+E78 -> 0.18928029 | E78: 0.14628029 | F78: 0.1864
A79: Honduras | B79: B1 | C79: 0.04904111 | D79: =$B$1+E79 -> 0.10883473 | E79: 0.065834727 | F79: 0.25
A80: Hong Kong | B80: Aa3 | C80: 0.0065302783 | D80: =$B$1+E80 -> 0.051766504 | E80: 0.0087665041 | F80: 0.165
A81: Hungary | B81: Baa2 | C81: 0.020743237 | D81: =$B$1+E81 -> 0.070846543 | E81: 0.027846543 | F81: 0.09
A82: Iceland | B82: A2 | C82: 0.0092192165 | D82: =$B$1+E82 -> 0.055376241 | E82: 0.012376241 | F82: 0.2
A83: India | B83: Baa3 | C83: 0.023944354 | D83: =$B$1+E83 -> 0.075143849 | E83: 0.032143849 | F83: 0.3
A84: Indonesia | B84: Baa2 | C84: 0.020743237 | D84: =$B$1+E84 -> 0.070846543 | E84: 0.027846543 | F84: 0.22
... A116: Malta | B116: A2 | C116: 0.0092192165 | D116: =$B$1+E116 -> 0.055376241 | E116: 0.012376241 | F116: 0.35
A117: Martinique | B117: NR | C117: =J117 -> 0 | D117: =$B$1+E117 -> 0.043 | E117: =H117 -> 0 | F117: =K117 -> 0
A118: Mauritius | B118: Baa3 | C118: 0.023944354 | D118: =$B$1+E118 -> 0.075143849 | E118: 0.032143849 | F118: 0.15
A119: Mexico | B119: Baa2 | C119: 0.020743237 | D119: =$B$1+E119 -> 0.070846543 | E119: 0.027846543 | F119: 0.3
A120: Monaco | B120: NR | C120: 0.0095882201 | D120: =$B$1+E120 -> 0.10187161 | E120: 0.058871606 | F120: 0.2470735
A121: Moldova | B121: B3 | C121: 0.070808704 | D121: =$B$1+E121 -> 0.13805641 | E121: 0.095056408 | F121: 0.12
A122: Mongolia | B122: B3 | C122: 0.070808704 | D122: =$B$1+E122 -> 0.13805641 | E122: 0.095056408 | F122: 0.25
A123: Montenegro | B123: B1 | C123: 0.04904111 | D123: =$B$1+E123 -> 0.10883473 | E123: 0.065834727 | F123: 0.15
A124: Montserrat | B124: Baa3 | C124: 0.023944354 | D124: =$B$1+E124 -> 0.075143849 | E124: 0.032143849 | F124: 0.2853
A125: Morocco | B125: Ba1 | C125: 0.027273515 | D125: =$B$1+E125 -> 0.079613047 | E125: 0.036613047 | F125: 0.32
A126: Mozambique | B126: Caa2 | C126: 0.09808222 | D126: =$B$1+E126 -> 0.17466945 | E126: 0.13166945 | F126: 0.32
...

Sheet Input Choices
A1: Yes or No
A2: Yes | B2: 1
A3: No | B3: 2
B4: 3
B5: 4
B6: 5
B7: 6
B8: 7
B9: 8
B10: 9
B11: 10
B12: 11
B13: 12
B14: 13
B15: 14
B16: 15
