Workbook

Sheet Inputs
A1: Input cell | B1: Computed Value
A2: Operating Information | E2: Notes/Comments | F2: Tech/Dev Cost Growth
A3: All dollar values in millions | B3: Most Recent | C3: Prior year | F3: A1. Grow at same rate as total users | G3: =(Valuation!L21/Valuation!B21)^(1/10)-1 -> 0.12472219
A4: Number of Subscribers | B4: 117.6 | C4: 93.8 | E4: Number of users , with growth over last year | F4: A2. Grow at inflation rate | G4: =B31 -> 0.02
A5: Annual Subscription Revenue/ Subscriber | B5: =9.43*12 -> 113.16 | C5: =8.61*12 -> 103.32 | E5: Subscription Revenues/ # Users | F5: A3. Grow at risk free rate | G5: =B30 -> 0.0275
A6: Customer Servicing Cost as % of revenues | B6: 0.0739 | E6: Content cost as % of subscription revenues (starting year) | F6: A4. Direct Input | G6: 0.05
A7: Effective tax rate (current) | B7: 0.25 | C7: 0 | E7: Effective tax rate in most recent year | F7: Content Cost Growth
A8: Effective tax rate (steady state) | B8: 0.25 | E8: Effective tax rate in steady state | F8: A1. Grow at same rate as total users | G8: =(Valuation!L21/Valuation!B21)^(1/10)-1 -> 0.12472219
A9: Allocated Costs | F9: A2. Grow at inflation rate | G9: =B31 -> 0.02
A10: Technology & Development Cost | B10: 1053 | E10: Technology and Development Cost | F10: A3. Grow at risk free rate | G10: =B30 -> 0.0275
A11: Content Costs | B11: 7660 | E11: Content costs in income statement | F11: A4. Direct Input | G11: 0.03
A12: Percentage of Content Costs directly attributed to subscribers | B12: 0.2
A13: Existing User Data | F13: Cost of Capital (in euros)
A14: Lifetime of a Netflix Subscriber (in years) | B14: 15 | E14: Typical subscriber life with company | F14: B1. Lowest decile of Global companies (7%) | G14: 0.07
A15: Annual Renewal Probability | B15: 0.925 | E15: Annual Renewal probability (assumed to be constant over time) | F15: b2. 25th percentile of Global companies (7.5%) | G15: 0.075
A16: Growth rate in Subscription Charge | B16: 0.05 | E16: Growth Rate in Subscription Charge/Subscriber | F16: B3. Median of Global companies (8.5%) | G16: 0.085
A17: Growth rate in Service Cost/Subscriber | B17: 0.02 | E17: Growth rate in Content Cost/Subscriber | F17: B4. 75th percentile of Global companies (10%) | G17: 0.1
A18: New User Information | F18: B5. Ninth decile of Global companies (12%) | G18: 0.12
A19: Total cost of acquiring new users in most recent year | B19: =1278+(9805-B11) -> 3423 | E19: Selling and Marketing Cost + Capitalized Content Costs | F19: B6. Direct input | G19: 0.0795
A20: Growth rate in # Members (Years 1-5) | B20: 0.15 | E20: Growth Rate in # Subscribers - Years 1-5
A21: Growth rate in # Members (Years 6-10) | B21: 0.1 | E21: Growth Rate in # Subscribers - Years 6-10
A22: Growth rate in # Members after year 10 | B22: 0.01 | E22: Growth Rate in # Subscribers after year 10
A23: G&A Data
A24: Growth rate approach for technology & development costs | B24: A4. Direct Input | E24: Growth Rate option for total other costs
A25: Growth rate in tech development costs for next 10 years | B25: =VLOOKUP(B24,F3:G6,2) -> 0.05 | E25: DO NOT INPUT
A26: Growth rate approach for non-subscriber related Content | B26: A4. Direct Input
A27: Growth rate in content costs for next 10 years | B27: =VLOOKUP(B26,F8:G11,2) -> 0.03 | E27: Total Revenues from Advertising (most recent year)
E28: Growth rate in advertising revenues - Years 1-5
A29: Macroeconomic Data | E29: Growth rate in advertising revenues - Years 6-10
A30: Risk free Rate | B30: 0.0275
A31: Inflation Rate | B31: 0.02 | E31: Risk free Rate
A32: Cost of capital for existing users (input choice) | B32: B6. Direct input | E32: Inflation Rate
A33: Cost of capital (existing users) | B33: =VLOOKUP(B32,F14:G19,2) -> 0.0795 | E33: Cost of capital option (for existing subscribers)
A34: Cost of capital for new users (input choice) | B34: B6. Direct input | E34: DO NOT INPUT
A35: Cost of capital (new users) | B35: =VLOOKUP(B34,F14:G19,2) -> 0.0795 | C35: Do not input | E35: Cost of capital option (for new subscribers
A36: Other Company Data | E36: DO NOT INPUT
A37: Cash & Marketable Securities | B37: 2823
A38: Cross Holdings in Other Companies | B38: 0 | E38: Cash and Marketable Securities
A39: Debt Outstanding | B39: 6500 | E39: Minority Cross Holdings
A40: Equity Options oustanding (value) | B40: 4978 | E40: Total Debt Outstanding
...

Sheet Valuation
A1: Value of Existing Subscribers
B2: Base Year | C2: 1 | D2: 2 | E2: 3 | F2: 4 | G2: 5 | H2: 6 | I2: 7 | J2: 8 | K2: 9 | L2: 10 | M2: =L2+1 -> 11 | N2: =M2+1 -> 12 | O2: =N2+1 -> 13 | P2: =O2+1 -> 14 | Q2: =P2+1 -> 15 | R2: =Q2+1 -> 16 | S2: =R2+1 -> 17 | T2: =S2+1 -> 18 | ... V2: =U2+1 -> 20
A3: Life Indicator | C3: =IF(C2>Inputs!$B$14,0,1) -> 1 | D3: =IF(D2>Inputs!$B$14,0,1) -> 1 | E3: =IF(E2>Inputs!$B$14,0,1) -> 1 | F3: =IF(F2>Inputs!$B$14,0,1) -> 1 | G3: =IF(G2>Inputs!$B$14,0,1) -> 1 | H3: =IF(H2>Inputs!$B$14,0,1) -> 1 | I3: =IF(I2>Inputs!$B$14,0,1) -> 1 | J3: =IF(J2>Inputs!$B$14,0,1) -> 1 | ... V3: =IF(V2>Inputs!$B$14,0,1) -> 0
A4: Membership Survival | B4: =1 -> 1 | C4: =B4*Inputs!$B$15 -> 0.925 | D4: =C4*Inputs!$B$15 -> 0.855625 | E4: =D4*Inputs!$B$15 -> 0.79145313 | F4: =E4*Inputs!$B$15 -> 0.73209414 | G4: =F4*Inputs!$B$15 -> 0.67718708 | H4: =G4*Inputs!$B$15 -> 0.62639805 | I4: =H4*Inputs!$B$15 -> 0.5794182 | J4: =I4*Inputs!$B$15 -> 0.53596183 | ... V4: =U4*Inputs!$B$15 -> 0.21029776
A5: Revenue/Subscriber | B5: =Inputs!B5 -> 113.16 | C5: =B5*(1+Inputs!$B$16) -> 118.818 | D5: =C5*(1+Inputs!$B$16) -> 124.7589 | E5: =D5*(1+Inputs!$B$16) -> 130.99685 | F5: =E5*(1+Inputs!$B$16) -> 137.54669 | G5: =F5*(1+Inputs!$B$16) -> 144.42402 | H5: =G5*(1+Inputs!$B$16) -> 151.64522 | I5: =H5*(1+Inputs!$B$16) -> 159.22748 | J5: =I5*(1+Inputs!$B$16) -> 167.18886 | ... V5: =U5*(1+Inputs!$B$16) -> 300.24717
A6: Cost/ Subscriber | B6: =Inputs!B6*B5+(Inputs!B12*Inputs!B11)/Inputs!B4 -> 21.389735 | C6: =B6*(1+Inputs!$B$17) -> 21.81753 | D6: =C6*(1+Inputs!$B$17) -> 22.25388 | E6: =D6*(1+Inputs!$B$17) -> 22.698958 | F6: =E6*(1+Inputs!$B$17) -> 23.152937 | G6: =F6*(1+Inputs!$B$17) -> 23.615996 | H6: =G6*(1+Inputs!$B$31) -> 24.088316 | I6: =H6*(1+Inputs!$B$31) -> 24.570082 | J6: =I6*(1+Inputs!$B$31) -> 25.061484 | K6: =J6*(1+Inputs!$B$31) -> 25.562713 | L6: =K6*(1+Inputs!$B$31) -> 26.073967 | M6: =L6*(1+Inputs!$B$31) -> 26.595447 | N6: =M6*(1+Inputs!$B$31) -> 27.127356 | O6: =N6*(1+Inputs!$B$31) -> 27.669903 | ... V6: =U6*(1+Inputs!$B$31) -> 31.784021
A7: Operating Profit/Loss per Subscriber | B7: =B5-B6 -> 91.770265 | C7: =C5-C6 -> 97.00047 | D7: =D5-D6 -> 102.50502 | E7: =E5-E6 -> 108.29789 | F7: =F5-F6 -> 114.39375 | G7: =G5-G6 -> 120.80803 | H7: =H5-H6 -> 127.55691 | I7: =I5-I6 -> 134.6574 | ... V7: =V5-V6 -> 268.46315
A8: Tax rate | B8: =Inputs!B7 -> 0.25 | C8: =B8+($L$8-$B$8)/10 -> 0.25 | D8: =C8+($L$8-$B$8)/10 -> 0.25 | E8: =D8+($L$8-$B$8)/10 -> 0.25 | F8: =E8+($L$8-$B$8)/10 -> 0.25 | G8: =F8+($L$8-$B$8)/10 -> 0.25 | H8: =G8+($L$8-$B$8)/10 -> 0.25 | I8: =H8+($L$8-$B$8)/10 -> 0.25 | J8: =I8+($L$8-$B$8)/10 -> 0.25 | K8: =J8+($L$8-$B$8)/10 -> 0.25 | L8: =Inputs!B8 -> 0.25 | M8: =L8 -> 0.25 | N8: =M8 -> 0.25 | O8: =N8 -> 0.25 | P8: =O8 -> 0.25 | Q8: =P8 -> 0.25 | R8: =Q8 -> 0.25 | S8: =R8 -> 0.25 | T8: =S8 -> 0.25 | ... V8: =U8 -> 0.25
A9: After-tax Operating Income | B9: =B7*(1-B8) -> 68.827699 | C9: =C3*C4*C7*(1-C8) -> 67.294076 | D9: =D3*D4*D7*(1-D8) -> 65.779393 | E9: =E3*E4*E7*(1-E8) -> 64.284526 | F9: =F3*F4*F7*(1-F8) -> 62.810246 | G9: =G3*G4*G7*(1-G8) -> 61.357226 | H9: =H3*H4*H7*(1-H8) -> 59.926048 | I9: =I3*I4*I7*(1-I8) -> 58.517212 | J9: =J3*J4*J7*(1-J8) -> 57.131136 | ... V9: =V3*V4*V7*(1-V8) -> 0
A10: Present Value (at Cost of Capital) | C10: =C9/(1+Inputs!$B$33)^Valuation!C2 -> 62.33819 | D10: =D9/(1+Inputs!$B$33)^Valuation!D2 -> 56.447481 | E10: =E9/(1+Inputs!$B$33)^Valuation!E2 -> 51.102072 | F10: =F9/(1+Inputs!$B$33)^Valuation!F2 -> 46.253 | G10: =G9/(1+Inputs!$B$33)^Valuation!G2 -> 41.855495 | H10: =H9/(1+Inputs!$B$33)^Valuation!H2 -> 37.868645 | I10: =I9/(1+Inputs!$B$33)^Valuation!I2 -> 34.255089 | J10: =J9/(1+Inputs!$B$33)^Valuation!J2 -> 30.980733 | ... V10: =V9/(1+Inputs!$B$33)^Valuation!V2 -> 0
A11: Life of subscriber = | B11: =Inputs!B14 -> 15
A12: Value per Subscriber = | B12: =SUM(C10:V10) -> 508.89339
A13: Number of Subscribers = | B13: =Inputs!B4 -> 117.6
A14: Value of Existing Subscribers = | B14: =B13*B12 -> 59845.862
A16: Value of New Subscribers
A17: Cost of Acquiring a New Subscriber | B17: =Inputs!B19/(Inputs!B4-Inputs!C4*Inputs!B15) -> 111.01022
A18: Value per new user (in today's $) = | B18: =B12-B17 -> 397.88317
B20: Base Year | C20: 1 | D20: 2 | E20: 3 | F20: 4 | G20: 5 | H20: 6 | I20: 7 | J20: 8 | K20: 9 | L20: 10
A21: Total Subscribers | B21: =Inputs!B4 -> 117.6 | C21: =B21*Inputs!$B$15+C22 -> 135.24 | D21: =C21*Inputs!$B$15+D22 -> 155.526 | E21: =D21*Inputs!$B$15+E22 -> 178.8549 | F21: =E21*Inputs!$B$15+F22 -> 205.68313 | G21: =F21*Inputs!$B$15+G22 -> 236.53561 | H21: =G21*Inputs!$B$15+H22 -> 260.18917 | I21: =H21*Inputs!$B$15+I22 -> 286.20808 | J21: =I21*Inputs!$B$15+J22 -> 314.82889 | ... L21: =K21*Inputs!$B$15+L22 -> 380.94296
A22: New Subscribers | B22: 0 | C22: =(B21)*(1+Inputs!$B$20)-(B21)+B21*(1-Inputs!$B$15) -> 26.46 | D22: =(C21)*(1+Inputs!$B$20)-(C21)+C21*(1-Inputs!$B$15) -> 30.429 | E22: =(D21)*(1+Inputs!$B$20)-(D21)+D21*(1-Inputs!$B$15) -> 34.99335 | F22: =(E21)*(1+Inputs!$B$20)-(E21)+E21*(1-Inputs!$B$15) -> 40.242352 | G22: =(F21)*(1+Inputs!$B$20)-(F21)+F21*(1-Inputs!$B$15) -> 46.278705 | H22: =(G21)*(1+Inputs!$B$21)-(G21)+G21*(1-Inputs!$B$15) -> 41.393731 | I22: =(H21)*(1+Inputs!$B$21)-(H21)+H21*(1-Inputs!$B$15) -> 45.533104 | J22: =(I21)*(1+Inputs!$B$21)-(I21)+I21*(1-Inputs!$B$15) -> 50.086414 | K22: =(J21)*(1+Inputs!$B$21)-(J21)+J21*(1-Inputs!$B$15) -> 55.095056 | L22: =(K21)*(1+Inputs!$B$21)-(K21)+K21*(1-Inputs!$B$15) -> 60.604561
A23: Value per Subscriber | B23: =B18 -> 397.88317 | C23: =B23*(1+Inputs!$B$31) -> 405.84083 | D23: =C23*(1+Inputs!$B$31) -> 413.95765 | E23: =D23*(1+Inputs!$B$31) -> 422.2368 | F23: =E23*(1+Inputs!$B$31) -> 430.68154 | G23: =F23*(1+Inputs!$B$31) -> 439.29517 | H23: =G23*(1+Inputs!$B$31) -> 448.08107 | I23: =H23*(1+Inputs!$B$31) -> 457.0427 | J23: =I23*(1+Inputs!$B$31) -> 466.18355 | ... L23: =K23*(1+Inputs!$B$31) -> 485.01736
A24: Value added by new Subscribers | C24: =C22*C23 -> 10738.548 | D24: =D22*D23 -> 12596.317 | E24: =E22*E23 -> 14775.48 | F24: =F22*F23 -> 17331.638 | G24: =G22*G23 -> 20330.012 | H24: =H22*H23 -> 18547.747 | I24: =I22*I23 -> 20810.573 | J24: =J22*J23 -> 23349.462 | ... L24: =L22*L23 -> 29394.265
A25: Terminal Value (New Subscribers) | L25: =(L21*Inputs!B22*Valuation!L23*(1+Inputs!B31))/(Inputs!B35-Inputs!B31) -> 31673.82
A26: Present Value | C26: =C24/(1+Inputs!$B$35)^Valuation!C20 -> 9947.7058 | D26: =D24/(1+Inputs!$B$35)^Valuation!D20 -> 10809.318 | E26: =E24/(1+Inputs!$B$35)^Valuation!E20 -> 11745.558 | F26: =F24/(1+Inputs!$B$35)^Valuation!F20 -> 12762.89 | G26: =G24/(1+Inputs!$B$35)^Valuation!G20 -> 13868.337 | H26: =H24/(1+Inputs!$B$35)^Valuation!H20 -> 11720.747 | I26: =I24/(1+Inputs!$B$35)^Valuation!I20 -> 12182.194 | J26: =J24/(1+Inputs!$B$35)^Valuation!J20 -> 12661.808 | K26: =K24/(1+Inputs!$B$35)^Valuation!K20 -> 13160.304 | L26: =(L25+L24)/(1+Inputs!B35)^Valuation!L20 -> 28417.628
A27: Value Added by New Users | B27: =SUM(C26:L26) -> 137276.49
A29: Value Drag of Corporate Expenses (Cost)
B30: =B20 -> Base Year | C30: =C20 -> 1 | D30: =D20 -> 2 | E30: =E20 -> 3 | F30: =F20 -> 4 | G30: =G20 -> 5 | H30: =H20 -> 6 | I30: =I20 -> 7 | ... L30: =L20 -> 10
A31: Technology & Development | B31: =Inputs!B10 -> 1053 | C31: =B31*(1+Inputs!$B$25) -> 1105.65 | D31: =C31*(1+Inputs!$B$25) -> 1160.9325 | E31: =D31*(1+Inputs!$B$25) -> 1218.9791 | F31: =E31*(1+Inputs!$B$25) -> 1279.9281 | G31: =F31*(1+Inputs!$B$25) -> 1343.9245 | H31: =G31*(1+Inputs!$B$25) -> 1411.1207 | I31: =H31*(1+Inputs!$B$25) -> 1481.6767 | J31: =I31*(1+Inputs!$B$25) -> 1555.7606 | ... L31: =K31*(1+Inputs!$B$25) -> 1715.226
A32: Content Costs | B32: =Inputs!B11*(1-Inputs!B12) -> 6128 | C32: =B32*(1+Inputs!$B$27) -> 6311.84 | D32: =C32*(1+Inputs!$B$27) -> 6501.1952 | E32: =D32*(1+Inputs!$B$27) -> 6696.2311 | F32: =E32*(1+Inputs!$B$27) -> 6897.118 | G32: =F32*(1+Inputs!$B$27) -> 7104.0315 | H32: =G32*(1+Inputs!$B$27) -> 7317.1525 | I32: =H32*(1+Inputs!$B$27) -> 7536.667 | J32: =I32*(1+Inputs!$B$27) -> 7762.7671 | ... L32: =K32*(1+Inputs!$B$27) -> 8235.5196
A33: After-tax Corporate Expenses | C33: =(C31+C32)*(1-C8) -> 5563.1175 | D33: =(D31+D32)*(1-D8) -> 5746.5958 | E33: =(E31+E32)*(1-E8) -> 5936.4076 | F33: =(F31+F32)*(1-F8) -> 6132.7846 | G33: =(G31+G32)*(1-G8) -> 6335.967 | H33: =(H31+H32)*(1-H8) -> 6546.2049 | I33: =(I31+I32)*(1-I8) -> 6763.7578 | J33: =(J31+J32)*(1-J8) -> 6988.8957 | ... L33: =(L31+L32)*(1-L8) -> 7463.0592
A34: Terminal Value (Corporate Exp) | L34: =L33*(1+Inputs!B30)/(Inputs!B33-Inputs!B30) -> 147467.18
A35: PV of Corporate Expenses | C35: =C33/(1+Inputs!$B$33)^Valuation!C20 -> 5153.4206 | D35: =D33/(1+Inputs!$B$33)^Valuation!D20 -> 4931.3446 | E35: =E33/(1+Inputs!$B$33)^Valuation!E20 -> 4719.063 | F35: =F33/(1+Inputs!$B$33)^Valuation!F20 -> 4516.1371 | G35: =G33/(1+Inputs!$B$33)^Valuation!G20 -> 4322.1484 | H35: =H33/(1+Inputs!$B$33)^Valuation!H20 -> 4136.697 | I35: =I33/(1+Inputs!$B$33)^Valuation!I20 -> 3959.4013 | J35: =J33/(1+Inputs!$B$33)^Valuation!J20 -> 3789.8968 | K35: =K33/(1+Inputs!$B$33)^Valuation!K20 -> 3627.8355 | L35: =(L33+L34)/(1+Inputs!$B$33)^Valuation!L20 -> 72095.76
A36: Value Drag of Corporate Expenses | B36: =SUM(C35:L35) -> 111251.7
A38: Valuing Netflix
A39: Value of Existing Subscribers | B39: =B21*B12 -> 59845.862
A40: Value of New Subscribers | B40: =SUM(C26:L26) -> 137276.49
A41: - PV of Corporate Expenses | B41: =SUM(C35:L35) -> 111251.7
A42: Value of Operating Assets | B42: =SUM(B39:B40)-B41 -> 85870.649
A43: + Cash & Cross Holdings | B43: =Inputs!B37+Inputs!B38 -> 2823
A44: - Debt | B44: =Inputs!B39 -> 6500
...

Sheet Input choices
A1: Yes or No | B1: Cost of capital
A2: Yes | B2: Lowest decile of US companies (7%)
A3: No | B3: 25th percentile of US companies (7.5%)
B4: Median of US companies (8%)
B5: 75th percentile of US companies (10%)
B6: Ninth decile of US companies (12%)
B7: Direct input
