Workbook

Sheet Regression
A1: SUMMARY OUTPUT
A3: Regression Statistics
A4: Multiple R | B4: 0.6894305
A5: R Square | B5: 0.47531441
A6: Adjusted R Square | B6: 0.45782489
A7: Standard Error | B7: 0.017474671
A8: Observations | B8: 63
A10: ANOVA
B11: df | C11: SS | D11: MS | E11: F | F11: Significance F
A12: Regression | B12: 2 | C12: 0.016597823 | D12: 0.0082989114 | E12: 27.177099 | F12: 3.953431e-09
A13: Residual | B13: 60 | C13: 0.018321848 | D13: 0.00030536414
A14: Total | B14: 62 | C14: 0.034919671
B16: Coefficients | C16: Standard Error | D16: t Stat | E16: P-value | F16: Lower 95% | G16: Upper 95% | H16: Lower 95.0% | I16: Upper 95.0%
A17: Intercept | B17: 0.035925259 | C17: 0.0054982117 | D17: 6.5339898 | E17: 1.5509575e-08 | F17: 0.024927199 | G17: 0.04692332 | H17: 0.024927199 | I17: 0.04692332
A18: T.Bond Rate | B18: 0.55276472 | C18: 0.07592325 | D18: 7.2805725 | E18: 8.3031392e-10 | F18: 0.40089561 | G18: 0.70463384 | H18: 0.40089561 | I18: 0.70463384
A19: Bond-Bill | B19: -0.15338903 | C19: 0.19000401 | D19: -0.80729364 | E19: 0.42268616 | F19: -0.53345364 | G19: 0.22667558 | H19: -0.53345364 | I19: 0.22667558

Sheet Correlation23
B1: Earnings Yield | C1: T.Bond Rate | D1: Bond-Bill
A2: Earnings Yield | B2: 1
A3: T.Bond Rate | B3: 0.68528479 | C3: 1
A4: Bond-Bill | B4: -0.10855058 | C4: -0.048368425 | D4: 1

Sheet Correlation24
B1: Earnings Yield | C1: T.Bond Rate | D1: Bond-Bill
A2: Earnings Yield | B2: 1
A3: T.Bond Rate | B3: 0.68760741 | C3: 1
A4: Bond-Bill | B4: -0.076615197 | C4: -0.025590552 | D4: 1

Sheet Regression24
A1: SUMMARY OUTPUT
A3: Regression Statistics
A4: Multiple R | B4: 0.69013728
A5: R Square | B5: 0.47628947
A6: Adjusted R Square | B6: 0.45911863
A7: Standard Error | B7: 0.01740699
A8: Observations | B8: 64
A10: ANOVA
B11: df | C11: SS | D11: MS | E11: F | F11: Significance F
A12: Regression | B12: 2 | C12: 0.01680958 | D12: 0.0084047901 | E12: 27.738279 | F12: 2.7057327e-09
A13: Residual | B13: 61 | C13: 0.018483202 | D13: 0.0003030033
A14: Total | B14: 63 | C14: 0.035292782
B16: Coefficients | C16: Standard Error | D16: t Stat | E16: P-value | F16: Lower 95% | G16: Upper 95% | H16: Lower 95.0% | I16: Upper 95.0%
A17: Intercept | B17: 0.034989418 | C17: 0.005324656 | D17: 6.5712072 | E17: 1.2575456e-08 | F17: 0.02434211 | G17: 0.045636726 | H17: 0.02434211 | I17: 0.045636726
A18: T.Bond Rate | B18: 0.55763752 | C18: 0.075333827 | D18: 7.4022195 | E18: 4.7083506e-10 | F18: 0.40699823 | G18: 0.70827682 | H18: 0.40699823 | I18: 0.70827682
A19: Bond-Bill | B19: -0.11612245 | C19: 0.1822482 | D19: -0.63716652 | E19: 0.52640061 | F19: -0.48055026 | G19: 0.24830535 | H19: -0.48055026 | I19: 0.24830535
B33: =19.34* (0.9) +10.37* (0.2)+ 68.7* (0.15) -> 29.785

Sheet Raw Data
A1: Year | B1: PE for S&P 500 | C1: Normalized PE for S&P 500 | D1: CAPE for S&P 500 | E1: Shiller PE | F1: T.Bond PE | G1: Ratio of Shiller PE to T.Bond PE | H1: Price to Dividend | I1: Price to Cash Return | J1: Year | K1: Earnings Yield | L1: T.Bond Rate | M1: Bond-Bill | N1: Dividend Yield | O1: S&P 500 | P1: Earnings | Q1: Dividends | R1: Dividends + Buybacks | S1: Normalized Earnings | T1: Inflation rate | U1: Inflation factor | V1: Inflation adjusted earnings | W1: Inflation adjusted Normalized Earnings
A2: 1960 | B2: =1/K2 -> 18.726592 | E2: 17.56 | F2: =1/L2 -> 36.231884 | G2: =E2/F2 -> 0.484656 | H2: =O2/Q2 -> 29.325513 | J2: 1960 | K2: =P2/O2 -> 0.0534 | L2: 0.0276 | M2: 0.001 | N2: 0.0341 | O2: 58.11 | P2: 3.103074 | Q2: 1.981551 | T2: 0.0136 | U2: 1 | V2: =P2*U2 -> 3.103074
A3: 1961 | B3: =1/K3 -> 21.231423 | E3: 22.04 | F3: =1/L3 -> 42.553191 | G3: =E3/F3 -> 0.51794 | H3: =O3/Q3 -> 35.087719 | J3: 1961 | K3: =P3/O3 -> 0.0471 | L3: 0.0235 | M3: 0.0022 | N3: 0.0285 | O3: 71.55 | P3: 3.370005 | Q3: 2.039175 | T3: 0.0067 | U3: =U2*(1+T3) -> 1.0067 | V3: =P3*U3 -> 3.392584
A4: 1962 | B4: =1/K4 -> 17.211704 | E4: 18.59 | F4: =1/L4 -> 25.974026 | G4: =E4/F4 -> 0.715715 | H4: =O4/Q4 -> 29.411765 | J4: 1962 | K4: =P4/O4 -> 0.0581 | L4: 0.0385 | M4: 0.0112 | N4: 0.034 | O4: 63.1 | P4: 3.66611 | Q4: 2.1454 | T4: 0.0123 | U4: =U3*(1+T4) -> 1.0190824 | V4: =P4*U4 -> 3.7360682
A5: 1963 | B5: =1/K5 -> 18.14882 | E5: 21.04 | F5: =1/L5 -> 24.154589 | G5: =E5/F5 -> 0.871056 | H5: =O5/Q5 -> 31.948882 | J5: 1963 | K5: =P5/O5 -> 0.0551 | L5: 0.0414 | M5: 0.0102 | N5: 0.0313 | O5: 75.02 | P5: 4.133602 | Q5: 2.348126 | T5: 0.0165 | U5: =U4*(1+T5) -> 1.0358973 | V5: =P5*U5 -> 4.281987
A6: 1964 | B6: =1/K6 -> 17.793594 | E6: 22.75 | F6: =1/L6 -> 23.752969 | G6: =E6/F6 -> 0.957775 | H6: =O6/Q6 -> 32.786885 | J6: 1964 | K6: =P6/O6 -> 0.0562 | L6: 0.0421 | M6: 0.0067 | N6: 0.0305 | O6: 84.75 | P6: 4.76295 | Q6: 2.584875 | T6: 0.012 | U6: =U5*(1+T6) -> 1.048328 | V6: =P6*U6 -> 4.993134
A7: 1965 | B7: =1/K7 -> 17.452007 | E7: 23.69 | F7: =1/L7 -> 21.505376 | G7: =E7/F7 -> 1.101585 | H7: =O7/Q7 -> 32.679739 | J7: 1965 | K7: =P7/O7 -> 0.0573 | L7: 0.0465 | M7: 0.0072 | N7: 0.0306 | O7: 92.43 | P7: 5.296239 | Q7: 2.828358 | T7: 0.0192 | U7: =U6*(1+T7) -> 1.0684559 | V7: =P7*U7 -> 5.658798
A8: 1966 | B8: =1/K8 -> 14.836795 | E8: 19.74 | F8: =1/L8 -> 21.551724 | G8: =E8/F8 -> 0.915936 | H8: =O8/Q8 -> 27.855153 | J8: 1966 | K8: =P8/O8 -> 0.0674 | L8: 0.0464 | M8: -0.0012 | N8: 0.0359 | O8: 80.33 | P8: 5.414242 | Q8: 2.883847 | T8: 0.0336 | U8: =U7*(1+T8) -> 1.1043561 | V8: =P8*U8 -> 5.9792509
A9: 1967 | B9: =1/K9 -> 17.667845 | E9: 21.75 | F9: =1/L9 -> 17.54386 | G9: =E9/F9 -> 1.23975 | H9: =O9/Q9 -> 32.36246 | J9: 1967 | K9: =P9/O9 -> 0.0566 | L9: 0.057 | M9: 0.0149 | N9: 0.0309 | O9: 96.47 | P9: 5.460202 | Q9: 2.980923 | T9: 0.0328 | U9: =U8*(1+T9) -> 1.1405789 | V9: =P9*U9 -> 6.2277914
A10: 1968 | B10: =1/K10 -> 18.14882 | E10: 22.78 | F10: =1/L10 -> 16.233766 | G10: =E10/F10 -> 1.403248 | H10: =O10/Q10 -> 34.129693 | J10: 1968 | K10: =P10/O10 -> 0.0551 | L10: 0.0616 | M10: 0.0095 | N10: 0.0293 | O10: 103.86 | P10: 5.722686 | Q10: 3.043098 | T10: 0.0471 | U10: =U9*(1+T10) -> 1.1943002 | V10: =P10*U10 -> 6.834605
A11: 1969 | B11: =1/K11 -> 15.082956 | C11: =O11/S11 -> 19.573621 | D11: =O11/W11 -> 16.9883 | E11: 17.33 | F11: =1/L11 -> 12.690355 | G11: =E11/F11 -> 1.365604 | H11: =O11/Q11 -> 28.409091 | J11: 1969 | K11: =P11/O11 -> 0.0663 | L11: 0.0788 | M11: 0.013 | N11: 0.0352 | O11: 92.06 | P11: 6.103578 | Q11: 3.240512 | S11: =AVERAGE(P2:P11) -> 4.7032688 | T11: 0.059 | U11: =U10*(1+T11) -> 1.2647639 | V11: =P11*U11 -> 7.7195852 | W11: =(P11+P10*(U11/U10)+P9*(U11/U9)+P8*(U11/U8)+P7*(U11/U7)+P6*(U11/U6)+P5*(U11/U5)+P4*(U11/U4)+P3*(U11/U3)+P2*(U11/U2))/10 -> 5.4190238
A12: 1970 | B12: =1/K12 -> 16.722408 | C12: =O12/S12 -> 18.638685 | D12: =O12/W12 -> 15.731714 | E12: 15.87 | F12: =1/L12 -> 15.384615 | G12: =E12/F12 -> 1.03155 | H12: =O12/Q12 -> 28.901734 | J12: 1970 | K12: =P12/O12 -> 0.0598 | L12: 0.065 | M12: -0.0003 | N12: 0.0346 | O12: 92.15 | P12: 5.51057 | Q12: 3.18839 | S12: =AVERAGE(P3:P12) -> 4.9440184 | T12: 0.0557 | U12: =U11*(1+T12) -> 1.3352113 | V12: =P12*U12 -> 7.3577751 | W12: =(P12+P11*(U12/U11)+P10*(U12/U10)+P9*(U12/U9)+P8*(U12/U8)+P7*(U12/U7)+P6*(U12/U6)+P5*(U12/U5)+P4*(U12/U4)+P3*(U12/U3))/10 -> 5.8575945
A13: 1971 | B13: =1/K13 -> 18.315018 | C13: =O13/S13 -> 19.767915 | D13: =O13/W13 -> 16.613612 | E13: 16.6 | F13: =1/L13 -> 16.977929 | G13: =E13/F13 -> 0.97774 | H13: =O13/Q13 -> 32.258065 | J13: 1971 | K13: =P13/O13 -> 0.0546 | L13: 0.0589 | M13: 0.015 | N13: 0.031 | O13: 102.09 | P13: 5.574114 | Q13: 3.16479 | S13: =AVERAGE(P4:P13) -> 5.1644293 | T13: 0.0327 | U13: =U12*(1+T13) -> 1.3788727 | V13: =P13*U13 -> 7.6859935 | W13: =(P13+P12*(U13/U12)+P11*(U13/U11)+P10*(U13/U10)+P9*(U13/U9)+P8*(U13/U8)+P7*(U13/U7)+P6*(U13/U6)+P5*(U13/U5)+P4*(U13/U4))/10 -> 6.1449611
A14: 1972 | B14: =1/K14 -> 19.120459 | C14: =O14/S14 -> 21.799669 | D14: =O14/W14 -> 18.276975 | E14: 18.65 | F14: =1/L14 -> 15.600624 | G14: =E14/F14 -> 1.195465 | H14: =O14/Q14 -> 37.037037 | J14: 1972 | K14: =P14/O14 -> 0.0523 | L14: 0.0641 | M14: 0.0257 | N14: 0.027 | O14: 118.05 | P14: 6.174015 | Q14: 3.18735 | S14: =AVERAGE(P5:P14) -> 5.4152198 | T14: 0.0341 | U14: =U13*(1+T14) -> 1.4258922 | V14: =P14*U14 -> 8.80348 | W14: =(P14+P13*(U14/U13)+P12*(U14/U12)+P11*(U14/U11)+P10*(U14/U10)+P9*(U14/U9)+P8*(U14/U8)+P7*(U14/U7)+P6*(U14/U6)+P5*(U14/U5))/10 -> 6.4589465
A15: 1973 | B15: =1/K15 -> 12.254902 | C15: =O15/S15 -> 16.825151 | D15: =O15/W15 -> 13.525064 | E15: 13.49 | F15: =1/L15 -> 14.492754 | G15: =E15/F15 -> 0.93081 | H15: =O15/Q15 -> 27.027027 | J15: 1973 | K15: =P15/O15 -> 0.0816 | L15: 0.069 | M15: -0.0003 | N15: 0.037 | O15: 97.55 | P15: 7.96008 | Q15: 3.60935 | S15: =AVERAGE(P6:P15) -> 5.7978676 | T15: 0.0894 | U15: =U14*(1+T15) -> 1.553367 | V15: =P15*U15 -> 12.364926 | W15: =(P15+P14*(U15/U14)+P13*(U15/U13)+P12*(U15/U12)+P11*(U15/U11)+P10*(U15/U10)+P9*(U15/U9)+P8*(U15/U8)+P7*(U15/U7)+P6*(U15/U6))/10 -> 7.2125351
A16: 1974 | B16: =1/K16 -> 7.3313783 | C16: =O16/S16 -> 10.957799 | D16: =O16/W16 -> 8.3312464 | E16: 8.29 | F16: =1/L16 -> 13.513514 | G16: =E16/F16 -> 0.61346 | H16: =O16/Q16 -> 18.416206 | J16: 1974 | K16: =P16/O16 -> 0.1364 | L16: 0.074 | M16: -0.006 | N16: 0.0543 | O16: 68.56 | P16: 9.351584 | Q16: 3.722808 | S16: =AVERAGE(P7:P16) -> 6.256731 | T16: 0.121 | U16: =U15*(1+T16) -> 1.7413244 | V16: =P16*U16 -> 16.284141 | W16: =(P16+P15*(U16/U15)+P14*(U16/U14)+P13*(U16/U13)+P12*(U16/U12)+P11*(U16/U11)+P10*(U16/U10)+P9*(U16/U9)+P8*(U16/U8)+P7*(U16/U7))/10 -> 8.2292608
A17: 1975 | B17: =1/K17 -> 11.695906 | C17: =O17/S17 -> 13.879161 | D17: =O17/W17 -> 10.411628 | E17: 10.25 | F17: =1/L17 -> 12.886598 | G17: =E17/F17 -> 0.7954 | H17: =O17/Q17 -> 24.154589 | J17: 1975 | K17: =P17/O17 -> 0.0855 | L17: 0.0776 | M17: 0.0196 | N17: 0.0414 | O17: 90.19 | P17: 7.711245 | Q17: 3.733866 | S17: =AVERAGE(P8:P17) -> 6.4982316 | T17: 0.0713 | U17: =U16*(1+T17) -> 1.8654808 | V17: =P17*U17 -> 14.38518 | W17: =(P17+P16*(U17/U16)+P15*(U17/U15)+P14*(U17/U14)+P13*(U17/U13)+P12*(U17/U12)+P11*(U17/U11)+P10*(U17/U10)+P9*(U17/U9)+P8*(U17/U8))/10 -> 8.6624297
A18: 1976 | B18: =1/K18 -> 11.025358 | C18: =O18/S18 -> 15.503206 | D18: =O18/W18 -> 11.791934 | E18: 11.6 | F18: =1/L18 -> 14.684288 | G18: =E18/F18 -> 0.78996 | H18: =O18/Q18 -> 25.445293 | J18: 1976 | K18: =P18/O18 -> 0.0907 | L18: 0.0681 | M18: 0.0173 | N18: 0.0393 | O18: 107.46 | P18: 9.746622 | Q18: 4.223178 | S18: =AVERAGE(P9:P18) -> 6.9314696 | T18: 0.0504 | U18: =U17*(1+T18) -> 1.9595011 | V18: =P18*U18 -> 19.098516 | W18: =(P18+P17*(U18/U17)+P16*(U18/U16)+P15*(U18/U15)+P14*(U18/U14)+P13*(U18/U13)+P12*(U18/U12)+P11*(U18/U11)+P10*(U18/U10)+P9*(U18/U9))/10 -> 9.1130088
A19: 1977 | B19: =1/K19 -> 8.7489064 | C19: =O19/S19 -> 12.726763 | D19: =O19/W19 -> 9.6961344 | E19: 9.68 | F19: =1/L19 -> 12.85347 | G19: =E19/F19 -> 0.753104 | H19: =O19/Q19 -> 19.569472 | J19: 1977 | K19: =P19/O19 -> 0.1143 | L19: 0.0778 | M19: 0.0266 | N19: 0.0511 | O19: 95.1 | P19: 10.86993 | Q19: 4.85961 | S19: =AVERAGE(P10:P19) -> 7.4724424 | T19: 0.0668 | U19: =U18*(1+T19) -> 2.0903957 | V19: =P19*U19 -> 22.722455 | W19: =(P19+P18*(U19/U18)+P17*(U19/U17)+P16*(U19/U16)+P15*(U19/U15)+P14*(U19/U14)+P13*(U19/U13)+P12*(U19/U12)+P11*(U19/U11)+P10*(U19/U10))/10 -> 9.8080324
A20: 1978 | B20: =1/K20 -> 8.2576383 | C20: =O20/S20 -> 11.918305 | D20: =O20/W20 -> 8.9305203 | E20: 9.01 | F20: =1/L20 -> 10.928962 | G20: =E20/F20 -> 0.824415 | H20: =O20/Q20 -> 18.552876 | J20: 1978 | K20: =P20/O20 -> 0.1211 | L20: 0.0915 | M20: 0.0197 | N20: 0.0539 | O20: 96.11 | P20: 11.638921 | Q20: 5.180329 | S20: =AVERAGE(P11:P20) -> 8.0640659 | T20: 0.0899 | U20: =U19*(1+T20) -> 2.2783223 | V20: =P20*U20 -> 26.517213 | W20: =(P20+P19*(U20/U19)+P18*(U20/U18)+P17*(U20/U17)+P16*(U20/U16)+P15*(U20/U15)+P14*(U20/U14)+P13*(U20/U13)+P12*(U20/U12)+P11*(U20/U11))/10 -> 10.761971
A21: 1979 | B21: =1/K21 -> 7.4183976 | C21: =O21/S21 -> 12.116192 | D21: =O21/W21 -> 8.7063876 | E21: 8.75 | F21: =1/L21 -> 9.6805421 | G21: =E21/F21 -> 0.903875 | H21: =O21/Q21 -> 18.083183 | J21: 1979 | K21: =P21/O21 -> 0.1348 | L21: 0.1033 | M21: -0.0005 | N21: 0.0553 | O21: 107.94 | P21: 14.550312 | Q21: 5.969082 | S21: =AVERAGE(P12:P21) -> 8.9087393 | T21: 0.1325 | U21: =U20*(1+T21) -> 2.5802 | V21: =P21*U21 -> 37.542715 | W21: =(P21+P20*(U21/U20)+P19*(U21/U19)+P18*(U21/U18)+P17*(U21/U17)+P16*(U21/U16)+P15*(U21/U15)+P14*(U21/U14)+P13*(U21/U13)+P12*(U21/U12))/10 -> 12.397794
A22: 1980 | B22: =1/K22 -> 9.057971 | C22: =O22/S22 -> 13.77369 | D22: =O22/W22 -> 9.5395218 | E22: 9.39 | F22: =1/L22 -> 8.0450523 | G22: =E22/F22 -> 1.167177 | H22: =O22/Q22 -> 21.097046 | J22: 1980 | K22: =P22/O22 -> 0.1104 | L22: 0.1243 | M22: 0.0119 | N22: 0.0474 | O22: 135.76 | P22: 14.987904 | Q22: 6.435024 | S22: =AVERAGE(P13:P22) -> 9.8564727 | T22: 0.1235 | U22: =U21*(1+T22) -> 2.8988547 | V22: =P22*U22 -> 43.447756 | W22: =(P22+P21*(U22/U21)+P20*(U22/U20)+P19*(U22/U19)+P18*(U22/U18)+P17*(U22/U17)+P16*(U22/U16)+P15*(U22/U15)+P14*(U22/U14)+P13*(U22/U13))/10 -> 14.231321
... A38: 1996 | B38: =1/K38 -> 18.231356 | C38: =O38/S38 -> 28.029084 | D38: =O38/W38 -> 25.143306 | E38: 27.72 | F38: =1/L38 -> 15.600624 | G38: =E38/F38 -> 1.776852 | H38: =O38/Q38 -> 49.751244 | J38: 1996 | K38: =P38/O38 -> 0.054850555 | L38: 0.0641 | M38: 0.0141 | N38: 0.0201 | O38: 740.74 | P38: 40.63 | Q38: 14.888874 | S38: =AVERAGE(P29:P38) -> 26.427549 | T38: 0.0169705 | U38: =U37*(1+T38) -> 5.2179344 | V38: =P38*U38 -> 212.00467 | W38: =(P38+P37*(U38/U37)+P36*(U38/U36)+P35*(U38/U35)+P34*(U38/U34)+P33*(U38/U33)+P32*(U38/U32)+P31*(U38/U31)+P30*(U38/U30)+P29*(U38/U29))/10 -> 29.460724
A39: 1997 | B39: =1/K39 -> 22.010206 | C39: =O39/S39 -> 33.196388 | D39: =O39/W39 -> 30.175989 | E39: 33.03 | F39: =1/L39 -> 17.421603 | G39: =E39/F39 -> 1.895922 | H39: =O39/Q39 -> 62.51965 | J39: 1997 | K39: =P39/O39 -> 0.045433468 | L39: 0.0574 | M39: 0.0039 | N39: =15.522/O39 -> 0.015994971 | O39: 970.43 | P39: 44.09 | Q39: 15.522 | S39: =AVERAGE(P30:P39) -> 29.233 | T39: 0.0160692 | U39: =U38*(1+T39) -> 5.3017824 | V39: =P39*U39 -> 233.75559 | W39: =(P39+P38*(U39/U38)+P37*(U39/U37)+P36*(U39/U36)+P35*(U39/U35)+P34*(U39/U34)+P33*(U39/U33)+P32*(U39/U32)+P31*(U39/U31)+P30*(U39/U30))/10 -> 32.159012
A40: 1998 | B40: =1/K40 -> 27.766659 | C40: =O40/S40 -> 39.337878 | D40: =O40/W40 -> 35.918161 | E40: 38.82 | F40: =1/L40 -> 21.505376 | G40: =E40/F40 -> 1.80513 | H40: =O40/Q40 -> 75.878395 | J40: 1998 | K40: =P40/O40 -> 0.036014416 | L40: 0.0465 | M40: 0.0032 | N40: =16.2/O40 -> 0.013178982 | O40: 1229.23 | P40: 44.27 | Q40: 16.2 | S40: =AVERAGE(P31:P40) -> 31.248 | T40: 0.026764 | U40: =U39*(1+T40) -> 5.4436793 | V40: =P40*U40 -> 240.99168 | W40: =(P40+P39*(U40/U39)+P38*(U40/U38)+P37*(U40/U37)+P36*(U40/U36)+P35*(U40/U35)+P34*(U40/U34)+P33*(U40/U33)+P32*(U40/U32)+P31*(U40/U31))/10 -> 34.223077
A41: 1999 | B41: =1/K41 -> 28.42976 | C41: =O41/S41 -> 43.233581 | D41: =O41/W41 -> 39.281764 | E41: 44.2 | F41: =1/L41 -> 15.52795 | G41: =E41/F41 -> 2.84648 | H41: =O41/Q41 -> 87.916692 | J41: 1999 | K41: =P41/O41 -> 0.035174409 | L41: 0.0644 | M41: 0.0107 | N41: =16.709/1469 -> 0.011374404 | O41: 1469.25 | P41: 51.68 | Q41: 16.711844 | S41: =AVERAGE(P32:P41) -> 33.984 | T41: 0.0343602 | U41: =U40*(1+T41) -> 5.6307252 | V41: =P41*U41 -> 290.99588 | W41: =(P41+P40*(U41/U40)+P39*(U41/U39)+P38*(U41/U38)+P37*(U41/U37)+P36*(U41/U36)+P35*(U41/U35)+P34*(U41/U34)+P33*(U41/U33)+P32*(U41/U32))/10 -> 37.402851
A42: 2000 | B42: =1/K42 -> 23.521824 | C42: =O42/S42 -> 35.365906 | D42: =O42/W42 -> 32.43277 | E42: 37.28 | F42: =1/L42 -> 19.569472 | G42: =E42/F42 -> 1.905008 | H42: =O42/Q42 -> 81.155856 | J42: 2000 | K42: =P42/O42 -> 0.042513709 | L42: 0.0511 | M42: -0.0062 | N42: =16.265/1320 -> 0.01232197 | O42: 1320.28 | P42: 56.13 | Q42: 16.26845 | S42: =AVERAGE(P33:P42) -> 37.332 | T42: 0.0160367 | U42: =U41*(1+T42) -> 5.7210235 | V42: =P42*U42 -> 321.12105 | W42: =(P42+P41*(U42/U41)+P40*(U42/U40)+P39*(U42/U39)+P38*(U42/U38)+P37*(U42/U37)+P36*(U42/U36)+P35*(U42/U35)+P34*(U42/U34)+P33*(U42/U33))/10 -> 40.708209
A43: 2001 | B43: =1/K43 -> 29.551866 | C43: =O43/S43 -> 29.223153 | D43: =O43/W43 -> 26.614879 | E43: 30.5 | F43: =1/L43 -> 19.80198 | G43: =E43/F43 -> 1.54025 | H43: =O43/Q43 -> 72.936281 | I43: =O43/R43 -> 38.167939 | J43: 2001 | K43: =P43/O43 -> 0.033838811 | L43: 0.0505 | M43: 0.0325 | N43: =15.741/1148.09 -> 0.013710598 | O43: 1148.09 | P43: 38.85 | Q43: 15.741 | R43: 30.079958 | S43: =AVERAGE(P34:P43) -> 39.287 | T43: 0.0248027 | U43: =U42*(1+T43) -> 5.8629203 | V43: =P43*U43 -> 227.77445 | W43: =(P43+P42*(U43/U42)+P41*(U43/U41)+P40*(U43/U40)+P39*(U43/U39)+P38*(U43/U38)+P37*(U43/U37)+P36*(U43/U36)+P35*(U43/U35)+P34*(U43/U34))/10 -> 43.137148
A44: 2002 | B44: =1/K44 -> 19.109904 | C44: =O44/S44 -> 21.046311 | D44: =O44/W44 -> 19.137805 | E44: 23.1 | F44: =1/L44 -> 26.246719 | G44: =E44/F44 -> 0.88011 | H44: =O44/Q44 -> 54.715174 | I44: =O44/R44 -> 29.498525 | J44: 2002 | K44: =P44/O44 -> 0.052328885 | L44: 0.0381 | M44: 0.0261 | N44: =Q44/O44 -> 0.018276466 | O44: 879.82 | P44: 46.04 | Q44: 16.08 | R44: 29.825898 | S44: =AVERAGE(P35:P44) -> 41.804 | T44: 0.020352 | U44: =U43*(1+T44) -> 5.9822425 | V44: =P44*U44 -> 275.42244 | W44: =(P44+P43*(U44/U43)+P42*(U44/U42)+P41*(U44/U41)+P40*(U44/U40)+P39*(U44/U39)+P38*(U44/U38)+P37*(U44/U37)+P36*(U44/U36)+P35*(U44/U35))/10 -> 45.972879
A45: 2003 | B45: =1/K45 -> 20.331139 | C45: =O45/S45 -> 24.940224 | D45: =O45/W45 -> 22.443373 | E45: 26.63 | F45: =1/L45 -> 23.529412 | G45: =E45/F45 -> 1.131775 | H45: =O45/Q45 -> 62.18736 | I45: =O45/R45 -> 35.211268 | J45: 2003 | K45: =P45/O45 -> 0.049185636 | L45: 0.0425 | M45: 0.0325 | N45: 0.0161 | O45: 1111.91 | P45: 54.69 | Q45: 17.88 | R45: 31.578244 | S45: =AVERAGE(P36:P45) -> 44.583 | T45: 0.0334232 | U45: =U44*(1+T45) -> 6.1821882 | V45: =P45*U45 -> 338.10387 | W45: =(P45+P44*(U45/U44)+P43*(U45/U43)+P42*(U45/U42)+P41*(U45/U41)+P40*(U45/U40)+P39*(U45/U39)+P38*(U45/U38)+P37*(U45/U37)+P36*(U45/U36))/10 -> 49.54291
A46: 2004 | B46: =1/K46 -> 17.906619 | C46: =O46/S46 -> 25.156094 | D46: =O46/W46 -> 22.493755 | E46: 27.14 | F46: =1/L46 -> 23.696682 | G46: =E46/F46 -> 1.145308 | H46: =O46/Q46 -> 62.44757 | I46: =O46/R46 -> 29.850746 | J46: 2004 | K46: =P46/O46 -> 0.05584527 | L46: 0.0422 | M46: 0.0204 | N46: =Q46/O46 -> 0.016013433 | O46: 1211.92 | P46: 67.68 | Q46: 19.407 | R46: 40.59932 | S46: =AVERAGE(P37:P46) -> 48.176 | T46: 0.0333855 | U46: =U45*(1+T46) -> 6.3885836 | V46: =P46*U46 -> 432.37934 | W46: =(P46+P45*(U46/U45)+P44*(U46/U44)+P43*(U46/U43)+P42*(U46/U42)+P41*(U46/U41)+P40*(U46/U40)+P39*(U46/U39)+P38*(U46/U38)+P37*(U46/U37))/10 -> 53.878066
A47: 2005 | B47: =1/K47 -> 16.328188 | C47: =O47/S47 -> 23.982056 | D47: =O47/W47 -> 21.496178 | E47: 26.43 | F47: =1/L47 -> 22.779043 | G47: =E47/F47 -> 1.160277 | H47: =O47/Q47 -> 55.777033 | I47: =O47/R47 -> 20.408163 | J47: 2005 | K47: =P47/O47 -> 0.061243781 | L47: 0.0439 | M47: 0.0008 | N47: =Q47/O47 -> 0.017928526 | O47: 1248.29 | P47: 76.45 | Q47: 22.38 | R47: 61.16621 | S47: =AVERAGE(P38:P47) -> 52.051 | T47: 0.0252398 | U47: =U46*(1+T47) -> 6.5498302 | V47: =P47*U47 -> 500.73452 | W47: =(P47+P46*(U47/U46)+P45*(U47/U45)+P44*(U47/U44)+P43*(U47/U43)+P42*(U47/U42)+P41*(U47/U41)+P40*(U47/U40)+P39*(U47/U39)+P38*(U47/U38))/10 -> 58.070322
A48: 2006 | B48: =1/K48 -> 16.168491 | C48: =O48/S48 -> 24.987667 | D48: =O48/W48 -> 22.189134 | E48: 27.27 | F48: =1/L48 -> 21.276596 | G48: =E48/F48 -> 1.28169 | H48: =O48/Q48 -> 56.618762 | I48: =O48/R48 -> 19.386823 | J48: 2006 | K48: =P48/O48 -> 0.061848692 | L48: 0.047 | M48: -0.0018 | N48: =Q48/O48 -> 0.01766199 | O48: 1418.3 | P48: 87.72 | Q48: 25.05 | R48: 73.15794 | S48: =AVERAGE(P39:P48) -> 56.76 | T48: 0.0410881 | U48: =U47*(1+T48) -> 6.8189503 | V48: =P48*U48 -> 598.15832 | W48: =(P48+P47*(U48/U47)+P46*(U48/U46)+P45*(U48/U45)+P44*(U48/U44)+P43*(U48/U43)+P42*(U48/U42)+P41*(U48/U41)+P40*(U48/U40)+P39*(U48/U39))/10 -> 63.918674
A49: 2007 | B49: =1/K49 -> 17.789678 | C49: =O49/S49 -> 24.228364 | D49: =O49/W49 -> 22.084242 | E49: 25.95 | F49: =1/L49 -> 24.875622 | G49: =E49/F49 -> 1.04319 | H49: =O49/Q49 -> 52.952038 | I49: =O49/R49 -> 15.397686 | J49: 2007 | K49: =P49/O49 -> 0.056212373 | L49: 0.0402 | M49: 0.0071 | N49: =Q49/O49 -> 0.018885015 | O49: 1468.36 | P49: 82.54 | Q49: 27.73 | R49: 95.362382 | S49: =AVERAGE(P40:P49) -> 60.605 | T49: -0.0002223 | U49: =U48*(1+T49) -> 6.8174344 | V49: =P49*U49 -> 562.71104 | W49: =(P49+P48*(U49/U48)+P47*(U49/U47)+P46*(U49/U46)+P45*(U49/U45)+P44*(U49/U44)+P43*(U49/U43)+P42*(U49/U42)+P41*(U49/U41)+P40*(U49/U40))/10 -> 66.489037
A50: 2008 | B50: =1/K50 -> 18.243789 | C50: =O50/S50 -> 14.776129 | D50: =O50/W50 -> 13.35953 | E50: 15.37 | F50: =1/L50 -> 45.248869 | G50: =E50/F50 -> 0.339677 | H50: =O50/Q50 -> 32.201426 | I50: =O50/R50 -> 13.378086 | J50: 2008 | K50: =P50/O50 -> 0.054813175 | L50: 0.0221 | M50: 0.0062 | N50: =Q50/O50 -> 0.031054525 | O50: 903.25 | P50: 49.51 | Q50: 28.05 | R50: 67.517132 | S50: =AVERAGE(P41:P50) -> 61.129 | T50: 0.0281412 | U50: =U49*(1+T50) -> 7.0092852 | V50: =P50*U50 -> 347.02971 | W50: =(P50+P49*(U50/U49)+P48*(U50/U48)+P47*(U50/U47)+P46*(U50/U46)+P45*(U50/U45)+P44*(U50/U44)+P43*(U50/U43)+P42*(U50/U42)+P41*(U50/U41))/10 -> 67.610911
A51: 2009 | B51: =1/K51 -> 19.611326 | C51: =O51/S51 -> 18.088471 | D51: =O51/W51 -> 16.460682 | E51: 20.32 | F51: =1/L51 -> 26.041667 | G51: =E51/F51 -> 0.780288 | H51: =O51/Q51 -> 49.982071 | I51: =O51/R51 -> 29.793226 | J51: 2009 | K51: =P51/O51 -> 0.050990943 | L51: 0.0384 | M51: 0.037 | N51: =Q51/O51 -> 0.020007174 | O51: 1115.1 | P51: 56.86 | Q51: 22.31 | R51: 37.427971 | S51: =AVERAGE(P42:P51) -> 61.647 | T51: 0.0143779 | U51: =U50*(1+T51) -> 7.110064 | V51: =P51*U51 -> 404.27824 | W51: =(P51+P50*(U51/U50)+P49*(U51/U49)+P48*(U51/U48)+P47*(U51/U47)+P46*(U51/U46)+P45*(U51/U45)+P44*(U51/U44)+P43*(U51/U43)+P42*(U51/U42))/10 -> 67.743245
A52: 2010 | B52: =1/K52 -> 15.013012 | C52: =O52/S52 -> 19.525236 | D52: =O52/W52 -> 17.717313 | E52: 22.39 | F52: =1/L52 -> 30.395137 | G52: =E52/F52 -> 0.736631 | H52: =O52/Q52 -> 54.396194 | I52: =O52/R52 -> 22.649361 | J52: 2010 | K52: =P52/O52 -> 0.066608886 | L52: 0.0329 | M52: 0.0316 | N52: =Q52/O52 -> 0.018383639 | O52: 1257.64 | P52: 83.77 | Q52: 23.12 | R52: 55.526511 | S52: =AVERAGE(P43:P52) -> 64.411 | T52: 0.0302669 | U52: =U51*(1+T52) -> 7.3252636 | V52: =P52*U52 -> 613.63733 | W52: =(P52+P51*(U52/U51)+P50*(U52/U50)+P49*(U52/U49)+P48*(U52/U48)+P47*(U52/U47)+P46*(U52/U46)+P45*(U52/U45)+P44*(U52/U44)+P43*(U52/U43))/10 -> 70.983674
A53: 2011 | B53: =1/K53 -> 13.040232 | C53: =O53/S53 -> 17.922189 | D53: =O53/W53 -> 16.344349 | E53: 20.52 | F53: =1/L53 -> 53.191489 | G53: =E53/F53 -> 0.385776 | H53: =O53/Q53 -> 48.332052 | I53: =O53/R53 -> 17.643504 | J53: 2011 | K53: =P53/O53 -> 0.076685751 | L53: 0.0188 | M53: 0.0185 | N53: =Q53/O53 -> 0.020690204 | O53: 1257.6 | P53: 96.44 | Q53: 26.02 | R53: 71.27836 | S53: =AVERAGE(P44:P53) -> 70.17 | T53: 0.0176979 | U53: =U52*(1+T53) -> 7.4549054 | V53: =P53*U53 -> 718.95107 | W53: =(P53+P52*(U53/U52)+P51*(U53/U51)+P50*(U53/U50)+P49*(U53/U49)+P48*(U53/U48)+P47*(U53/U47)+P46*(U53/U46)+P45*(U53/U45)+P44*(U53/U44))/10 -> 76.944024
A54: 2012 | B54: =1/K54 -> 14.730324 | C54: =O54/S54 -> 18.953195 | D54: =O54/W54 -> 17.397521 | E54: 21.23 | F54: =1/L54 -> 56.818182 | G54: =E54/F54 -> 0.373648 | H54: =O54/Q54 -> 46.852497 | I54: =O54/R54 -> 18.790554 | J54: 2012 | K54: =P54/O54 -> 0.067887168 | L54: 0.0176 | M54: 0.0171 | N54: =Q54/O54 -> 0.02134358 | O54: 1426.19 | P54: 96.82 | Q54: 30.44 | R54: 75.899306 | S54: =AVERAGE(P45:P54) -> 75.248 | T54: 0.0152791 | U54: =U53*(1+T54) -> 7.5688096 | V54: =P54*U54 -> 732.81215 | W54: =(P54+P53*(U54/U53)+P52*(U54/U52)+P51*(U54/U51)+P50*(U54/U50)+P49*(U54/U49)+P48*(U54/U48)+P47*(U54/U47)+P46*(U54/U46)+P45*(U54/U45))/10 -> 81.97662
A55: 2013 | B55: =1/K55 -> 17.226095 | C55: =O55/S55 -> 22.958427 | D55: =O55/W55 -> 21.363383 | E55: 24.86 | F55: =1/L55 -> 32.894737 | G55: =E55/F55 -> 0.755744 | H55: =O55/Q55 -> 50.947078 | I55: =O55/R55 -> 20.973108 | J55: 2013 | K55: =P55/O55 -> 0.058051462 | L55: 0.0304 | M55: 0.0297 | N55: =Q55/O55 -> 0.019628211 | O55: 1848.36 | P55: 107.3 | Q55: 36.28 | R55: 88.13 | S55: =AVERAGE(P46:P55) -> 80.509 | T55: 0.0067619 | U55: =U54*(1+T55) -> 7.6199891 | V55: =P55*U55 -> 817.62483 | W55: =(P55+P54*(U55/U54)+P53*(U55/U53)+P52*(U55/U52)+P51*(U55/U51)+P50*(U55/U50)+P49*(U55/U49)+P48*(U55/U48)+P47*(U55/U47)+P46*(U55/U46))/10 -> 86.520004
...

Sheet Stock Returns
A1: Year | B1: S&P 500
A2: 1960 | B2: 58.11
A3: 1961 | B3: 71.55
A4: 1962 | B4: 63.1
A5: 1963 | B5: 75.02
A6: 1964 | B6: 84.75
A7: 1965 | B7: 92.43
A8: 1966 | B8: 80.33
A9: 1967 | B9: 96.47
A10: 1968 | B10: 103.86
A11: 1969 | B11: 92.06
A12: 1970 | B12: 92.15
A13: 1971 | B13: 102.09
... A53: 2011 | B53: 1257.6
A54: 2012 | B54: 1426.19 | F54: =(B58/B50)-1 -> 1.4164296
A55: 2013 | B55: 1848.36
A56: 2014 | B56: 2058.9
A57: 2015 | B57: 2043.94
A58: 2016 (LTM) | B58: 2182.64

Sheet Cash versus Earnings
A1: Year | B1: Earnings | C1: Dividends | D1: Dividends + Buybacks | E1: Dividend Payout | F1: Cash Payout
A2: 2001 | B2: 38.85 | C2: 15.741 | D2: 30.079958 | E2: =C2/B2 -> 0.40517375 | F2: =D2/B2 -> 0.77425889
A3: 2002 | B3: 46.04 | C3: 16.08 | D3: 29.825898 | E3: =C3/B3 -> 0.34926151 | F3: =D3/B3 -> 0.64782576
A4: 2003 | B4: 54.69 | C4: 17.88 | D4: 31.578244 | E4: =C4/B4 -> 0.32693363 | F4: =D4/B4 -> 0.57740435
A5: 2004 | B5: 67.68 | C5: 19.407 | D5: 40.59932 | E5: =C5/B5 -> 0.28674645 | F5: =D5/B5 -> 0.59987175
A6: 2005 | B6: 76.45 | C6: 22.38 | D6: 61.16621 | E6: =C6/B6 -> 0.29274035 | F6: =D6/B6 -> 0.80008123
A7: 2006 | B7: 87.72 | C7: 25.05 | D7: 73.15794 | E7: =C7/B7 -> 0.28556772 | F7: =D7/B7 -> 0.83399384
A8: 2007 | B8: 82.54 | C8: 27.73 | D8: 95.362382 | E8: =C8/B8 -> 0.33595832 | F8: =D8/B8 -> 1.1553475
A9: 2008 | B9: 49.51 | C9: 28.05 | D9: 67.517132 | E9: =C9/B9 -> 0.56655221 | F9: =D9/B9 -> 1.363707
A10: 2009 | B10: 56.86 | C10: 22.31 | D10: 37.427971 | E10: =C10/B10 -> 0.39236722 | F10: =D10/B10 -> 0.65824783
A11: 2010 | B11: 83.77 | C11: 23.12 | D11: 55.526511 | E11: =C11/B11 -> 0.27599379 | F11: =D11/B11 -> 0.66284483
A12: 2011 | B12: 96.44 | C12: 26.02 | D12: 71.27836 | E12: =C12/B12 -> 0.26980506 | F12: =D12/B12 -> 0.7390954
A13: 2012 | B13: 96.82 | C13: 30.44 | D13: 75.899306 | E13: =C13/B13 -> 0.31439785 | F13: =D13/B13 -> 0.78392177
... A16: 2015 | B16: 100.48 | C16: 43.16 | D16: 106.1 | E16: =C16/B16 -> 0.42953822 | F16: =D16/B16 -> 1.0559315
A17: 2016 | B17: ='Raw Data'!P58 -> 108.86 | C17: ='Raw Data'!Q58 -> 45.03 | D17: ='Raw Data'!R58 -> 108.67 | E17: =C17/B17 -> 0.41365056 | F17: =D17/B17 -> 0.99825464

Sheet Just PE data 1969-2019
A1: Year | B1: PE | C1: Normalized PE | D1: CAPE | E1: Shiller PE
A2: 1969 | B2: ='Raw Data'!B11 -> 15.082956 | C2: ='Raw Data'!C11 -> 19.573621 | D2: ='Raw Data'!D11 -> 16.9883 | E2: ='Raw Data'!E11 -> 17.33
A3: 1970 | B3: ='Raw Data'!B12 -> 16.722408 | C3: ='Raw Data'!C12 -> 18.638685 | D3: ='Raw Data'!D12 -> 15.731714 | E3: ='Raw Data'!E12 -> 15.87
A4: 1971 | B4: ='Raw Data'!B13 -> 18.315018 | C4: ='Raw Data'!C13 -> 19.767915 | D4: ='Raw Data'!D13 -> 16.613612 | E4: ='Raw Data'!E13 -> 16.6
A5: 1972 | B5: ='Raw Data'!B14 -> 19.120459 | C5: ='Raw Data'!C14 -> 21.799669 | D5: ='Raw Data'!D14 -> 18.276975 | E5: ='Raw Data'!E14 -> 18.65
A6: 1973 | B6: ='Raw Data'!B15 -> 12.254902 | C6: ='Raw Data'!C15 -> 16.825151 | D6: ='Raw Data'!D15 -> 13.525064 | E6: ='Raw Data'!E15 -> 13.49
A7: 1974 | B7: ='Raw Data'!B16 -> 7.3313783 | C7: ='Raw Data'!C16 -> 10.957799 | D7: ='Raw Data'!D16 -> 8.3312464 | E7: ='Raw Data'!E16 -> 8.29
A8: 1975 | B8: ='Raw Data'!B17 -> 11.695906 | C8: ='Raw Data'!C17 -> 13.879161 | D8: ='Raw Data'!D17 -> 10.411628 | E8: ='Raw Data'!E17 -> 10.25
A9: 1976 | B9: ='Raw Data'!B18 -> 11.025358 | C9: ='Raw Data'!C18 -> 15.503206 | D9: ='Raw Data'!D18 -> 11.791934 | E9: ='Raw Data'!E18 -> 11.6
A10: 1977 | B10: ='Raw Data'!B19 -> 8.7489064 | C10: ='Raw Data'!C19 -> 12.726763 | D10: ='Raw Data'!D19 -> 9.6961344 | E10: ='Raw Data'!E19 -> 9.68
A11: 1978 | B11: ='Raw Data'!B20 -> 8.2576383 | C11: ='Raw Data'!C20 -> 11.918305 | D11: ='Raw Data'!D20 -> 8.9305203 | E11: ='Raw Data'!E20 -> 9.01
A12: 1979 | B12: ='Raw Data'!B21 -> 7.4183976 | C12: ='Raw Data'!C21 -> 12.116192 | D12: ='Raw Data'!D21 -> 8.7063876 | E12: ='Raw Data'!E21 -> 8.75
A13: 1980 | B13: ='Raw Data'!B22 -> 9.057971 | C13: ='Raw Data'!C22 -> 13.77369 | D13: ='Raw Data'!D22 -> 9.5395218 | E13: ='Raw Data'!E22 -> 9.39
... A49: 2016 | B49: ='Raw Data'!B58 -> 20.56614 | C49: ='Raw Data'!C58 -> 24.998381 | D49: ='Raw Data'!D58 -> 23.907431 | E49: ='Raw Data'!E58 -> 27.27
A50: 2017 | B50: 21.399152 | C50: 28.503609 | D50: 27.147104 | E50: 27.147104
A51: 2018 | B51: 16.899353 | C51: 24.178257 | D51: 22.857578 | E51: 22.857578
A52: 2019 | B52: 19.900092 | C52: 28.282865 | D52: 26.52781 | E52: 26.52781
A53: 2020 | B53: ='Raw Data'!B62 -> 27.194251 | C53: ='Raw Data'!C62 -> 31.387946 | D53: ='Raw Data'!D62 -> 29.363673 | E53: ='Raw Data'!E62 -> 29.363673
A54: 2020 | B54: ='Raw Data'!B63 -> 23.094195 | C54: ='Raw Data'!C63 -> 36.477728 | D54: ='Raw Data'!D63 -> 32.679289 | E54: ='Raw Data'!E63 -> 32.679289

Sheet All Multiples 2001-16
A1: Year | B1: PE | C1: Normalized PE | D1: CAPE | E1: Shiller PE | F1: T.Bond PE | G1: Price to Dividend | H1: Price/(Dividends + Buybacks)
A2: 2001 | B2: 29.551866 | C2: 29.223153 | D2: 26.614879 | E2: 30.5 | F2: 19.80198 | G2: 72.936281 | H2: 38.167939
A3: 2002 | B3: 19.109904 | C3: 21.046311 | D3: 19.137805 | E3: 23.1 | F3: 26.246719 | G3: 54.715174 | H3: 29.498525
A4: 2003 | B4: 20.331139 | C4: 24.940224 | D4: 22.443373 | E4: 26.63 | F4: 23.529412 | G4: 62.18736 | H4: 35.211268
A5: 2004 | B5: 17.906619 | C5: 25.156094 | D5: 22.493755 | E5: 27.14 | F5: 23.696682 | G5: 62.44757 | H5: 29.850746
A6: 2005 | B6: 16.328188 | C6: 23.982056 | D6: 21.496178 | E6: 26.43 | F6: 22.779043 | G6: 55.777033 | H6: 20.408163
A7: 2006 | B7: 16.168491 | C7: 24.987667 | D7: 22.189134 | E7: 27.27 | F7: 21.276596 | G7: 56.618762 | H7: 19.386823
A8: 2007 | B8: 17.789678 | C8: 24.228364 | D8: 22.084242 | E8: 25.95 | F8: 24.875622 | G8: 52.952038 | H8: 15.397686
A9: 2008 | B9: 18.243789 | C9: 14.776129 | D9: 13.35953 | E9: 15.37 | F9: 45.248869 | G9: 32.201426 | H9: 13.378086
A10: 2009 | B10: 19.611326 | C10: 18.088471 | D10: 16.460682 | E10: 20.32 | F10: 26.041667 | G10: 49.982071 | H10: 29.793226
A11: 2010 | B11: 15.013012 | C11: 19.525236 | D11: 17.717313 | E11: 22.39 | F11: 30.395137 | G11: 54.396194 | H11: 22.649361
A12: 2011 | B12: 13.040232 | C12: 17.922189 | D12: 16.344349 | E12: 20.52 | F12: 53.191489 | G12: 48.332052 | H12: 17.643504
A13: 2012 | B13: 14.730324 | C13: 18.953195 | D13: 17.397521 | E13: 21.23 | F13: 56.818182 | G13: 46.852497 | H13: 18.790554
... A17: 2016 | B17: 20.56614 | C17: 24.998381 | D17: 23.907431 | E17: 27.27 | F17: 40.82 | G17: 49.72 | H17: 20.6

Sheet Correlation
A1: Variable | B1: PE | C1: Normalized PE | D1: CAPE | E1: Shiiller PE
A2: PE | B2: 1
A3: Normalized PE | B3: 0.87460713 | C3: 1
A4: CAPE | B4: 0.88709814 | C4: 0.99385855 | D4: 1
A5: Shiller PE | B5: 0.86419079 | C5: 0.96774183 | D5: 0.98602717 | E5: 1
