Workbook

Sheet Master Inputs
A1: THE YELLOW CELLS ARE YOUR ONLY REQUIRED INPUTS. ALL THE OTHER NUMBERS WILL BE CALCULATED. | D1: Expected Auto Revenues in 2033 (in $ mi)l | E1: $ Revenues in 2033
A2: Your inputs | D2: A1: $100 billion (BMW-like) | E2: 100
A3: Growth (Autos) Lever | D3: A2: $150 billion (Ford & Honda-like) | E3: 150
A4: How much will Tesla have in revenues from autos in 2033? | B4: A5: $500 billion (20% auto market share) | D4: A3: $200 billion (Daimler-like) | E4: 200
A5: Expected auto revenues in 2033 ($ million) | B5: =VLOOKUP(B4,D2:E7,2)*1000 -> 500000 | D5: A4: $300 billion (Toyota & VW -like) | E5: 300
D6: A5: $500 billion (20% auto market share) | E6: 500
A7: Growth (Software, Robotaxi and Energy) Lever | D7: A6: Direct Input (Enter % growth rate) | E7: 600
A8: How much will Tesla have in revenues from other businesss in 2033? | B8: AA4: Energy + Software + Robotaxi ($200)
A9: What percentage of other revenues in 2033 will be from software? | B9: 0.2 | D9: Expected Other Revenues in 2033 (in $ bil) | E9: $ Billion Revenues in 2033
A10: What percentage of other revenues in 2033 will be from robotaxis? | B10: 0.4 | D10: AA1: Energy only ($50) | E10: 50
A11: Revenues from other businesses in 2033 (based on inputs) = | B11: =VLOOKUP(B8,D10:E15,2)*1000 -> 200000 | D11: AA2: Energy + Software ($100) | E11: 100
A12: Revenues from energy in 2033 (based on your inputs) | B12: =(1-B9-B10)*B11 -> 80000 | D12: AA3: Energy + Big Software ($150) | E12: 150
A13: Revenues from software in 2033 (based on your inputs) | B13: =B9*B11 -> 40000 | D13: AA4: Energy + Software + Robotaxi ($200) | E13: 200
A14: Revenues from robotaxis in 2033 (based on your inputs) | B14: =B10*B11 -> 80000 | D14: AA5: Energy + Software + Big Robotaxi ($300) | E14: 300
A15: How many years before robotaxi revenues begin? | B15: 3 | D15: AA6: Direct Input (Enter revenues in 2033) | E15: 120
A16: Profitability Lever
A17: What operating margin will Tesla Auto have in 2033 (and beyond)? | B17: B7: Direct Input | D17: Operating Margin in 2028 | E17: Target Operating Margin
A18: Operating margin in 2028 | B18: =VLOOKUP(B17,D18:E24,2) -> 0.1 | D18: B1: Auto Industry First Quartile | E18: -0.1281
A19: What operating margin with Tesla Energy have in 2033 (and beyond)? | B19: 0.16 | D19: B2: Auto Industry Median | E19: 0.0325
A20: What operating margin with Tesla Software have in 2033 (and beyond)? | B20: 0.2181 | D20: B3: Auto Industry Third Quartile | E20: 0.0852
A21: What operating margin with Tesla Robotaxi have in 2033 (and beyond)? | B21: 0.25 | D21: B4: Technology Median | E21: 0.1025
A22: With your operating margin, Tesla's operating profits in 2033 ($ million) | B22: ='Valuation output'!L12 -> 91524 | D22: B5: Software | E22: 0.2124
D23: B6: FAANG Aggregate | E23: 0.1987
A24: Investment Efficiency Lever | D24: B7: Direct Input | E24: 0.1
A25: How many dollars of revenues will Tesla generate per $ of investment? | B25: C7: Direct Input
A26: Sales to Invested Capital used in valuation | B26: =VLOOKUP(B25,D27:E33,2) -> 4 | D26: Sales to Invested Capital | E26: Sales to Capital (1st 5 years)
A27: With your investment input, Tesla's return on capital in 2033 | B27: ='Valuation output'!L47 -> 0.28728071 | D27: C1: Auto Industry First Quartile | E27: 0.75
D28: C2: Auto Industry Median | E28: 1.37
A29: Risk Levers | D29: C3: Auto Industry Third Quartile | E29: 2.42
A30: What cost of capital do you want to give Tesla initially? | B30: D6: Direct Input | D30: C4: Technology Median | E30: 1.51
A31: If direct input, enter the cost of capital | B31: =VLOOKUP(B30,D36:E41,2) -> 0.0917 | D31: C5: Software | E31: 2.3
A32: What is the probability of failure | B32: E1: No chance | D32: C6: FAANG Aggregate | E32: 1.27
D33: C7: Direct Input | E33: 4
A34: Your key inputs wrere
A35: Expected Revenue Growth rate for next 5 years = | B35: =('Valuation output'!G7/'Valuation output'!B7)^(1/5)-1 -> 0.31183221 | D35: Cost of Capital | E35: Initial cost of capital
A36: Expected Pre-tax Operating Margin in year 5 = | B36: ='Valuation output'!G12/'Valuation output'!G7 -> 0.12191508 | D36: D1: Automobile Median | E36: 0.0965
A37: Sales to Invested Capital for first 5 years = | B37: ='Input sheet'!B35 -> 4 | D37: D2: Technology Median | E37: 0.1116
A38: Cost of capital to start = | B38: =B31 -> 0.0917 | D38: D3: All companies - First Quartile | E38: 0.0761
D39: D4: All companies - Median | E39: 0.0868
A40: And with these inptus, your value is | D40: D5: All companies - Third Quartile | E40: 0.0997
...

Sheet Input sheet
A1: Date of valuation | B1: 43857 | C1: Important: Before you run this spreadsheet, go into preferences in Excel and check under Calculation options
A2: Company name | B2: Tesla | C2: There should be a check against the iteration box. If there is not, you will get circular reasoning errors.
A3: Numbers from your base year below ( in consistent units)
B4: This year | C4: Last year
A5: Country of incorporation | B5: United States
A6: Industry (US) | B6: Auto & Truck
A7: Industry (Global) | B7: Auto & Truck | C7: Last 10K | D7: Years since last 10K
A8: Revenues (Auto) | B8: =19963+21268+19625+21563 -> 82419 | C8: 71462 | D8: 1
A9: Revenues (Energy) | B9: =1529+1509+1559+1438 -> 6035 | C9: 3909 | D9: 1
A10: Revenues (Rest) | B10: =1837+2150+2166+2166 -> 8319 | C10: 6091 | D10: 1
A11: Operating income or EBIT | B11: 8891 | C11: 13656 | D11: 1
A12: Interest expense | B12: 156 | C12: 191
A13: Book value of equity | B13: 62634 | C13: 44704
A14: Book value of debt | B14: =2373+2857 -> 5230 | C14: =1502+1597 -> 3099
A15: Do you have R&D expenses to capitalize? | B15: Yes | C15: If you want to capitalize R&D, you have to input the numbers into the R&D worksheet.
A16: Do you have operating lease commitments? | B16: No | C16: If you have operating leases, please enter your lease commitments in the lease worksheet below and I will convert to debt. If it is already considered debt by accountants, enter no.
A17: Cash and Marketable Securities | B17: =16398+12696 -> 29094 | C17: =16253+5932 -> 22185
A18: Cross holdings and other non-operating assets | B18: 0 | C18: 0
A19: Minority interests | B19: 733 | C19: 785
A20: Number of shares outstanding = | B20: =3174+19.1 -> 3193.1
A21: Current stock price = | B21: 182.58 | E21: Computed numbers: Here is what your company's numbers look like, relative to industry.
A22: Effective tax rate = | B22: =1027/11065 -> 0.092815183 | E22: If you are not working in US dollars, you should add the inflation differential to the industry averages.
A23: Marginal tax rate = | B23: 0.25 | I23: Company | J23: Industry (US data) | K23: Industry (Global data)
A24: The value drivers below: | E24: Revenue growth in the most recent year = | I24: =IF(C8>0,(B8/C8)^(1/D8)-1, "NA") -> 0.15332624 | J24: =VLOOKUP(B6,'Industry Average Beta (US)'!A2:S95,3) -> 0.21942111 | K24: =VLOOKUP(B7,'Industry Average Beta (Global)'!A2:N95,3) -> 0.081321569
A25: Revenues (Auto) in 2033 = | B25: ='Master Inputs'!B5 -> 500000 | C25: Growth Lever | E25: Pre-tax operating margin in the most recent year = | I25: ='Valuation output'!B8 -> 0.13174389 | J25: =VLOOKUP(B6,'Industry Average Beta (US)'!A2:AA95,4) -> 0.04819732 | K25: =VLOOKUP(B7,'Industry Average Beta (Global)'!A2:N95,4) -> 0.075594609
A26: Revenues (Energy) in 2033 = | B26: ='Master Inputs'!B12 -> 80000 | E26: Sales to capital ratio in most recent year = | I26: =B8/'Valuation output'!B46 -> 1.7304301 | J26: =VLOOKUP(B6,'Industry Average Beta (US)'!A2:S95,14) -> 1.0487317 | K26: =VLOOKUP(B7,'Industry Average Beta (Global)'!A2:N95,14) -> 1.2339367
A27: Revenues (Software) in 2033 = | B27: ='Master Inputs'!B13 -> 40000 | E27: Return on invested capital in most recent year= | I27: ='Valuation output'!B14/'Valuation output'!B46 -> 0.20681418 | J27: =VLOOKUP(B6,'Industry Average Beta (US)'!A2:S95,5) -> 0.051866325 | K27: =VLOOKUP(B7,'Industry Average Beta (Global)'!A2:N95,5) -> 0.086167571
A28: Revenues (Robotaxi and Rest) in 2033 = | B28: ='Master Inputs'!B14 -> 80000 | E28: Standard deviation in stock prices = | J28: =VLOOKUP(B6,'Industry Average Beta (US)'!A2:S95,10) -> 0.59698514 | K28: =VLOOKUP(B6,'Industry Average Beta (Global)'!A2:Z95,10) -> 0.36463723
A29: Target operating margin (autos) = | B29: ='Master Inputs'!B18 -> 0.1 | C29: Profitability Lever | E29: Cost of capital = | J29: =VLOOKUP(B6,'Industry Average Beta (US)'!A2:S95,13) -> 0.092567584 | K29: =VLOOKUP(B6,'Industry Average Beta (Global)'!A2:Z95,13) -> 0.098258755
A30: Target operating margin (energy) = | B30: ='Master Inputs'!B19 -> 0.16
A31: Target operating margin (software) = | B31: ='Master Inputs'!B20 -> 0.2181 | E31: Valuation Output Feedback (for you to use to fine tune your inputs, if you want)
A32: Target operating margin (robotaxi) = | B32: ='Master Inputs'!B21 -> 0.25 | E32: Revenues in year 10, based on your revenue growth = | J32: ='Valuation output'!M3 -> 520400
A33: Year of convergence | B33: 5 | C33: Speed of convergence level | E33: Pre-tax Operating Income in year 10, based on your operating margin = | J33: ='Valuation output'!M12 -> 95258.179
B34: Years 1-5 | C34: Years 6-10 | E34: Return on invested capital in year 10, based on your sales/capital ratio = | J34: ='Valuation output'!L47 -> 0.28728071
A35: Sales to capital ratio (for computing reinvestment) = | B35: =VLOOKUP('Master Inputs'!B25,'Master Inputs'!D27:E33,2) -> 4 | C35: =B35*(2/3) -> 2.6666667 | D35: Investment Efficiency | E35: Check the Diagnostics worksheet for more details.
A36: Market numbers
A37: Riskfree rate | B37: 0.0408 | E37: Value of operating assets = | H37: ='Valuation output'!B31 -> 612189.31
A38: Initial cost of capital = | B38: ='Master Inputs'!B38 -> 0.0917 | E38: Value of equity = | H38: ='Valuation output'!B38 -> 583558.92
A39: Other inputs | E39: Value per share | H39: ='Valuation output'!B40 -> 182.75623
A40: Do you have employee options outstanding? | B40: Yes
...

Sheet Valuation output
B1: Base year | C1: 1 | D1: 2 | E1: 3 | F1: 4 | G1: 5 | H1: 6 | I1: 7 | J1: 8 | K1: 9 | L1: 10 | M1: Terminal year
A2: Auto Revenue growth rate | C2: =C3/B3-1 -> 0.50665623 | D2: =D3/C3-1 -> 0.33627859 | E2: =E3/D3-1 -> 0.25165305 | F2: =F3/E3-1 -> 0.20105656 | G2: =G3/F3-1 -> 0.16739974 | H2: =H3/G3-1 -> 0.14339539 | I2: =I3/H3-1 -> 0.1254119 | J2: =J3/I3-1 -> 0.11143645 | ... L2: =L3/K3-1 -> 0.091126761 | M2: =IF('Input sheet'!B64="Yes",'Input sheet'!B65,'Input sheet'!B37) -> 0.0408
A3: Revenues(Auto) | B3: ='Input sheet'!B8 -> 82419 | C3: =B3+($L$3-B3)*(1/10) -> 124177.1 | D3: =C3+($L$3-C3)*(1/9) -> 165935.2 | E3: =D3+($L$3-D3)*(1/8) -> 207693.3 | F3: =E3+($L$3-E3)*(1/7) -> 249451.4 | G3: =F3+($L$3-F3)*(1/6) -> 291209.5 | H3: =G3+($L$3-G3)*(1/5) -> 332967.6 | I3: =H3+($L$3-H3)*(1/4) -> 374725.7 | J3: =I3+($L$3-I3)*(1/3) -> 416483.8 | K3: =J3+($L$3-J3)*(1/2) -> 458241.9 | L3: ='Input sheet'!B25 -> 500000 | M3: =L3*(1+$M$2) -> 520400
A4: Revenues (Energy) | B4: ='Input sheet'!B9 -> 6035 | C4: =B4+($G$4-B4)*(1/5) -> 13431.5 | D4: =C4+($G$4-C4)*(1/5) -> 19348.7 | E4: =D4+($G$4-D4)*(1/5) -> 24082.46 | F4: =E4+($G$4-E4)*(1/5) -> 27869.468 | G4: =B4+(L4-B4)*(1/2) -> 43017.5 | H4: =G4+(L4-G4)/5 -> 50414 | I4: =H4+(L4-H4)/4 -> 57810.5 | J4: =I4+(L4-I4)/3 -> 65207 | K4: =J4+(L4-J4)/2 -> 72603.5 | L4: ='Master Inputs'!B12 -> 80000 | M4: =L4*(1+$M$2) -> 83264
A5: Revenues (Software) | B5: ='Input sheet'!B10 -> 8319 | C5: =B5+($G$5-B5)*(1/5) -> 10431.067 | D5: =C5+($G$5-C5)*(1/5) -> 12120.72 | E5: =D5+($G$5-D5)*(1/5) -> 13472.443 | F5: =E5+($G$5-E5)*(1/5) -> 14553.821 | G5: =B5+(L5-B5)*(1/3) -> 18879.333 | H5: =G5+(L5-G5)/5 -> 23103.467 | I5: =H5+(L5-H5)/4 -> 27327.6 | J5: =I5+(L5-I5)/3 -> 31551.733 | K5: =J5+(L5-J5)/2 -> 35775.867 | L5: ='Master Inputs'!B13 -> 40000 | M5: =L5*(1+$M$2) -> 41632
A6: Revenues (Robotaxi) | B6: 0 | C6: =IF(C1>'Master Inputs'!$B$15,B6+($L$6-B6)/(10-C1+1),0) -> 0 | D6: =IF(D1>'Master Inputs'!$B$15,C6+($L$6-C6)/(10-D1+1),0) -> 0 | E6: =IF(E1>'Master Inputs'!$B$15,D6+($L$6-D6)/(10-E1+1),0) -> 0 | F6: =IF(F1>'Master Inputs'!$B$15,E6+($L$6-E6)/(10-F1+1),0) -> 11428.571 | G6: =IF(G1>'Master Inputs'!$B$15,F6+($L$6-F6)/(10-G1+1),0) -> 22857.143 | H6: =IF(H1>'Master Inputs'!$B$15,G6+($L$6-G6)/(10-H1+1),0) -> 34285.714 | I6: =IF(I1>'Master Inputs'!$B$15,H6+($L$6-H6)/(10-I1+1),0) -> 45714.286 | J6: =IF(J1>'Master Inputs'!$B$15,I6+($L$6-I6)/(10-J1+1),0) -> 57142.857 | K6: =IF(K1>'Master Inputs'!$B$15,J6+($L$6-J6)/(10-K1+1),0) -> 68571.429 | L6: ='Master Inputs'!B14 -> 80000 | M6: =L6*(1+$M$2) -> 83264
A7: Total Revenues | B7: =SUM(B3:B6) -> 96773 | C7: =SUM(C3:C6) -> 148039.67 | D7: =SUM(D3:D6) -> 197404.62 | E7: =SUM(E3:E6) -> 245248.2 | F7: =SUM(F3:F6) -> 303303.26 | G7: =SUM(G3:G6) -> 375963.48 | H7: =SUM(H3:H6) -> 440770.78 | I7: =SUM(I3:I6) -> 505578.09 | ... M7: =SUM(M3:M6) -> 728560
A8: Operating margin (Auto) | B8: =B12/B3 -> 0.13174389 | C8: =IF(C1>'Input sheet'!$B$33,'Input sheet'!$B$29,'Input sheet'!$B$29-(('Input sheet'!$B$29-$B$8)/'Input sheet'!$B$33)*('Input sheet'!$B$33-C1)) -> 0.12539512 | D8: =IF(D1>'Input sheet'!$B$33,'Input sheet'!$B$29,'Input sheet'!$B$29-(('Input sheet'!$B$29-$B$8)/'Input sheet'!$B$33)*('Input sheet'!$B$33-D1)) -> 0.11904634 | E8: =IF(E1>'Input sheet'!$B$33,'Input sheet'!$B$29,'Input sheet'!$B$29-(('Input sheet'!$B$29-$B$8)/'Input sheet'!$B$33)*('Input sheet'!$B$33-E1)) -> 0.11269756 | F8: =IF(F1>'Input sheet'!$B$33,'Input sheet'!$B$29,'Input sheet'!$B$29-(('Input sheet'!$B$29-$B$8)/'Input sheet'!$B$33)*('Input sheet'!$B$33-F1)) -> 0.10634878 | G8: =IF(G1>'Input sheet'!$B$33,'Input sheet'!$B$29,'Input sheet'!$B$29-(('Input sheet'!$B$29-$B$8)/'Input sheet'!$B$33)*('Input sheet'!$B$33-G1)) -> 0.1 | H8: =IF(H1>'Input sheet'!$B$33,'Input sheet'!$B$29,'Input sheet'!$B$29-(('Input sheet'!$B$29-$B$8)/'Input sheet'!$B$33)*('Input sheet'!$B$33-H1)) -> 0.1 | I8: =IF(I1>'Input sheet'!$B$33,'Input sheet'!$B$29,'Input sheet'!$B$29-(('Input sheet'!$B$29-$B$8)/'Input sheet'!$B$33)*('Input sheet'!$B$33-I1)) -> 0.1 | J8: =IF(J1>'Input sheet'!$B$33,'Input sheet'!$B$29,'Input sheet'!$B$29-(('Input sheet'!$B$29-$B$8)/'Input sheet'!$B$33)*('Input sheet'!$B$33-J1)) -> 0.1 | ... L8: =IF(L1>'Input sheet'!$B$33,'Input sheet'!$B$29,'Input sheet'!$B$29-(('Input sheet'!$B$29-$B$8)/'Input sheet'!$B$33)*('Input sheet'!$B$33-L1)) -> 0.1 | M8: =L8 -> 0.1
A9: Operating margin (Energy) | B9: 0.12 | C9: =IF(C1>'Input sheet'!$B$33,'Input sheet'!$B$30,'Input sheet'!$B$30-(('Input sheet'!$B$30-$B$9)/'Input sheet'!$B$33)*('Input sheet'!$B$33-C1)) -> 0.128 | D9: =IF(D1>'Input sheet'!$B$33,'Input sheet'!$B$30,'Input sheet'!$B$30-(('Input sheet'!$B$30-$B$9)/'Input sheet'!$B$33)*('Input sheet'!$B$33-D1)) -> 0.136 | E9: =IF(E1>'Input sheet'!$B$33,'Input sheet'!$B$30,'Input sheet'!$B$30-(('Input sheet'!$B$30-$B$9)/'Input sheet'!$B$33)*('Input sheet'!$B$33-E1)) -> 0.144 | F9: =IF(F1>'Input sheet'!$B$33,'Input sheet'!$B$30,'Input sheet'!$B$30-(('Input sheet'!$B$30-$B$9)/'Input sheet'!$B$33)*('Input sheet'!$B$33-F1)) -> 0.152 | G9: =IF(G1>'Input sheet'!$B$33,'Input sheet'!$B$30,'Input sheet'!$B$30-(('Input sheet'!$B$30-$B$9)/'Input sheet'!$B$33)*('Input sheet'!$B$33-G1)) -> 0.16 | H9: =IF(H1>'Input sheet'!$B$33,'Input sheet'!$B$30,'Input sheet'!$B$30-(('Input sheet'!$B$30-$B$9)/'Input sheet'!$B$33)*('Input sheet'!$B$33-H1)) -> 0.16 | I9: =IF(I1>'Input sheet'!$B$33,'Input sheet'!$B$30,'Input sheet'!$B$30-(('Input sheet'!$B$30-$B$9)/'Input sheet'!$B$33)*('Input sheet'!$B$33-I1)) -> 0.16 | J9: =IF(J1>'Input sheet'!$B$33,'Input sheet'!$B$30,'Input sheet'!$B$30-(('Input sheet'!$B$30-$B$9)/'Input sheet'!$B$33)*('Input sheet'!$B$33-J1)) -> 0.16 | K9: =IF(K1>'Input sheet'!$B$33,'Input sheet'!$B$30,'Input sheet'!$B$30-(('Input sheet'!$B$30-$B$9)/'Input sheet'!$B$33)*('Input sheet'!$B$33-K1)) -> 0.16 | L9: ='Input sheet'!B30 -> 0.16 | M9: =L9 -> 0.16
A10: Operating margin (Software) | B10: 0.1 | C10: =IF(C1>'Input sheet'!$B$33,'Input sheet'!$B$31,'Input sheet'!$B$31-(('Input sheet'!$B$31-$B$10)/'Input sheet'!$B$33)*('Input sheet'!$B$33-C1)) -> 0.12362 | D10: =IF(D1>'Input sheet'!$B$33,'Input sheet'!$B$31,'Input sheet'!$B$31-(('Input sheet'!$B$31-$B$10)/'Input sheet'!$B$33)*('Input sheet'!$B$33-D1)) -> 0.14724 | E10: =IF(E1>'Input sheet'!$B$33,'Input sheet'!$B$31,'Input sheet'!$B$31-(('Input sheet'!$B$31-$B$10)/'Input sheet'!$B$33)*('Input sheet'!$B$33-E1)) -> 0.17086 | F10: =IF(F1>'Input sheet'!$B$33,'Input sheet'!$B$31,'Input sheet'!$B$31-(('Input sheet'!$B$31-$B$10)/'Input sheet'!$B$33)*('Input sheet'!$B$33-F1)) -> 0.19448 | G10: =IF(G1>'Input sheet'!$B$33,'Input sheet'!$B$31,'Input sheet'!$B$31-(('Input sheet'!$B$31-$B$10)/'Input sheet'!$B$33)*('Input sheet'!$B$33-G1)) -> 0.2181 | H10: =IF(H1>'Input sheet'!$B$33,'Input sheet'!$B$31,'Input sheet'!$B$31-(('Input sheet'!$B$31-$B$10)/'Input sheet'!$B$33)*('Input sheet'!$B$33-H1)) -> 0.2181 | I10: =IF(I1>'Input sheet'!$B$33,'Input sheet'!$B$31,'Input sheet'!$B$31-(('Input sheet'!$B$31-$B$10)/'Input sheet'!$B$33)*('Input sheet'!$B$33-I1)) -> 0.2181 | J10: =IF(J1>'Input sheet'!$B$33,'Input sheet'!$B$31,'Input sheet'!$B$31-(('Input sheet'!$B$31-$B$10)/'Input sheet'!$B$33)*('Input sheet'!$B$33-J1)) -> 0.2181 | K10: =IF(K1>'Input sheet'!$B$33,'Input sheet'!$B$31,'Input sheet'!$B$31-(('Input sheet'!$B$31-$B$10)/'Input sheet'!$B$33)*('Input sheet'!$B$33-K1)) -> 0.2181 | L10: ='Input sheet'!B31 -> 0.2181 | M10: =L10 -> 0.2181
A11: Operating margin (Robotaxi) | B11: 0 | C11: =IF(C1>'Input sheet'!$B$33,'Input sheet'!$B$32,'Input sheet'!$B$32-(('Input sheet'!$B$32-$B$11)/'Input sheet'!$B$33)*('Input sheet'!$B$33-C1)) -> 0.05 | D11: =IF(D1>'Input sheet'!$B$33,'Input sheet'!$B$32,'Input sheet'!$B$32-(('Input sheet'!$B$32-$B$11)/'Input sheet'!$B$33)*('Input sheet'!$B$33-D1)) -> 0.1 | E11: =IF(E1>'Input sheet'!$B$33,'Input sheet'!$B$32,'Input sheet'!$B$32-(('Input sheet'!$B$32-$B$11)/'Input sheet'!$B$33)*('Input sheet'!$B$33-E1)) -> 0.15 | F11: =IF(F1>'Input sheet'!$B$33,'Input sheet'!$B$32,'Input sheet'!$B$32-(('Input sheet'!$B$32-$B$11)/'Input sheet'!$B$33)*('Input sheet'!$B$33-F1)) -> 0.2 | G11: =IF(G1>'Input sheet'!$B$33,'Input sheet'!$B$32,'Input sheet'!$B$32-(('Input sheet'!$B$32-$B$11)/'Input sheet'!$B$33)*('Input sheet'!$B$33-G1)) -> 0.25 | H11: =IF(H1>'Input sheet'!$B$33,'Input sheet'!$B$32,'Input sheet'!$B$32-(('Input sheet'!$B$32-$B$11)/'Input sheet'!$B$33)*('Input sheet'!$B$33-H1)) -> 0.25 | I11: =IF(I1>'Input sheet'!$B$33,'Input sheet'!$B$32,'Input sheet'!$B$32-(('Input sheet'!$B$32-$B$11)/'Input sheet'!$B$33)*('Input sheet'!$B$33-I1)) -> 0.25 | J11: =IF(J1>'Input sheet'!$B$33,'Input sheet'!$B$32,'Input sheet'!$B$32-(('Input sheet'!$B$32-$B$11)/'Input sheet'!$B$33)*('Input sheet'!$B$33-J1)) -> 0.25 | K11: =IF(K1>'Input sheet'!$B$33,'Input sheet'!$B$32,'Input sheet'!$B$32-(('Input sheet'!$B$32-$B$11)/'Input sheet'!$B$33)*('Input sheet'!$B$33-K1)) -> 0.25 | L11: ='Input sheet'!B32 -> 0.25 | M11: =L11 -> 0.25
A12: EBIT (Operating income) | B12: =IF('Input sheet'!B16="Yes",IF('Input sheet'!B15="Yes",'Input sheet'!B11+'Operating lease converter'!F32+'R& D converter'!D39,'Input sheet'!B11+'Operating lease converter'!F32),IF('Input sheet'!B15="Yes",'Input sheet'!B11+'R& D converter'!D39,'Input sheet'!B11)) -> 10858.2 | C12: =C8*C3+C9*C4+C10*C5+C11*C6 -> 18579.922 | D12: =D8*D3+D9*D4+D10*D5+D11*D6 -> 24170.056 | E12: =E8*E3+E9*E4+E10*E5+E11*E6 -> 29176.303 | F12: =F8*F3+F9*F4+F10*F5+F11*F6 -> 35881.152 | G12: =G8*G3+G9*G4+G10*G5+G11*G6 -> 45835.618 | H12: =H8*H3+H9*H4+H10*H5+H11*H6 -> 54973.295 | I12: =I8*I3+I9*I4+I10*I5+I11*I6 -> 64110.971 | J12: =J8*J3+J9*J4+J10*J5+J11*J6 -> 73248.647 | ... M12: =M8*M3+M9*M4+M10*M5+M11*M6 -> 95258.179 | N12: =M12-B12 -> 84399.979
A13: Tax rate | B13: ='Input sheet'!B22 -> 0.092815183 | C13: =B13 -> 0.092815183 | D13: =C13 -> 0.092815183 | E13: =D13 -> 0.092815183 | F13: =E13 -> 0.092815183 | G13: =F13 -> 0.092815183 | H13: =G13+($M$13-$G$13)/5 -> 0.12425215 | I13: =H13+($M$13-$G$13)/5 -> 0.15568911 | J13: =I13+($M$13-$G$13)/5 -> 0.18712607 | K13: =J13+($M$13-$G$13)/5 -> 0.21856304 | L13: =K13+($M$13-$G$13)/5 -> 0.25 | M13: =IF('Input sheet'!B59="Yes",'Input sheet'!B22,'Input sheet'!B23) -> 0.25
A14: EBIT(1-t) | B14: =IF(B12>0,B12*(1-B13),B12) -> 9850.3942 | C14: =IF(C12>0,IF(C12<B17,C12,C12-(C12-B17)*C13),C12) -> 16855.423 | D14: =IF(D12>0,IF(D12<C17,D12,D12-(D12-C17)*D13),D12) -> 21926.708 | E14: =IF(E12>0,IF(E12<D17,E12,E12-(E12-D17)*E13),E12) -> 26468.299 | F14: =IF(F12>0,IF(F12<E17,F12,F12-(F12-E17)*F13),F12) -> 32550.837 | G14: =IF(G12>0,IF(G12<F17,G12,G12-(G12-F17)*G13),G12) -> 41581.377 | H14: =IF(H12>0,IF(H12<G17,H12,H12-(H12-G17)*H13),H12) -> 48142.745 | I14: =IF(I12>0,IF(I12<H17,I12,I12-(I12-H17)*I13),I12) -> 54129.591 | J14: =IF(J12>0,IF(J12<I17,J12,J12-(J12-I17)*J13),J12) -> 59541.916 | ... L14: =IF(L12>0,IF(L12<K17,L12,L12-(L12-K17)*L13),L12) -> 68643 | M14: =M12*(1-M13) -> 71443.634
A15: - Reinvestment | C15: =(C7-B7)/C45 -> 12816.667 | D15: =(D7-C7)/D45 -> 12341.238 | E15: =(E7-D7)/E45 -> 11960.896 | F15: =(F7-E7)/F45 -> 14513.764 | G15: =(G7-F7)/G45 -> 18165.054 | H15: =(H7-G7)/H45 -> 24302.739 | I15: =(I7-H7)/I45 -> 24302.739 | J15: =(J7-I7)/J45 -> 24302.739 | ... L15: =(L7-K7)/L45 -> 24302.739 | M15: =IF(M2>0,(M2/M47)*M14,0) -> 19432.669 | N15: =SUM(C15:M15) -> 210743.98
A16: FCFF | C16: =C14-C15 -> 4038.7567 | D16: =D14-D15 -> 9585.4692 | E16: =E14-E15 -> 14507.404 | F16: =F14-F15 -> 18037.072 | G16: =G14-G15 -> 23416.323 | H16: =H14-H15 -> 23840.006 | I16: =I14-I15 -> 29826.852 | J16: =J14-J15 -> 35239.176 | ... M16: =M14-M15 -> 52010.966
A17: NOL | B17: =IF('Input sheet'!B61="Yes",'Input sheet'!B62,0) -> 0 | C17: =IF(C12<0,B17-C12,IF(B17>C12,B17-C12,0)) -> 0 | D17: =IF(D12<0,C17-D12,IF(C17>D12,C17-D12,0)) -> 0 | E17: =IF(E12<0,D17-E12,IF(D17>E12,D17-E12,0)) -> 0 | F17: =IF(F12<0,E17-F12,IF(E17>F12,E17-F12,0)) -> 0 | G17: =IF(G12<0,F17-G12,IF(F17>G12,F17-G12,0)) -> 0 | H17: =IF(H12<0,G17-H12,IF(G17>H12,G17-H12,0)) -> 0 | I17: =IF(I12<0,H17-I12,IF(H17>I12,H17-I12,0)) -> 0 | J17: =IF(J12<0,I17-J12,IF(I17>J12,I17-J12,0)) -> 0 | ... M17: =IF(M12<0,L17-M12,IF(L17>M12,L17-M12,0)) -> 0
A19: Cost of capital | C19: ='Input sheet'!B38 -> 0.0917 | D19: =C19 -> 0.0917 | E19: =D19 -> 0.0917 | F19: =E19 -> 0.0917 | G19: =F19 -> 0.0917 | H19: =G19-($G$19-$M$19)/5 -> 0.09072 | I19: =H19-($G$19-$M$19)/5 -> 0.08974 | J19: =I19-($G$19-$M$19)/5 -> 0.08876 | K19: =J19-($G$19-$M$19)/5 -> 0.08778 | L19: =K19-($G$19-$M$19)/5 -> 0.0868 | M19: =IF('Input sheet'!B48="Yes",'Input sheet'!B49,'Input sheet'!B37+0.045) -> 0.0868
A20: Cumulated discount factor | C20: =1/(1+C19) -> 0.91600256 | D20: =C20*(1/(1+D19)) -> 0.8390607 | E20: =D20*(1/(1+E19)) -> 0.76858175 | F20: =E20*(1/(1+F19)) -> 0.70402286 | G20: =F20*(1/(1+G19)) -> 0.64488674 | H20: =G20*(1/(1+H19)) -> 0.59124866 | I20: =H20*(1/(1+I19)) -> 0.54255938 | J20: =I20*(1/(1+J19)) -> 0.49832781 | K20: =J20*(1/(1+K19)) -> 0.45811452 | L20: =K20*(1/(1+L19)) -> 0.42152605
A21: PV(FCFF) | C21: =C16*C20 -> 3699.5115 | D21: =D16*D20 -> 8042.7905 | E21: =E16*E20 -> 11150.126 | F21: =F16*F20 -> 12698.511 | G21: =G16*G20 -> 15100.876 | H21: =H16*H20 -> 14095.371 | I21: =I16*I20 -> 16182.838 | J21: =J16*J20 -> 17560.661 | ... L21: =L16*L20 -> 18690.575 | M21: 57027`
A23: Terminal cash flow | B23: =M16 -> 52010.966
A24: Terminal cost of capital | B24: =M19 -> 0.0868
A25: Terminal value | B25: =B23/(B24-M2) -> 1130673.2
A26: PV(Terminal value) | B26: =B25*L20 -> 476608.2
A27: PV (CF over next 10 years) | B27: =SUM(C21:L21) -> 135581.11
A28: Sum of PV | B28: =B26+B27 -> 612189.31
A29: Probability of failure = | B29: =IF('Input sheet'!B54="Yes",'Input sheet'!B55,0) -> 0
A30: Proceeds if firm fails = | B30: =IF('Input sheet'!B56="B",('Input sheet'!B13+'Input sheet'!B14)*'Input sheet'!B57,'Valuation output'!B28*'Input sheet'!B57) -> 306094.65
A31: Value of operating assets = | B31: =B28*(1-B29)+B30*B29 -> 612189.31
A32: - Debt | B32: =IF('Input sheet'!B16="Yes",'Input sheet'!B14+'Operating lease converter'!C28,'Input sheet'!B14) -> 5230
A33: - Minority interests | B33: ='Input sheet'!B19 -> 733
A34: + Cash | B34: =IF('Input sheet'!B67="YES",'Input sheet'!B17-'Input sheet'!B68*('Input sheet'!B23-'Input sheet'!B69),'Input sheet'!B17) -> 29094
A35: + Non-operating assets | B35: ='Input sheet'!B18 -> 0
A36: Value of equity | B36: =B31-B32-B33+B34+B35 -> 635320.31
A37: - Value of options | B37: =IF('Input sheet'!B40="No",0,'Option value'!D27) -> 51761.387
A38: Value of equity in common stock | B38: =B36-B37 -> 583558.92
A39: Number of shares | B39: ='Input sheet'!B20 -> 3193.1
A40: Estimated value /share | B40: =B38/B39 -> 182.75623
A41: Price | B41: ='Input sheet'!B21 -> 182.58
A42: Price as % of value | B42: =B41/B40 -> 0.99903571
...

Sheet Stories to Numbers
A1: ='Input sheet'!B2 -> Tesla
A2: An Auto Tale, with Add-on Stories | G2: ='Input sheet'!B1 -> 43857
A3: The news in 2023 for Tesla, ranging from price cuts on many of its lowest-priced models, in conjunction with the Cybertruck introduction, suggests that Tesla will continue to grow in its core auto business, maintaining a dominant market share of the electric car component. In conjunection, a rise in revenues and operating profits from the energy businesss, coming from a shift to energy storage soltuions will expand the profitability of that business, and Tesla's committment to FSD will translate into software revenues (from sale as an add-on) and provide an impetus to a robotaxi business. | H3: Tell your story about the company. Keep it focuses on the company's businesses and tie it into the three key levers of value: cash flows, growth and risk
A7: The Assumptions
B8: Base year | C8: 44105 | D8: Year 10 | F8: After year 10 | G8: Link to story
A9: Revenues (a) | B9: ='Valuation output'!B7 -> 96773 | D9: =F9 -> 0.0408 | F9: ='Valuation output'!M2 -> 0.0408 | G9: Growth in EV market & Tesla's early mover advantage work in its favor. | H9: Tie each assumption to the part of your story that relates to it.
A10: Operating margin (b) | B10: ='Valuation output'!B12/'Valuation output'!B7 -> 0.11220278 | C10: =B10 -> 0.11220278 | D10: ='Valuation output'!G12/'Valuation output'!G7 -> 0.12191508 | F10: ='Valuation output'!L12/'Valuation output'!L7 -> 0.13074857 | G10: Tech twist gives a boost, but price cuts and cost pressures will cap margins
A11: Tax rate | B11: ='Valuation output'!B13 -> 0.092815183 | C11: =B11 -> 0.092815183 | D11: =F11 -> 0.25 | F11: ='Valuation output'!M13 -> 0.25 | G11: Global tax rate
A12: Reinvestment (c ) | C12: Sales to capital ratio = | D12: ='Input sheet'!B35 -> 4 | E12: RIR = | F12: ='Valuation output'!M2/'Valuation output'!M47 -> 0.272 | G12: Capacity build up allows for less reinvestment in the near years.
A13: Return on capital | B13: ='Valuation output'!B47 -> 0.20681418 | C13: Marginal ROIC = | D13: =Diagnostics!B6 -> 0.42164678 | F13: ='Valuation output'!M47 -> 0.15 | G13: Cost of entry will limit competition.
A14: Cost of capital (d) | C14: ='Valuation output'!C19 -> 0.0917 | D14: =F14 -> 0.0868 | F14: ='Valuation output'!M19 -> 0.0868 | G14: Moves to median company cost of capital
A15: The Cash Flows
B16: Revenues | C16: Operating Margin | D16: EBIT | E16: EBIT (1-t) | F16: Reinvestment | G16: FCFF | H16: These are the numbers that come from your assumptions. The revenues over time reflect your revenue growth, the operating margins evolve towards your target margin and your tax rate will change, if you have set it to. The reinvestment is estimated using the sales to capital ratio for the first 10 years and based on a reinvestment rate in stable growth (g/ ROC).
A17: 1 | B17: ='Valuation output'!C7 -> 148039.67 | C17: =D17/B17 -> 0.12550638 | D17: ='Valuation output'!C12 -> 18579.922 | E17: ='Valuation output'!C14 -> 16855.423 | F17: ='Valuation output'!C15 -> 12816.667 | G17: =E17-F17 -> 4038.7567
A18: 2 | B18: ='Valuation output'!D7 -> 197404.62 | C18: =D18/B18 -> 0.12243916 | D18: ='Valuation output'!D12 -> 24170.056 | E18: ='Valuation output'!D14 -> 21926.708 | F18: ='Valuation output'!D15 -> 12341.238 | G18: =E18-F18 -> 9585.4692
A19: 3 | B19: ='Valuation output'!E7 -> 245248.2 | C19: =D19/B19 -> 0.11896643 | D19: ='Valuation output'!E12 -> 29176.303 | E19: ='Valuation output'!E14 -> 26468.299 | F19: ='Valuation output'!E15 -> 11960.896 | G19: =E19-F19 -> 14507.404
A20: 4 | B20: ='Valuation output'!F7 -> 303303.26 | C20: =D20/B20 -> 0.11830124 | D20: ='Valuation output'!F12 -> 35881.152 | E20: ='Valuation output'!F14 -> 32550.837 | F20: ='Valuation output'!F15 -> 14513.764 | G20: =E20-F20 -> 18037.072
A21: 5 | B21: ='Valuation output'!G7 -> 375963.48 | C21: =D21/B21 -> 0.12191508 | D21: ='Valuation output'!G12 -> 45835.618 | E21: ='Valuation output'!G14 -> 41581.377 | F21: ='Valuation output'!G15 -> 18165.054 | G21: =E21-F21 -> 23416.323
A22: 6 | B22: ='Valuation output'!H7 -> 440770.78 | C22: =D22/B22 -> 0.12472082 | D22: ='Valuation output'!H12 -> 54973.295 | E22: ='Valuation output'!H14 -> 48142.745 | F22: ='Valuation output'!H15 -> 24302.739 | G22: =E22-F22 -> 23840.006
A23: 7 | B23: ='Valuation output'!I7 -> 505578.09 | C23: =D23/B23 -> 0.12680726 | D23: ='Valuation output'!I12 -> 64110.971 | E23: ='Valuation output'!I14 -> 54129.591 | F23: ='Valuation output'!I15 -> 24302.739 | G23: =E23-F23 -> 29826.852
A24: 8 | B24: ='Valuation output'!J7 -> 570385.39 | C24: =D24/B24 -> 0.12841957 | D24: ='Valuation output'!J12 -> 73248.647 | E24: ='Valuation output'!J14 -> 59541.916 | F24: ='Valuation output'!J15 -> 24302.739 | G24: =E24-F24 -> 35239.176
A25: 9 | B25: ='Valuation output'!K7 -> 635192.7 | C25: =D25/B25 -> 0.12970288 | D25: ='Valuation output'!K12 -> 82386.324 | E25: ='Valuation output'!K14 -> 64379.719 | F25: ='Valuation output'!K15 -> 24302.739 | G25: =E25-F25 -> 40076.979
A26: 10 | B26: ='Valuation output'!L7 -> 700000 | C26: =D26/B26 -> 0.13074857 | D26: ='Valuation output'!L12 -> 91524 | E26: ='Valuation output'!L14 -> 68643 | F26: ='Valuation output'!L15 -> 24302.739 | G26: =E26-F26 -> 44340.261
A27: Terminal year | B27: ='Valuation output'!M7 -> 728560 | C27: =D27/B27 -> 0.13074857 | D27: ='Valuation output'!M12 -> 95258.179 | E27: ='Valuation output'!M14 -> 71443.634 | F27: ='Valuation output'!M15 -> 19432.669 | G27: =E27-F27 -> 52010.966
A28: The Value
A29: Terminal value | D29: ='Valuation output'!B25 -> 1130673.2 | H29: This is the output from your valuation. It reflects your cash flows being discounted back at the cost of capital to get to your operating asset value, which then gets adjusted for the likelihood that your firm will not make it. We add cash and non-operating assets, subtract out debt and minority interests to get to value of equity.
A30: PV(Terminal value) | D30: ='Valuation output'!B26 -> 476608.2
A31: PV (CF over next 10 years) | D31: ='Valuation output'!B27 -> 135581.11
A32: Value of operating assets = | D32: ='Valuation output'!B28 -> 612189.31
A33: Adjustment for distress | D33: =D32-'Valuation output'!B31 -> 0 | E33: Probability of failure = | G33: ='Valuation output'!B29 -> 0
A34: - Debt & Minority Interests | D34: ='Valuation output'!B32+'Valuation output'!B33 -> 5963
A35: + Cash & Other Non-operating assets | D35: ='Valuation output'!B34+'Valuation output'!B35 -> 29094
A36: Value of equity | D36: =D32-D33-D34+D35 -> 635320.31
A37: - Value of equity options | D37: ='Valuation output'!B37 -> 51761.387
A38: Number of shares | D38: ='Valuation output'!B39 -> 3193.1
A39: Value per share | D39: =(D36-D37)/D38 -> 182.75623 | E39: Stock was trading at = | G39: ='Input sheet'!B21 -> 182.58

Sheet Diagnostics
A1: VALUATION DIAGNOSTICS
A2: Invested capital at start of valuation | B2: ='Valuation output'!B46 -> 47629.2
A3: Invested capital at end of valuation | B3: ='Valuation output'!L46 -> 238940.52
A4: Change in invested capital over 10 years | B4: =B3-B2 -> 191311.32
A5: Change in EBIT*(1–t) (after-tax operating income) over 10 years | B5: ='Valuation output'!L12-'Valuation output'!B12 -> 80665.8
A6: Marginal ROIC over 10 years | B6: =B5/B4 -> 0.42164678
A7: ROIC at end of valuation | B7: ='Valuation output'!L47 -> 0.28728071
A8: Average WACC over the 10 years (compounded) | B8: =(1/'Valuation output'!L20)^(1/10)-1 -> 0.090228567
A9: Your calculated value as a percent of current price | B9: ='Valuation output'!B40/'Valuation output'!B41 -> 1.0009652
B10: =IF(B9="NA","Value is negative. See below",IF(B9>2,"Value seems high. See below",IF(B9<0.5,"Value seems low. See below"," ")))
A11: Inputs | B11: If calculated value is negative or looks too low | C11: If calculated value looks too high
A12: Revenue growth rate (input cell B3) | B12: Increase revenue growth rate | C12: Decrease revenue growth rate
A13: Last period EBIT as % of revenue (Input cell B14) | B13: Increase the target pre-tax operating margin | C13: Decrease the target pre-tax operating margin
A14: Sales to Capital Ratio or reinvestment (Input cell B15) | B14: Decrease the sales/capital ratio | C14: Increase the sales/capital ratio
A15: Return on capital in perpetuity (B30 & B31) | B15: Increase relative to your cost of capital | C15: If higher than your cost of capital, lower towards your cost of capital | D15: T

Sheet Business Value
A1: Tesla Business | B1: Value
A2: Auto | B2: 351402
A3: Energy | B3: =C3-B2 -> 81965 | C3: 433367
A4: Software | B4: =C4-C3 -> 54474 | C4: 487841
A5: Robotaxi | B5: =C5-C4 -> 121679 | C5: 609520

Sheet Option value
A1: Valuing Options or Warrants
A2: Enter the current stock price = | D2: ='Valuation output'!B40 -> 182.75623
A3: Enter the strike price on the option = | D3: ='Input sheet'!B42 -> 35.11
A4: Enter the expiration of the option = | D4: ='Input sheet'!B43 -> 4.31
A5: Enter the standard deviation in stock prices = | D5: ='Input sheet'!B44 -> 0.4 | E5: (volatility)
A6: Enter the annualized dividend yield on stock = | D6: 0
A7: Enter the treasury bond rate = | D7: ='Input sheet'!B37 -> 0.0408
A8: Enter the number of warrants (options) outstanding = | D8: ='Input sheet'!B41 -> 344.02
A9: Enter the number of shares outstanding = | D9: ='Input sheet'!B20 -> 3193.1
A11: Do not input any numbers below this line
A12: VALUING WARRANTS WHEN THERE IS DILUTION
A13: Stock Price= | C13: =D2 -> 182.75623 | D13: # Warrants issued= | F13: =D8 -> 344.02
A14: Strike Price= | C14: =D3 -> 35.11 | D14: # Shares outstanding= | F14: =D9 -> 3193.1
A15: Adjusted S = | C15: =(C13*F14+C26*F13)/(F14+F13) -> 179.61514 | D15: T.Bond rate= | F15: =D7 -> 0.0408
A16: Adjusted K = | C16: =C14 -> 35.11 | D16: Variance= | F16: =D5^2 -> 0.16
A17: Expiration (in years) = | C17: =D4 -> 4.31 | D17: Annualized dividend yield= | F17: =D6 -> 0
D18: Div. Adj. interest rate= | F18: =F15-F17 -> 0.0408
A20: d1 = | B20: =(LN(C15/C16)+(F18+(F16/2))*C17)/(((F16)^(0.5))*(C17^0.5)) -> 2.5926331
A21: N (d1) = | B21: =NORMSDIST(B20) -> 0.99523778
A23: d2 = | B23: =B20-((F16^0.5)*(C17^(0.5))) -> 1.7622115
A24: N (d2) = | B24: =NORMSDIST(B23) -> 0.96098322
A26: Value per option = | C26: =((EXP((0-F17)*C17))*C15*B21-C16*(EXP((0-F15)*C17))*B24) -> 150.4604
A27: Value of all options outstanding = | D27: =C26*D8 -> 51761.387

Sheet Cost of capital worksheet
A1: You can use this spreadsheet to compute your cost of capital. You can either use the built-in data to compute key inputs (beta, equity risk premium, default spread) or enter them directly. If you choose to use the built in ERP data, you can update the ERP numbers to reflect a more current mature market premuum (since the spreadsheet uses the start of the year numbers).
A3: Estimation of Current Cost of Capital | G3: Operating Countries ERP calculator
A4: Inputs | G4: Country | H4: Revenues | I4: ERP | J4: Weight | K4: Weighted ERP
A5: Equity | G5: United States of America | H5: 45235 | I5: =IF(H5=0,0,VLOOKUP(G5,'Country equity risk premiums'!$A$5:$D$195,4)) -> 0.045 | J5: =IF(H5>0,H5/$H$18,) -> 0.4674341 | K5: =IF(J5=0,0,I5*J5) -> 0.021034534 | M5: The last two rows in each of country/region risk premium tables is set aside for your input to provide you with flexibility to enter some numbers directly. For instance, assume that you have a company that breaks its revenues down into three countries and then puts the rest into "Rest of the World". You can enter the "Rest of the World" in one of these two rows and enter an equity risk premium for the rest of the world. The easiest way to do that is to go into the country equity risk premium worksheet and change the GDP for the three countries that you have data for to zero and compute the global weighted average ERP for the remaining countries. With the regional worksheet, you can use the last two rows to enter the data for an individual country (usually the domestic country) that might be broken out though the rest of the revenues are broken down by region. You can look up the ERP for the country in the country ERP worksheet.
A6: Number of Shares outstanding = | B6: ='Input sheet'!B20 -> 3193.1 | G6: China | H6: 21745 | I6: =IF(H6=0,0,VLOOKUP(G6,'Country equity risk premiums'!$A$5:$D$195,4)) -> 0.055313534 | J6: =IF(H6>0,H6/$H$18,) -> 0.2247011 | K6: =IF(J6=0,0,I6*J6) -> 0.012429012
A7: Current Market Price per share = | B7: ='Input sheet'!B21 -> 182.58 | I7: =IF(H7=0,0,VLOOKUP(G7,'Country equity risk premiums'!$A$5:$D$195,4)) -> 0 | J7: =IF(H7>0,H7/$H$18,) -> 0 | K7: =IF(J7=0,0,I7*J7) -> 0
I8: =IF(H8=0,0,VLOOKUP(G8,'Country equity risk premiums'!$A$5:$D$195,4)) -> 0 | J8: =IF(H8>0,H8/$H$18,) -> 0 | K8: =IF(J8=0,0,I8*J8) -> 0
A9: Approach for estimating beta | B9: Multibusiness(Global) | I9: =IF(H9=0,0,VLOOKUP(G9,'Country equity risk premiums'!$A$5:$D$195,4)) -> 0 | J9: =IF(H9>0,H9/$H$18,) -> 0 | K9: =IF(J9=0,0,I9*J9) -> 0
A10: If direct input, enter levered beta (or regression beta) | B10: 1.2 | I10: =IF(H10=0,0,VLOOKUP(G10,'Country equity risk premiums'!$A$5:$D$195,4)) -> 0 | J10: =IF(H10>0,H10/$H$18,) -> 0 | K10: =IF(J10=0,0,I10*J10) -> 0
A11: Unlevered beta = | B11: =IF(B9="Single Business(US)",VLOOKUP('Input sheet'!B6,'Industry Average Beta (US)'!A2:G95,7),IF(B9="Multibusiness(US)",K48,IF(B9="Single Business(Global)",VLOOKUP('Input sheet'!B7,'Industry Average Beta (Global)'!A2:G95,7),'Cost of capital worksheet'!K64))) -> 0.95943121 | I11: =IF(H11=0,0,VLOOKUP(G11,'Country equity risk premiums'!$A$5:$D$195,4)) -> 0 | J11: =IF(H11>0,H11/$H$18,) -> 0 | K11: =IF(J11=0,0,I11*J11) -> 0
A12: Riskfree Rate = | B12: ='Input sheet'!B37 -> 0.0408 | I12: =IF(H12=0,0,VLOOKUP(G12,'Country equity risk premiums'!$A$5:$D$195,4)) -> 0 | J12: =IF(H12>0,H12/$H$18,) -> 0 | K12: =IF(J12=0,0,I12*J12) -> 0
A13: What approach do you want to use to input ERP? | B13: Operating countries | I13: =IF(H13=0,0,VLOOKUP(G13,'Country equity risk premiums'!$A$5:$D$195,4)) -> 0 | J13: =IF(H13>0,H13/$H$18,) -> 0 | K13: =IF(J13=0,0,I13*J13) -> 0
A14: Direct input for ERP (if you choose "will input" | B14: 0.06 | I14: =IF(H14=0,0,VLOOKUP(G14,'Country equity risk premiums'!$A$5:$D$195,4)) -> 0 | J14: =IF(H14>0,H14/$H$18,) -> 0 | K14: =IF(J14=0,0,I14*J14) -> 0
A15: Equity Risk Premium used in cost of equity = | B15: =IF(B13="Will Input",B14,IF(B13="Country of Incorporation",VLOOKUP('Input sheet'!B5,'Country equity risk premiums'!A5:E190,4),IF(B13="Operating regions",'Cost of capital worksheet'!K32,'Cost of capital worksheet'!K18))) -> 0.05319768 | I15: =IF(H15=0,0,VLOOKUP(G15,'Country equity risk premiums'!$A$5:$D$195,4)) -> 0 | J15: =IF(H15>0,H15/$H$18,) -> 0 | K15: =IF(J15=0,0,I15*J15) -> 0
G16: Rest of the World | H16: 29793 | I16: 0.0641 | J16: =IF(H16>0,H16/$H$18,) -> 0.3078648 | K16: =IF(J16=0,0,I16*J16) -> 0.019734133
A17: Debt | J17: =IF(H17>0,H17/$H$18,) -> 0 | K17: =IF(J17=0,0,I17*J17) -> 0
A18: Book Value of Straight Debt = | B18: ='Input sheet'!B14 -> 5230 | G18: Total | H18: =SUM(H5:H17) -> 96773 | J18: =SUM(J5:J17) -> 1 | K18: =SUM(K5:K17) -> 0.05319768
A19: Interest Expense on Debt = | B19: ='Input sheet'!B12 -> 156 | G19: Operating Regions ERP calculator
A20: Average Maturity = | B20: 3 | G20: Region | H20: Revenues | I20: ERP | J20: Weight | K20: Weighted ERP
A21: Approach for estimating pre-tax cost of debt | B21: Actual rating | G21: ='Country equity risk premiums'!A201 -> Africa | H21: 0 | I21: ='Country equity risk premiums'!B201 -> 0.13663852 | J21: =H21/$H$32 -> 0 | K21: =I21*J21 -> 0
A22: If direct input, input the pre-tax cost of debt | B22: 0.04 | G22: ='Country equity risk premiums'!A202 -> Asia | H22: =3159+4281 -> 7440 | I22: ='Country equity risk premiums'!B202 -> 0.061805405 | J22: =H22/$H$32 -> 0.073442312 | K22: =I22*J22 -> 0.0045391319
A23: If actual rating, input the rating | B23: Baa2/BBB | G23: ='Country equity risk premiums'!A203 -> Australia & New Zealand | I23: ='Country equity risk premiums'!B203 -> 0.045047924 | J23: =H23/$H$32 -> 0 | K23: =I23*J23 -> 0
A24: If synethetic rating, input the type of company | B24: 1 | G24: ='Country equity risk premiums'!A204 -> Caribbean | H24: 0 | I24: ='Country equity risk premiums'!B204 -> 0.18653488 | J24: =H24/$H$32 -> 0 | K24: =I24*J24 -> 0
A25: Pre-tax Cost of Debt = | B25: =IF(B21="Direct Input",B22,IF(B21="Synthetic Rating",'Synthetic rating'!D13,B12+VLOOKUP('Cost of capital worksheet'!B23,'Synthetic rating'!G39:H53,2))) -> 0.0555 | G25: ='Country equity risk premiums'!A205 -> Central and South America | H25: 0 | I25: ='Country equity risk premiums'!B205 -> 0.10261091 | J25: =H25/$H$32 -> 0 | K25: =I25*J25 -> 0
A26: Tax Rate = | B26: ='Input sheet'!B23 -> 0.25 | G26: ='Country equity risk premiums'!A206 -> Eastern Europe & Russia | I26: ='Country equity risk premiums'!B206 -> 0.095579383 | J26: =H26/$H$32 -> 0 | K26: =I26*J26 -> 0
G27: ='Country equity risk premiums'!A207 -> Middle East | H27: 0 | I27: ='Country equity risk premiums'!B207 -> 0.066589991 | J27: =H27/$H$32 -> 0 | K27: =I27*J27 -> 0
A28: Book Value of Convertible Debt = | B28: 0 | G28: ='Country equity risk premiums'!A208 -> North America | H28: 93864 | I28: ='Country equity risk premiums'!B208 -> 0.045 | J28: =H28/$H$32 -> 0.92655769 | K28: =I28*J28 -> 0.041695096
A29: Interest Expense on Convertible = | B29: 0 | G29: ='Country equity risk premiums'!A209 -> Western Europe | I29: ='Country equity risk premiums'!B209 -> 0.057871606 | J29: =H29/$H$32 -> 0 | K29: =I29*J29 -> 0
A30: Maturity of Convertible Bond = | B30: 0 | J30: =H30/$H$32 -> 0 | K30: =I30*J30 -> 0
A31: Market Value of Convertible = | B31: 0 | J31: =H31/$H$32 -> 0 | K31: =I31*J31 -> 0
G32: Total | H32: =SUM(H21:H31) -> 101304 | J32: =SUM(J21:J31) -> 1 | K32: =SUM(K21:K31) -> 0.046234228
A33: Debt value of operating leases = | B33: =IF('Input sheet'!B16="Yes",'Operating lease converter'!F33,0) -> 0
G34: Multi Business (US Industry Averages)
A35: Preferred Stock | G35: Business | H35: Revenues | I35: EV/Sales | J35: Estimated Value | K35: Unlevered Beta
A36: Number of Preferred Shares = | B36: 0 | G36: Auto & Truck | H36: 90738 | I36: =IF(G36=0,,VLOOKUP(G36,'Industry Average Beta (US)'!$A$2:$S$95,15)) -> 2.4924482 | J36: =H36*I36 -> 226159.76 | K36: =IF(I36=0,0,VLOOKUP(G36,'Industry Average Beta (US)'!$A$2:$S$95,7)) -> 1.3040309
A37: Current Market Price per Share= | B37: 70 | G37: Green & Renewable Energy | H37: 6035 | I37: =IF(G37=0,,VLOOKUP(G37,'Industry Average Beta (US)'!$A$2:$S$95,15)) -> 7.4719646 | J37: =H37*I37 -> 45093.306 | K37: =IF(I37=0,0,VLOOKUP(G37,'Industry Average Beta (US)'!$A$2:$S$95,7)) -> 0.55608602
A38: Annual Dividend per Share = | B38: 5 | I38: =IF(G38=0,,VLOOKUP(G38,'Industry Average Beta (US)'!$A$2:$S$95,15)) -> 0 | J38: =H38*I38 -> 0 | K38: =IF(I38=0,0,VLOOKUP(G38,'Industry Average Beta (US)'!$A$2:$S$95,7)) -> 0
I39: =IF(G39=0,,VLOOKUP(G39,'Industry Average Beta (US)'!$A$2:$S$95,15)) -> 0 | J39: =H39*I39 -> 0 | K39: =IF(I39=0,0,VLOOKUP(G39,'Industry Average Beta (US)'!$A$2:$S$95,7)) -> 0
A40: Output | I40: =IF(G40=0,,VLOOKUP(G40,'Industry Average Beta (US)'!$A$2:$S$95,15)) -> 0 | J40: =H40*I40 -> 0 | K40: =IF(I40=0,0,VLOOKUP(G40,'Industry Average Beta (US)'!$A$2:$S$95,7)) -> 0
A41: Estimating Market Value of Straight Debt = | C41: =B19*(1-(1+B25)^(-B20))/B25+B18/(1+B25)^B20 -> 4868.0989 | I41: =IF(G41=0,,VLOOKUP(G41,'Industry Average Beta (US)'!$A$2:$S$95,15)) -> 0 | J41: =H41*I41 -> 0 | K41: =IF(I41=0,0,VLOOKUP(G41,'Industry Average Beta (US)'!$A$2:$S$95,7)) -> 0
...

Sheet Synthetic rating
A1: Inputs for synthetic rating estimation
A2: Please read the special cases worksheet (see below) before you use this spreadsheet.
A3: Before you use this spreadsheet, make sure that the iteration box (under calculation options in excel) is checked.
A4: Enter the type of firm = | C4: ='Cost of capital worksheet'!B24 -> 1
A5: Enter current Earnings before interest and taxes (EBIT) = | F5: =IF('Input sheet'!B16="Yes",'Input sheet'!B11+'Operating lease converter'!F32,'Input sheet'!B11) -> 8891 | G5: (Add back only long term interest expense for financial firms)
A6: Enter current interest expenses = | F6: =IF('Input sheet'!B16="Yes",'Cost of capital worksheet'!B19+'Operating lease converter'!C28*'Operating lease converter'!C15,'Cost of capital worksheet'!B19) -> 156 | G6: (Use only long term interest expense for financial firms)
A7: Enter long term risk free rate = | F7: ='Input sheet'!B37 -> 0.0408
A8: Output
A9: Interest coverage ratio = | D9: =IF(F6=0,1000000,IF(F5<0,-100000,F5/F6)) -> 56.99359
A10: Estimated Bond Rating = | D10: =IF(C4=1,VLOOKUP(D9,A19:D33,3),(IF(C4=2,VLOOKUP(D9,A38:D52,3),VLOOKUP(D9,F19:I33,3)))) -> Aaa/AAA | F10: Note: If you get REF! All over the place, set the operating lease commitment question in cell F5
A11: Estimated Company Default Spread = | D11: =IF(C4=1,VLOOKUP(D9,A19:D33,4),(IF(C4=2,VLOOKUP(D9,A38:D52,4),VLOOKUP(D9,F19:I33,4)))) -> 0.0059 | F11: to No, and then reset it to Yes. It should work.
A12: Estimated County Default Spread (if any) = | D12: =VLOOKUP('Input sheet'!B5,'Country equity risk premiums'!A5:C195,3) -> 0
A13: Estimated Cost of Debt = | D13: =F7+D11+D12 -> 0.0467
A15: If you want to update the spreads listed below, please visit http://www.bondsonline.com
A16: For large manufacturing firms
A17: If interest coverage ratio is
A18: > | B18: ≤ to | C18: Rating is | D18: Spread is
A19: -100000 | B19: 0.199999 | C19: D2/D | D19: 0.2
A20: 0.2 | B20: 0.649999 | C20: Caa/CCC | D20: 0.17
A21: 0.65 | B21: 0.799999 | C21: Ca2/CC | D21: 0.1178
A22: 0.8 | B22: 1.249999 | C22: C2/C | D22: 0.0851
A23: 1.25 | B23: 1.499999 | C23: B3/B- | D23: 0.0524
A24: 1.5 | B24: 1.749999 | C24: B2/B | D24: 0.0361
A25: 1.75 | B25: 1.999999 | C25: B1/B+ | D25: 0.0314
A26: 2 | B26: 2.2499999 | C26: Ba2/BB | D26: 0.0221
A27: 2.25 | B27: 2.49999 | C27: Ba1/BB+ | D27: 0.0174
A28: 2.5 | B28: 2.999999 | C28: Baa2/BBB | D28: 0.0147
A29: 3 | B29: 4.249999 | C29: A3/A- | D29: 0.0121
A30: 4.25 | B30: 5.499999 | C30: A2/A | D30: 0.0107
... A33: 8.5 | B33: 100000 | C33: Aaa/AAA | D33: 0.0059
A35: For smaller and riskier firms
A36: If interest coverage ratio is
A37: greater than | B37: ≤ to | C37: Rating is | D37: Spread is
A38: -100000 | B38: 0.499999 | C38: D2/D | D38: 0.2 | G38: Rating is | H38: Spread is
A39: 0.5 | B39: 0.799999 | C39: Caa/CCC | D39: 0.17 | G39: A1/A+ | H39: 0.0092
A40: 0.8 | B40: 1.249999 | C40: Ca2/CC | D40: 0.1178 | G40: A2/A | H40: 0.0107
A41: 1.25 | B41: 1.499999 | C41: C2/C | D41: 0.0851 | G41: A3/A- | H41: 0.0121
A42: 1.5 | B42: 1.999999 | C42: B3/B- | D42: 0.0524 | G42: Aa2/AA | H42: 0.007
A43: 2 | B43: 2.499999 | C43: B2/B | D43: 0.0361 | G43: Aaa/AAA | H43: 0.0059
A44: 2.5 | B44: 2.999999 | C44: B1/B+ | D44: 0.0314 | G44: B1/B+ | H44: 0.0314
...

Sheet R& D converter
A1: R & D Converter
A2: This spreadsheet converts R&D expenses from operating to capital expenses. It makes the appropriate adjustments to operating income, net
A3: income, the book value of assets and the book value of equity.
A5: Inputs
A6: Over how many years do you want to amortize R&D expenses | F6: 5 | G6: ! If in doubt, use the lookup table below
A7: Enter the current year's R&D expense = | F7: 3969 | G7: The maximum allowed is ten years
A8: Enter R& D expenses for past years: the number of years that you will need to enter will be determined by the amortization period
A9: Do not input numbers in the first column (Year). It will get automatically updated based on the input above.
A10: Year | B10: R& D Expenses
A11: -1 | B11: 3075 | C11: ! Year -1 is the year prior to the current year
A12: =IF((0-A11)<$F$6,IF(A11>-1,,A11-1),) -> -2 | B12: 2593 | C12: ! Year -2 is the two years prior to the current year
A13: =IF((0-A12)<$F$6,IF(A12>-1,,A12-1),) -> -3 | B13: 1491
A14: =IF((0-A13)<$F$6,IF(A13>-1,,A13-1),) -> -4 | B14: 1390
A15: =IF((0-A14)<$F$6,IF(A14>-1,,A14-1),) -> -5 | B15: 1460
A16: =IF((0-A15)<$F$6,IF(A15>-1,,A15-1),) -> 0
A17: =IF((0-A16)<$F$6,IF(A16>-1,,A16-1),) -> 0
A18: =IF((0-A17)<$F$6,IF(A17>-1,,A17-1),) -> 0
A19: =IF((0-A18)<$F$6,IF(A18>-1,,A18-1),) -> 0
A20: =IF((0-A19)<$F$6,IF(A19>-1,,A19-1),) -> 0
A22: Output
A23: Year | B23: R&D Expense | C23: Unamortized portion | E23: Amortization this year
A24: Current | B24: =F7 -> 3969 | C24: =1 -> 1 | D24: =B24*C24 -> 3969
A25: =A11 -> -1 | B25: =B11 -> 3075 | C25: =IF(A25<0,($F$6+A25)/$F$6,0) -> 0.8 | D25: =B25*C25 -> 2460 | E25: =IF(A25<0,B25/$F$6,0) -> 615
A26: =A12 -> -2 | B26: =B12 -> 2593 | C26: =IF(A26<0,($F$6+A26)/$F$6,0) -> 0.6 | D26: =B26*C26 -> 1555.8 | E26: =IF(A26<0,B26/$F$6,0) -> 518.6
A27: =A13 -> -3 | B27: =B13 -> 1491 | C27: =IF(A27<0,($F$6+A27)/$F$6,0) -> 0.4 | D27: =B27*C27 -> 596.4 | E27: =IF(A27<0,B27/$F$6,0) -> 298.2
A28: =A14 -> -4 | B28: =B14 -> 1390 | C28: =IF(A28<0,($F$6+A28)/$F$6,0) -> 0.2 | D28: =B28*C28 -> 278 | E28: =IF(A28<0,B28/$F$6,0) -> 278
A29: =A15 -> -5 | B29: =B15 -> 1460 | C29: =IF(A29<0,($F$6+A29)/$F$6,0) -> 0 | D29: =B29*C29 -> 0 | E29: =IF(A29<0,B29/$F$6,0) -> 292
A30: =A16 -> 0 | B30: =B16 -> 0 | C30: =IF(A30<0,($F$6+A30)/$F$6,0) -> 0 | D30: =B30*C30 -> 0 | E30: =IF(A30<0,B30/$F$6,0) -> 0
A31: =A17 -> 0 | B31: =B17 -> 0 | C31: =IF(A31<0,($F$6+A31)/$F$6,0) -> 0 | D31: =B31*C31 -> 0 | E31: =IF(A31<0,B31/$F$6,0) -> 0
A32: =A18 -> 0 | B32: =B18 -> 0 | C32: =IF(A32<0,($F$6+A32)/$F$6,0) -> 0 | D32: =B32*C32 -> 0 | E32: =IF(A32<0,B32/$F$6,0) -> 0
A33: =A19 -> 0 | B33: =B19 -> 0 | C33: =IF(A33<0,($F$6+A33)/$F$6,0) -> 0 | D33: =B33*C33 -> 0 | E33: =IF(A33<0,B33/$F$6,0) -> 0
A34: =A20 -> 0 | B34: =B20 -> 0 | C34: =IF(A34<0,($F$6+A34)/$F$6,0) -> 0 | D34: =B34*C34 -> 0 | E34: =IF(A34<0,B34/$F$6,0) -> 0
A35: Value of Research Asset = | D35: =SUM(D24:D34) -> 8859.2 | E35: =SUM(E25:E34) -> 2001.8
A37: Amortization of asset for current year = | D37: =E35 -> 2001.8
A39: Adjustment to Operating Income = | D39: =F7-D37 -> 1967.2 | E39: ! A positive number indicates an increase in operating income (add to reported EBIT)
A40: Tax Effect of R&D Expensing | D40: =D39*'Input sheet'!B23 -> 491.8

Sheet Operating lease converter
A1: Operating Lease Converter
A2: The yellow cells are input cells. Please enter them.
A3: Inputs
A4: Operating lease expense in current year = | E4: 1650
A5: Operating Lease Commitments (From footnote to financials)
A6: Year | B6: Commitment | C6: ! Year 1 is next year, ….
A7: 1 | B7: =1405+227 -> 1632
A8: 2 | B8: =960+214 -> 1174
A9: 3 | B9: =461+210 -> 671
A10: 4 | B10: =227+102 -> 329
A11: 5 | B11: =197+25 -> 222
A12: 6 and beyond | B12: 1494
A14: Output
A15: Pre-tax Cost of Debt = | C15: ='Cost of capital worksheet'!B25 -> 0.0555 | D15: ! If you do not have a cost of debt, use the synthetic rating estimator
A18: Number of years embedded in yr 6 estimate = | D18: =IF(B12>0,ROUND(B12/AVERAGE(B7:B11),0),0) -> 2 | E18: ! I use the average lease expense over the first five years
E19: to estimate the number of years of expenses in yr 6
A20: Converting Operating Leases into debt
A21: Year | B21: Commitment | C21: Present Value
A22: =A7 -> 1 | B22: =B7 -> 1632 | C22: =B22/(1+$C$15)^A22 -> 1546.1866
A23: =A8 -> 2 | B23: =B8 -> 1174 | C23: =B23/(1+$C$15)^A23 -> 1053.7841
A24: =A9 -> 3 | B24: =B9 -> 671 | C24: =B24/(1+$C$15)^A24 -> 570.62107
A25: =A10 -> 4 | B25: =B10 -> 329 | C25: =B25/(1+$C$15)^A25 -> 265.07145
A26: =A11 -> 5 | B26: =B11 -> 222 | C26: =B26/(1+$C$15)^A26 -> 169.45789
A27: =A12 -> 6 and beyond | B27: =IF(B12>0,IF(D18>0,B12/D18,B12),0) -> 747 | C27: =IF(D18>0,(B27*(1-(1+C15)^(-D18))/C15)/(1+$C$15)^5,B27/(1+C15)^6) -> 1052.0356 | D27: ! Commitment beyond year 6 converted into an annuity for ten years
A28: Debt Value of leases = | C28: =SUM(C22:C27) -> 4657.1567
A30: Restated Financials
A31: Depreciation on Operating Lease Asset = | F31: =C28/(5+D18) -> 665.30809 | G31: ! I use straight line depreciation
A32: Adjustment to Operating Earnings = | F32: =E4-F31 -> 984.69191 | G32: ! Add this amount to pre-tax operating income
A33: Adjustment to Total Debt outstanding = | F33: =C28 -> 4657.1567 | G33: ! Add this amount to debt
A34: Adjustment to Depreciation = | F34: =C28/(5+D18) -> 665.30809

Sheet Country equity risk premiums
A1: Mature Market ERP + | B1: 0.045 | C1: Updated February 1, 2024
A2: Changing this number will update all your country equity risk premiums.
A4: Country | B4: Moody's rating | C4: Adj. Default Spread | D4: Equity Risk Premium | E4: Country Risk Premium | F4: Corporate Tax Rate
A5: Abu Dhabi | B5: Aa2 | C5: 0.0053778763 | D5: =$B$1+E5 -> 0.052219474 | E5: 0.007219474 | F5: 0.15
A6: Albania | B6: B1 | C6: 0.04904111 | D6: =$B$1+E6 -> 0.11083473 | E6: 0.065834727 | F6: 0.15
A7: Algeria | B7: NR | C7: 0.04904111 | D7: =$B$1+E7 -> 0.11083473 | E7: 0.065834727 | F7: 0.26
A8: Andorra (Principality of) | B8: Baa2 | C8: 0.020743237 | D8: =$B$1+E8 -> 0.072846543 | E8: 0.027846543 | F8: 0.1898
A9: Angola | B9: B3 | C9: 0.070808704 | D9: =$B$1+E9 -> 0.14005641 | E9: 0.095056408 | F9: 0.25
A10: Anguilla | B10: NR | C10: 0.1054311 | D10: =$B$1+E10 -> 0.23253488 | E10: 0.18753488 | F10: 0.27245611
A11: Antigua & Barbuda | B11: NR | C11: 0.1054311 | D11: =$B$1+E11 -> 0.23253488 | E11: 0.18753488 | F11: 0.27245611
A12: Argentina | B12: Ca | C12: 0.13073361 | D12: =$B$1+E12 -> 0.22050198 | E12: 0.17550198 | F12: 0.35
A13: Armenia | B13: Ba3 | C13: 0.03918167 | D13: =$B$1+E13 -> 0.097599025 | E13: 0.052599025 | F13: 0.18
A14: Aruba | B14: Baa2 | C14: 0.020743237 | D14: =$B$1+E14 -> 0.072846543 | E14: 0.027846543 | F14: 0.25
A15: Australia | B15: Aaa | C15: 0 | D15: =$B$1+E15 -> 0.045 | E15: 0 | F15: 0.3
A16: Austria | B16: Aa1 | C16: 0.0043535189 | D16: =$B$1+E16 -> 0.050844336 | E16: 0.0058443361 | F16: 0.24
... A71: Greece | B71: Ba1 | C71: 0.027273515 | D71: =$B$1+E71 -> 0.081613047 | E71: 0.036613047 | F71: 0.22
A72: Greenland | B72: NR | C72: =J72 -> 0 | D72: =$B$1+E72 -> 0.045 | E72: =H72 -> 0 | F72: =K72 -> 0
A73: Guatemala | B73: Ba1 | C73: 0.027273515 | D73: =$B$1+E73 -> 0.081613047 | E73: 0.036613047 | F73: 0.25
A74: Guernsey (States of) | B74: A1 | C74: 0.0076826804 | D74: =$B$1+E74 -> 0.055313534 | E74: 0.010313534 | F74: 0
A75: Guinea | B75: NR | C75: 0.09808222 | D75: =$B$1+E75 -> 0.17666945 | E75: 0.13166945 | F75: 0.2915
A76: Guinea-Bissau | B76: NR | C76: 0.059924907 | D76: =$B$1+E76 -> 0.12544557 | E76: 0.080445567 | F76: 0.2915
A77: Guyana | B77: NR | C77: 0.017414076 | D77: =$B$1+E77 -> 0.068377344 | E77: 0.023377344 | F77: 0.1864
A78: Haiti | B78: NR | C78: 0.10896602 | D78: =$B$1+E78 -> 0.19128029 | E78: 0.14628029 | F78: 0.1864
A79: Honduras | B79: B1 | C79: 0.04904111 | D79: =$B$1+E79 -> 0.11083473 | E79: 0.065834727 | F79: 0.25
A80: Hong Kong | B80: Aa3 | C80: 0.0065302783 | D80: =$B$1+E80 -> 0.053766504 | E80: 0.0087665041 | F80: 0.165
A81: Hungary | B81: Baa2 | C81: 0.020743237 | D81: =$B$1+E81 -> 0.072846543 | E81: 0.027846543 | F81: 0.09
A82: Iceland | B82: A2 | C82: 0.0092192165 | D82: =$B$1+E82 -> 0.057376241 | E82: 0.012376241 | F82: 0.2
A83: India | B83: Baa3 | C83: 0.023944354 | D83: =$B$1+E83 -> 0.077143849 | E83: 0.032143849 | F83: 0.3
A84: Indonesia | B84: Baa2 | C84: 0.020743237 | D84: =$B$1+E84 -> 0.072846543 | E84: 0.027846543 | F84: 0.22
... A116: Malta | B116: A2 | C116: 0.0092192165 | D116: =$B$1+E116 -> 0.057376241 | E116: 0.012376241 | F116: 0.35
A117: Martinique | B117: NR | C117: =J117 -> 0 | D117: =$B$1+E117 -> 0.045 | E117: =H117 -> 0 | F117: =K117 -> 0
A118: Mauritius | B118: Baa3 | C118: 0.023944354 | D118: =$B$1+E118 -> 0.077143849 | E118: 0.032143849 | F118: 0.15
A119: Mexico | B119: Baa2 | C119: 0.020743237 | D119: =$B$1+E119 -> 0.072846543 | E119: 0.027846543 | F119: 0.3
A120: Monaco | B120: NR | C120: 0.0095882201 | D120: =$B$1+E120 -> 0.10387161 | E120: 0.058871606 | F120: 0.2470735
A121: Moldova | B121: B3 | C121: 0.070808704 | D121: =$B$1+E121 -> 0.14005641 | E121: 0.095056408 | F121: 0.12
A122: Mongolia | B122: B3 | C122: 0.070808704 | D122: =$B$1+E122 -> 0.14005641 | E122: 0.095056408 | F122: 0.25
A123: Montenegro | B123: B1 | C123: 0.04904111 | D123: =$B$1+E123 -> 0.11083473 | E123: 0.065834727 | F123: 0.15
A124: Montserrat | B124: Baa3 | C124: 0.023944354 | D124: =$B$1+E124 -> 0.077143849 | E124: 0.032143849 | F124: 0.2853
A125: Morocco | B125: Ba1 | C125: 0.027273515 | D125: =$B$1+E125 -> 0.081613047 | E125: 0.036613047 | F125: 0.32
A126: Mozambique | B126: Caa2 | C126: 0.09808222 | D126: =$B$1+E126 -> 0.17666945 | E126: 0.13166945 | F126: 0.32
...

Sheet Industry Average Beta (US)
A1: Industry Name | B1: Number of firms | C1: Annual Average Revenue growth - Last 5 years | D1: Pre-tax Operating Margin (Unadjusted) | E1: After-tax ROC | F1: Average effective tax rate | G1: Unlevered Beta | H1: Equity (Levered) Beta | I1: Cost of equity | J1: Std deviation in stock prices | K1: Pre-tax cost of debt | L1: Market Debt/Capital | M1: Cost of capital | N1: Sales/Capital | O1: EV/Sales | P1: EV/EBITDA | Q1: EV/EBIT | R1: Price/Book | S1: Trailing PE | T1: Non-cash WC as % of Revenues | U1: Cap Ex as % of Revenues | V1: Net Cap Ex as % of Revenues | W1: Reinvestment Rate | X1: ROE | Y1: Dividend Payout Ratio | Z1: Equity Reinvestment Rate | AA1: Pre-tax Operating Margin (Lease & R&D adjusted)
A2: Advertising | B2: 57 | C2: 0.115684 | D2: 0.096130213 | E2: 0.31515111 | F2: 0.20554353 | G2: 1.1806104 | H2: 1.3723256 | I2: 0.10192698 | J2: 0.56414425 | K2: 0.053524 | L2: 0.25241808 | M2: 0.086331585 | N2: 3.283403 | O2: 2.2595129 | P2: 12.940313 | Q2: 22.238594 | R2: 5.7632981 | S2: 175.7347 | T2: 0.012534141 | U2: 0.018346747 | V2: -0.016886086 | W2: -0.00993406 | X2: 0.032541006 | Y2: 2.8284446 | Z2: 2.8284446 | AA2: 0.10140072
A3: Aerospace/Defense | B3: 70 | C3: 0.075882564 | D3: 0.085393847 | E3: 0.16167718 | F3: 0.15449878 | G3: 0.93085354 | H3: 1.076405 | I3: 0.088314631 | J3: 0.3640215 | K3: 0.050855 | L3: 0.20291778 | M3: 0.07813356 | N3: 1.9843396 | O3: 2.4783142 | P3: 18.488712 | Q3: 28.310279 | R3: 5.0771569 | S3: 32.517251 | T3: 0.45042764 | U3: 0.028342847 | V3: 0.022829232 | W3: 0.39247743 | X3: 0.13191484 | Y3: 0.53694697 | Z3: 0.53694697 | AA3: 0.087701154
A4: Air Transport | B4: 25 | C4: 0.029028333 | D4: 0.068956115 | E4: 0.10923252 | F4: 0.23528768 | G4: 0.64018805 | H4: 1.2668402 | I4: 0.097074648 | J4: 0.44650999 | K4: 0.050855 | L4: 0.61854039 | M4: 0.060621961 | N4: 1.77732 | O4: 0.9057918 | P4: 6.1674965 | Q4: 13.024538 | R4: 2.235942 | S4: 12.658954 | T4: 0.010944385 | U4: 0.11159926 | V4: 0.067202755 | W4: 1.1858967 | X4: 0.21936354 | Y4: 0.078632719 | Z4: 0.078632719 | AA4: 0.067227109
A5: Apparel | B5: 38 | C5: 0.057186 | D5: 0.087577812 | E5: 0.15293488 | F5: 0.32165919 | G5: 0.92957565 | H5: 1.1946999 | I5: 0.093756194 | J5: 0.3703551 | K5: 0.050855 | L5: 0.3277875 | M5: 0.075526311 | N5: 1.7730762 | O5: 1.2013804 | P5: 7.9181162 | Q5: 12.388401 | R5: 2.5581526 | S5: 18.688545 | T5: 0.24650262 | U5: 0.02417273 | V5: 0.0053650839 | W5: -0.072858763 | X5: 0.092041716 | Y5: 0.74982998 | Z5: 0.74982998 | AA5: 0.096042065
A6: Auto & Truck | B6: 34 | C6: 0.21942111 | D6: 0.04819732 | E6: 0.051866325 | F6: 0.13206978 | G6: 1.3040309 | H6: 1.5223779 | I6: 0.10882938 | J6: 0.59698514 | K6: 0.053524 | L6: 0.23675434 | M6: 0.092567584 | N6: 1.0487317 | O6: 2.4924482 | P6: 21.649291 | Q6: 49.578166 | R6: 4.5988812 | S6: 21.120153 | T6: -0.021993841 | U6: 0.064092755 | V6: 0.026576673 | W6: 0.81471032 | X6: 0.093709081 | Y6: 0.35459225 | Z6: 0.35459225 | AA6: 0.050979542
