Workbook

Sheet Finite Life Analysis
A1: Summary of Inputs / Cost of Capital Computation
A2: Growth in Total Market = | B2: 0.04
A3: Target Market Share = | B3: 0.08 | E3: Allocated Expenses
A4: EBITDA Margin = | B4: NA | E4: Item | F4: Current Expenses | G4: Growth rate | H4: Proportion allocated
A5: Riskfree rate = | B5: 0.015 | E5: G&A | F5: 10000000 | G5: 0.05 | H5: 0.1
A6: Marginal Tax Rate = | B6: 0.25 | E6: Advertising | F6: 8000000 | G6: 0.05 | H6: -
A7: Inflation rate = | B7: 0.01
A8: Price per unit = | B8: 75000
A9: Variable cost per unit = | B9: 50000 | E9: Capacity Cost
A10: Marketing cost (Outside retail) | B10: 0.1 | E10: Unit capacity = | G10: 100
A11: Marketing cost (Google Stores) | B11: 0.05 | E11: Used by devices = | G11: 0.4
A12: Percent of units sold- outside | B12: 0.8 | E12: Growth in device sales= | G12: 0.12
E13: Cost of new capacity = | G13: 5000000 | H13: (in current $)
A14: Share Price = | B14: 2000
A15: Number of Shares Outstanding = | B15: 650 | C15: (in millions)
A16: Pre-tax cost of debt = | B16: =B5+0.6% -> 0.021 | E16: Synergy benefits
E17: Incremental revenue in year 1 = | G17: 500000
E18: After-tax operating margin = | G18: 0.4
A20: Market Value of Equity = | B20: =B14*B15 -> 1300000
A21: Market Value of Interest bearing Debt = | B21: 5000
A22: PV of Operating Leases = | B22: ='Operating Leases'!C30 -> 13853.656
A23: Total Debt outstanding = | B23: =B21+B22 -> 18853.656
A24: MV Debt/Equity Ratio = | B24: =B23/B20 -> 0.014502812
A25: MV Debt/Capital Ratio = | B25: =B23/(B23+B20) -> 0.014295487
A26: Unlevered Beta for GCar = | B26: =Beta!B76 -> 1.0410063
A27: Levered Beta for GCar = | B27: =B26*(1+(1-B6)*B24) -> 1.0523295
A28: Mature market premium | B28: 0.05
A29: Market Risk Premium = | B29: ='ERP calculation'!E10 -> 0.061129 | C29: (Includes country risk for regional exposure)
A30: Cost of Equity = | B30: =B5+B27*B29 -> 0.079327847
A31: After-tax Cost of Debt = | B31: =B16*(1-B6) -> 0.01575
A32: Cost of Capital for GCar = | B32: =B30*(1-B25)+B31*B25 -> 0.078418971
A33: Unlevered beta for Software/Devices = | B33: 1.5
A34: Levered beta for Devices | B34: =B33*(1+(1-(1-B6))*B24) -> 1.5054386
A35: Cost of equity for Devices= | B35: =B5+B34*B29 -> 0.10702595
A36: Cost of capital for Devices = | B36: =B35*(1-B25)+B31*B25 -> 0.10572112
A37: Year | B37: 0 | C37: 1 | D37: 2 | E37: 3 | F37: 4 | G37: 5 | H37: 6 | I37: 7 | J37: 8 | K37: 9 | L37: 10
A38: Total Market | B38: 5000 | C38: =B38*(1+$B$2) -> 5200 | D38: =C38*(1+$B$2) -> 5408 | E38: =D38*(1+$B$2) -> 5624.32 | F38: =E38*(1+$B$2) -> 5849.2928 | G38: =F38*(1+$B$2) -> 6083.2645 | H38: =G38*(1+$B$2) -> 6326.5951 | I38: =H38*(1+$B$2) -> 6579.6589 | J38: =I38*(1+$B$2) -> 6842.8453 | ... L38: =K38*(1+$B$2) -> 7401.2214
A39: Market Share | B39: 0 | C39: 0.02 | D39: 0.04 | E39: 0.06 | F39: 0.08 | G39: 0.1 | H39: =G39 -> 0.1 | I39: =H39 -> 0.1 | J39: =I39 -> 0.1 | K39: 0.1 | L39: 0.1
A40: Units sold | C40: =C39*C38 -> 104 | D40: =D39*D38 -> 216.32 | E40: =E39*E38 -> 337.4592 | F40: =F39*F38 -> 467.94342 | G40: =G39*G38 -> 608.32645 | H40: =H39*H38 -> 632.65951 | I40: =I39*I38 -> 657.96589 | J40: =J39*J38 -> 684.28453 | ... L40: =L39*L38 -> 740.12214
A41: - Outside retailers | C41: =$B$12*C40 -> 83.2 | D41: =$B$12*D40 -> 173.056 | E41: =$B$12*E40 -> 269.96736 | F41: =$B$12*F40 -> 374.35474 | G41: =$B$12*G40 -> 486.66116 | H41: =$B$12*H40 -> 506.12761 | I41: =$B$12*I40 -> 526.37271 | J41: =$B$12*J40 -> 547.42762 | ... L41: =$B$12*L40 -> 592.09771
...

Sheet Longer Life Analysis
A1: Summary of Inputs / Cost of Capital Computation
A2: Growth in Total Market = | B2: ='Finite Life Analysis'!B2 -> 0.04
A3: Target Market Share = | B3: ='Finite Life Analysis'!B3 -> 0.08 | E3: Allocated Expenses
A4: EBITDA Margin = | B4: NA | E4: Item | F4: Current Expenses | G4: Growth rate | H4: Proportion allocated
A5: Riskfree rate = | B5: ='Finite Life Analysis'!B5 -> 0.015 | E5: G&A | F5: ='Finite Life Analysis'!F5 -> 10000000 | G5: 0.05 | H5: 0.1
A6: Marginal Tax Rate = | B6: ='Finite Life Analysis'!B6 -> 0.25 | E6: Advertising | F6: ='Finite Life Analysis'!F6 -> 8000000 | G6: 0.05 | H6: -
A7: Inflation rate = | B7: ='Finite Life Analysis'!B7 -> 0.01
A8: Price per unit = | B8: ='Finite Life Analysis'!B8 -> 75000
A9: Variable cost per unit = | B9: ='Finite Life Analysis'!B9 -> 50000 | E9: Capacity Cost
A10: Marketing cost (Outside retail) | B10: ='Finite Life Analysis'!B10 -> 0.1 | E10: Unit capacity = | G10: ='Finite Life Analysis'!G10 -> 100
A11: Marketing cost (Google Stores) | B11: ='Finite Life Analysis'!B11 -> 0.05 | E11: Used by devices = | G11: ='Finite Life Analysis'!G11 -> 0.4
A12: Percent of units sold- outside | B12: ='Finite Life Analysis'!B12 -> 0.8 | E12: Growth in device market = | G12: ='Finite Life Analysis'!G12 -> 0.12
E13: Cost of new capacity = | G13: ='Finite Life Analysis'!G13 -> 5000000 | H13: (in current $)
A14: Share Price = | B14: ='Finite Life Analysis'!B14 -> 2000
A15: Number of Shares Outstanding = | B15: ='Finite Life Analysis'!B15 -> 650 | C15: (in 000s)
A16: Pre-tax cost of debt = | B16: ='Finite Life Analysis'!B16 -> 0.021 | E16: Synergy benefits
A17: Interest expense | B17: ='Finite Life Analysis'!B17 -> 0 | E17: Incremental revenue in year 1 = | G17: ='Finite Life Analysis'!G17 -> 500000
A18: Book Value of Debt = | B18: ='Finite Life Analysis'!B18 -> 0 | E18: After-tax operating margin = | G18: ='Finite Life Analysis'!G18 -> 0.4
A19: Average Maturity of Debt = | B19: ='Finite Life Analysis'!B19 -> 0
A20: Market Value of Equity = | B20: =B14*B15 -> 1300000
A21: Market Value of Interest bearing Debt = | B21: =B17*(1-(1+B16)^-B19)/B16+B18/(1+B16)^B19 -> 0
A22: PV of Operating Leases = | B22: ='Operating Leases'!C30 -> 13853.656
A23: Total Debt outstanding = | B23: =B21+B22 -> 13853.656
A24: MV Debt/Equity Ratio = | B24: =B23/B20 -> 0.010656658
A25: MV Debt/Capital Ratio = | B25: =B23/(B23+B20) -> 0.010544291
A26: Unlevered Beta for Business = | B26: =Beta!B76 -> 1.0410063
A27: Levered Beta = | B27: =B26*(1+(1-B6)*B24) -> 1.0493265
A28: Mature market premium | B28: ='Finite Life Analysis'!B28 -> 0.05
A29: Market Risk Premium = | B29: ='Finite Life Analysis'!B29 -> 0.061129
A30: Cost of Equity = | B30: =B5+B27*B29 -> 0.079144283
A31: After-tax Cost of Debt = | B31: =B16*(1-B6) -> 0.01575
A32: Cost of Capital = | B32: =B30*(1-B25)+B31*B25 -> 0.078475835
A33: ='Finite Life Analysis'!A33 -> Unlevered beta for Software/Devices = | B33: ='Finite Life Analysis'!B33 -> 1.5
A34: ='Finite Life Analysis'!A34 -> Levered beta for Devices | B34: ='Finite Life Analysis'!B34 -> 1.5054386
A35: ='Finite Life Analysis'!A35 -> Cost of equity for Devices= | B35: ='Finite Life Analysis'!B35 -> 0.10702595
A36: ='Finite Life Analysis'!A36 -> Cost of capital for Devices = | B36: ='Finite Life Analysis'!B36 -> 0.10572112
A37: Year | B37: 0 | C37: 1 | D37: 2 | E37: 3 | F37: 4 | G37: 5 | H37: 6 | I37: 7 | J37: 8 | K37: 9 | L37: 10 | M37: Terminal year
A38: Total Market | B38: ='Finite Life Analysis'!B38 -> 5000 | C38: =B38*(1+$B$2) -> 5200 | D38: =C38*(1+$B$2) -> 5408 | E38: =D38*(1+$B$2) -> 5624.32 | F38: =E38*(1+$B$2) -> 5849.2928 | G38: =F38*(1+$B$2) -> 6083.2645 | H38: =G38*(1+$B$2) -> 6326.5951 | I38: =H38*(1+$B$2) -> 6579.6589 | J38: =I38*(1+$B$2) -> 6842.8453 | ... L38: =K38*(1+$B$2) -> 7401.2214 | M38: =L38*(1+B7) -> 7475.2336
A39: Market Share | B39: 0 | C39: ='Finite Life Analysis'!C39 -> 0.02 | D39: ='Finite Life Analysis'!D39 -> 0.04 | E39: ='Finite Life Analysis'!E39 -> 0.06 | F39: ='Finite Life Analysis'!F39 -> 0.08 | G39: ='Finite Life Analysis'!G39 -> 0.1 | H39: ='Finite Life Analysis'!H39 -> 0.1 | I39: ='Finite Life Analysis'!I39 -> 0.1 | J39: ='Finite Life Analysis'!J39 -> 0.1 | ... L39: ='Finite Life Analysis'!L39 -> 0.1 | M39: =L39 -> 0.1
A40: Units sold | C40: =C39*C38 -> 104 | D40: =D39*D38 -> 216.32 | E40: =E39*E38 -> 337.4592 | F40: =F39*F38 -> 467.94342 | G40: =G39*G38 -> 608.32645 | H40: =H39*H38 -> 632.65951 | I40: =I39*I38 -> 657.96589 | J40: =J39*J38 -> 684.28453 | ... M40: =M39*M38 -> 747.52336
...

Sheet Beta
A1: Company | B1: Market Capitalization | C1: Cash & Equivalents | D1: Total Debt (including leases) | E1: Beta | F1: Firm Value | G1: Enterprise Value | H1: D/E Ratio | I1: Cash/Firm Value | J1: Unlevered Beta
A2: Tesla, Inc. (NasdaqGS:TSLA) | B2: 626976.3 | C2: 19384 | D2: 13337 | E2: 1.9 | F2: =B2+D2 -> 640313.3 | G2: =F2-C2 -> 620929.3 | H2: =D2/B2 -> 0.021271936 | I2: =C2/F2 -> 0.030272681 | J2: =(E2/(1+(1-0.4)*D2/B2))/(1-I2) -> 1.9346218
A3: Toyota Motor Corporation (TSE:7203) | B3: 205924.4 | C3: 84158.3 | D3: 232298.7 | E3: 1.04 | F3: =B3+D3 -> 438223.1 | G3: =F3-C3 -> 354064.8 | H3: =D3/B3 -> 1.1280776 | I3: =C3/F3 -> 0.19204442 | J3: =(E3/(1+(1-0.4)*D3/B3))/(1-I3) -> 0.76763105
A4: Volkswagen AG (XTRA:VOW3) | B4: 123308.3 | C4: 58506.4 | D4: 257853.2 | E4: 1.47 | F4: =B4+D4 -> 381161.5 | G4: =F4-C4 -> 322655.1 | H4: =D4/B4 -> 2.0911261 | I4: =C4/F4 -> 0.15349504 | J4: =(E4/(1+(1-0.4)*D4/B4))/(1-I4) -> 0.77020043
A5: Daimler AG (XTRA:DAI) | B5: 90942 | C5: 31203.7 | D5: 178400 | E5: 1.75 | F5: =B5+D5 -> 269342 | G5: =F5-C5 -> 238138.3 | H5: =D5/B5 -> 1.9616899 | I5: =C5/F5 -> 0.11585159 | J5: =(E5/(1+(1-0.4)*D5/B5))/(1-I5) -> 0.90918377
A6: BYD Company Limited (SEHK:1211) | B6: 82242.2 | C6: 1944.6 | D6: 8884.4 | E6: 1.1 | F6: =B6+D6 -> 91126.6 | G6: =F6-C6 -> 89182 | H6: =D6/B6 -> 0.10802727 | I6: =C6/F6 -> 0.021339543 | J6: =(E6/(1+(1-0.4)*D6/B6))/(1-I6) -> 1.0555673
A7: General Motors Company (NYSE:GM) | B7: 75892.9 | C7: 23938 | D7: 111072 | E7: 1.7 | F7: =B7+D7 -> 186964.9 | G7: =F7-C7 -> 163026.9 | H7: =D7/B7 -> 1.4635361 | I7: =C7/F7 -> 0.12803473 | J7: =(E7/(1+(1-0.4)*D7/B7))/(1-I7) -> 1.0380685
A8: NIO Limited (NYSE:NIO) | B8: 64896.5 | C8: 6490.9 | D8: 1444.6 | E8: 1.95 | F8: =B8+D8 -> 66341.1 | G8: =F8-C8 -> 59850.2 | H8: =D8/B8 -> 0.02226006 | I8: =C8/F8 -> 0.097841308 | J8: =(E8/(1+(1-0.4)*D8/B8))/(1-I8) -> 2.1329939
A9: Bayerische Motoren Werke Aktiengesellschaft (XTRA:BMW) | B9: 59446.2 | C9: 23432.4 | D9: 131608.7 | E9: 1.27 | F9: =B9+D9 -> 191054.9 | G9: =F9-C9 -> 167622.5 | H9: =D9/B9 -> 2.2139127 | I9: =C9/F9 -> 0.12264747 | J9: =(E9/(1+(1-0.4)*D9/B9))/(1-I9) -> 0.62170128
A10: Honda Motor Co., Ltd. (TSE:7267) | B10: 48992.6 | C10: 31251.9 | D10: 77335.2 | E10: 1.15 | F10: =B10+D10 -> 126327.8 | G10: =F10-C10 -> 95075.9 | H10: =D10/B10 -> 1.5785078 | I10: =C10/F10 -> 0.24738735 | J10: =(E10/(1+(1-0.4)*D10/B10))/(1-I10) -> 0.78476031
A11: Ford Motor Company (NYSE:F) | B11: 48420.7 | C11: 30752 | D11: 162998 | E11: 1.53 | F11: =B11+D11 -> 211418.7 | G11: =F11-C11 -> 180666.7 | H11: =D11/B11 -> 3.3662876 | I11: =C11/F11 -> 0.14545544 | J11: =(E11/(1+(1-0.4)*D11/B11))/(1-I11) -> 0.59290141
A12: Hyundai Motor Company (KOSE:A005380) | B12: 43992.7 | C12: 25838.1 | D12: 78733.9 | E12: 1.5 | F12: =B12+D12 -> 122726.6 | G12: =F12-C12 -> 96888.5 | H12: =D12/B12 -> 1.7897037 | I12: =C12/F12 -> 0.21053382 | J12: =(E12/(1+(1-0.4)*D12/B12))/(1-I12) -> 0.91619138
A13: SAIC Motor Corporation Limited (SHSE:600104) | B13: 37194.2 | C13: 27620.7 | D13: 21286 | E13: 0.94 | F13: =B13+D13 -> 58480.2 | G13: =F13-C13 -> 30859.5 | H13: =D13/B13 -> 0.57229353 | I13: =C13/F13 -> 0.47230858 | J13: =(E13/(1+(1-0.4)*D13/B13))/(1-I13) -> 1.3260204
... A64: Loncin Motor Co., Ltd. (SHSE:603766) | B64: 1111 | C64: 345.6 | D64: 167.1 | E64: 0.78 | F64: =B64+D64 -> 1278.1 | G64: =F64-C64 -> 932.5 | H64: =D64/B64 -> 0.15040504 | I64: =C64/F64 -> 0.27040138 | J64: =(E64/(1+(1-0.4)*D64/B64))/(1-I64) -> 0.98058959
A65: Sum | B65: =SUM(B2:B64) -> 2002071 | C65: =SUM(C2:C64) -> 532862.5 | D65: =SUM(D2:D64) -> 1562458.8 | F65: =SUM(F2:F64) -> 3564529.8 | G65: =SUM(G2:G64) -> 3031667.3
A67: Aggregate | H67: =D65/B65 -> 0.78042129 | I67: =C65/F65 -> 0.14949026
A68: Average | E68: =AVERAGE(E2:E64) -> 1.235127 | H68: =AVERAGE(H2:H64) -> 0.77326194 | I68: =AVERAGE(I2:I64) -> 0.20278904 | J68: =AVERAGE(J2:J64) -> 1.113019
A69: Median | E69: =MEDIAN(E2:E64) -> 1.14 | H69: =MEDIAN(H2:H64) -> 0.35554152 | I69: =MEDIAN(I2:I64) -> 0.13544474 | J69: =MEDIAN(J2:J64) -> 1.0587266
A72: Levered beta for sector = | B72: =E69 -> 1.14
A73: D/E Ratio for sector = | B73: =H69 -> 0.35554152
A74: Unlevered beta for sector = | B74: =B72/(1+(1-0.25)*B73) -> 0.90000748
A75: Cash/ Firm Value = | B75: =I69 -> 0.13544474
A76: Unlevered beta corrected for cash | B76: =B74/(1-B75) -> 1.0410063

Sheet ROIC
B2: 1 | C2: =B2+1 -> 2 | D2: =C2+1 -> 3 | E2: =D2+1 -> 4 | F2: =E2+1 -> 5 | G2: =F2+1 -> 6 | H2: =G2+1 -> 7 | I2: =H2+1 -> 8 | J2: =I2+1 -> 9 | K2: =J2+1 -> 10 | L2: Average | M2: Aggregate
A3: After-tax Operating Income | B3: ='Finite Life Analysis'!C57 -> -2559000 | C3: ='Finite Life Analysis'!D57 -> -1491436.2 | D3: ='Finite Life Analysis'!E57 -> -314524.78 | E3: ='Finite Life Analysis'!F57 -> 786863.28 | F3: ='Finite Life Analysis'!G57 -> 2207961.2 | G3: ='Finite Life Analysis'!H57 -> 2424321.1 | H3: ='Finite Life Analysis'!I57 -> 2651627.7 | I3: ='Finite Life Analysis'!J57 -> 2890434.8 | ... K3: ='Finite Life Analysis'!L57 -> 3607942.8 | M3: =SUM(B3:K3) -> 13548550
A4: After-tax Incremental Operating Income | B4: =ROIC!B3+'Finite Life Analysis'!C59 -> -1771500 | C4: =ROIC!C3+'Finite Life Analysis'!D59 -> -664561.2 | D4: =ROIC!D3+'Finite Life Analysis'!E59 -> 553693.97 | E4: =ROIC!E3+'Finite Life Analysis'!F59 -> 1698493 | F4: =ROIC!F3+'Finite Life Analysis'!G59 -> 3165172.4 | G4: =ROIC!G3+'Finite Life Analysis'!H59 -> 3429392.9 | H4: =ROIC!H3+'Finite Life Analysis'!I59 -> 3706953.1 | I4: =ROIC!I3+'Finite Life Analysis'!J59 -> 3998526.4 | ... K4: =ROIC!K3+'Finite Life Analysis'!L59 -> 4829613.7 | M4: =SUM(B4:K4) -> 23453640
A5: After-tax Operating Income with Synergy | B5: =B3+'Finite Life Analysis'!C112 -> -2359000 | C5: =C3+'Finite Life Analysis'!D112 -> -1289436.2 | D5: =D3+'Finite Life Analysis'!E112 -> -110504.78 | E5: =E3+'Finite Life Analysis'!F112 -> 992923.48 | F5: =F3+'Finite Life Analysis'!G112 -> 2416082 | G5: =G3+'Finite Life Analysis'!H112 -> 2634523.2 | H5: =H3+'Finite Life Analysis'!I112 -> 2863931.8 | I5: =I3+'Finite Life Analysis'!J112 -> 3104861.9 | ... K5: =K3+'Finite Life Analysis'!L112 -> 3826679.8 | M5: =SUM(B5:K5) -> 15640992
A6: After-tax Incremental Operating Income with Synergy | B6: =B4+'Finite Life Analysis'!C112 -> -1571500 | C6: =C4+'Finite Life Analysis'!D112 -> -462561.2 | D6: =D4+'Finite Life Analysis'!E112 -> 757713.97 | E6: =E4+'Finite Life Analysis'!F112 -> 1904553.2 | F6: =F4+'Finite Life Analysis'!G112 -> 3373293.2 | G6: =G4+'Finite Life Analysis'!H112 -> 3639594.9 | H6: =H4+'Finite Life Analysis'!I112 -> 3919257.1 | I6: =I4+'Finite Life Analysis'!J112 -> 4212953.5 | ... K6: =K4+'Finite Life Analysis'!L112 -> 5048350.8 | M6: =SUM(B6:K6) -> 25546083
A8: BV of Fixed Assets (start of year) | B8: ='Finite Life Analysis'!B79 -> 27000000 | C8: ='Finite Life Analysis'!C79 -> 24500000 | D8: ='Finite Life Analysis'!D79 -> 22000000 | E8: ='Finite Life Analysis'!E79 -> 19500000 | F8: ='Finite Life Analysis'!F79 -> 17000000 | G8: ='Finite Life Analysis'!G79 -> 14500000 | H8: ='Finite Life Analysis'!H79 -> 12000000 | I8: ='Finite Life Analysis'!I79 -> 9500000 | ... K8: ='Finite Life Analysis'!K79 -> 4500000 | M8: =SUM(B8:K8) -> 157500000
A9: BV of Working Capital (start of year) | B9: ='Finite Life Analysis'!C70 -> 598000 | C9: ='Finite Life Analysis'!D70 -> 1256278.4 | D9: ='Finite Life Analysis'!E70 -> 1979392.2 | E9: ='Finite Life Analysis'!F70 -> 2772204.8 | F9: ='Finite Life Analysis'!G70 -> 3639904.9 | G9: ='Finite Life Analysis'!H70 -> 3823356.1 | H9: ='Finite Life Analysis'!I70 -> 4016053.3 | I9: ='Finite Life Analysis'!J70 -> 4218462.4 | ... K9: ='Finite Life Analysis'!L70 -> 4654399 | M9: =SUM(B9:K9) -> 31389124
A10: BV of Capacity Expansion | B10: ='Finite Life Analysis'!B99 -> 0 | C10: ='Finite Life Analysis'!C99 -> 0 | D10: ='Finite Life Analysis'!D99 -> 0 | E10: ='Finite Life Analysis'!E96 -> 5151505 | F10: ='Finite Life Analysis'!F99 -> 4893929.8 | G10: ='Finite Life Analysis'!G99 -> 4636354.5 | H10: ='Finite Life Analysis'!H99 -> 4378779.2 | I10: ='Finite Life Analysis'!I99 -> 4121204 | J10: ='Finite Life Analysis'!J99 -> 3863628.8 | K10: ='Finite Life Analysis'!K99 -> 3876767.7 | M10: =SUM(B10:K10) -> 30922169
A11: Invested Capital | B11: =B8+B9+B10 -> 27598000 | C11: =C8+C9+C10 -> 25756278 | D11: =D8+D9+D10 -> 23979392 | E11: =E8+E9+E10 -> 27423710 | F11: =F8+F9+F10 -> 25533835 | G11: =G8+G9+G10 -> 22959711 | H11: =H8+H9+H10 -> 20394833 | I11: =I8+I9+I10 -> 17839666 | ... K11: =K8+K9+K10 -> 13031167 | M11: =SUM(B11:K11) -> 2.1981129e+08
A13: ROIC (no synergy) | B13: =B3/B11 -> -0.09272411 | C13: =C3/C11 -> -0.057905734 | D13: =D3/D11 -> -0.013116462 | E13: =E3/E11 -> 0.028692809 | F13: =F3/F11 -> 0.086471979 | G13: =G3/G11 -> 0.10559023 | H13: =H3/H11 -> 0.13001469 | I13: =I3/I11 -> 0.16202292 | ... K13: =K3/K11 -> 0.27687028 | L13: =AVERAGE(B13:K13) -> 0.084457793 | M13: =M3/M11 -> 0.061637187
A14: Incremental ROIC (no synergy) | B14: =B4/B11 -> -0.064189434 | C14: =C4/C11 -> -0.025801911 | D14: =D4/D11 -> 0.023090409 | E14: =E4/E11 -> 0.0619352 | F14: =F4/F11 -> 0.12395993 | G14: =G4/G11 -> 0.14936568 | H14: =H4/H11 -> 0.18175943 | I14: =I4/I11 -> 0.22413684 | ... K14: =K4/K11 -> 0.37062021 | L14: =AVERAGE(B14:K14) -> 0.13396095 | M14: =M4/M11 -> 0.10669898
A15: ROIC (with synergy) | B15: =B5/B11 -> -0.085477208 | C15: =C5/C11 -> -0.050062986 | D15: =D5/D11 -> -0.0046083227 | E15: =E5/E11 -> 0.036206753 | F15: =F5/F11 -> 0.094622764 | G15: =G5/G11 -> 0.11474549 | H15: =H5/H11 -> 0.14042438 | I15: =I5/I11 -> 0.1740426 | ... K15: =K5/K11 -> 0.29365597 | L15: =AVERAGE(B15:K15) -> 0.094637066 | M15: =M5/M11 -> 0.071156455
A16: ROIC (no synergy) | B16: =B6/B11 -> -0.056942532 | C16: =C6/C11 -> -0.017959163 | D16: =D6/D11 -> 0.031598548 | E16: =E6/E11 -> 0.069449144 | F16: =F6/F11 -> 0.13211072 | G16: =G6/G11 -> 0.15852094 | H16: =H6/H11 -> 0.19216912 | I16: =I6/I11 -> 0.23615652 | ... K16: =K6/K11 -> 0.3874059 | L16: =AVERAGE(B16:K16) -> 0.14414023 | M16: =M6/M11 -> 0.11621824

Sheet Sensitivity to price & costs
B2: 0.3 | C2: 0.35 | D2: 0.4 | E2: 0.45 | F2: 0.5
A3: 900 | B3: 279 | C3: 45 | D3: -383 | E3: -421 | F3: -652
A4: 950 | B4: 431 | C4: 185 | D4: -183 | E4: -306 | F4: -551
A5: 1000 | B5: 583 | C5: 325 | D5: 67 | E5: -191 | F5: -450
A6: 1050 | B6: 735 | C6: 565 | D6: 267 | E6: -76 | F6: -349
A7: 1100 | B7: 887 | C7: 705 | D7: 467 | E7: 39 | F7: -248

Sheet Operating Leases
A1: Operating Lease Converter
A2: Operating lease expenses are really financial expenses, and should be treated as such. Accounting standards allow them to
A3: be treated as operating expenses. This program will convert commitments to make operating leases into debt and
A4: adjust the operating income accordingly, by adding back the imputed interest expense on this debt.
A6: Inputs
A7: Operating lease expense in current year = | E7: 2004
A8: Operating Lease Commitments (From footnote to financials)
A9: Year | B9: Commitment | C9: ! Year 1 is next year, ….
A10: 1 | B10: 2198
A11: 2 | B11: 2170
A12: 3 | B12: 1995
A13: 4 | B13: 1738
A14: 5 | B14: 1389
A15: 6 and beyond | B15: 5601
A17: Pre-tax Cost of Debt = | C17: ='Finite Life Analysis'!B16 -> 0.021
A19: Output
A20: Number of years embedded in yr 6 estimate = | D20: =INT(B15/AVERAGE(B10:B14)) -> 2 | E20: ! I use the average lease expense over the first five years
E21: to estimate the number of years of expenses in yr 6
A22: Converting Operating Leases into debt
A23: Year | B23: Commitment | C23: Present Value
A24: =A10 -> 1 | B24: =B10 -> 2198 | C24: =B24/(1+$C$17)^A24 -> 2152.7914
A25: =A11 -> 2 | B25: =B11 -> 2170 | C25: =B25/(1+$C$17)^A25 -> 2081.6526
A26: =A12 -> 3 | B26: =B12 -> 1995 | C26: =B26/(1+$C$17)^A26 -> 1874.4147
A27: =A13 -> 4 | B27: =B13 -> 1738 | C27: =B27/(1+$C$17)^A27 -> 1599.3621
A28: =A14 -> 5 | B28: =B14 -> 1389 | C28: =B28/(1+$C$17)^A28 -> 1251.9112
A29: =A15 -> 6 and beyond | B29: =IF(B15>0,IF(D20>1,B15/D20,B15),0) -> 2800.5 | C29: =IF(D20>0,(B29*(1-(1+C17)^(-D20))/C17)/(1+$C$17)^5,B29/(1+C17)^6) -> 4893.5237 | D29: ! Commitment beyond year 6 converted into an annuity for ten years
A30: Debt Value of leases = | C30: =SUM(C24:C29) -> 13853.656

Sheet ERP calculation
A1: Region | B1: % of Revenues | C1: Country Risk Premium | D1: Total Equity Risk Premium (Weighted Average) | E1: Weight * Premium
A2: Africa | B2: 0.02 | C2: 0.0492 | D2: ='Finite Life Analysis'!$B$28+C2 -> 0.0992 | E2: =B2*D2 -> 0.001984
A3: Asia | B3: 0.3 | C3: 0.0103 | D3: ='Finite Life Analysis'!$B$28+C3 -> 0.0603 | E3: =B3*D3 -> 0.01809
A4: Australia & New Zealand | B4: 0.08 | C4: 0 | D4: ='Finite Life Analysis'!$B$28+C4 -> 0.05 | E4: =B4*D4 -> 0.004
A5: Central and South America | B5: 0.1 | C5: 0.0399 | D5: ='Finite Life Analysis'!$B$28+C5 -> 0.0899 | E5: =B5*D5 -> 0.00899
A6: Eastern Europe & Russia | B6: 0.05 | C6: 0.0208 | D6: ='Finite Life Analysis'!$B$28+C6 -> 0.0708 | E6: =B6*D6 -> 0.00354
A7: Middle East | B7: 0.05 | C7: 0.0153 | D7: ='Finite Life Analysis'!$B$28+C7 -> 0.0653 | E7: =B7*D7 -> 0.003265
A8: North America | B8: 0.25 | C8: 0 | D8: ='Finite Life Analysis'!$B$28+C8 -> 0.05 | E8: =B8*D8 -> 0.0125
A9: Western Europe | B9: 0.15 | C9: 0.0084 | D9: ='Finite Life Analysis'!$B$28+C9 -> 0.0584 | E9: =B9*D9 -> 0.00876
B10: =SUM(B2:B9) -> 1 | E10: =SUM(E2:E9) -> 0.061129

Sheet ROIC calculations
A1: Year | B1: AT Operating Income | C1: Invested Capital | D1: Return on Capital
A2: 1 | B2: ='Finite Life Analysis'!C101+'Finite Life Analysis'!C112 -> -2359000
A3: 2 | B3: ='Finite Life Analysis'!D101+'Finite Life Analysis'!D112 -> -1289436.2
A4: 3 | B4: ='Finite Life Analysis'!E101+'Finite Life Analysis'!E112 -> -110504.78
A5: 4 | B5: ='Finite Life Analysis'!F101+'Finite Life Analysis'!F112 -> 992923.48
A6: 5 | B6: ='Finite Life Analysis'!G101+'Finite Life Analysis'!G112 -> 2416082
A7: 6 | B7: ='Finite Life Analysis'!H101+'Finite Life Analysis'!H112 -> 2634523.2
A8: 7 | B8: ='Finite Life Analysis'!I101+'Finite Life Analysis'!I112 -> 2863931.8
A9: 8 | B9: ='Finite Life Analysis'!J101+'Finite Life Analysis'!J112 -> 3104861.9
A10: 9 | B10: ='Finite Life Analysis'!K101+'Finite Life Analysis'!K112 -> 3560931.2
A11: 10 | B11: ='Finite Life Analysis'!L101+'Finite Life Analysis'!L112 -> 3826679.8

Sheet Finite vs Infinite
A1: Year | B1: Finite | C1: Longer Life | D1: Trade Off Cashflow
A2: 0 | B2: ='Finite Life Analysis'!B64 -> -27598000 | C2: ='Longer Life Analysis'!B64 -> -27598000 | D2: =C2-B2 -> 0
A3: 1 | B3: ='Finite Life Analysis'!C64 -> 70221.6 | C3: ='Longer Life Analysis'!C64 -> -1444778.4 | D3: =C3-B3 -> -1515000
A4: 2 | B4: ='Finite Life Analysis'!D64 -> 1112325 | C4: ='Longer Life Analysis'!D64 -> -627139.15 | D4: =C4-B4 -> -1739464.1
A5: 3 | B5: ='Finite Life Analysis'!E64 -> -2890623.6 | C5: ='Longer Life Analysis'!E64 -> -4855232 | D5: =C5-B5 -> -1964608.4
A6: 4 | B6: ='Finite Life Analysis'!F64 -> 3588368.1 | C6: ='Longer Life Analysis'!F64 -> 1389925.3 | D6: =C6-B6 -> -2198442.8
A7: 5 | B7: ='Finite Life Analysis'!G64 -> 5739296.4 | C7: ='Longer Life Analysis'!G64 -> 3290165 | D7: =C7-B7 -> -2449131.4
A8: 6 | B8: ='Finite Life Analysis'!H64 -> 5994271 | C8: ='Longer Life Analysis'!H64 -> 3511778 | D8: =C8-B8 -> -2482493
A9: 7 | B9: ='Finite Life Analysis'!I64 -> 6262119.2 | C9: ='Longer Life Analysis'!I64 -> 3743752.3 | D9: =C9-B9 -> -2518367
A10: 8 | B10: ='Finite Life Analysis'!J64 -> 11957775 | C10: ='Longer Life Analysis'!J64 -> 9400880.6 | D10: =C10-B10 -> -2556894.1
A11: 9 | B11: ='Finite Life Analysis'!K64 -> 6771391 | C11: ='Longer Life Analysis'!K64 -> 4173163.8 | D11: =C11-B11 -> -2598227.2
A12: 10 | B12: ='Finite Life Analysis'!L64 -> 13970874 | C12: ='Longer Life Analysis'!L64 -> 73988152 | D12: =C12-B12 -> 60017278

Sheet Sheet10

Sheet Sheet11

Sheet Sheet12

Sheet Sheet13

Sheet Sheet14

Sheet Sheet15

Sheet Sheet16
